{"text_format":"1","workbook":"xlsx","n_sheets":74,"sheets":["Important","Week SetUp","SetUp Officials","CHECKLIST","Cover page","TournDir Report","Referee's Report","Plr Notice","Boys Plr List","Girls Plr List","Boys Si Main Draw Sign-in sheet","Boys Si Main Draw Prep","Boys Si Main 16","Boys Si Main 24&32","Boys Si Main 48&64","Boys Si Main 96&128","Girls Si MainDraw Sign-in sheet","Girls Si Main Draw Prep","Girls Si Main 16","CONSOLATION","Κ.Τ.","ΔΙΠΛΑ","Girls Si Main 96&128","Boys Si Qual Sign-in sheet","Boys Si Qual Draw Prep","Boys Si Qual 16>2","Boys Si Qual 24>2","Boys Si Qual 32>4","Boys Si Qual 32>8","Boys Si Qual 48>6","Boys Si Qual 64>8","Boys Si Qual 96&128>8","Girls Si Qual Sign-in sheet","Girls Si Qual Draw Prep","Girls Si Qual 16>2","Girls Si Qual 24>2","Girls Si Qual 32>4","Girls Si Qual 32>8","Girls Si Qual 48>6","Girls Si Qual 64>8","Girls Si Qual 96&128>8","Boys Do Sign-in sheet","Boys Do Main Draw Prep","Boys Do Main 16","Boys Do Main 24&32","Boys Do Main 48&64","Girls Do Sign-in sheet","Girls Do Main Draw Prep","Girls Do Main 16","Girls Do Main 24&32","Girls Do Main 48&64","Plr List for OofP","OofP 4 cts","OofP 8 cts","OofP list","Practice Cts","Boys Si LL List","Girls Si LL List","Boys Si Alt List","Girls Si Alt List","Boys Do Alt List","Girls Do Alt List","Offence Report","Penalty card","Medical Cert","Unusual Ruling","CountryCodes","ScCard Set3&Front","ScCard Set 1&2","ScCard Code etc.","Draw Help Sheet","Si Main 32 (Hand)","Si Qual 32 (Hand)","Do Main 16 (Hand)"],"not_rendered":{"charts":0,"images":1,"macros":1,"external_links":1,"defined_names":104,"comments":34,"pivot_tables":0},"unopened":[],"bounds":{"document_bytes":16777216,"sheet_cells":100000,"rows_first":2000,"rows_last":500,"rows_between":2000,"halvings":0,"cell_chars":16384,"cell_head_chars":4096},"cells_cut":0,"cells_raw":0,"read":"whole","date_system":"1900"}

{"sheet":"Important","index":0,"n_rows":27,"n_cols":1,"rows_kept":27,"cut":false,"hidden":false,"merged":[[26,0,26,10]]}
["ITF Junior Circuit 2005"]
["IMPORTANT ABOUT DATES AND NAMES"]
[]
[]
[]
[]
[]
[]
[]
[]
[]
[]
[]
[]
[]
[]
[]
[]
[]
[]
[]
[]
[]
[]
[]
[]
["NEXT: Go to Week SetUp"]

{"sheet":"Week SetUp","index":1,"n_rows":17,"n_cols":5,"rows_kept":17,"cut":false,"hidden":false,"merged":[]}
["Junior Week SetUp page"]
["DO NOT DELETE THIS PAGE !!!"]
[]
["FILL IN ALL GREEN FIELDS BELOW"]
["Tournament Title (full name)"]
[null,null,null,null,"2005 v1.0"]
["Event Category",null,null,"Download from: ","www.tennisofficial.com"]
["ITF Junior Circuit"]
["Week of (Monday). Use format, 15/01/2003 (day/month/year)",null,"City, Country","Group","ITF Referee"]
[]
["ITF Tournament Calendar designation"]
[]
[]
[]
["Copyright © ITF Limited, trading as the International Tennis Federation, 2005"]
["All rights reserved. Reproduction of this work in whole or in part, without the prior permission of the ITF is prohibited."]
["Inquiries and comments to:","forms@itftennis.com"]

{"sheet":"SetUp Officials","index":2,"n_rows":30,"n_cols":16,"rows_kept":30,"cut":false,"hidden":false,"merged":[[5,0,5,1]]}
[{"$f":"'Week SetUp'!$A$6","v":0}]
[{"$f":"'Week SetUp'!$A$8","v":"ITF Junior Circuit"}]
[null,"SETUP OFFICIALS"]
["Week of","City, Country"]
[{"$f":"'Week SetUp'!$A$10","v":"00:00:00"},{"$f":"'Week SetUp'!$C$10","v":0}]
["Fill in the names of the main 8 Chair Umpires in the green fields below. These names will then appear in dropdown lists in the draws. This way you can easily keep track of the Umpire for each match in the tournament."]
[]
[]
[]
[]
[]
[]
[]
[]
[]
[]
[]
[]
[]
["CHAIR UMPIRES"]
["Family name","First name",null,null,null,null,null,null,null,null,null,null,null,null,null,"Umpire"]
[null,null,null,null,null,null,null,null,null,null,null,null,null,null,null,{"$f":"LEFT(B22,1)&\" \"&A22","v":" "}]
[null,null,null,null,null,null,null,null,null,null,null,null,null,null,null," "]
[null,null,null,null,null,null,null,null,null,null,null,null,null,null,null," "]
[null,null,null,null,null,null,null,null,null,null,null,null,null,null,null," "]
[null,null,null,null,null,null,null,null,null,null,null,null,null,null,null," "]
[null,null,null,null,null,null,null,null,null,null,null,null,null,null,null," "]
[null,null,null,null,null,null,null,null,null,null,null,null,null,null,null," "]
[null,null,null,null,null,null,null,null,null,null,null,null,null,null,null," "]
[null,null,null,null,null,null,null,null,null,null,null,null,null,null,null,"None"]

{"sheet":"CHECKLIST","index":3,"n_rows":35,"n_cols":5,"rows_kept":35,"cut":false,"hidden":false,"merged":[]}
["CHECKLIST",null,null,"ITF JUNIOR CIRCUIT"]
["Before the event"]
[null,null,"from ITF Developement dept.","from Organiser","from National TA"]
[null,"Acceptance list",null,"Email, Fax or Post"]
[null,"ITF Junior Rankings","www.ifttennis.com/juniors"]
[null,"Professional Rankings","www.atptennis.com / www.sanexwta.com"]
[null,"National Rankings",null,null,"Fax or Post"]
[null,"ITF Junior Circuit Rules","Post (can be downloaded from www.itftennis.com/juniors)"]
[null,"Points Table","Post, email, www.itftennis.com/juniors or Juniors Rule Book"]
[null,"Scorecards",null,"Printed (or use from this file)"]
["!!!","If you did not receive all of the above, please contact the ITF or the National tennis Association (as applicable) immediately."]
["When all draws are made (Monday or latest Tuesday)"]
[null,null,"to ITF Developement dept."]
[null,"Player notice sheet","Email (or Fax)"]
[null,"All draws with up-to-date results","Email (or Fax)"]
[null,"Player List","Email (or Fax)"]
["Immediately after finals"]
[null,null,"to ITF Developement dept."]
[null,"All draws with complete results","Email (or Fax)"]
[null,"Code of Conduct Reports","Email (or Fax)"]
["Day after the event"]
[null,null,"to ITF Developement dept."]
[null,"Code of Condouct Reports","Post"]
[null,"Referee's Report (see content on Cover Page tab)","Post, Email or Fax"]
[null,"Tournament Director's Report","Post, Email or Fax"]
["Telephone, Fax, FaxBack, Email; Internet, Post numbers/addresses"]
[null,null,"ITF Juniors Department"]
[null,"Tel:","+44-(0)20-8878 64 64"]
[null,"Fax:","+44-(0)20-8392 4735"]
[null,"Email:","juniors@itftennis.com"]
[null,"Internet:","www.itftennis.com, www.itftennis.com/juniors"]
[null,"Post:","International Tennis Federation"]
[null,null,"Juniors"]
[null,null,"Bank Lane, Roehampton"]
[null,null,"LONDON SW15 5XZ, UK"]

{"sheet":"Cover page","index":4,"n_rows":60,"n_cols":7,"rows_kept":60,"cut":false,"hidden":false,"merged":[[3,0,3,1],[9,3,9,4]]}
[{"$f":"'Week SetUp'!$A$6","v":0},null,null,null,null,"REPORT COVER SHEET"]
[{"$f":"'Week SetUp'!$A$8","v":"ITF Junior Circuit"}]
["Week of",null,"City, Country",null,"Group","Tourn. ID","ITF Referee"]
[{"$f":"'Week SetUp'!$A$10","v":"00:00:00"},null,{"$f":"'Week SetUp'!$C$10","v":0},null,{"$f":"'Week SetUp'!$D$10","v":0},{"$f":"'Week SetUp'!$A$12","v":0},{"$f":"'Week SetUp'!$E$10","v":0}]
["TOURNAMENT CALENDAR IDENTIFICATION"]
["Tournament designation in ITF calendars"]
[{"$f":"'Week SetUp'!$A$12","v":0}]
["ATTACHED SHEETS"]
["Please only return the sheets below, Do NOT send in any Passport copies."]
[null,null,null,"No. Of Pages"]
[null,"Report sheet",null,"Boys","Girls","Comments","ITF Office use only"]
[null,"Tournament Director Report",null,null,null,"May also be sent separately by T.D."]
[null,"Referee's Report"]
[null,"Player List"]
[null,"Singles Main Draw"]
[null,"Doubles Main Draw"]
[null,"Singles Qualifying Draw"]
[null,"Singles Main Draw Acceptance List",null,null,null,"As prepared by Tournament Organiser"]
[null,"Doubles Main Draw Acceptance List",null,null,null,"As prepared by Tournament Organiser"]
[null,"Singles Qualifying Acceptance List",null,null,null,"As prepared by Tournament Organiser"]
[null,"Singles Main Draw Prep. List"]
[null,"Doubles Main Draw Prep. List"]
[null,"Singles Qualifying Draw Prep. List"]
[null,"Singles Main Draw Sign-in List"]
[null,"Doubles Sign-in List"]
[null,"Singles Qualifying Sign-in List"]
[null,"Singles Lucky Losers List"]
[null,"Singles Alternates List"]
[null,"Doubles Alternates List"]
[null,"Offence Report"]
[null,"Record of Officials"]
[null,"Unusual Ruling Report"]
[null,"Medical Certificates"]
[null,"Withdrawal documents"]
[]
[]
[]
[]
[]
[]
[]
[]
[]
[]
[]
[]
[]
[]
[]
[]
[]
[]
[]
[]
[]
[]
["DATE AND SIGNATURE"]
["The attached report is true and correct to the best of my knowledge"]
["Date",null,null,null,null,"Signature"]
[null,null,null,null,null,{"$f":"G4","v":0}]

{"sheet":"TournDir Report","index":5,"n_rows":175,"n_cols":8,"rows_kept":175,"cut":false,"hidden":false,"merged":[[3,0,3,1]]}
[{"$f":"'Week SetUp'!$A$6","v":0},null,null,null,"TOURNAMENT DIRECTOR'S"]
[{"$f":"'Week SetUp'!$A$8","v":"ITF Junior Circuit"},null,null,null,"REPORT"]
["Week of",null,"City, Country",null,"Group","Tourn. ID",null,"ITF Referee"]
[{"$f":"'Week SetUp'!$A$10","v":"00:00:00"},null,{"$f":"'Week SetUp'!$C$10","v":0},null,{"$f":"'Week SetUp'!$D$10","v":0},{"$f":"'Week SetUp'!$A$12","v":0},null,{"$f":"'Week SetUp'!$E$10","v":0}]
[]
["Please include all available statistic or promotional information or material"]
["which you think may be useful to ITF"]
[]
["NB! This form must be returned to ITF"]
["within 10 days after the completion of the tournament."]
[]
[null,null,null,null,null,null,null,"Page 1(3)"]
["EVENT DATA"]
[null,null,"Club",null,"Indoors/Outdoors","City",null,"Country"]
["VENUE"]
[null,null,"Name"]
["TOURNAMENT DIRECTOR"]
[null,null,"Office Tel",null,null,"Home Tel"]
[]
[null,null,"Email address",null,null,"Fax"]
[]
[]
["SPONSORS"]
[null,null,"Name/Title of Sponsors and other supporters"]
["NAME OF SPONSORS"]
[]
[]
[]
[]
[]
[]
[]
[]
[]
[]
[]
[]
[]
[]
[]
[]
[]
[]
[]
[]
[]
[]
[]
[]
[]
[]
[]
[]
[null,null,"Remarks"]
[]
[]
[]
[]
[]
[null,null,null,null,null,null,null,"Page 2(3)"]
["MEDIA"]
[null,null,"Tournament Internet address",null,null,null,"Number of hits (last 12 months)"]
["TOURNAMENT INTERNET"]
[null,null,"Name of Channel",null,null,"Live/Delayed","Number of minutes"]
["TELEVISION"]
[]
[]
[]
[]
[]
[]
[null,null,"Name of Channel",null,null,"Live/Delayed","Number of minutes"]
["RADIO"]
[]
[]
[]
[]
[]
[]
[null,null,"Name of Newspaper",null,null,"Kind of coverage"]
["NEWSPAPERS"]
[]
[]
[]
[]
[]
[]
[]
[]
[]
[]
[]
[]
[]
[]
[null,null,"Name of Magazine",null,null,"Kind of coverage"]
["MAGAZINES"]
[]
[]
[]
[]
[]
[]
[]
["SPECTATORS"]
[null,null,"During the finals",null,"Total during the event",null,"Tickets sold or free"]
["SPECTATORS"]
[]
["TRANSPORT SERVICES"]
[null,null,"Pick-up at Airport or Station",null,"Remarks"]
["AIRPORT / RAIL PICK-UP"]
[null,null,"Transport arrangements to/from Club-Hotel (e.g. Every 1/2 hour, hour, on demand, other)"]
["HOTEL TO/FROM CLUB"]
[]
[]
[]
[]
[null,null,null,null,null,null,null,"Page 3(3)"]
["SUMMARY AND CONCLUSIONS"]
["Summary of positive remarks"]
[]
[]
[]
[]
[]
[]
[]
[]
[]
["Difficulties or problems experienced"]
[]
[]
[]
[]
[]
[]
[]
[]
[]
[]
["FINANCIAL MATTERS"]
["Total budget of the tournament (US$ or other currency, please specify)"]
[]
[]
[]
[]
[]
[]
["FUTURE"]
["What changes or improvements would you like to make in the future"]
[]
[]
[]
[]
[]
[]
[]
[]
[]
[]
["ADDITIONAL INFORMATION"]
["Any further information which you feel might be helpful to ITF"]
[]
[]
[]
[]
[]
[]
[]
[]
[]
[]
["DATE AND SIGNATURE"]
["Date",null,null,null,"Signature"]
[null,null,null,null,{"$f":"H4","v":0}]

{"sheet":"Referee's Report","index":6,"n_rows":186,"n_cols":8,"rows_kept":186,"cut":false,"hidden":false,"merged":[[3,0,3,1]]}
[{"$f":"'Week SetUp'!$A$6","v":0},null,null,null,"REFEREE'S REPORT"]
[{"$f":"'Week SetUp'!$A$8","v":"ITF Junior Circuit"}]
["Week of",null,"City, Country",null,"Group","Tourn. ID",null,"ITF Referee"]
[{"$f":"'Week SetUp'!$A$10","v":"00:00:00"},null,{"$f":"'Week SetUp'!$C$10","v":0},null,{"$f":"'Week SetUp'!$D$10","v":0},{"$f":"'Week SetUp'!$A$12","v":0},null,{"$f":"'Week SetUp'!$E$10","v":0}]
[null,null,null,null,null,null,null,"Page 1(3)"]
["DISTRIBUTION"]
[]
["COPY SENT/GIVEN TO"]
["Remarks"]
[]
[]
[]
[]
["EVENT DATA"]
[null,null,"Full Tournament title",null,"City",null,"Country"]
["TITLE AND LOCATION"]
[null,null,"Number of matches, total",null,"Number of match balls used, total",null,"Number of practice balls used, total"]
["NO. OF MATCHES, BALLS"]
[null,null,"First day",null,"Last day",null,"Deviation from sanctioned days"]
["DURATION OF EVENT"]
[]
["DRAW SIZES AND DATES"]
[null,null,"Announced size","No. Plr's signed-in","Top Dir. Acc. Rank","Cut off ranking","Start day","Finish day"]
["Boys 18","Singles Qual."]
[null,"Singles Main"]
[null,"Doubles"]
[null,"Consolation"]
["Girls 18","Singles Qual."]
[null,"Singles Main"]
[null,"Doubles"]
[null,"Consolation"]
[null,null,null,"Entry fee, Qual","Entry fee, Main","Other currency","Entry fee, Qual","Entry fee, Main"]
["ENTRY FEES",null,"US $"]
["Remarks"]
[]
[]
[]
[]
[]
[]
["VENUE, COURTS AND BALLS"]
[null,null,"Club, Stadium name"]
["CLUB, STADIUM"]
[null,null,"Type of surface",null,"Number","Quality","Maintenance","Seating capacity"]
["SHOW COURTS"]
[]
["OTHER MATCH COURTS"]
[]
["PRACTICE COURTS"]
[null,null,"Umpire's Chair","Player seats","Umbrellas","Bottled water","Refrigerator","Towels"]
["COURT EQUIPMENT"]
[null,null,"Sawdust","Centre mark","Singles sticks","Score board, etc","Other"]
[]
[null,null,"General appearance, Banners"]
["COURT APPEARANCE"]
[null,null,"Used/Not used","Show Courts, lux","Other Courts, lux","Pract. courts, lux"]
["ARTIFICIAL LIGHTS"]
[null,null,"Brand name",null,null,"Quality (1-5)"]
["TENNIS BALLS"]
[null,null,"Ball Change (Number), Qualifying",null,"Ball Change (Number), Main Draws",null,"Rules requirements met"]
["BALL CHANGE"]
[null,null,"New/Used balls","Number/Day","Deposit taken",null,"Rules requirements met"]
["PRACTICE BALLS"]
["Remarks (CU chairs, player seats, back drops, court separations, singles sticks, centremarks, scoreboards, artificial lights, balls, etc)"]
[]
[]
[]
[]
[null,null,null,null,null,null,null,"Page 2(3)"]
["TOURNAMENT ORGANISATION, OFFICIALS AND STAFF"]
[null,null,"Name"]
["TOURNAMENT DIRECTOR"]
[null,null,"Office Tel",null,null,"Home Tel"]
[]
[null,null,"Email address",null,null,"Fax"]
[]
[null,null,"Name",null,null,null,"ITF Certification"]
["REFEREE"]
[null,null,"Mobile Tel",null,null,"Home Tel"]
[]
[null,null,"Email address",null,null,"Fax"]
[]
[null,null,"No. Bronze+/CU","No. White/Off","No. National/CU","CU in Qual Draw","CU in Main Draw","From Round"]
["CHAIR UMPIRES"]
[null,null,"Name",null,null,"Knowl. of English","Speciality","On-site/On-call"]
["TOURNAMENT DOCTOR"]
[null,null,"Name",null,null,"Knowl. of English","Speciality","On-site/On-call"]
["SPORTS MEDICINE TRAINER"]
["Remarks (Pre-event briefings, training, attitude towards players and fellow officials/staff, coordination, etc)"]
[]
[]
[]
[]
[]
[]
["ON-SITE FACILITIES AND ORGANISATION"]
[null,null,"Room",null,"Desk & equipment",null,"Location, overlooking courts, etc"]
["REFEREE'S OFFICE"]
[null,null,"Int'l phone","Int'l fax","Email","Copy machine","Walkie-Talkies"]
["COMMUNICATION"]
[null,null,"Services provided",null,null,null,"Knowl. of English"]
["TOURNAMENT DESK"]
[null,null,"Indoor courts available in case of rain",null,"Indoor used","Playing conditions"]
["BACK-UP FACILITIES"]
[null,null,"Any entry procedure, ranking or other related problems experienced"]
["ENTRY PROCEDURES"]
[null,null,"Any player or scheduling problems from previous week"]
["PREVIOUS WEEK"]
[null,null,"Any player or scheduling problems for following week (delayed finals, etc)"]
["FOLLOWING WEEK"]
[]
["PLAYERS: FACILITIES, SERVICE"]
[null,null,"Locker rooms (size, cleaning, etc.)"]
["LOCKER ROOMS"]
[]
[]
[null,null,"Doctor's/Physio's room, equipment"]
["MEDICAL SERVICES"]
[]
[]
[null,null,"Stringing (Availability, cost)"]
["STRINGING"]
[]
[]
[null,null,"Player's lounge (location, size, equipment, Internet-access, fruits, refrigerator)"]
["PLAYER LOUNGE"]
[]
[]
[null,null,null,null,null,null,null,"Page 3(3)"]
["PLAYERS: FACILITIES, SERVICE (Continued)"]
[null,null,"Player entertainment, player evening,  gifts, toys, etc.)"]
["ENTERTAINMENT"]
[]
[]
[null,null,"Player hotels (Name of hotels, distance to club, price level, hospitality offered)"]
["HOTELS"]
[]
[]
[null,null,"Restaurant on site (Avialability, quality of food, selection of food, opening hours, cost level)"]
["MEALS"]
[]
[]
[null,null,"Transportation Airport-Hotel/Club"]
["TRANSPORTATION"]
[]
[]
[null,null,"Transportation Hotel-Club"]
[]
[]
[]
[]
["PLAYER BEHAVIOUR"]
[null,null,"Any problem areas experienced (outside Code Violation reports)"]
["PLAYER BEHAVIOUR"]
[null,null,"Remarks"]
[]
[]
[]
[]
["SUMMARY AND CONCLUSIONS"]
["Summary of positive remarks"]
[]
[]
[]
[]
[]
["Conditions and Procedures requiring improvements"]
[]
[]
[]
[]
[]
["Suggestions for future events"]
[]
[]
[]
[]
[]
["General remarks (add separate paper if needed)"]
[]
[]
[]
[]
["DATE AND SIGNATURE"]
["Date",null,null,null,"Signature"]
[null,null,null,null,{"$f":"H4","v":0}]

{"sheet":"Plr Notice","index":7,"n_rows":56,"n_cols":8,"rows_kept":56,"cut":false,"hidden":false,"merged":[]}
[{"$f":"'Week SetUp'!$A$6","v":0},null,null,null,"PLAYER NOTICE SHEET"]
[{"$f":"'Week SetUp'!$A$8","v":"ITF Junior Circuit"}]
["Week of",null,"City, Country",null,"Group","Tourn. ID",null,"ITF Referee"]
[{"$f":"'Week SetUp'!$A$10","v":"00:00:00"},null,{"$f":"'Week SetUp'!$C$10","v":0},null,{"$f":"'Week SetUp'!$D$10","v":0},{"$f":"'Week SetUp'!$A$12","v":0},null,{"$f":"'Week SetUp'!$E$10","v":0}]
["SITE DETAILS"]
[null,null,"Name of club/venue",null,null,"Address"]
["Club/Venue"]
[null,null,"Country code","Area code","Number","Extension/Ask for","Tournament Internet-address"]
["Telephone"]
["Fax"]
["TOURNAMENT STAFF AND OFFICIALS"]
[null,null,"Name",null,null,"Country","ITF Certification"]
["Tournament Director"]
["ITF Referee"]
["Chair Umpire(s)"]
[]
[]
[]
[null,null,"Sports Medicine Trainer, name",null,null,"Doctor, name"]
["Medical personnel"]
["DRAWS AND SIGN-IN's"]
["BOYS",null,"Draw size","For Q-slots","Sign-in deadline",null,"Start day","Prel. finish day"]
["Singles Qualifying"]
["Singles Main Draw"]
["Doubles Main Draw"]
["GIRLS",null,"Draw size","For Q-slots","Sign-in deadline",null,"Start day","Prel. finish day"]
["Singles Qualifying"]
["Singles Main Draw"]
["Doubles Main Draw"]
["MATCH CONDITIONS"]
[null,null,"Surface","Qualifying, No.","Main Draw, No.","Match format"]
["Courts, matches"]
[null,null,"Ball make",null,"Qualifying ball ch.","No. of balls","Main Draw ball ch.","No. of balls"]
["Balls"]
[null,null,"Bulletin board, location",null,"Off. Clock, location",null,"Calling of matches"]
["Match information"]
[null,null,"Drinks",null,"Towels",null,"Other"]
["Service on court"]
["PRACTICE"]
[null,null,"List at",null,"Allowed time/player each day"]
["Reservations"]
[null,null,"Pick up/Return balls at",null,"Practice balls/day",null,"Deposit for practice balls"]
["Balls"]
["PLAYER SERVICES"]
[null,null,"Transport services",null,"Lounge (location, times)",null,"Meals on site (location, times, price level)"]
["Various Services"]
[null,null,"Laundry",null,"Internet access",null,"Player evening, other"]
[]
[null,null,"Stringing contact","Cost (own strings)","Doctor","Trainer","Massage, contact, cost"]
["Stringing/Medical"]
[null,null,"Name",null,"Dist. from club","Rate/day","Telephone"]
["Hotel(s)"]
[]
[]
[]
["OTHER INFORMATION"]

{"sheet":"Boys Plr List","index":8,"n_rows":262,"n_cols":8,"rows_kept":262,"cut":false,"hidden":false,"merged":[[3,0,3,1]]}
[{"$f":"'Week SetUp'!$A$6","v":0},null,null,"PLAYER LIST"]
[{"$f":"'Week SetUp'!$A$8","v":"ITF Junior Circuit"},null,null,"BOYS"]
["Week of",null,"City, Country","Group","Tourn. ID",null,null,"ITF Referee"]
[{"$f":"'Week SetUp'!$A$10","v":"00:00:00"},null,{"$f":"'Week SetUp'!$C$10","v":0},{"$f":"'Week SetUp'!$D$10","v":0},{"$f":"'Week SetUp'!$A$12","v":0},null,null,{"$f":"'Week SetUp'!$E$10","v":0}]
["Line","Family name","First name","Nat.","Date of Birth\ndd mmm yy","Si. Main\nDraw\nStatus","Si. Qual.\nStatus","Do. Main Draw\nStatus"]
[null,null,null,null,null,"DA,WC,Q,LL,SE","QA,WC,A","DA,WC,A"]
[1]
[2]
[3]
[4]
[5]
[6]
[7]
[8]
[9]
[10]
[11]
[12]
[13]
[14]
[15]
[16]
[17]
[18]
[19]
[20]
[21]
[22]
[23]
[24]
[25]
[26]
[27]
[28]
[29]
[30]
[31]
[32]
[33]
[34]
[35]
[36]
[37]
[38]
[39]
[40]
[41]
[42]
[43]
[44]
[45]
[46]
[47]
[48]
[49]
[50]
[51]
[52]
[53]
[54]
[55]
[56]
[57]
[58]
[59]
[60]
[61]
[62]
[63]
[64]
[65]
[66]
[67]
[68]
[69]
[70]
[71]
[72]
[73]
[74]
[75]
[76]
[77]
[78]
[79]
[80]
[81]
[82]
[83]
[84]
[85]
[86]
[87]
[88]
[89]
[90]
[91]
[92]
[93]
[94]
[95]
[96]
[97]
[98]
[99]
[100]
[101]
[102]
[103]
[104]
[105]
[106]
[107]
[108]
[109]
[110]
[111]
[112]
[113]
[114]
[115]
[116]
[117]
[118]
[119]
[120]
[121]
[122]
[123]
[124]
[125]
[126]
[127]
[128]
[129]
[130]
[131]
[132]
[133]
[134]
[135]
[136]
[137]
[138]
[139]
[140]
[141]
[142]
[143]
[144]
[145]
[146]
[147]
[148]
[149]
[150]
[151]
[152]
[153]
[154]
[155]
[156]
[157]
[158]
[159]
[160]
[161]
[162]
[163]
[164]
[165]
[166]
[167]
[168]
[169]
[170]
[171]
[172]
[173]
[174]
[175]
[176]
[177]
[178]
[179]
[180]
[181]
[182]
[183]
[184]
[185]
[186]
[187]
[188]
[189]
[190]
[191]
[192]
[193]
[194]
[195]
[196]
[197]
[198]
[199]
[200]
[201]
[202]
[203]
[204]
[205]
[206]
[207]
[208]
[209]
[210]
[211]
[212]
[213]
[214]
[215]
[216]
[217]
[218]
[219]
[220]
[221]
[222]
[223]
[224]
[225]
[226]
[227]
[228]
[229]
[230]
[231]
[232]
[233]
[234]
[235]
[236]
[237]
[238]
[239]
[240]
[241]
[242]
[243]
[244]
[245]
[246]
[247]
[248]
[249]
[250]
[251]
[252]
[253]
[254]
[255]
[256]

{"sheet":"Girls Plr List","index":9,"n_rows":262,"n_cols":8,"rows_kept":262,"cut":false,"hidden":false,"merged":[[3,0,3,1]]}
[{"$f":"'Week SetUp'!$A$6","v":0},null,null,"PLAYER LIST"]
[{"$f":"'Week SetUp'!$A$8","v":"ITF Junior Circuit"},null,null,"GIRLS"]
["Week of",null,"City, Country","Group","Tourn. ID",null,null,"ITF Referee"]
[{"$f":"'Week SetUp'!$A$10","v":"00:00:00"},null,{"$f":"'Week SetUp'!$C$10","v":0},{"$f":"'Week SetUp'!$D$10","v":0},{"$f":"'Week SetUp'!$A$12","v":0},null,null,{"$f":"'Week SetUp'!$E$10","v":0}]
["Line","Family name","First name","Nat.","Date of Birth\nyy/mm/dd(US)","Si. Main\nDraw\nStatus","Si. Qual.\nStatus","Do. Main Draw\nStatus"]
[null,null,null,null,null,"DA,WC,Q,LL,SE","QA,WC,A","DA,WC,A"]
[1]
[2]
[3]
[4]
[5]
[6]
[7]
[8]
[9]
[10]
[11]
[12]
[13]
[14]
[15]
[16]
[17]
[18]
[19]
[20]
[21]
[22]
[23]
[24]
[25]
[26]
[27]
[28]
[29]
[30]
[31]
[32]
[33]
[34]
[35]
[36]
[37]
[38]
[39]
[40]
[41]
[42]
[43]
[44]
[45]
[46]
[47]
[48]
[49]
[50]
[51]
[52]
[53]
[54]
[55]
[56]
[57]
[58]
[59]
[60]
[61]
[62]
[63]
[64]
[65]
[66]
[67]
[68]
[69]
[70]
[71]
[72]
[73]
[74]
[75]
[76]
[77]
[78]
[79]
[80]
[81]
[82]
[83]
[84]
[85]
[86]
[87]
[88]
[89]
[90]
[91]
[92]
[93]
[94]
[95]
[96]
[97]
[98]
[99]
[100]
[101]
[102]
[103]
[104]
[105]
[106]
[107]
[108]
[109]
[110]
[111]
[112]
[113]
[114]
[115]
[116]
[117]
[118]
[119]
[120]
[121]
[122]
[123]
[124]
[125]
[126]
[127]
[128]
[129]
[130]
[131]
[132]
[133]
[134]
[135]
[136]
[137]
[138]
[139]
[140]
[141]
[142]
[143]
[144]
[145]
[146]
[147]
[148]
[149]
[150]
[151]
[152]
[153]
[154]
[155]
[156]
[157]
[158]
[159]
[160]
[161]
[162]
[163]
[164]
[165]
[166]
[167]
[168]
[169]
[170]
[171]
[172]
[173]
[174]
[175]
[176]
[177]
[178]
[179]
[180]
[181]
[182]
[183]
[184]
[185]
[186]
[187]
[188]
[189]
[190]
[191]
[192]
[193]
[194]
[195]
[196]
[197]
[198]
[199]
[200]
[201]
[202]
[203]
[204]
[205]
[206]
[207]
[208]
[209]
[210]
[211]
[212]
[213]
[214]
[215]
[216]
[217]
[218]
[219]
[220]
[221]
[222]
[223]
[224]
[225]
[226]
[227]
[228]
[229]
[230]
[231]
[232]
[233]
[234]
[235]
[236]
[237]
[238]
[239]
[240]
[241]
[242]
[243]
[244]
[245]
[246]
[247]
[248]
[249]
[250]
[251]
[252]
[253]
[254]
[255]
[256]

{"sheet":"Boys Si Main Draw Sign-in sheet","index":10,"n_rows":135,"n_cols":18,"rows_kept":135,"cut":false,"hidden":false,"merged":[[3,0,3,1]]}
[{"$f":"'Week SetUp'!$A$6","v":0},null,null,null,null,"BOYS SINGLES MAIN DRAW SIGN-IN"]
[{"$f":"'Week SetUp'!$A$8","v":"ITF Junior Circuit"}]
["Week of",null,"City, Country",null,null,"Group","Tourn. ID",null,null,"ITF Referee","ITF Referee's signature"]
[{"$f":"'Week SetUp'!$A$10","v":"00:00:00"},null,{"$f":"'Week SetUp'!$C$10","v":0},null,null,{"$f":"'Week SetUp'!$D$10","v":0},{"$f":"'Week SetUp'!$A$12","v":0},null,null,{"$f":"'Week SetUp'!$E$10","v":0}]
[null,null,"Day","Date",null,"Time","Place"]
["Sign-in deadline:"]
["Line","Family name","First name","Nat.","Date of birth Day/Mth/Yr","Player signature","Player hotel or\nContact number","On Acc.List\nY/N","ITF18\nRank","Pro-\nRank","Other",null,null,null,null,"Accept status","Seed\nPos","Draw chip number"]
[1]
[2]
[3]
[4]
[5]
[6]
[7]
[8]
[9]
[10]
[11]
[12]
[13]
[14]
[15]
[16]
[17]
[18]
[19]
[20]
[21]
[22]
[23]
[24]
[25]
[26]
[27]
[28]
[29]
[30]
[31]
[32]
[33]
[34]
[35]
[36]
[37]
[38]
[39]
[40]
[41]
[42]
[43]
[44]
[45]
[46]
[47]
[48]
[49]
[50]
[51]
[52]
[53]
[54]
[55]
[56]
[57]
[58]
[59]
[60]
[61]
[62]
[63]
[64]
[65]
[66]
[67]
[68]
[69]
[70]
[71]
[72]
[73]
[74]
[75]
[76]
[77]
[78]
[79]
[80]
[81]
[82]
[83]
[84]
[85]
[86]
[87]
[88]
[89]
[90]
[91]
[92]
[93]
[94]
[95]
[96]
[97]
[98]
[99]
[100]
[101]
[102]
[103]
[104]
[105]
[106]
[107]
[108]
[109]
[110]
[111]
[112]
[113]
[114]
[115]
[116]
[117]
[118]
[119]
[120]
[121]
[122]
[123]
[124]
[125]
[126]
[127]
[128]

{"sheet":"Boys Si Main Draw Prep","index":11,"n_rows":134,"n_cols":21,"rows_kept":134,"cut":false,"hidden":false,"merged":[[4,0,4,1]]}
[{"$f":"'Week SetUp'!$A$6","v":0},null,null,"BOYS SINGLES MAIN DRAW"]
[{"$f":"'Week SetUp'!$A$8","v":"ITF Junior Circuit"},null,null,"PREPARATION LIST"]
["DO NO DELETE THIS PAGE IF YOU ARE USING LINK-IN'S TO THE DRAW",null,null,null,null,null,null,null,null,null,null,null,null,null,"ITF Referee's signature",null,null,null,null,"Over 18",{"$f":"YEAR($A$5)-18","v":1882}]
["Week of",null,"City, Country","Group",null,null,"Tourn. ID",null,null,"ITF Referee",null,null,null,null,null,null,null,null,null,"Under 13",{"$f":"YEAR($A$5)-13","v":1887}]
[{"$f":"'Week SetUp'!$A$10","v":"00:00:00"},null,{"$f":"'Week SetUp'!$C$10","v":0},{"$f":"'Week SetUp'!$D$10","v":0},null,null,{"$f":"'Week SetUp'!$A$12","v":0},null,null,{"$f":"'Week SetUp'!$E$10","v":0},null,null,null,null,null,null,null,{"$f":"COUNTA(R7:R134)","v":0}]
["Line","Family name","First name","Nat.","Date of Birth\nyy/mm/dd(US)","On\nAccept. list\nYes","Signed-in\nYes","ITF 18\nRanking","Pro-\nRanking","Other ordering",null,null,"Seed Sort",null,"Accept status","Seed\nRanking","AccSort","Seed\nPosition"]
[1,null,null,null,null,null,null,null,null,null,null,null,{"$f":"IF(R7=\"\",999,R7)","v":999},null,null,null,{"$f":"IF(O7=\"DA\",1,IF(O7=\"WC\",2,IF(O7=\"SE\",3,IF(O7=\"Q\",4,IF(O7=\"LL\",5,999)))))","v":999}]
[2,null,null,null,null,null,null,null,null,null,null,null,999,null,null,null,999]
[3,null,null,null,null,null,null,null,null,null,null,null,999,null,null,null,999]
[4,null,null,null,null,null,null,null,null,null,null,null,999,null,null,null,999]
[5,null,null,null,null,null,null,null,null,null,null,null,999,null,null,null,999]
[6,null,null,null,null,null,null,null,null,null,null,null,999,null,null,null,999]
[7,null,null,null,null,null,null,null,null,null,null,null,999,null,null,null,999]
[8,null,null,null,null,null,null,null,null,null,null,null,999,null,null,null,999]
[9,null,null,null,null,null,null,null,null,null,null,null,999,null,null,null,999]
[10,null,null,null,null,null,null,null,null,null,null,null,999,null,null,null,999]
[11,null,null,null,null,null,null,null,null,null,null,null,999,null,null,null,999]
[12,null,null,null,null,null,null,null,null,null,null,null,999,null,null,null,999]
[13,null,null,null,null,null,null,null,null,null,null,null,999,null,null,null,999]
[14,null,null,null,null,null,null,null,null,null,null,null,999,null,null,null,999]
[15,null,null,null,null,null,null,null,null,null,null,null,999,null,null,null,999]
[16,null,null,null,null,null,null,null,null,null,null,null,999,null,null,null,999]
[17,null,null,null,null,null,null,null,null,null,null,null,999,null,null,null,999]
[18,null,null,null,null,null,null,null,null,null,null,null,999,null,null,null,999]
[19,null,null,null,null,null,null,null,null,null,null,null,999,null,null,null,999]
[20,null,null,null,null,null,null,null,null,null,null,null,999,null,null,null,999]
[21,null,null,null,null,null,null,null,null,null,null,null,999,null,null,null,999]
[22,null,null,null,null,null,null,null,null,null,null,null,999,null,null,null,999]
[23,null,null,null,null,null,null,null,null,null,null,null,999,null,null,null,999]
[24,null,null,null,null,null,null,null,null,null,null,null,999,null,null,null,999]
[25,null,null,null,null,null,null,null,null,null,null,null,999,null,null,null,999]
[26,null,null,null,null,null,null,null,null,null,null,null,999,null,null,null,999]
[27,null,null,null,null,null,null,null,null,null,null,null,999,null,null,null,999]
[28,null,null,null,null,null,null,null,null,null,null,null,999,null,null,null,999]
[29,null,null,null,null,null,null,null,null,null,null,null,999,null,null,null,999]
[30,null,null,null,null,null,null,null,null,null,null,null,999,null,null,null,999]
[31,null,null,null,null,null,null,null,null,null,null,null,999,null,null,null,999]
[32,null,null,null,null,null,null,null,null,null,null,null,999,null,null,null,999]
[33,null,null,null,null,null,null,null,null,null,null,null,{"$f":"IF(R39=\"\",999,R39)","v":999},null,null,null,{"$f":"IF(O39=\"DA\",1,IF(O39=\"WC\",2,IF(O39=\"SE\",3,IF(O39=\"Q\",4,IF(O39=\"LL\",5,999)))))","v":999}]
[34,null,null,null,null,null,null,null,null,null,null,null,999,null,null,null,999]
[35,null,null,null,null,null,null,null,null,null,null,null,999,null,null,null,999]
[36,null,null,null,null,null,null,null,null,null,null,null,999,null,null,null,999]
[37,null,null,null,null,null,null,null,null,null,null,null,999,null,null,null,999]
[38,null,null,null,null,null,null,null,null,null,null,null,999,null,null,null,999]
[39,null,null,null,null,null,null,null,null,null,null,null,999,null,null,null,999]
[40,null,null,null,null,null,null,null,null,null,null,null,999,null,null,null,999]
[41,null,null,null,null,null,null,null,null,null,null,null,999,null,null,null,999]
[42,null,null,null,null,null,null,null,null,null,null,null,999,null,null,null,999]
[43,null,null,null,null,null,null,null,null,null,null,null,999,null,null,null,999]
[44,null,null,null,null,null,null,null,null,null,null,null,999,null,null,null,999]
[45,null,null,null,null,null,null,null,null,null,null,null,999,null,null,null,999]
[46,null,null,null,null,null,null,null,null,null,null,null,999,null,null,null,999]
[47,null,null,null,null,null,null,null,null,null,null,null,999,null,null,null,999]
[48,null,null,null,null,null,null,null,null,null,null,null,999,null,null,null,999]
[49,null,null,null,null,null,null,null,null,null,null,null,999,null,null,null,999]
[50,null,null,null,null,null,null,null,null,null,null,null,999,null,null,null,999]
[51,null,null,null,null,null,null,null,null,null,null,null,999,null,null,null,999]
[52,null,null,null,null,null,null,null,null,null,null,null,999,null,null,null,999]
[53,null,null,null,null,null,null,null,null,null,null,null,999,null,null,null,999]
[54,null,null,null,null,null,null,null,null,null,null,null,999,null,null,null,999]
[55,null,null,null,null,null,null,null,null,null,null,null,999,null,null,null,999]
[56,null,null,null,null,null,null,null,null,null,null,null,999,null,null,null,999]
[57,null,null,null,null,null,null,null,null,null,null,null,999,null,null,null,999]
[58,null,null,null,null,null,null,null,null,null,null,null,999,null,null,null,999]
[59,null,null,null,null,null,null,null,null,null,null,null,999,null,null,null,999]
[60,null,null,null,null,null,null,null,null,null,null,null,999,null,null,null,999]
[61,null,null,null,null,null,null,null,null,null,null,null,999,null,null,null,999]
[62,null,null,null,null,null,null,null,null,null,null,null,999,null,null,null,999]
[63,null,null,null,null,null,null,null,null,null,null,null,999,null,null,null,999]
[64,null,null,null,null,null,null,null,null,null,null,null,999,null,null,null,999]
[65,null,null,null,null,null,null,null,null,null,null,null,{"$f":"IF(R71=\"\",999,R71)","v":999},null,null,null,{"$f":"IF(O71=\"DA\",1,IF(O71=\"WC\",2,IF(O71=\"SE\",3,IF(O71=\"Q\",4,IF(O71=\"LL\",5,999)))))","v":999}]
[66,null,null,null,null,null,null,null,null,null,null,null,999,null,null,null,999]
[67,null,null,null,null,null,null,null,null,null,null,null,999,null,null,null,999]
[68,null,null,null,null,null,null,null,null,null,null,null,999,null,null,null,999]
[69,null,null,null,null,null,null,null,null,null,null,null,999,null,null,null,999]
[70,null,null,null,null,null,null,null,null,null,null,null,999,null,null,null,999]
[71,null,null,null,null,null,null,null,null,null,null,null,999,null,null,null,999]
[72,null,null,null,null,null,null,null,null,null,null,null,999,null,null,null,999]
[73,null,null,null,null,null,null,null,null,null,null,null,999,null,null,null,999]
[74,null,null,null,null,null,null,null,null,null,null,null,999,null,null,null,999]
[75,null,null,null,null,null,null,null,null,null,null,null,999,null,null,null,999]
[76,null,null,null,null,null,null,null,null,null,null,null,999,null,null,null,999]
[77,null,null,null,null,null,null,null,null,null,null,null,999,null,null,null,999]
[78,null,null,null,null,null,null,null,null,null,null,null,999,null,null,null,999]
[79,null,null,null,null,null,null,null,null,null,null,null,999,null,null,null,999]
[80,null,null,null,null,null,null,null,null,null,null,null,999,null,null,null,999]
[81,null,null,null,null,null,null,null,null,null,null,null,999,null,null,null,999]
[82,null,null,null,null,null,null,null,null,null,null,null,999,null,null,null,999]
[83,null,null,null,null,null,null,null,null,null,null,null,999,null,null,null,999]
[84,null,null,null,null,null,null,null,null,null,null,null,999,null,null,null,999]
[85,null,null,null,null,null,null,null,null,null,null,null,999,null,null,null,999]
[86,null,null,null,null,null,null,null,null,null,null,null,999,null,null,null,999]
[87,null,null,null,null,null,null,null,null,null,null,null,999,null,null,null,999]
[88,null,null,null,null,null,null,null,null,null,null,null,999,null,null,null,999]
[89,null,null,null,null,null,null,null,null,null,null,null,999,null,null,null,999]
[90,null,null,null,null,null,null,null,null,null,null,null,999,null,null,null,999]
[91,null,null,null,null,null,null,null,null,null,null,null,999,null,null,null,999]
[92,null,null,null,null,null,null,null,null,null,null,null,999,null,null,null,999]
[93,null,null,null,null,null,null,null,null,null,null,null,999,null,null,null,999]
[94,null,null,null,null,null,null,null,null,null,null,null,999,null,null,null,999]
[95,null,null,null,null,null,null,null,null,null,null,null,999,null,null,null,999]
[96,null,null,null,null,null,null,null,null,null,null,null,999,null,null,null,999]
[97,null,null,null,null,null,null,null,null,null,null,null,{"$f":"IF(R103=\"\",999,R103)","v":999},null,null,null,{"$f":"IF(O103=\"DA\",1,IF(O103=\"WC\",2,IF(O103=\"SE\",3,IF(O103=\"Q\",4,IF(O103=\"LL\",5,999)))))","v":999}]
[98,null,null,null,null,null,null,null,null,null,null,null,999,null,null,null,999]
[99,null,null,null,null,null,null,null,null,null,null,null,999,null,null,null,999]
[100,null,null,null,null,null,null,null,null,null,null,null,999,null,null,null,999]
[101,null,null,null,null,null,null,null,null,null,null,null,999,null,null,null,999]
[102,null,null,null,null,null,null,null,null,null,null,null,999,null,null,null,999]
[103,null,null,null,null,null,null,null,null,null,null,null,999,null,null,null,999]
[104,null,null,null,null,null,null,null,null,null,null,null,999,null,null,null,999]
[105,null,null,null,null,null,null,null,null,null,null,null,999,null,null,null,999]
[106,null,null,null,null,null,null,null,null,null,null,null,999,null,null,null,999]
[107,null,null,null,null,null,null,null,null,null,null,null,999,null,null,null,999]
[108,null,null,null,null,null,null,null,null,null,null,null,999,null,null,null,999]
[109,null,null,null,null,null,null,null,null,null,null,null,999,null,null,null,999]
[110,null,null,null,null,null,null,null,null,null,null,null,999,null,null,null,999]
[111,null,null,null,null,null,null,null,null,null,null,null,999,null,null,null,999]
[112,null,null,null,null,null,null,null,null,null,null,null,999,null,null,null,999]
[113,null,null,null,null,null,null,null,null,null,null,null,999,null,null,null,999]
[114,null,null,null,null,null,null,null,null,null,null,null,999,null,null,null,999]
[115,null,null,null,null,null,null,null,null,null,null,null,999,null,null,null,999]
[116,null,null,null,null,null,null,null,null,null,null,null,999,null,null,null,999]
[117,null,null,null,null,null,null,null,null,null,null,null,999,null,null,null,999]
[118,null,null,null,null,null,null,null,null,null,null,null,999,null,null,null,999]
[119,null,null,null,null,null,null,null,null,null,null,null,999,null,null,null,999]
[120,null,null,null,null,null,null,null,null,null,null,null,999,null,null,null,999]
[121,null,null,null,null,null,null,null,null,null,null,null,999,null,null,null,999]
[122,null,null,null,null,null,null,null,null,null,null,null,999,null,null,null,999]
[123,null,null,null,null,null,null,null,null,null,null,null,999,null,null,null,999]
[124,null,null,null,null,null,null,null,null,null,null,null,999,null,null,null,999]
[125,null,null,null,null,null,null,null,null,null,null,null,999,null,null,null,999]
[126,null,null,null,null,null,null,null,null,null,null,null,999,null,null,null,999]
[127,null,null,null,null,null,null,null,null,null,null,null,999,null,null,null,999]
[128,null,null,null,null,null,null,null,null,null,null,null,999,null,null,null,999]

{"sheet":"Boys Si Main 16","index":12,"n_rows":79,"n_cols":20,"rows_kept":79,"cut":false,"hidden":false,"merged":[[3,0,3,2]]}
[{"$f":"'Week SetUp'!$A$6","v":0},null,null,null,null,null,null,null,null,"BOYS SINGLES",null,null,null,"CU"]
[{"$f":"'Week SetUp'!$A$8","v":"ITF Junior Circuit"},null,null,null,null,null,null,null,null,"MAIN DRAW (16)"]
["Week of",null,null,null,null,"City, Country",null,null,null,"Group",null,"Tourn. ID",null,null,null,null,"ITF Referee"]
[{"$f":"'Week SetUp'!$A$10","v":"00:00:00"},null,null,null,null,{"$f":"'Week SetUp'!$C$10","v":0},null,null,null,{"$f":"'Week SetUp'!$D$10","v":0},null,{"$f":"'Week SetUp'!$A$12","v":0},null,null,null,null,{"$f":"'Week SetUp'!$E$10","v":0}]
[null,"St.","Rank","Seed","Family Name","First name",null,"Nationality",null,"2nd Round",null,"Semifinals",null,"Final",null,"Winner"]
[]
[1,{"$f":"IF($D7=\"\",\"\",VLOOKUP($D7,'Boys Si Main Draw Prep'!$A$7:$P$22,15))","v":""},{"$f":"IF($D7=\"\",\"\",VLOOKUP($D7,'Boys Si Main Draw Prep'!$A$7:$P$22,16))","v":""},null,{"$f":"UPPER(IF($D7=\"\",\"\",VLOOKUP($D7,'Boys Si Main Draw Prep'!$A$7:$P$22,2)))","v":""},{"$f":"IF($D7=\"\",\"\",VLOOKUP($D7,'Boys Si Main Draw Prep'!$A$7:$P$22,3))","v":""},null,{"$f":"IF($D7=\"\",\"\",VLOOKUP($D7,'Boys Si Main Draw Prep'!$A$7:$P$22,4))","v":""},null,null,null,null,null,null,null,null,null,null,null,{"$f":"'SetUp Officials'!P21","v":"Umpire"}]
[null,null,null,null,null,null,null,"Umpire",null,{"$f":"UPPER(IF(OR(I8=\"a\",I8=\"as\"),E7,IF(OR(I8=\"b\",I8=\"bs\"),E9,)))","v":""},null,null,null,null,null,null,null,null,null,{"$f":"'SetUp Officials'!P22","v":" "}]
[2,{"$f":"IF($D9=\"\",\"\",VLOOKUP($D9,'Boys Si Main Draw Prep'!$A$7:$P$22,15))","v":""},{"$f":"IF($D9=\"\",\"\",VLOOKUP($D9,'Boys Si Main Draw Prep'!$A$7:$P$22,16))","v":""},null,{"$f":"UPPER(IF($D9=\"\",\"\",VLOOKUP($D9,'Boys Si Main Draw Prep'!$A$7:$P$22,2)))","v":""},{"$f":"IF($D9=\"\",\"\",VLOOKUP($D9,'Boys Si Main Draw Prep'!$A$7:$P$22,3))","v":""},null,{"$f":"IF($D9=\"\",\"\",VLOOKUP($D9,'Boys Si Main Draw Prep'!$A$7:$P$22,4))","v":""},null,null,null,null,null,null,null,null,null,null,null,{"$f":"'SetUp Officials'!P23","v":" "}]
[null,null,null,null,null,null,null,null,null,"Umpire",null,{"$f":"UPPER(IF(OR(K10=\"a\",K10=\"as\"),J8,IF(OR(K10=\"b\",K10=\"bs\"),J12,)))","v":""},null,null,null,null,null,null,null,{"$f":"'SetUp Officials'!P24","v":" "}]
[3,{"$f":"IF($D11=\"\",\"\",VLOOKUP($D11,'Boys Si Main Draw Prep'!$A$7:$P$22,15))","v":""},{"$f":"IF($D11=\"\",\"\",VLOOKUP($D11,'Boys Si Main Draw Prep'!$A$7:$P$22,16))","v":""},null,{"$f":"UPPER(IF($D11=\"\",\"\",VLOOKUP($D11,'Boys Si Main Draw Prep'!$A$7:$P$22,2)))","v":""},{"$f":"IF($D11=\"\",\"\",VLOOKUP($D11,'Boys Si Main Draw Prep'!$A$7:$P$22,3))","v":""},null,{"$f":"IF($D11=\"\",\"\",VLOOKUP($D11,'Boys Si Main Draw Prep'!$A$7:$P$22,4))","v":""},null,null,null,null,null,null,null,null,null,null,null,{"$f":"'SetUp Officials'!P25","v":" "}]
[null,null,null,null,null,null,null,"Umpire",null,{"$f":"UPPER(IF(OR(I12=\"a\",I12=\"as\"),E11,IF(OR(I12=\"b\",I12=\"bs\"),E13,)))","v":""},null,null,null,null,null,null,null,null,null,{"$f":"'SetUp Officials'!P26","v":" "}]
[4,{"$f":"IF($D13=\"\",\"\",VLOOKUP($D13,'Boys Si Main Draw Prep'!$A$7:$P$22,15))","v":""},{"$f":"IF($D13=\"\",\"\",VLOOKUP($D13,'Boys Si Main Draw Prep'!$A$7:$P$22,16))","v":""},null,{"$f":"UPPER(IF($D13=\"\",\"\",VLOOKUP($D13,'Boys Si Main Draw Prep'!$A$7:$P$22,2)))","v":""},{"$f":"IF($D13=\"\",\"\",VLOOKUP($D13,'Boys Si Main Draw Prep'!$A$7:$P$22,3))","v":""},null,{"$f":"IF($D13=\"\",\"\",VLOOKUP($D13,'Boys Si Main Draw Prep'!$A$7:$P$22,4))","v":""},null,null,null,null,null,null,null,null,null,null,null,{"$f":"'SetUp Officials'!P27","v":" "}]
[null,null,null,null,null,null,null,null,null,null,null,"Umpire",null,{"$f":"UPPER(IF(OR(M14=\"a\",M14=\"as\"),L10,IF(OR(M14=\"b\",M14=\"bs\"),L18,)))","v":""},null,null,null,null,null,{"$f":"'SetUp Officials'!P28","v":" "}]
[5,{"$f":"IF($D15=\"\",\"\",VLOOKUP($D15,'Boys Si Main Draw Prep'!$A$7:$P$22,15))","v":""},{"$f":"IF($D15=\"\",\"\",VLOOKUP($D15,'Boys Si Main Draw Prep'!$A$7:$P$22,16))","v":""},null,{"$f":"UPPER(IF($D15=\"\",\"\",VLOOKUP($D15,'Boys Si Main Draw Prep'!$A$7:$P$22,2)))","v":""},{"$f":"IF($D15=\"\",\"\",VLOOKUP($D15,'Boys Si Main Draw Prep'!$A$7:$P$22,3))","v":""},null,{"$f":"IF($D15=\"\",\"\",VLOOKUP($D15,'Boys Si Main Draw Prep'!$A$7:$P$22,4))","v":""},null,null,null,null,null,null,null,null,null,null,null,{"$f":"'SetUp Officials'!P29","v":" "}]
[null,null,null,null,null,null,null,"Umpire",null,{"$f":"UPPER(IF(OR(I16=\"a\",I16=\"as\"),E15,IF(OR(I16=\"b\",I16=\"bs\"),E17,)))","v":""},null,null,null,null,null,null,null,null,null,{"$f":"'SetUp Officials'!P30","v":"None"}]
[6,{"$f":"IF($D17=\"\",\"\",VLOOKUP($D17,'Boys Si Main Draw Prep'!$A$7:$P$22,15))","v":""},{"$f":"IF($D17=\"\",\"\",VLOOKUP($D17,'Boys Si Main Draw Prep'!$A$7:$P$22,16))","v":""},null,{"$f":"UPPER(IF($D17=\"\",\"\",VLOOKUP($D17,'Boys Si Main Draw Prep'!$A$7:$P$22,2)))","v":""},{"$f":"IF($D17=\"\",\"\",VLOOKUP($D17,'Boys Si Main Draw Prep'!$A$7:$P$22,3))","v":""},null,{"$f":"IF($D17=\"\",\"\",VLOOKUP($D17,'Boys Si Main Draw Prep'!$A$7:$P$22,4))","v":""}]
[null,null,null,null,null,null,null,null,null,"Umpire",null,{"$f":"UPPER(IF(OR(K18=\"a\",K18=\"as\"),J16,IF(OR(K18=\"b\",K18=\"bs\"),J20,)))","v":""}]
[7,{"$f":"IF($D19=\"\",\"\",VLOOKUP($D19,'Boys Si Main Draw Prep'!$A$7:$P$22,15))","v":""},{"$f":"IF($D19=\"\",\"\",VLOOKUP($D19,'Boys Si Main Draw Prep'!$A$7:$P$22,16))","v":""},null,{"$f":"UPPER(IF($D19=\"\",\"\",VLOOKUP($D19,'Boys Si Main Draw Prep'!$A$7:$P$22,2)))","v":""},{"$f":"IF($D19=\"\",\"\",VLOOKUP($D19,'Boys Si Main Draw Prep'!$A$7:$P$22,3))","v":""},null,{"$f":"IF($D19=\"\",\"\",VLOOKUP($D19,'Boys Si Main Draw Prep'!$A$7:$P$22,4))","v":""}]
[null,null,null,null,null,null,null,"Umpire",null,{"$f":"UPPER(IF(OR(I20=\"a\",I20=\"as\"),E19,IF(OR(I20=\"b\",I20=\"bs\"),E21,)))","v":""}]
[8,{"$f":"IF($D21=\"\",\"\",VLOOKUP($D21,'Boys Si Main Draw Prep'!$A$7:$P$22,15))","v":""},{"$f":"IF($D21=\"\",\"\",VLOOKUP($D21,'Boys Si Main Draw Prep'!$A$7:$P$22,16))","v":""},null,{"$f":"UPPER(IF($D21=\"\",\"\",VLOOKUP($D21,'Boys Si Main Draw Prep'!$A$7:$P$22,2)))","v":""},{"$f":"IF($D21=\"\",\"\",VLOOKUP($D21,'Boys Si Main Draw Prep'!$A$7:$P$22,3))","v":""},null,{"$f":"IF($D21=\"\",\"\",VLOOKUP($D21,'Boys Si Main Draw Prep'!$A$7:$P$22,4))","v":""}]
[null,null,null,null,null,null,null,null,null,null,null,null,null,"Umpire",null,{"$f":"UPPER(IF(OR(O22=\"a\",O22=\"as\"),N14,IF(OR(O22=\"b\",O22=\"bs\"),N30,)))","v":""}]
[9,{"$f":"IF($D23=\"\",\"\",VLOOKUP($D23,'Boys Si Main Draw Prep'!$A$7:$P$22,15))","v":""},{"$f":"IF($D23=\"\",\"\",VLOOKUP($D23,'Boys Si Main Draw Prep'!$A$7:$P$22,16))","v":""},null,{"$f":"UPPER(IF($D23=\"\",\"\",VLOOKUP($D23,'Boys Si Main Draw Prep'!$A$7:$P$22,2)))","v":""},{"$f":"IF($D23=\"\",\"\",VLOOKUP($D23,'Boys Si Main Draw Prep'!$A$7:$P$22,3))","v":""},null,{"$f":"IF($D23=\"\",\"\",VLOOKUP($D23,'Boys Si Main Draw Prep'!$A$7:$P$22,4))","v":""}]
[null,null,null,null,null,null,null,"Umpire",null,{"$f":"UPPER(IF(OR(I24=\"a\",I24=\"as\"),E23,IF(OR(I24=\"b\",I24=\"bs\"),E25,)))","v":""}]
[10,{"$f":"IF($D25=\"\",\"\",VLOOKUP($D25,'Boys Si Main Draw Prep'!$A$7:$P$22,15))","v":""},{"$f":"IF($D25=\"\",\"\",VLOOKUP($D25,'Boys Si Main Draw Prep'!$A$7:$P$22,16))","v":""},null,{"$f":"UPPER(IF($D25=\"\",\"\",VLOOKUP($D25,'Boys Si Main Draw Prep'!$A$7:$P$22,2)))","v":""},{"$f":"IF($D25=\"\",\"\",VLOOKUP($D25,'Boys Si Main Draw Prep'!$A$7:$P$22,3))","v":""},null,{"$f":"IF($D25=\"\",\"\",VLOOKUP($D25,'Boys Si Main Draw Prep'!$A$7:$P$22,4))","v":""}]
[null,null,null,null,null,null,null,null,null,"Umpire",null,{"$f":"UPPER(IF(OR(K26=\"a\",K26=\"as\"),J24,IF(OR(K26=\"b\",K26=\"bs\"),J28,)))","v":""}]
[11,{"$f":"IF($D27=\"\",\"\",VLOOKUP($D27,'Boys Si Main Draw Prep'!$A$7:$P$22,15))","v":""},{"$f":"IF($D27=\"\",\"\",VLOOKUP($D27,'Boys Si Main Draw Prep'!$A$7:$P$22,16))","v":""},null,{"$f":"UPPER(IF($D27=\"\",\"\",VLOOKUP($D27,'Boys Si Main Draw Prep'!$A$7:$P$22,2)))","v":""},{"$f":"IF($D27=\"\",\"\",VLOOKUP($D27,'Boys Si Main Draw Prep'!$A$7:$P$22,3))","v":""},null,{"$f":"IF($D27=\"\",\"\",VLOOKUP($D27,'Boys Si Main Draw Prep'!$A$7:$P$22,4))","v":""}]
[null,null,null,null,null,null,null,"Umpire",null,{"$f":"UPPER(IF(OR(I28=\"a\",I28=\"as\"),E27,IF(OR(I28=\"b\",I28=\"bs\"),E29,)))","v":""}]
[12,{"$f":"IF($D29=\"\",\"\",VLOOKUP($D29,'Boys Si Main Draw Prep'!$A$7:$P$22,15))","v":""},{"$f":"IF($D29=\"\",\"\",VLOOKUP($D29,'Boys Si Main Draw Prep'!$A$7:$P$22,16))","v":""},null,{"$f":"UPPER(IF($D29=\"\",\"\",VLOOKUP($D29,'Boys Si Main Draw Prep'!$A$7:$P$22,2)))","v":""},{"$f":"IF($D29=\"\",\"\",VLOOKUP($D29,'Boys Si Main Draw Prep'!$A$7:$P$22,3))","v":""},null,{"$f":"IF($D29=\"\",\"\",VLOOKUP($D29,'Boys Si Main Draw Prep'!$A$7:$P$22,4))","v":""}]
[null,null,null,null,null,null,null,null,null,null,null,"Umpire",null,{"$f":"UPPER(IF(OR(M30=\"a\",M30=\"as\"),L26,IF(OR(M30=\"b\",M30=\"bs\"),L34,)))","v":""}]
[13,{"$f":"IF($D31=\"\",\"\",VLOOKUP($D31,'Boys Si Main Draw Prep'!$A$7:$P$22,15))","v":""},{"$f":"IF($D31=\"\",\"\",VLOOKUP($D31,'Boys Si Main Draw Prep'!$A$7:$P$22,16))","v":""},null,{"$f":"UPPER(IF($D31=\"\",\"\",VLOOKUP($D31,'Boys Si Main Draw Prep'!$A$7:$P$22,2)))","v":""},{"$f":"IF($D31=\"\",\"\",VLOOKUP($D31,'Boys Si Main Draw Prep'!$A$7:$P$22,3))","v":""},null,{"$f":"IF($D31=\"\",\"\",VLOOKUP($D31,'Boys Si Main Draw Prep'!$A$7:$P$22,4))","v":""}]
[null,null,null,null,null,null,null,"Umpire",null,{"$f":"UPPER(IF(OR(I32=\"a\",I32=\"as\"),E31,IF(OR(I32=\"b\",I32=\"bs\"),E33,)))","v":""}]
[14,{"$f":"IF($D33=\"\",\"\",VLOOKUP($D33,'Boys Si Main Draw Prep'!$A$7:$P$22,15))","v":""},{"$f":"IF($D33=\"\",\"\",VLOOKUP($D33,'Boys Si Main Draw Prep'!$A$7:$P$22,16))","v":""},null,{"$f":"UPPER(IF($D33=\"\",\"\",VLOOKUP($D33,'Boys Si Main Draw Prep'!$A$7:$P$22,2)))","v":""},{"$f":"IF($D33=\"\",\"\",VLOOKUP($D33,'Boys Si Main Draw Prep'!$A$7:$P$22,3))","v":""},null,{"$f":"IF($D33=\"\",\"\",VLOOKUP($D33,'Boys Si Main Draw Prep'!$A$7:$P$22,4))","v":""}]
[null,null,null,null,null,null,null,null,null,"Umpire",null,{"$f":"UPPER(IF(OR(K34=\"a\",K34=\"as\"),J32,IF(OR(K34=\"b\",K34=\"bs\"),J36,)))","v":""}]
[15,{"$f":"IF($D35=\"\",\"\",VLOOKUP($D35,'Boys Si Main Draw Prep'!$A$7:$P$22,15))","v":""},{"$f":"IF($D35=\"\",\"\",VLOOKUP($D35,'Boys Si Main Draw Prep'!$A$7:$P$22,16))","v":""},null,{"$f":"UPPER(IF($D35=\"\",\"\",VLOOKUP($D35,'Boys Si Main Draw Prep'!$A$7:$P$22,2)))","v":""},{"$f":"IF($D35=\"\",\"\",VLOOKUP($D35,'Boys Si Main Draw Prep'!$A$7:$P$22,3))","v":""},null,{"$f":"IF($D35=\"\",\"\",VLOOKUP($D35,'Boys Si Main Draw Prep'!$A$7:$P$22,4))","v":""}]
[null,null,null,null,null,null,null,"Umpire",null,{"$f":"UPPER(IF(OR(I36=\"a\",I36=\"as\"),E35,IF(OR(I36=\"b\",I36=\"bs\"),E37,)))","v":""}]
[16,{"$f":"IF($D37=\"\",\"\",VLOOKUP($D37,'Boys Si Main Draw Prep'!$A$7:$P$22,15))","v":""},{"$f":"IF($D37=\"\",\"\",VLOOKUP($D37,'Boys Si Main Draw Prep'!$A$7:$P$22,16))","v":""},null,{"$f":"UPPER(IF($D37=\"\",\"\",VLOOKUP($D37,'Boys Si Main Draw Prep'!$A$7:$P$22,2)))","v":""},{"$f":"IF($D37=\"\",\"\",VLOOKUP($D37,'Boys Si Main Draw Prep'!$A$7:$P$22,3))","v":""},null,{"$f":"IF($D37=\"\",\"\",VLOOKUP($D37,'Boys Si Main Draw Prep'!$A$7:$P$22,4))","v":""}]
[]
[]
[]
[]
[]
[]
[]
[]
[]
[]
[]
[]
[]
[]
[]
[]
[]
[]
[]
[]
[]
[]
[]
[]
[]
[]
[]
[]
[]
[]
[]
[]
[]
["Acc. Ranking",null,null,"#","Seeded players",null,null,null,"#","Lucky Losers",null,"Replacing",null,"Draw date/time:"]
["Rkg Date",null,null,1,{"$f":"IF(D72>$Q$79,,UPPER(VLOOKUP(D72,'Boys Si Main Draw Prep'!$A$7:$R$134,2)))","v":0},null,null,null,"1",null,null,null,null,"Last Accepted player"]
["Top DA",null,null,2,{"$f":"IF(D73>$Q$79,,UPPER(VLOOKUP(D73,'Boys Si Main Draw Prep'!$A$7:$R$134,2)))","v":0},null,null,null,"2"]
["Last DA",null,null,3,{"$f":"IF(D74>$Q$79,,UPPER(VLOOKUP(D74,'Boys Si Main Draw Prep'!$A$7:$R$134,2)))","v":0},null,null,null,"3",null,null,null,null,"Player representatives"]
[null,null,null,4,{"$f":"IF(D75>$Q$79,,UPPER(VLOOKUP(D75,'Boys Si Main Draw Prep'!$A$7:$R$134,2)))","v":0},null,null,null,"4"]
["Seed ranking",null,null,null,null,null,null,null,"5"]
["Rkg Date",null,null,null,null,null,null,null,"6",null,null,null,null,"ITF Referee's signature"]
["Top seed",null,null,null,null,null,null,null,"7"]
["Last seed",null,null,null,null,null,null,null,"8",null,null,null,null,{"$f":"Q4","v":0},null,null,{"$f":"MIN(4,'Boys Si Main Draw Prep'!R5)","v":0}]

{"sheet":"Boys Si Main 24&32","index":13,"n_rows":79,"n_cols":20,"rows_kept":79,"cut":false,"hidden":false,"merged":[[3,0,3,2]]}
[{"$f":"'Week SetUp'!$A$6","v":0},null,null,null,null,null,null,null,null,"BOYS SINGLES",null,null,null,"CU"]
[{"$f":"'Week SetUp'!$A$8","v":"ITF Junior Circuit"},null,null,null,null,null,null,null,null,"MAIN DRAW (24&32)"]
["Week of",null,null,null,null,"City, Country",null,null,null,"Group",null,"Tourn. ID",null,null,null,null,"ITF Referee"]
[{"$f":"'Week SetUp'!$A$10","v":"00:00:00"},null,null,null,null,{"$f":"'Week SetUp'!$C$10","v":0},null,null,null,{"$f":"'Week SetUp'!$D$10","v":0},null,{"$f":"'Week SetUp'!$A$12","v":0},null,null,null,null,{"$f":"'Week SetUp'!$E$10","v":0}]
[null,"St.","Rank","Seed","Family Name","First name",null,"Nationality",null,"2nd Round",null,"Quarterfinals",null,"Semifinals",null,"Final"]
[]
[1,{"$f":"IF($D7=\"\",\"\",VLOOKUP($D7,'Boys Si Main Draw Prep'!$A$7:$P$38,15))","v":""},{"$f":"IF($D7=\"\",\"\",VLOOKUP($D7,'Boys Si Main Draw Prep'!$A$7:$P$38,16))","v":""},null,{"$f":"UPPER(IF($D7=\"\",\"\",VLOOKUP($D7,'Boys Si Main Draw Prep'!$A$7:$P$38,2)))","v":""},{"$f":"IF($D7=\"\",\"\",VLOOKUP($D7,'Boys Si Main Draw Prep'!$A$7:$P$38,3))","v":""},null,{"$f":"IF($D7=\"\",\"\",VLOOKUP($D7,'Boys Si Main Draw Prep'!$A$7:$P$38,4))","v":""},null,null,null,null,null,null,null,null,null,null,null,{"$f":"'SetUp Officials'!P21","v":"Umpire"}]
[null,null,null,null,null,null,null,"Umpire",null,{"$f":"UPPER(IF(OR(I8=\"a\",I8=\"as\"),E7,IF(OR(I8=\"b\",I8=\"bs\"),E9,)))","v":""},null,null,null,null,null,null,null,null,null,{"$f":"'SetUp Officials'!P22","v":" "}]
[2,{"$f":"IF($D9=\"\",\"\",VLOOKUP($D9,'Boys Si Main Draw Prep'!$A$7:$P$38,15))","v":""},{"$f":"IF($D9=\"\",\"\",VLOOKUP($D9,'Boys Si Main Draw Prep'!$A$7:$P$38,16))","v":""},null,{"$f":"UPPER(IF($D9=\"\",\"\",VLOOKUP($D9,'Boys Si Main Draw Prep'!$A$7:$P$38,2)))","v":""},{"$f":"IF($D9=\"\",\"\",VLOOKUP($D9,'Boys Si Main Draw Prep'!$A$7:$P$38,3))","v":""},null,{"$f":"IF($D9=\"\",\"\",VLOOKUP($D9,'Boys Si Main Draw Prep'!$A$7:$P$38,4))","v":""},null,null,null,null,null,null,null,null,null,null,null,{"$f":"'SetUp Officials'!P23","v":" "}]
[null,null,null,null,null,null,null,null,null,"Umpire",null,{"$f":"UPPER(IF(OR(K10=\"a\",K10=\"as\"),J8,IF(OR(K10=\"b\",K10=\"bs\"),J12,)))","v":""},null,null,null,null,null,null,null,{"$f":"'SetUp Officials'!P24","v":" "}]
[3,{"$f":"IF($D11=\"\",\"\",VLOOKUP($D11,'Boys Si Main Draw Prep'!$A$7:$P$38,15))","v":""},{"$f":"IF($D11=\"\",\"\",VLOOKUP($D11,'Boys Si Main Draw Prep'!$A$7:$P$38,16))","v":""},null,{"$f":"UPPER(IF($D11=\"\",\"\",VLOOKUP($D11,'Boys Si Main Draw Prep'!$A$7:$P$38,2)))","v":""},{"$f":"IF($D11=\"\",\"\",VLOOKUP($D11,'Boys Si Main Draw Prep'!$A$7:$P$38,3))","v":""},null,{"$f":"IF($D11=\"\",\"\",VLOOKUP($D11,'Boys Si Main Draw Prep'!$A$7:$P$38,4))","v":""},null,null,null,null,null,null,null,null,null,null,null,{"$f":"'SetUp Officials'!P25","v":" "}]
[null,null,null,null,null,null,null,"Umpire",null,{"$f":"UPPER(IF(OR(I12=\"a\",I12=\"as\"),E11,IF(OR(I12=\"b\",I12=\"bs\"),E13,)))","v":""},null,null,null,null,null,null,null,null,null,{"$f":"'SetUp Officials'!P26","v":" "}]
[4,{"$f":"IF($D13=\"\",\"\",VLOOKUP($D13,'Boys Si Main Draw Prep'!$A$7:$P$38,15))","v":""},{"$f":"IF($D13=\"\",\"\",VLOOKUP($D13,'Boys Si Main Draw Prep'!$A$7:$P$38,16))","v":""},null,{"$f":"UPPER(IF($D13=\"\",\"\",VLOOKUP($D13,'Boys Si Main Draw Prep'!$A$7:$P$38,2)))","v":""},{"$f":"IF($D13=\"\",\"\",VLOOKUP($D13,'Boys Si Main Draw Prep'!$A$7:$P$38,3))","v":""},null,{"$f":"IF($D13=\"\",\"\",VLOOKUP($D13,'Boys Si Main Draw Prep'!$A$7:$P$38,4))","v":""},null,null,null,null,null,null,null,null,null,null,null,{"$f":"'SetUp Officials'!P27","v":" "}]
[null,null,null,null,null,null,null,null,null,null,null,"Umpire",null,{"$f":"UPPER(IF(OR(M14=\"a\",M14=\"as\"),L10,IF(OR(M14=\"b\",M14=\"bs\"),L18,)))","v":""},null,null,null,null,null,{"$f":"'SetUp Officials'!P28","v":" "}]
[5,{"$f":"IF($D15=\"\",\"\",VLOOKUP($D15,'Boys Si Main Draw Prep'!$A$7:$P$38,15))","v":""},{"$f":"IF($D15=\"\",\"\",VLOOKUP($D15,'Boys Si Main Draw Prep'!$A$7:$P$38,16))","v":""},null,{"$f":"UPPER(IF($D15=\"\",\"\",VLOOKUP($D15,'Boys Si Main Draw Prep'!$A$7:$P$38,2)))","v":""},{"$f":"IF($D15=\"\",\"\",VLOOKUP($D15,'Boys Si Main Draw Prep'!$A$7:$P$38,3))","v":""},null,{"$f":"IF($D15=\"\",\"\",VLOOKUP($D15,'Boys Si Main Draw Prep'!$A$7:$P$38,4))","v":""},null,null,null,null,null,null,null,null,null,null,null,{"$f":"'SetUp Officials'!P29","v":" "}]
[null,null,null,null,null,null,null,"Umpire",null,{"$f":"UPPER(IF(OR(I16=\"a\",I16=\"as\"),E15,IF(OR(I16=\"b\",I16=\"bs\"),E17,)))","v":""},null,null,null,null,null,null,null,null,null,{"$f":"'SetUp Officials'!P30","v":"None"}]
[6,{"$f":"IF($D17=\"\",\"\",VLOOKUP($D17,'Boys Si Main Draw Prep'!$A$7:$P$38,15))","v":""},{"$f":"IF($D17=\"\",\"\",VLOOKUP($D17,'Boys Si Main Draw Prep'!$A$7:$P$38,16))","v":""},null,{"$f":"UPPER(IF($D17=\"\",\"\",VLOOKUP($D17,'Boys Si Main Draw Prep'!$A$7:$P$38,2)))","v":""},{"$f":"IF($D17=\"\",\"\",VLOOKUP($D17,'Boys Si Main Draw Prep'!$A$7:$P$38,3))","v":""},null,{"$f":"IF($D17=\"\",\"\",VLOOKUP($D17,'Boys Si Main Draw Prep'!$A$7:$P$38,4))","v":""}]
[null,null,null,null,null,null,null,null,null,"Umpire",null,{"$f":"UPPER(IF(OR(K18=\"a\",K18=\"as\"),J16,IF(OR(K18=\"b\",K18=\"bs\"),J20,)))","v":""}]
[7,{"$f":"IF($D19=\"\",\"\",VLOOKUP($D19,'Boys Si Main Draw Prep'!$A$7:$P$38,15))","v":""},{"$f":"IF($D19=\"\",\"\",VLOOKUP($D19,'Boys Si Main Draw Prep'!$A$7:$P$38,16))","v":""},null,{"$f":"UPPER(IF($D19=\"\",\"\",VLOOKUP($D19,'Boys Si Main Draw Prep'!$A$7:$P$38,2)))","v":""},{"$f":"IF($D19=\"\",\"\",VLOOKUP($D19,'Boys Si Main Draw Prep'!$A$7:$P$38,3))","v":""},null,{"$f":"IF($D19=\"\",\"\",VLOOKUP($D19,'Boys Si Main Draw Prep'!$A$7:$P$38,4))","v":""}]
[null,null,null,null,null,null,null,"Umpire",null,{"$f":"UPPER(IF(OR(I20=\"a\",I20=\"as\"),E19,IF(OR(I20=\"b\",I20=\"bs\"),E21,)))","v":""}]
[8,{"$f":"IF($D21=\"\",\"\",VLOOKUP($D21,'Boys Si Main Draw Prep'!$A$7:$P$38,15))","v":""},{"$f":"IF($D21=\"\",\"\",VLOOKUP($D21,'Boys Si Main Draw Prep'!$A$7:$P$38,16))","v":""},null,{"$f":"UPPER(IF($D21=\"\",\"\",VLOOKUP($D21,'Boys Si Main Draw Prep'!$A$7:$P$38,2)))","v":""},{"$f":"IF($D21=\"\",\"\",VLOOKUP($D21,'Boys Si Main Draw Prep'!$A$7:$P$38,3))","v":""},null,{"$f":"IF($D21=\"\",\"\",VLOOKUP($D21,'Boys Si Main Draw Prep'!$A$7:$P$38,4))","v":""}]
[null,null,null,null,null,null,null,null,null,null,null,null,null,"Umpire",null,{"$f":"UPPER(IF(OR(O22=\"a\",O22=\"as\"),N14,IF(OR(O22=\"b\",O22=\"bs\"),N30,)))","v":""}]
[9,{"$f":"IF($D23=\"\",\"\",VLOOKUP($D23,'Boys Si Main Draw Prep'!$A$7:$P$38,15))","v":""},{"$f":"IF($D23=\"\",\"\",VLOOKUP($D23,'Boys Si Main Draw Prep'!$A$7:$P$38,16))","v":""},null,{"$f":"UPPER(IF($D23=\"\",\"\",VLOOKUP($D23,'Boys Si Main Draw Prep'!$A$7:$P$38,2)))","v":""},{"$f":"IF($D23=\"\",\"\",VLOOKUP($D23,'Boys Si Main Draw Prep'!$A$7:$P$38,3))","v":""},null,{"$f":"IF($D23=\"\",\"\",VLOOKUP($D23,'Boys Si Main Draw Prep'!$A$7:$P$38,4))","v":""}]
[null,null,null,null,null,null,null,"Umpire",null,{"$f":"UPPER(IF(OR(I24=\"a\",I24=\"as\"),E23,IF(OR(I24=\"b\",I24=\"bs\"),E25,)))","v":""}]
[10,{"$f":"IF($D25=\"\",\"\",VLOOKUP($D25,'Boys Si Main Draw Prep'!$A$7:$P$38,15))","v":""},{"$f":"IF($D25=\"\",\"\",VLOOKUP($D25,'Boys Si Main Draw Prep'!$A$7:$P$38,16))","v":""},null,{"$f":"UPPER(IF($D25=\"\",\"\",VLOOKUP($D25,'Boys Si Main Draw Prep'!$A$7:$P$38,2)))","v":""},{"$f":"IF($D25=\"\",\"\",VLOOKUP($D25,'Boys Si Main Draw Prep'!$A$7:$P$38,3))","v":""},null,{"$f":"IF($D25=\"\",\"\",VLOOKUP($D25,'Boys Si Main Draw Prep'!$A$7:$P$38,4))","v":""}]
[null,null,null,null,null,null,null,null,null,"Umpire",null,{"$f":"UPPER(IF(OR(K26=\"a\",K26=\"as\"),J24,IF(OR(K26=\"b\",K26=\"bs\"),J28,)))","v":""}]
[11,{"$f":"IF($D27=\"\",\"\",VLOOKUP($D27,'Boys Si Main Draw Prep'!$A$7:$P$38,15))","v":""},{"$f":"IF($D27=\"\",\"\",VLOOKUP($D27,'Boys Si Main Draw Prep'!$A$7:$P$38,16))","v":""},null,{"$f":"UPPER(IF($D27=\"\",\"\",VLOOKUP($D27,'Boys Si Main Draw Prep'!$A$7:$P$38,2)))","v":""},{"$f":"IF($D27=\"\",\"\",VLOOKUP($D27,'Boys Si Main Draw Prep'!$A$7:$P$38,3))","v":""},null,{"$f":"IF($D27=\"\",\"\",VLOOKUP($D27,'Boys Si Main Draw Prep'!$A$7:$P$38,4))","v":""}]
[null,null,null,null,null,null,null,"Umpire",null,{"$f":"UPPER(IF(OR(I28=\"a\",I28=\"as\"),E27,IF(OR(I28=\"b\",I28=\"bs\"),E29,)))","v":""}]
[12,{"$f":"IF($D29=\"\",\"\",VLOOKUP($D29,'Boys Si Main Draw Prep'!$A$7:$P$38,15))","v":""},{"$f":"IF($D29=\"\",\"\",VLOOKUP($D29,'Boys Si Main Draw Prep'!$A$7:$P$38,16))","v":""},null,{"$f":"UPPER(IF($D29=\"\",\"\",VLOOKUP($D29,'Boys Si Main Draw Prep'!$A$7:$P$38,2)))","v":""},{"$f":"IF($D29=\"\",\"\",VLOOKUP($D29,'Boys Si Main Draw Prep'!$A$7:$P$38,3))","v":""},null,{"$f":"IF($D29=\"\",\"\",VLOOKUP($D29,'Boys Si Main Draw Prep'!$A$7:$P$38,4))","v":""}]
[null,null,null,null,null,null,null,null,null,null,null,"Umpire",null,{"$f":"UPPER(IF(OR(M30=\"a\",M30=\"as\"),L26,IF(OR(M30=\"b\",M30=\"bs\"),L34,)))","v":""}]
[13,{"$f":"IF($D31=\"\",\"\",VLOOKUP($D31,'Boys Si Main Draw Prep'!$A$7:$P$38,15))","v":""},{"$f":"IF($D31=\"\",\"\",VLOOKUP($D31,'Boys Si Main Draw Prep'!$A$7:$P$38,16))","v":""},null,{"$f":"UPPER(IF($D31=\"\",\"\",VLOOKUP($D31,'Boys Si Main Draw Prep'!$A$7:$P$38,2)))","v":""},{"$f":"IF($D31=\"\",\"\",VLOOKUP($D31,'Boys Si Main Draw Prep'!$A$7:$P$38,3))","v":""},null,{"$f":"IF($D31=\"\",\"\",VLOOKUP($D31,'Boys Si Main Draw Prep'!$A$7:$P$38,4))","v":""}]
[null,null,null,null,null,null,null,"Umpire",null,{"$f":"UPPER(IF(OR(I32=\"a\",I32=\"as\"),E31,IF(OR(I32=\"b\",I32=\"bs\"),E33,)))","v":""}]
[14,{"$f":"IF($D33=\"\",\"\",VLOOKUP($D33,'Boys Si Main Draw Prep'!$A$7:$P$38,15))","v":""},{"$f":"IF($D33=\"\",\"\",VLOOKUP($D33,'Boys Si Main Draw Prep'!$A$7:$P$38,16))","v":""},null,{"$f":"UPPER(IF($D33=\"\",\"\",VLOOKUP($D33,'Boys Si Main Draw Prep'!$A$7:$P$38,2)))","v":""},{"$f":"IF($D33=\"\",\"\",VLOOKUP($D33,'Boys Si Main Draw Prep'!$A$7:$P$38,3))","v":""},null,{"$f":"IF($D33=\"\",\"\",VLOOKUP($D33,'Boys Si Main Draw Prep'!$A$7:$P$38,4))","v":""}]
[null,null,null,null,null,null,null,null,null,"Umpire",null,{"$f":"UPPER(IF(OR(K34=\"a\",K34=\"as\"),J32,IF(OR(K34=\"b\",K34=\"bs\"),J36,)))","v":""}]
[15,{"$f":"IF($D35=\"\",\"\",VLOOKUP($D35,'Boys Si Main Draw Prep'!$A$7:$P$38,15))","v":""},{"$f":"IF($D35=\"\",\"\",VLOOKUP($D35,'Boys Si Main Draw Prep'!$A$7:$P$38,16))","v":""},null,{"$f":"UPPER(IF($D35=\"\",\"\",VLOOKUP($D35,'Boys Si Main Draw Prep'!$A$7:$P$38,2)))","v":""},{"$f":"IF($D35=\"\",\"\",VLOOKUP($D35,'Boys Si Main Draw Prep'!$A$7:$P$38,3))","v":""},null,{"$f":"IF($D35=\"\",\"\",VLOOKUP($D35,'Boys Si Main Draw Prep'!$A$7:$P$38,4))","v":""}]
[null,null,null,null,null,null,null,"Umpire",null,{"$f":"UPPER(IF(OR(I36=\"a\",I36=\"as\"),E35,IF(OR(I36=\"b\",I36=\"bs\"),E37,)))","v":""}]
[16,{"$f":"IF($D37=\"\",\"\",VLOOKUP($D37,'Boys Si Main Draw Prep'!$A$7:$P$38,15))","v":""},{"$f":"IF($D37=\"\",\"\",VLOOKUP($D37,'Boys Si Main Draw Prep'!$A$7:$P$38,16))","v":""},null,{"$f":"UPPER(IF($D37=\"\",\"\",VLOOKUP($D37,'Boys Si Main Draw Prep'!$A$7:$P$38,2)))","v":""},{"$f":"IF($D37=\"\",\"\",VLOOKUP($D37,'Boys Si Main Draw Prep'!$A$7:$P$38,3))","v":""},null,{"$f":"IF($D37=\"\",\"\",VLOOKUP($D37,'Boys Si Main Draw Prep'!$A$7:$P$38,4))","v":""}]
[null,null,null,null,null,null,null,null,null,null,null,null,null,"Winner:",null,{"$f":"UPPER(IF(OR(O39=\"a\",O39=\"as\"),P22,IF(OR(O39=\"b\",O39=\"bs\"),P54,)))","v":""}]
[17,{"$f":"IF($D39=\"\",\"\",VLOOKUP($D39,'Boys Si Main Draw Prep'!$A$7:$P$38,15))","v":""},{"$f":"IF($D39=\"\",\"\",VLOOKUP($D39,'Boys Si Main Draw Prep'!$A$7:$P$38,16))","v":""},null,{"$f":"UPPER(IF($D39=\"\",\"\",VLOOKUP($D39,'Boys Si Main Draw Prep'!$A$7:$P$38,2)))","v":""},{"$f":"IF($D39=\"\",\"\",VLOOKUP($D39,'Boys Si Main Draw Prep'!$A$7:$P$38,3))","v":""},null,{"$f":"IF($D39=\"\",\"\",VLOOKUP($D39,'Boys Si Main Draw Prep'!$A$7:$P$38,4))","v":""},null,null,null,null,null,"Umpire"]
[null,null,null,null,null,null,null,"Umpire",null,{"$f":"UPPER(IF(OR(I40=\"a\",I40=\"as\"),E39,IF(OR(I40=\"b\",I40=\"bs\"),E41,)))","v":""}]
[18,{"$f":"IF($D41=\"\",\"\",VLOOKUP($D41,'Boys Si Main Draw Prep'!$A$7:$P$38,15))","v":""},{"$f":"IF($D41=\"\",\"\",VLOOKUP($D41,'Boys Si Main Draw Prep'!$A$7:$P$38,16))","v":""},null,{"$f":"UPPER(IF($D41=\"\",\"\",VLOOKUP($D41,'Boys Si Main Draw Prep'!$A$7:$P$38,2)))","v":""},{"$f":"IF($D41=\"\",\"\",VLOOKUP($D41,'Boys Si Main Draw Prep'!$A$7:$P$38,3))","v":""},null,{"$f":"IF($D41=\"\",\"\",VLOOKUP($D41,'Boys Si Main Draw Prep'!$A$7:$P$38,4))","v":""}]
[null,null,null,null,null,null,null,null,null,"Umpire",null,{"$f":"UPPER(IF(OR(K42=\"a\",K42=\"as\"),J40,IF(OR(K42=\"b\",K42=\"bs\"),J44,)))","v":""}]
[19,{"$f":"IF($D43=\"\",\"\",VLOOKUP($D43,'Boys Si Main Draw Prep'!$A$7:$P$38,15))","v":""},{"$f":"IF($D43=\"\",\"\",VLOOKUP($D43,'Boys Si Main Draw Prep'!$A$7:$P$38,16))","v":""},null,{"$f":"UPPER(IF($D43=\"\",\"\",VLOOKUP($D43,'Boys Si Main Draw Prep'!$A$7:$P$38,2)))","v":""},{"$f":"IF($D43=\"\",\"\",VLOOKUP($D43,'Boys Si Main Draw Prep'!$A$7:$P$38,3))","v":""},null,{"$f":"IF($D43=\"\",\"\",VLOOKUP($D43,'Boys Si Main Draw Prep'!$A$7:$P$38,4))","v":""}]
[null,null,null,null,null,null,null,"Umpire",null,{"$f":"UPPER(IF(OR(I44=\"a\",I44=\"as\"),E43,IF(OR(I44=\"b\",I44=\"bs\"),E45,)))","v":""}]
[20,{"$f":"IF($D45=\"\",\"\",VLOOKUP($D45,'Boys Si Main Draw Prep'!$A$7:$P$38,15))","v":""},{"$f":"IF($D45=\"\",\"\",VLOOKUP($D45,'Boys Si Main Draw Prep'!$A$7:$P$38,16))","v":""},null,{"$f":"UPPER(IF($D45=\"\",\"\",VLOOKUP($D45,'Boys Si Main Draw Prep'!$A$7:$P$38,2)))","v":""},{"$f":"IF($D45=\"\",\"\",VLOOKUP($D45,'Boys Si Main Draw Prep'!$A$7:$P$38,3))","v":""},null,{"$f":"IF($D45=\"\",\"\",VLOOKUP($D45,'Boys Si Main Draw Prep'!$A$7:$P$38,4))","v":""}]
[null,null,null,null,null,null,null,null,null,null,null,"Umpire",null,{"$f":"UPPER(IF(OR(M46=\"a\",M46=\"as\"),L42,IF(OR(M46=\"b\",M46=\"bs\"),L50,)))","v":""}]
[21,{"$f":"IF($D47=\"\",\"\",VLOOKUP($D47,'Boys Si Main Draw Prep'!$A$7:$P$38,15))","v":""},{"$f":"IF($D47=\"\",\"\",VLOOKUP($D47,'Boys Si Main Draw Prep'!$A$7:$P$38,16))","v":""},null,{"$f":"UPPER(IF($D47=\"\",\"\",VLOOKUP($D47,'Boys Si Main Draw Prep'!$A$7:$P$38,2)))","v":""},{"$f":"IF($D47=\"\",\"\",VLOOKUP($D47,'Boys Si Main Draw Prep'!$A$7:$P$38,3))","v":""},null,{"$f":"IF($D47=\"\",\"\",VLOOKUP($D47,'Boys Si Main Draw Prep'!$A$7:$P$38,4))","v":""}]
[null,null,null,null,null,null,null,"Umpire",null,{"$f":"UPPER(IF(OR(I48=\"a\",I48=\"as\"),E47,IF(OR(I48=\"b\",I48=\"bs\"),E49,)))","v":""}]
[22,{"$f":"IF($D49=\"\",\"\",VLOOKUP($D49,'Boys Si Main Draw Prep'!$A$7:$P$38,15))","v":""},{"$f":"IF($D49=\"\",\"\",VLOOKUP($D49,'Boys Si Main Draw Prep'!$A$7:$P$38,16))","v":""},null,{"$f":"UPPER(IF($D49=\"\",\"\",VLOOKUP($D49,'Boys Si Main Draw Prep'!$A$7:$P$38,2)))","v":""},{"$f":"IF($D49=\"\",\"\",VLOOKUP($D49,'Boys Si Main Draw Prep'!$A$7:$P$38,3))","v":""},null,{"$f":"IF($D49=\"\",\"\",VLOOKUP($D49,'Boys Si Main Draw Prep'!$A$7:$P$38,4))","v":""}]
[null,null,null,null,null,null,null,null,null,"Umpire",null,{"$f":"UPPER(IF(OR(K50=\"a\",K50=\"as\"),J48,IF(OR(K50=\"b\",K50=\"bs\"),J52,)))","v":""}]
[23,{"$f":"IF($D51=\"\",\"\",VLOOKUP($D51,'Boys Si Main Draw Prep'!$A$7:$P$38,15))","v":""},{"$f":"IF($D51=\"\",\"\",VLOOKUP($D51,'Boys Si Main Draw Prep'!$A$7:$P$38,16))","v":""},null,{"$f":"UPPER(IF($D51=\"\",\"\",VLOOKUP($D51,'Boys Si Main Draw Prep'!$A$7:$P$38,2)))","v":""},{"$f":"IF($D51=\"\",\"\",VLOOKUP($D51,'Boys Si Main Draw Prep'!$A$7:$P$38,3))","v":""},null,{"$f":"IF($D51=\"\",\"\",VLOOKUP($D51,'Boys Si Main Draw Prep'!$A$7:$P$38,4))","v":""}]
[null,null,null,null,null,null,null,"Umpire",null,{"$f":"UPPER(IF(OR(I52=\"a\",I52=\"as\"),E51,IF(OR(I52=\"b\",I52=\"bs\"),E53,)))","v":""}]
[24,{"$f":"IF($D53=\"\",\"\",VLOOKUP($D53,'Boys Si Main Draw Prep'!$A$7:$P$38,15))","v":""},{"$f":"IF($D53=\"\",\"\",VLOOKUP($D53,'Boys Si Main Draw Prep'!$A$7:$P$38,16))","v":""},null,{"$f":"UPPER(IF($D53=\"\",\"\",VLOOKUP($D53,'Boys Si Main Draw Prep'!$A$7:$P$38,2)))","v":""},{"$f":"IF($D53=\"\",\"\",VLOOKUP($D53,'Boys Si Main Draw Prep'!$A$7:$P$38,3))","v":""},null,{"$f":"IF($D53=\"\",\"\",VLOOKUP($D53,'Boys Si Main Draw Prep'!$A$7:$P$38,4))","v":""}]
[null,null,null,null,null,null,null,null,null,null,null,null,null,"Umpire",null,{"$f":"UPPER(IF(OR(O54=\"a\",O54=\"as\"),N46,IF(OR(O54=\"b\",O54=\"bs\"),N62,)))","v":""}]
[25,{"$f":"IF($D55=\"\",\"\",VLOOKUP($D55,'Boys Si Main Draw Prep'!$A$7:$P$38,15))","v":""},{"$f":"IF($D55=\"\",\"\",VLOOKUP($D55,'Boys Si Main Draw Prep'!$A$7:$P$38,16))","v":""},null,{"$f":"UPPER(IF($D55=\"\",\"\",VLOOKUP($D55,'Boys Si Main Draw Prep'!$A$7:$P$38,2)))","v":""},{"$f":"IF($D55=\"\",\"\",VLOOKUP($D55,'Boys Si Main Draw Prep'!$A$7:$P$38,3))","v":""},null,{"$f":"IF($D55=\"\",\"\",VLOOKUP($D55,'Boys Si Main Draw Prep'!$A$7:$P$38,4))","v":""}]
[null,null,null,null,null,null,null,"Umpire",null,{"$f":"UPPER(IF(OR(I56=\"a\",I56=\"as\"),E55,IF(OR(I56=\"b\",I56=\"bs\"),E57,)))","v":""}]
[26,{"$f":"IF($D57=\"\",\"\",VLOOKUP($D57,'Boys Si Main Draw Prep'!$A$7:$P$38,15))","v":""},{"$f":"IF($D57=\"\",\"\",VLOOKUP($D57,'Boys Si Main Draw Prep'!$A$7:$P$38,16))","v":""},null,{"$f":"UPPER(IF($D57=\"\",\"\",VLOOKUP($D57,'Boys Si Main Draw Prep'!$A$7:$P$38,2)))","v":""},{"$f":"IF($D57=\"\",\"\",VLOOKUP($D57,'Boys Si Main Draw Prep'!$A$7:$P$38,3))","v":""},null,{"$f":"IF($D57=\"\",\"\",VLOOKUP($D57,'Boys Si Main Draw Prep'!$A$7:$P$38,4))","v":""}]
[null,null,null,null,null,null,null,null,null,"Umpire",null,{"$f":"UPPER(IF(OR(K58=\"a\",K58=\"as\"),J56,IF(OR(K58=\"b\",K58=\"bs\"),J60,)))","v":""}]
[27,{"$f":"IF($D59=\"\",\"\",VLOOKUP($D59,'Boys Si Main Draw Prep'!$A$7:$P$38,15))","v":""},{"$f":"IF($D59=\"\",\"\",VLOOKUP($D59,'Boys Si Main Draw Prep'!$A$7:$P$38,16))","v":""},null,{"$f":"UPPER(IF($D59=\"\",\"\",VLOOKUP($D59,'Boys Si Main Draw Prep'!$A$7:$P$38,2)))","v":""},{"$f":"IF($D59=\"\",\"\",VLOOKUP($D59,'Boys Si Main Draw Prep'!$A$7:$P$38,3))","v":""},null,{"$f":"IF($D59=\"\",\"\",VLOOKUP($D59,'Boys Si Main Draw Prep'!$A$7:$P$38,4))","v":""}]
[null,null,null,null,null,null,null,"Umpire",null,{"$f":"UPPER(IF(OR(I60=\"a\",I60=\"as\"),E59,IF(OR(I60=\"b\",I60=\"bs\"),E61,)))","v":""}]
[28,{"$f":"IF($D61=\"\",\"\",VLOOKUP($D61,'Boys Si Main Draw Prep'!$A$7:$P$38,15))","v":""},{"$f":"IF($D61=\"\",\"\",VLOOKUP($D61,'Boys Si Main Draw Prep'!$A$7:$P$38,16))","v":""},null,{"$f":"UPPER(IF($D61=\"\",\"\",VLOOKUP($D61,'Boys Si Main Draw Prep'!$A$7:$P$38,2)))","v":""},{"$f":"IF($D61=\"\",\"\",VLOOKUP($D61,'Boys Si Main Draw Prep'!$A$7:$P$38,3))","v":""},null,{"$f":"IF($D61=\"\",\"\",VLOOKUP($D61,'Boys Si Main Draw Prep'!$A$7:$P$38,4))","v":""}]
[null,null,null,null,null,null,null,null,null,null,null,"Umpire",null,{"$f":"UPPER(IF(OR(M62=\"a\",M62=\"as\"),L58,IF(OR(M62=\"b\",M62=\"bs\"),L66,)))","v":""}]
[29,{"$f":"IF($D63=\"\",\"\",VLOOKUP($D63,'Boys Si Main Draw Prep'!$A$7:$P$38,15))","v":""},{"$f":"IF($D63=\"\",\"\",VLOOKUP($D63,'Boys Si Main Draw Prep'!$A$7:$P$38,16))","v":""},null,{"$f":"UPPER(IF($D63=\"\",\"\",VLOOKUP($D63,'Boys Si Main Draw Prep'!$A$7:$P$38,2)))","v":""},{"$f":"IF($D63=\"\",\"\",VLOOKUP($D63,'Boys Si Main Draw Prep'!$A$7:$P$38,3))","v":""},null,{"$f":"IF($D63=\"\",\"\",VLOOKUP($D63,'Boys Si Main Draw Prep'!$A$7:$P$38,4))","v":""}]
[null,null,null,null,null,null,null,"Umpire",null,{"$f":"UPPER(IF(OR(I64=\"a\",I64=\"as\"),E63,IF(OR(I64=\"b\",I64=\"bs\"),E65,)))","v":""}]
[30,{"$f":"IF($D65=\"\",\"\",VLOOKUP($D65,'Boys Si Main Draw Prep'!$A$7:$P$38,15))","v":""},{"$f":"IF($D65=\"\",\"\",VLOOKUP($D65,'Boys Si Main Draw Prep'!$A$7:$P$38,16))","v":""},null,{"$f":"UPPER(IF($D65=\"\",\"\",VLOOKUP($D65,'Boys Si Main Draw Prep'!$A$7:$P$38,2)))","v":""},{"$f":"IF($D65=\"\",\"\",VLOOKUP($D65,'Boys Si Main Draw Prep'!$A$7:$P$38,3))","v":""},null,{"$f":"IF($D65=\"\",\"\",VLOOKUP($D65,'Boys Si Main Draw Prep'!$A$7:$P$38,4))","v":""}]
[null,null,null,null,null,null,null,null,null,"Umpire",null,{"$f":"UPPER(IF(OR(K66=\"a\",K66=\"as\"),J64,IF(OR(K66=\"b\",K66=\"bs\"),J68,)))","v":""}]
[31,{"$f":"IF($D67=\"\",\"\",VLOOKUP($D67,'Boys Si Main Draw Prep'!$A$7:$P$38,15))","v":""},{"$f":"IF($D67=\"\",\"\",VLOOKUP($D67,'Boys Si Main Draw Prep'!$A$7:$P$38,16))","v":""},null,{"$f":"UPPER(IF($D67=\"\",\"\",VLOOKUP($D67,'Boys Si Main Draw Prep'!$A$7:$P$38,2)))","v":""},{"$f":"IF($D67=\"\",\"\",VLOOKUP($D67,'Boys Si Main Draw Prep'!$A$7:$P$38,3))","v":""},null,{"$f":"IF($D67=\"\",\"\",VLOOKUP($D67,'Boys Si Main Draw Prep'!$A$7:$P$38,4))","v":""}]
[null,null,null,null,null,null,null,"Umpire",null,{"$f":"UPPER(IF(OR(I68=\"a\",I68=\"as\"),E67,IF(OR(I68=\"b\",I68=\"bs\"),E69,)))","v":""}]
[32,{"$f":"IF($D69=\"\",\"\",VLOOKUP($D69,'Boys Si Main Draw Prep'!$A$7:$P$38,15))","v":""},{"$f":"IF($D69=\"\",\"\",VLOOKUP($D69,'Boys Si Main Draw Prep'!$A$7:$P$38,16))","v":""},null,{"$f":"UPPER(IF($D69=\"\",\"\",VLOOKUP($D69,'Boys Si Main Draw Prep'!$A$7:$P$38,2)))","v":""},{"$f":"IF($D69=\"\",\"\",VLOOKUP($D69,'Boys Si Main Draw Prep'!$A$7:$P$38,3))","v":""},null,{"$f":"IF($D69=\"\",\"\",VLOOKUP($D69,'Boys Si Main Draw Prep'!$A$7:$P$38,4))","v":""}]
[]
["Acc. Ranking",null,null,"#","Seeded players",null,null,null,"#","Lucky Losers",null,"Replacing",null,"Draw date/time:"]
["Rkg Date",null,null,1,{"$f":"IF(D72>$Q$79,,UPPER(VLOOKUP(D72,'Boys Si Main Draw Prep'!$A$7:$R$134,2)))","v":0},null,null,null,"1",null,null,null,null,"Last Accepted player"]
["Top DA",null,null,2,{"$f":"IF(D73>$Q$79,,UPPER(VLOOKUP(D73,'Boys Si Main Draw Prep'!$A$7:$R$134,2)))","v":0},null,null,null,"2"]
["Last DA",null,null,3,{"$f":"IF(D74>$Q$79,,UPPER(VLOOKUP(D74,'Boys Si Main Draw Prep'!$A$7:$R$134,2)))","v":0},null,null,null,"3",null,null,null,null,"Player representatives"]
[null,null,null,4,{"$f":"IF(D75>$Q$79,,UPPER(VLOOKUP(D75,'Boys Si Main Draw Prep'!$A$7:$R$134,2)))","v":0},null,null,null,"4"]
["Seed ranking",null,null,5,{"$f":"IF(D76>$Q$79,,UPPER(VLOOKUP(D76,'Boys Si Main Draw Prep'!$A$7:$R$134,2)))","v":0},null,null,null,"5"]
["Rkg Date",null,null,6,{"$f":"IF(D77>$Q$79,,UPPER(VLOOKUP(D77,'Boys Si Main Draw Prep'!$A$7:$R$134,2)))","v":0},null,null,null,"6",null,null,null,null,"ITF Referee's signature"]
["Top seed",null,null,7,{"$f":"IF(D78>$Q$79,,UPPER(VLOOKUP(D78,'Boys Si Main Draw Prep'!$A$7:$R$134,2)))","v":0},null,null,null,"7"]
["Last seed",null,null,8,{"$f":"IF(D79>$Q$79,,UPPER(VLOOKUP(D79,'Boys Si Main Draw Prep'!$A$7:$R$134,2)))","v":0},null,null,null,"8",null,null,null,null,{"$f":"Q4","v":0},null,null,{"$f":"MIN(8,'Boys Si Main Draw Prep'!R5)","v":0}]

{"sheet":"Boys Si Main 48&64","index":14,"n_rows":80,"n_cols":20,"rows_kept":80,"cut":false,"hidden":false,"merged":[[3,0,3,2]]}
[{"$f":"'Week SetUp'!$A$6","v":0},null,null,null,null,null,null,null,null,"BOYS SINGLES",null,null,null,"CU"]
[{"$f":"'Week SetUp'!$A$8","v":"ITF Junior Circuit"},null,null,null,null,null,null,null,null,"MAIN DRAW (48&64)"]
["Week of",null,null,null,null,"City, Country",null,null,null,"Group",null,"Tourn. ID",null,null,null,null,"ITF Referee"]
[{"$f":"'Week SetUp'!$A$10","v":"00:00:00"},null,null,null,null,{"$f":"'Week SetUp'!$C$10","v":0},null,null,null,{"$f":"'Week SetUp'!$D$10","v":0},null,{"$f":"'Week SetUp'!$A$12","v":0},null,null,null,null,{"$f":"'Week SetUp'!$E$10","v":0}]
[null,"St.","Rank","Seed","Family Name","First name",null,"Nationality",null,"2nd Round",null,"3rd Round",null,"Quarterfinals",null,"Semifinals"]
[]
["1",{"$f":"IF($D7=\"\",\"\",VLOOKUP($D7,'Boys Si Main Draw Prep'!$A$7:$P$70,15))","v":""},{"$f":"IF($D7=\"\",\"\",VLOOKUP($D7,'Boys Si Main Draw Prep'!$A$7:$P$70,16))","v":""},null,{"$f":"UPPER(IF($D7=\"\",\"\",VLOOKUP($D7,'Boys Si Main Draw Prep'!$A$7:$P$70,2)))","v":""},{"$f":"IF($D7=\"\",\"\",VLOOKUP($D7,'Boys Si Main Draw Prep'!$A$7:$P$70,3))","v":""},null,{"$f":"IF($D7=\"\",\"\",VLOOKUP($D7,'Boys Si Main Draw Prep'!$A$7:$P$70,4))","v":""},null,{"$f":"UPPER(IF(OR(I8=\"a\",I8=\"as\"),E7,IF(OR(I8=\"b\",I8=\"bs\"),E8,)))","v":""},null,null,null,null,null,null,null,null,null,{"$f":"'SetUp Officials'!P21","v":"Umpire"}]
["2",{"$f":"IF($D8=\"\",\"\",VLOOKUP($D8,'Boys Si Main Draw Prep'!$A$7:$P$70,15))","v":""},{"$f":"IF($D8=\"\",\"\",VLOOKUP($D8,'Boys Si Main Draw Prep'!$A$7:$P$70,16))","v":""},null,{"$f":"UPPER(IF($D8=\"\",\"\",VLOOKUP($D8,'Boys Si Main Draw Prep'!$A$7:$P$70,2)))","v":""},{"$f":"IF($D8=\"\",\"\",VLOOKUP($D8,'Boys Si Main Draw Prep'!$A$7:$P$70,3))","v":""},null,{"$f":"IF($D8=\"\",\"\",VLOOKUP($D8,'Boys Si Main Draw Prep'!$A$7:$P$70,4))","v":""},null,null,null,{"$f":"UPPER(IF(OR(K8=\"a\",K8=\"as\"),J7,IF(OR(K8=\"b\",K8=\"bs\"),J9,)))","v":""},null,null,null,null,null,null,null,{"$f":"'SetUp Officials'!P22","v":" "}]
["3",{"$f":"IF($D9=\"\",\"\",VLOOKUP($D9,'Boys Si Main Draw Prep'!$A$7:$P$70,15))","v":""},{"$f":"IF($D9=\"\",\"\",VLOOKUP($D9,'Boys Si Main Draw Prep'!$A$7:$P$70,16))","v":""},null,{"$f":"UPPER(IF($D9=\"\",\"\",VLOOKUP($D9,'Boys Si Main Draw Prep'!$A$7:$P$70,2)))","v":""},{"$f":"IF($D9=\"\",\"\",VLOOKUP($D9,'Boys Si Main Draw Prep'!$A$7:$P$70,3))","v":""},null,{"$f":"IF($D9=\"\",\"\",VLOOKUP($D9,'Boys Si Main Draw Prep'!$A$7:$P$70,4))","v":""},null,{"$f":"UPPER(IF(OR(I10=\"a\",I10=\"as\"),E9,IF(OR(I10=\"b\",I10=\"bs\"),E10,)))","v":""},null,null,null,null,null,null,null,null,null,{"$f":"'SetUp Officials'!P23","v":" "}]
["4",{"$f":"IF($D10=\"\",\"\",VLOOKUP($D10,'Boys Si Main Draw Prep'!$A$7:$P$70,15))","v":""},{"$f":"IF($D10=\"\",\"\",VLOOKUP($D10,'Boys Si Main Draw Prep'!$A$7:$P$70,16))","v":""},null,{"$f":"UPPER(IF($D10=\"\",\"\",VLOOKUP($D10,'Boys Si Main Draw Prep'!$A$7:$P$70,2)))","v":""},{"$f":"IF($D10=\"\",\"\",VLOOKUP($D10,'Boys Si Main Draw Prep'!$A$7:$P$70,3))","v":""},null,{"$f":"IF($D10=\"\",\"\",VLOOKUP($D10,'Boys Si Main Draw Prep'!$A$7:$P$70,4))","v":""},null,null,null,"Umpire",null,{"$f":"UPPER(IF(OR(M10=\"a\",M10=\"as\"),L8,IF(OR(M10=\"b\",M10=\"bs\"),L12,)))","v":""},null,null,null,null,null,{"$f":"'SetUp Officials'!P24","v":" "}]
["5",{"$f":"IF($D11=\"\",\"\",VLOOKUP($D11,'Boys Si Main Draw Prep'!$A$7:$P$70,15))","v":""},{"$f":"IF($D11=\"\",\"\",VLOOKUP($D11,'Boys Si Main Draw Prep'!$A$7:$P$70,16))","v":""},null,{"$f":"UPPER(IF($D11=\"\",\"\",VLOOKUP($D11,'Boys Si Main Draw Prep'!$A$7:$P$70,2)))","v":""},{"$f":"IF($D11=\"\",\"\",VLOOKUP($D11,'Boys Si Main Draw Prep'!$A$7:$P$70,3))","v":""},null,{"$f":"IF($D11=\"\",\"\",VLOOKUP($D11,'Boys Si Main Draw Prep'!$A$7:$P$70,4))","v":""},null,{"$f":"UPPER(IF(OR(I12=\"a\",I12=\"as\"),E11,IF(OR(I12=\"b\",I12=\"bs\"),E12,)))","v":""},null,null,null,null,null,null,null,null,null,{"$f":"'SetUp Officials'!P25","v":" "}]
["6",{"$f":"IF($D12=\"\",\"\",VLOOKUP($D12,'Boys Si Main Draw Prep'!$A$7:$P$70,15))","v":""},{"$f":"IF($D12=\"\",\"\",VLOOKUP($D12,'Boys Si Main Draw Prep'!$A$7:$P$70,16))","v":""},null,{"$f":"UPPER(IF($D12=\"\",\"\",VLOOKUP($D12,'Boys Si Main Draw Prep'!$A$7:$P$70,2)))","v":""},{"$f":"IF($D12=\"\",\"\",VLOOKUP($D12,'Boys Si Main Draw Prep'!$A$7:$P$70,3))","v":""},null,{"$f":"IF($D12=\"\",\"\",VLOOKUP($D12,'Boys Si Main Draw Prep'!$A$7:$P$70,4))","v":""},null,null,null,{"$f":"UPPER(IF(OR(K12=\"a\",K12=\"as\"),J11,IF(OR(K12=\"b\",K12=\"bs\"),J13,)))","v":""},null,null,null,null,null,null,null,{"$f":"'SetUp Officials'!P26","v":" "}]
["7",{"$f":"IF($D13=\"\",\"\",VLOOKUP($D13,'Boys Si Main Draw Prep'!$A$7:$P$70,15))","v":""},{"$f":"IF($D13=\"\",\"\",VLOOKUP($D13,'Boys Si Main Draw Prep'!$A$7:$P$70,16))","v":""},null,{"$f":"UPPER(IF($D13=\"\",\"\",VLOOKUP($D13,'Boys Si Main Draw Prep'!$A$7:$P$70,2)))","v":""},{"$f":"IF($D13=\"\",\"\",VLOOKUP($D13,'Boys Si Main Draw Prep'!$A$7:$P$70,3))","v":""},null,{"$f":"IF($D13=\"\",\"\",VLOOKUP($D13,'Boys Si Main Draw Prep'!$A$7:$P$70,4))","v":""},null,{"$f":"UPPER(IF(OR(I14=\"a\",I14=\"as\"),E13,IF(OR(I14=\"b\",I14=\"bs\"),E14,)))","v":""},null,null,null,null,null,null,null,null,null,{"$f":"'SetUp Officials'!P27","v":" "}]
["8",{"$f":"IF($D14=\"\",\"\",VLOOKUP($D14,'Boys Si Main Draw Prep'!$A$7:$P$70,15))","v":""},{"$f":"IF($D14=\"\",\"\",VLOOKUP($D14,'Boys Si Main Draw Prep'!$A$7:$P$70,16))","v":""},null,{"$f":"UPPER(IF($D14=\"\",\"\",VLOOKUP($D14,'Boys Si Main Draw Prep'!$A$7:$P$70,2)))","v":""},{"$f":"IF($D14=\"\",\"\",VLOOKUP($D14,'Boys Si Main Draw Prep'!$A$7:$P$70,3))","v":""},null,{"$f":"IF($D14=\"\",\"\",VLOOKUP($D14,'Boys Si Main Draw Prep'!$A$7:$P$70,4))","v":""},null,null,null,null,null,"Umpire",null,{"$f":"UPPER(IF(OR(O14=\"a\",O14=\"as\"),N10,IF(OR(O14=\"b\",O14=\"bs\"),N18,)))","v":""},null,null,null,{"$f":"'SetUp Officials'!P28","v":" "}]
["9",{"$f":"IF($D15=\"\",\"\",VLOOKUP($D15,'Boys Si Main Draw Prep'!$A$7:$P$70,15))","v":""},{"$f":"IF($D15=\"\",\"\",VLOOKUP($D15,'Boys Si Main Draw Prep'!$A$7:$P$70,16))","v":""},null,{"$f":"UPPER(IF($D15=\"\",\"\",VLOOKUP($D15,'Boys Si Main Draw Prep'!$A$7:$P$70,2)))","v":""},{"$f":"IF($D15=\"\",\"\",VLOOKUP($D15,'Boys Si Main Draw Prep'!$A$7:$P$70,3))","v":""},null,{"$f":"IF($D15=\"\",\"\",VLOOKUP($D15,'Boys Si Main Draw Prep'!$A$7:$P$70,4))","v":""},null,{"$f":"UPPER(IF(OR(I16=\"a\",I16=\"as\"),E15,IF(OR(I16=\"b\",I16=\"bs\"),E16,)))","v":""},null,null,null,null,null,null,null,null,null,{"$f":"'SetUp Officials'!P29","v":" "}]
["10",{"$f":"IF($D16=\"\",\"\",VLOOKUP($D16,'Boys Si Main Draw Prep'!$A$7:$P$70,15))","v":""},{"$f":"IF($D16=\"\",\"\",VLOOKUP($D16,'Boys Si Main Draw Prep'!$A$7:$P$70,16))","v":""},null,{"$f":"UPPER(IF($D16=\"\",\"\",VLOOKUP($D16,'Boys Si Main Draw Prep'!$A$7:$P$70,2)))","v":""},{"$f":"IF($D16=\"\",\"\",VLOOKUP($D16,'Boys Si Main Draw Prep'!$A$7:$P$70,3))","v":""},null,{"$f":"IF($D16=\"\",\"\",VLOOKUP($D16,'Boys Si Main Draw Prep'!$A$7:$P$70,4))","v":""},null,null,null,{"$f":"UPPER(IF(OR(K16=\"a\",K16=\"as\"),J15,IF(OR(K16=\"b\",K16=\"bs\"),J17,)))","v":""},null,null,null,null,null,null,null,{"$f":"'SetUp Officials'!P30","v":"None"}]
["11",{"$f":"IF($D17=\"\",\"\",VLOOKUP($D17,'Boys Si Main Draw Prep'!$A$7:$P$70,15))","v":""},{"$f":"IF($D17=\"\",\"\",VLOOKUP($D17,'Boys Si Main Draw Prep'!$A$7:$P$70,16))","v":""},null,{"$f":"UPPER(IF($D17=\"\",\"\",VLOOKUP($D17,'Boys Si Main Draw Prep'!$A$7:$P$70,2)))","v":""},{"$f":"IF($D17=\"\",\"\",VLOOKUP($D17,'Boys Si Main Draw Prep'!$A$7:$P$70,3))","v":""},null,{"$f":"IF($D17=\"\",\"\",VLOOKUP($D17,'Boys Si Main Draw Prep'!$A$7:$P$70,4))","v":""},null,{"$f":"UPPER(IF(OR(I18=\"a\",I18=\"as\"),E17,IF(OR(I18=\"b\",I18=\"bs\"),E18,)))","v":""}]
["12",{"$f":"IF($D18=\"\",\"\",VLOOKUP($D18,'Boys Si Main Draw Prep'!$A$7:$P$70,15))","v":""},{"$f":"IF($D18=\"\",\"\",VLOOKUP($D18,'Boys Si Main Draw Prep'!$A$7:$P$70,16))","v":""},null,{"$f":"UPPER(IF($D18=\"\",\"\",VLOOKUP($D18,'Boys Si Main Draw Prep'!$A$7:$P$70,2)))","v":""},{"$f":"IF($D18=\"\",\"\",VLOOKUP($D18,'Boys Si Main Draw Prep'!$A$7:$P$70,3))","v":""},null,{"$f":"IF($D18=\"\",\"\",VLOOKUP($D18,'Boys Si Main Draw Prep'!$A$7:$P$70,4))","v":""},null,null,null,"Umpire",null,{"$f":"UPPER(IF(OR(M18=\"a\",M18=\"as\"),L16,IF(OR(M18=\"b\",M18=\"bs\"),L20,)))","v":""}]
["13",{"$f":"IF($D19=\"\",\"\",VLOOKUP($D19,'Boys Si Main Draw Prep'!$A$7:$P$70,15))","v":""},{"$f":"IF($D19=\"\",\"\",VLOOKUP($D19,'Boys Si Main Draw Prep'!$A$7:$P$70,16))","v":""},null,{"$f":"UPPER(IF($D19=\"\",\"\",VLOOKUP($D19,'Boys Si Main Draw Prep'!$A$7:$P$70,2)))","v":""},{"$f":"IF($D19=\"\",\"\",VLOOKUP($D19,'Boys Si Main Draw Prep'!$A$7:$P$70,3))","v":""},null,{"$f":"IF($D19=\"\",\"\",VLOOKUP($D19,'Boys Si Main Draw Prep'!$A$7:$P$70,4))","v":""},null,{"$f":"UPPER(IF(OR(I20=\"a\",I20=\"as\"),E19,IF(OR(I20=\"b\",I20=\"bs\"),E20,)))","v":""}]
["14",{"$f":"IF($D20=\"\",\"\",VLOOKUP($D20,'Boys Si Main Draw Prep'!$A$7:$P$70,15))","v":""},{"$f":"IF($D20=\"\",\"\",VLOOKUP($D20,'Boys Si Main Draw Prep'!$A$7:$P$70,16))","v":""},null,{"$f":"UPPER(IF($D20=\"\",\"\",VLOOKUP($D20,'Boys Si Main Draw Prep'!$A$7:$P$70,2)))","v":""},{"$f":"IF($D20=\"\",\"\",VLOOKUP($D20,'Boys Si Main Draw Prep'!$A$7:$P$70,3))","v":""},null,{"$f":"IF($D20=\"\",\"\",VLOOKUP($D20,'Boys Si Main Draw Prep'!$A$7:$P$70,4))","v":""},null,null,null,{"$f":"UPPER(IF(OR(K20=\"a\",K20=\"as\"),J19,IF(OR(K20=\"b\",K20=\"bs\"),J21,)))","v":""}]
["15",{"$f":"IF($D21=\"\",\"\",VLOOKUP($D21,'Boys Si Main Draw Prep'!$A$7:$P$70,15))","v":""},{"$f":"IF($D21=\"\",\"\",VLOOKUP($D21,'Boys Si Main Draw Prep'!$A$7:$P$70,16))","v":""},null,{"$f":"UPPER(IF($D21=\"\",\"\",VLOOKUP($D21,'Boys Si Main Draw Prep'!$A$7:$P$70,2)))","v":""},{"$f":"IF($D21=\"\",\"\",VLOOKUP($D21,'Boys Si Main Draw Prep'!$A$7:$P$70,3))","v":""},null,{"$f":"IF($D21=\"\",\"\",VLOOKUP($D21,'Boys Si Main Draw Prep'!$A$7:$P$70,4))","v":""},null,{"$f":"UPPER(IF(OR(I22=\"a\",I22=\"as\"),E21,IF(OR(I22=\"b\",I22=\"bs\"),E22,)))","v":""}]
["16",{"$f":"IF($D22=\"\",\"\",VLOOKUP($D22,'Boys Si Main Draw Prep'!$A$7:$P$70,15))","v":""},{"$f":"IF($D22=\"\",\"\",VLOOKUP($D22,'Boys Si Main Draw Prep'!$A$7:$P$70,16))","v":""},null,{"$f":"UPPER(IF($D22=\"\",\"\",VLOOKUP($D22,'Boys Si Main Draw Prep'!$A$7:$P$70,2)))","v":""},{"$f":"IF($D22=\"\",\"\",VLOOKUP($D22,'Boys Si Main Draw Prep'!$A$7:$P$70,3))","v":""},null,{"$f":"IF($D22=\"\",\"\",VLOOKUP($D22,'Boys Si Main Draw Prep'!$A$7:$P$70,4))","v":""},null,null,null,null,null,"Finalist 1:",null,{"$f":"UPPER(IF(OR(O23=\"a\",O23=\"as\"),P14,IF(OR(O23=\"b\",O23=\"bs\"),P30,)))","v":""}]
["17",{"$f":"IF($D23=\"\",\"\",VLOOKUP($D23,'Boys Si Main Draw Prep'!$A$7:$P$70,15))","v":""},{"$f":"IF($D23=\"\",\"\",VLOOKUP($D23,'Boys Si Main Draw Prep'!$A$7:$P$70,16))","v":""},null,{"$f":"UPPER(IF($D23=\"\",\"\",VLOOKUP($D23,'Boys Si Main Draw Prep'!$A$7:$P$70,2)))","v":""},{"$f":"IF($D23=\"\",\"\",VLOOKUP($D23,'Boys Si Main Draw Prep'!$A$7:$P$70,3))","v":""},null,{"$f":"IF($D23=\"\",\"\",VLOOKUP($D23,'Boys Si Main Draw Prep'!$A$7:$P$70,4))","v":""},null,{"$f":"UPPER(IF(OR(I24=\"a\",I24=\"as\"),E23,IF(OR(I24=\"b\",I24=\"bs\"),E24,)))","v":""},null,null,null,"Umpire"]
["18",{"$f":"IF($D24=\"\",\"\",VLOOKUP($D24,'Boys Si Main Draw Prep'!$A$7:$P$70,15))","v":""},{"$f":"IF($D24=\"\",\"\",VLOOKUP($D24,'Boys Si Main Draw Prep'!$A$7:$P$70,16))","v":""},null,{"$f":"UPPER(IF($D24=\"\",\"\",VLOOKUP($D24,'Boys Si Main Draw Prep'!$A$7:$P$70,2)))","v":""},{"$f":"IF($D24=\"\",\"\",VLOOKUP($D24,'Boys Si Main Draw Prep'!$A$7:$P$70,3))","v":""},null,{"$f":"IF($D24=\"\",\"\",VLOOKUP($D24,'Boys Si Main Draw Prep'!$A$7:$P$70,4))","v":""},null,null,null,{"$f":"UPPER(IF(OR(K24=\"a\",K24=\"as\"),J23,IF(OR(K24=\"b\",K24=\"bs\"),J25,)))","v":""}]
["19",{"$f":"IF($D25=\"\",\"\",VLOOKUP($D25,'Boys Si Main Draw Prep'!$A$7:$P$70,15))","v":""},{"$f":"IF($D25=\"\",\"\",VLOOKUP($D25,'Boys Si Main Draw Prep'!$A$7:$P$70,16))","v":""},null,{"$f":"UPPER(IF($D25=\"\",\"\",VLOOKUP($D25,'Boys Si Main Draw Prep'!$A$7:$P$70,2)))","v":""},{"$f":"IF($D25=\"\",\"\",VLOOKUP($D25,'Boys Si Main Draw Prep'!$A$7:$P$70,3))","v":""},null,{"$f":"IF($D25=\"\",\"\",VLOOKUP($D25,'Boys Si Main Draw Prep'!$A$7:$P$70,4))","v":""},null,{"$f":"UPPER(IF(OR(I26=\"a\",I26=\"as\"),E25,IF(OR(I26=\"b\",I26=\"bs\"),E26,)))","v":""}]
["20",{"$f":"IF($D26=\"\",\"\",VLOOKUP($D26,'Boys Si Main Draw Prep'!$A$7:$P$70,15))","v":""},{"$f":"IF($D26=\"\",\"\",VLOOKUP($D26,'Boys Si Main Draw Prep'!$A$7:$P$70,16))","v":""},null,{"$f":"UPPER(IF($D26=\"\",\"\",VLOOKUP($D26,'Boys Si Main Draw Prep'!$A$7:$P$70,2)))","v":""},{"$f":"IF($D26=\"\",\"\",VLOOKUP($D26,'Boys Si Main Draw Prep'!$A$7:$P$70,3))","v":""},null,{"$f":"IF($D26=\"\",\"\",VLOOKUP($D26,'Boys Si Main Draw Prep'!$A$7:$P$70,4))","v":""},null,null,null,"Umpire",null,{"$f":"UPPER(IF(OR(M26=\"a\",M26=\"as\"),L24,IF(OR(M26=\"b\",M26=\"bs\"),L28,)))","v":""}]
["21",{"$f":"IF($D27=\"\",\"\",VLOOKUP($D27,'Boys Si Main Draw Prep'!$A$7:$P$70,15))","v":""},{"$f":"IF($D27=\"\",\"\",VLOOKUP($D27,'Boys Si Main Draw Prep'!$A$7:$P$70,16))","v":""},null,{"$f":"UPPER(IF($D27=\"\",\"\",VLOOKUP($D27,'Boys Si Main Draw Prep'!$A$7:$P$70,2)))","v":""},{"$f":"IF($D27=\"\",\"\",VLOOKUP($D27,'Boys Si Main Draw Prep'!$A$7:$P$70,3))","v":""},null,{"$f":"IF($D27=\"\",\"\",VLOOKUP($D27,'Boys Si Main Draw Prep'!$A$7:$P$70,4))","v":""},null,{"$f":"UPPER(IF(OR(I28=\"a\",I28=\"as\"),E27,IF(OR(I28=\"b\",I28=\"bs\"),E28,)))","v":""}]
["22",{"$f":"IF($D28=\"\",\"\",VLOOKUP($D28,'Boys Si Main Draw Prep'!$A$7:$P$70,15))","v":""},{"$f":"IF($D28=\"\",\"\",VLOOKUP($D28,'Boys Si Main Draw Prep'!$A$7:$P$70,16))","v":""},null,{"$f":"UPPER(IF($D28=\"\",\"\",VLOOKUP($D28,'Boys Si Main Draw Prep'!$A$7:$P$70,2)))","v":""},{"$f":"IF($D28=\"\",\"\",VLOOKUP($D28,'Boys Si Main Draw Prep'!$A$7:$P$70,3))","v":""},null,{"$f":"IF($D28=\"\",\"\",VLOOKUP($D28,'Boys Si Main Draw Prep'!$A$7:$P$70,4))","v":""},null,null,null,{"$f":"UPPER(IF(OR(K28=\"a\",K28=\"as\"),J27,IF(OR(K28=\"b\",K28=\"bs\"),J29,)))","v":""}]
["23",{"$f":"IF($D29=\"\",\"\",VLOOKUP($D29,'Boys Si Main Draw Prep'!$A$7:$P$70,15))","v":""},{"$f":"IF($D29=\"\",\"\",VLOOKUP($D29,'Boys Si Main Draw Prep'!$A$7:$P$70,16))","v":""},null,{"$f":"UPPER(IF($D29=\"\",\"\",VLOOKUP($D29,'Boys Si Main Draw Prep'!$A$7:$P$70,2)))","v":""},{"$f":"IF($D29=\"\",\"\",VLOOKUP($D29,'Boys Si Main Draw Prep'!$A$7:$P$70,3))","v":""},null,{"$f":"IF($D29=\"\",\"\",VLOOKUP($D29,'Boys Si Main Draw Prep'!$A$7:$P$70,4))","v":""},null,{"$f":"UPPER(IF(OR(I30=\"a\",I30=\"as\"),E29,IF(OR(I30=\"b\",I30=\"bs\"),E30,)))","v":""}]
["24",{"$f":"IF($D30=\"\",\"\",VLOOKUP($D30,'Boys Si Main Draw Prep'!$A$7:$P$70,15))","v":""},{"$f":"IF($D30=\"\",\"\",VLOOKUP($D30,'Boys Si Main Draw Prep'!$A$7:$P$70,16))","v":""},null,{"$f":"UPPER(IF($D30=\"\",\"\",VLOOKUP($D30,'Boys Si Main Draw Prep'!$A$7:$P$70,2)))","v":""},{"$f":"IF($D30=\"\",\"\",VLOOKUP($D30,'Boys Si Main Draw Prep'!$A$7:$P$70,3))","v":""},null,{"$f":"IF($D30=\"\",\"\",VLOOKUP($D30,'Boys Si Main Draw Prep'!$A$7:$P$70,4))","v":""},null,null,null,null,null,"Umpire",null,{"$f":"UPPER(IF(OR(O30=\"a\",O30=\"as\"),N26,IF(OR(O30=\"b\",O30=\"bs\"),N34,)))","v":""}]
["25",{"$f":"IF($D31=\"\",\"\",VLOOKUP($D31,'Boys Si Main Draw Prep'!$A$7:$P$70,15))","v":""},{"$f":"IF($D31=\"\",\"\",VLOOKUP($D31,'Boys Si Main Draw Prep'!$A$7:$P$70,16))","v":""},null,{"$f":"UPPER(IF($D31=\"\",\"\",VLOOKUP($D31,'Boys Si Main Draw Prep'!$A$7:$P$70,2)))","v":""},{"$f":"IF($D31=\"\",\"\",VLOOKUP($D31,'Boys Si Main Draw Prep'!$A$7:$P$70,3))","v":""},null,{"$f":"IF($D31=\"\",\"\",VLOOKUP($D31,'Boys Si Main Draw Prep'!$A$7:$P$70,4))","v":""},null,{"$f":"UPPER(IF(OR(I32=\"a\",I32=\"as\"),E31,IF(OR(I32=\"b\",I32=\"bs\"),E32,)))","v":""}]
["26",{"$f":"IF($D32=\"\",\"\",VLOOKUP($D32,'Boys Si Main Draw Prep'!$A$7:$P$70,15))","v":""},{"$f":"IF($D32=\"\",\"\",VLOOKUP($D32,'Boys Si Main Draw Prep'!$A$7:$P$70,16))","v":""},null,{"$f":"UPPER(IF($D32=\"\",\"\",VLOOKUP($D32,'Boys Si Main Draw Prep'!$A$7:$P$70,2)))","v":""},{"$f":"IF($D32=\"\",\"\",VLOOKUP($D32,'Boys Si Main Draw Prep'!$A$7:$P$70,3))","v":""},null,{"$f":"IF($D32=\"\",\"\",VLOOKUP($D32,'Boys Si Main Draw Prep'!$A$7:$P$70,4))","v":""},null,null,null,{"$f":"UPPER(IF(OR(K32=\"a\",K32=\"as\"),J31,IF(OR(K32=\"b\",K32=\"bs\"),J33,)))","v":""}]
["27",{"$f":"IF($D33=\"\",\"\",VLOOKUP($D33,'Boys Si Main Draw Prep'!$A$7:$P$70,15))","v":""},{"$f":"IF($D33=\"\",\"\",VLOOKUP($D33,'Boys Si Main Draw Prep'!$A$7:$P$70,16))","v":""},null,{"$f":"UPPER(IF($D33=\"\",\"\",VLOOKUP($D33,'Boys Si Main Draw Prep'!$A$7:$P$70,2)))","v":""},{"$f":"IF($D33=\"\",\"\",VLOOKUP($D33,'Boys Si Main Draw Prep'!$A$7:$P$70,3))","v":""},null,{"$f":"IF($D33=\"\",\"\",VLOOKUP($D33,'Boys Si Main Draw Prep'!$A$7:$P$70,4))","v":""},null,{"$f":"UPPER(IF(OR(I34=\"a\",I34=\"as\"),E33,IF(OR(I34=\"b\",I34=\"bs\"),E34,)))","v":""}]
["28",{"$f":"IF($D34=\"\",\"\",VLOOKUP($D34,'Boys Si Main Draw Prep'!$A$7:$P$70,15))","v":""},{"$f":"IF($D34=\"\",\"\",VLOOKUP($D34,'Boys Si Main Draw Prep'!$A$7:$P$70,16))","v":""},null,{"$f":"UPPER(IF($D34=\"\",\"\",VLOOKUP($D34,'Boys Si Main Draw Prep'!$A$7:$P$70,2)))","v":""},{"$f":"IF($D34=\"\",\"\",VLOOKUP($D34,'Boys Si Main Draw Prep'!$A$7:$P$70,3))","v":""},null,{"$f":"IF($D34=\"\",\"\",VLOOKUP($D34,'Boys Si Main Draw Prep'!$A$7:$P$70,4))","v":""},null,null,null,"Umpire",null,{"$f":"UPPER(IF(OR(M34=\"a\",M34=\"as\"),L32,IF(OR(M34=\"b\",M34=\"bs\"),L36,)))","v":""}]
["29",{"$f":"IF($D35=\"\",\"\",VLOOKUP($D35,'Boys Si Main Draw Prep'!$A$7:$P$70,15))","v":""},{"$f":"IF($D35=\"\",\"\",VLOOKUP($D35,'Boys Si Main Draw Prep'!$A$7:$P$70,16))","v":""},null,{"$f":"UPPER(IF($D35=\"\",\"\",VLOOKUP($D35,'Boys Si Main Draw Prep'!$A$7:$P$70,2)))","v":""},{"$f":"IF($D35=\"\",\"\",VLOOKUP($D35,'Boys Si Main Draw Prep'!$A$7:$P$70,3))","v":""},null,{"$f":"IF($D35=\"\",\"\",VLOOKUP($D35,'Boys Si Main Draw Prep'!$A$7:$P$70,4))","v":""},null,{"$f":"UPPER(IF(OR(I36=\"a\",I36=\"as\"),E35,IF(OR(I36=\"b\",I36=\"bs\"),E36,)))","v":""}]
["30",{"$f":"IF($D36=\"\",\"\",VLOOKUP($D36,'Boys Si Main Draw Prep'!$A$7:$P$70,15))","v":""},{"$f":"IF($D36=\"\",\"\",VLOOKUP($D36,'Boys Si Main Draw Prep'!$A$7:$P$70,16))","v":""},null,{"$f":"UPPER(IF($D36=\"\",\"\",VLOOKUP($D36,'Boys Si Main Draw Prep'!$A$7:$P$70,2)))","v":""},{"$f":"IF($D36=\"\",\"\",VLOOKUP($D36,'Boys Si Main Draw Prep'!$A$7:$P$70,3))","v":""},null,{"$f":"IF($D36=\"\",\"\",VLOOKUP($D36,'Boys Si Main Draw Prep'!$A$7:$P$70,4))","v":""},null,null,null,{"$f":"UPPER(IF(OR(K36=\"a\",K36=\"as\"),J35,IF(OR(K36=\"b\",K36=\"bs\"),J37,)))","v":""},null,"Final",null,"Winner"]
["31",{"$f":"IF($D37=\"\",\"\",VLOOKUP($D37,'Boys Si Main Draw Prep'!$A$7:$P$70,15))","v":""},{"$f":"IF($D37=\"\",\"\",VLOOKUP($D37,'Boys Si Main Draw Prep'!$A$7:$P$70,16))","v":""},null,{"$f":"UPPER(IF($D37=\"\",\"\",VLOOKUP($D37,'Boys Si Main Draw Prep'!$A$7:$P$70,2)))","v":""},{"$f":"IF($D37=\"\",\"\",VLOOKUP($D37,'Boys Si Main Draw Prep'!$A$7:$P$70,3))","v":""},null,{"$f":"IF($D37=\"\",\"\",VLOOKUP($D37,'Boys Si Main Draw Prep'!$A$7:$P$70,4))","v":""},null,{"$f":"UPPER(IF(OR(I38=\"a\",I38=\"as\"),E37,IF(OR(I38=\"b\",I38=\"bs\"),E38,)))","v":""},null,null,null,{"$f":"UPPER(IF(OR(O23=\"a\",O23=\"as\"),P14,IF(OR(O23=\"b\",O23=\"bs\"),P30,)))","v":""}]
["32",{"$f":"IF($D38=\"\",\"\",VLOOKUP($D38,'Boys Si Main Draw Prep'!$A$7:$P$70,15))","v":""},{"$f":"IF($D38=\"\",\"\",VLOOKUP($D38,'Boys Si Main Draw Prep'!$A$7:$P$70,16))","v":""},null,{"$f":"UPPER(IF($D38=\"\",\"\",VLOOKUP($D38,'Boys Si Main Draw Prep'!$A$7:$P$70,2)))","v":""},{"$f":"IF($D38=\"\",\"\",VLOOKUP($D38,'Boys Si Main Draw Prep'!$A$7:$P$70,3))","v":""},null,{"$f":"IF($D38=\"\",\"\",VLOOKUP($D38,'Boys Si Main Draw Prep'!$A$7:$P$70,4))","v":""},null,null,null,null,null,"Umpire",null,{"$f":"UPPER(IF(OR(O38=\"a\",O38=\"as\"),N37,IF(OR(O38=\"b\",O38=\"bs\"),N39,)))","v":""}]
["33",{"$f":"IF($D39=\"\",\"\",VLOOKUP($D39,'Boys Si Main Draw Prep'!$A$7:$P$70,15))","v":""},{"$f":"IF($D39=\"\",\"\",VLOOKUP($D39,'Boys Si Main Draw Prep'!$A$7:$P$70,16))","v":""},null,{"$f":"UPPER(IF($D39=\"\",\"\",VLOOKUP($D39,'Boys Si Main Draw Prep'!$A$7:$P$70,2)))","v":""},{"$f":"IF($D39=\"\",\"\",VLOOKUP($D39,'Boys Si Main Draw Prep'!$A$7:$P$70,3))","v":""},null,{"$f":"IF($D39=\"\",\"\",VLOOKUP($D39,'Boys Si Main Draw Prep'!$A$7:$P$70,4))","v":""},null,{"$f":"UPPER(IF(OR(I40=\"a\",I40=\"as\"),E39,IF(OR(I40=\"b\",I40=\"bs\"),E40,)))","v":""},null,null,null,{"$f":"UPPER(IF(OR(O55=\"a\",O55=\"as\"),P46,IF(OR(O55=\"b\",O55=\"bs\"),P62,)))","v":""}]
["34",{"$f":"IF($D40=\"\",\"\",VLOOKUP($D40,'Boys Si Main Draw Prep'!$A$7:$P$70,15))","v":""},{"$f":"IF($D40=\"\",\"\",VLOOKUP($D40,'Boys Si Main Draw Prep'!$A$7:$P$70,16))","v":""},null,{"$f":"UPPER(IF($D40=\"\",\"\",VLOOKUP($D40,'Boys Si Main Draw Prep'!$A$7:$P$70,2)))","v":""},{"$f":"IF($D40=\"\",\"\",VLOOKUP($D40,'Boys Si Main Draw Prep'!$A$7:$P$70,3))","v":""},null,{"$f":"IF($D40=\"\",\"\",VLOOKUP($D40,'Boys Si Main Draw Prep'!$A$7:$P$70,4))","v":""},null,null,null,{"$f":"UPPER(IF(OR(K40=\"a\",K40=\"as\"),J39,IF(OR(K40=\"b\",K40=\"bs\"),J41,)))","v":""}]
["35",{"$f":"IF($D41=\"\",\"\",VLOOKUP($D41,'Boys Si Main Draw Prep'!$A$7:$P$70,15))","v":""},{"$f":"IF($D41=\"\",\"\",VLOOKUP($D41,'Boys Si Main Draw Prep'!$A$7:$P$70,16))","v":""},null,{"$f":"UPPER(IF($D41=\"\",\"\",VLOOKUP($D41,'Boys Si Main Draw Prep'!$A$7:$P$70,2)))","v":""},{"$f":"IF($D41=\"\",\"\",VLOOKUP($D41,'Boys Si Main Draw Prep'!$A$7:$P$70,3))","v":""},null,{"$f":"IF($D41=\"\",\"\",VLOOKUP($D41,'Boys Si Main Draw Prep'!$A$7:$P$70,4))","v":""},null,{"$f":"UPPER(IF(OR(I42=\"a\",I42=\"as\"),E41,IF(OR(I42=\"b\",I42=\"bs\"),E42,)))","v":""}]
["36",{"$f":"IF($D42=\"\",\"\",VLOOKUP($D42,'Boys Si Main Draw Prep'!$A$7:$P$70,15))","v":""},{"$f":"IF($D42=\"\",\"\",VLOOKUP($D42,'Boys Si Main Draw Prep'!$A$7:$P$70,16))","v":""},null,{"$f":"UPPER(IF($D42=\"\",\"\",VLOOKUP($D42,'Boys Si Main Draw Prep'!$A$7:$P$70,2)))","v":""},{"$f":"IF($D42=\"\",\"\",VLOOKUP($D42,'Boys Si Main Draw Prep'!$A$7:$P$70,3))","v":""},null,{"$f":"IF($D42=\"\",\"\",VLOOKUP($D42,'Boys Si Main Draw Prep'!$A$7:$P$70,4))","v":""},null,null,null,"Umpire",null,{"$f":"UPPER(IF(OR(M42=\"a\",M42=\"as\"),L40,IF(OR(M42=\"b\",M42=\"bs\"),L44,)))","v":""}]
["37",{"$f":"IF($D43=\"\",\"\",VLOOKUP($D43,'Boys Si Main Draw Prep'!$A$7:$P$70,15))","v":""},{"$f":"IF($D43=\"\",\"\",VLOOKUP($D43,'Boys Si Main Draw Prep'!$A$7:$P$70,16))","v":""},null,{"$f":"UPPER(IF($D43=\"\",\"\",VLOOKUP($D43,'Boys Si Main Draw Prep'!$A$7:$P$70,2)))","v":""},{"$f":"IF($D43=\"\",\"\",VLOOKUP($D43,'Boys Si Main Draw Prep'!$A$7:$P$70,3))","v":""},null,{"$f":"IF($D43=\"\",\"\",VLOOKUP($D43,'Boys Si Main Draw Prep'!$A$7:$P$70,4))","v":""},null,{"$f":"UPPER(IF(OR(I44=\"a\",I44=\"as\"),E43,IF(OR(I44=\"b\",I44=\"bs\"),E44,)))","v":""}]
["38",{"$f":"IF($D44=\"\",\"\",VLOOKUP($D44,'Boys Si Main Draw Prep'!$A$7:$P$70,15))","v":""},{"$f":"IF($D44=\"\",\"\",VLOOKUP($D44,'Boys Si Main Draw Prep'!$A$7:$P$70,16))","v":""},null,{"$f":"UPPER(IF($D44=\"\",\"\",VLOOKUP($D44,'Boys Si Main Draw Prep'!$A$7:$P$70,2)))","v":""},{"$f":"IF($D44=\"\",\"\",VLOOKUP($D44,'Boys Si Main Draw Prep'!$A$7:$P$70,3))","v":""},null,{"$f":"IF($D44=\"\",\"\",VLOOKUP($D44,'Boys Si Main Draw Prep'!$A$7:$P$70,4))","v":""},null,null,null,{"$f":"UPPER(IF(OR(K44=\"a\",K44=\"as\"),J43,IF(OR(K44=\"b\",K44=\"bs\"),J45,)))","v":""}]
["39",{"$f":"IF($D45=\"\",\"\",VLOOKUP($D45,'Boys Si Main Draw Prep'!$A$7:$P$70,15))","v":""},{"$f":"IF($D45=\"\",\"\",VLOOKUP($D45,'Boys Si Main Draw Prep'!$A$7:$P$70,16))","v":""},null,{"$f":"UPPER(IF($D45=\"\",\"\",VLOOKUP($D45,'Boys Si Main Draw Prep'!$A$7:$P$70,2)))","v":""},{"$f":"IF($D45=\"\",\"\",VLOOKUP($D45,'Boys Si Main Draw Prep'!$A$7:$P$70,3))","v":""},null,{"$f":"IF($D45=\"\",\"\",VLOOKUP($D45,'Boys Si Main Draw Prep'!$A$7:$P$70,4))","v":""},null,{"$f":"UPPER(IF(OR(I46=\"a\",I46=\"as\"),E45,IF(OR(I46=\"b\",I46=\"bs\"),E46,)))","v":""}]
["40",{"$f":"IF($D46=\"\",\"\",VLOOKUP($D46,'Boys Si Main Draw Prep'!$A$7:$P$70,15))","v":""},{"$f":"IF($D46=\"\",\"\",VLOOKUP($D46,'Boys Si Main Draw Prep'!$A$7:$P$70,16))","v":""},null,{"$f":"UPPER(IF($D46=\"\",\"\",VLOOKUP($D46,'Boys Si Main Draw Prep'!$A$7:$P$70,2)))","v":""},{"$f":"IF($D46=\"\",\"\",VLOOKUP($D46,'Boys Si Main Draw Prep'!$A$7:$P$70,3))","v":""},null,{"$f":"IF($D46=\"\",\"\",VLOOKUP($D46,'Boys Si Main Draw Prep'!$A$7:$P$70,4))","v":""},null,null,null,null,null,"Umpire",null,{"$f":"UPPER(IF(OR(O46=\"a\",O46=\"as\"),N42,IF(OR(O46=\"b\",O46=\"bs\"),N50,)))","v":""}]
["41",{"$f":"IF($D47=\"\",\"\",VLOOKUP($D47,'Boys Si Main Draw Prep'!$A$7:$P$70,15))","v":""},{"$f":"IF($D47=\"\",\"\",VLOOKUP($D47,'Boys Si Main Draw Prep'!$A$7:$P$70,16))","v":""},null,{"$f":"UPPER(IF($D47=\"\",\"\",VLOOKUP($D47,'Boys Si Main Draw Prep'!$A$7:$P$70,2)))","v":""},{"$f":"IF($D47=\"\",\"\",VLOOKUP($D47,'Boys Si Main Draw Prep'!$A$7:$P$70,3))","v":""},null,{"$f":"IF($D47=\"\",\"\",VLOOKUP($D47,'Boys Si Main Draw Prep'!$A$7:$P$70,4))","v":""},null,{"$f":"UPPER(IF(OR(I48=\"a\",I48=\"as\"),E47,IF(OR(I48=\"b\",I48=\"bs\"),E48,)))","v":""}]
["42",{"$f":"IF($D48=\"\",\"\",VLOOKUP($D48,'Boys Si Main Draw Prep'!$A$7:$P$70,15))","v":""},{"$f":"IF($D48=\"\",\"\",VLOOKUP($D48,'Boys Si Main Draw Prep'!$A$7:$P$70,16))","v":""},null,{"$f":"UPPER(IF($D48=\"\",\"\",VLOOKUP($D48,'Boys Si Main Draw Prep'!$A$7:$P$70,2)))","v":""},{"$f":"IF($D48=\"\",\"\",VLOOKUP($D48,'Boys Si Main Draw Prep'!$A$7:$P$70,3))","v":""},null,{"$f":"IF($D48=\"\",\"\",VLOOKUP($D48,'Boys Si Main Draw Prep'!$A$7:$P$70,4))","v":""},null,null,null,{"$f":"UPPER(IF(OR(K48=\"a\",K48=\"as\"),J47,IF(OR(K48=\"b\",K48=\"bs\"),J49,)))","v":""}]
["43",{"$f":"IF($D49=\"\",\"\",VLOOKUP($D49,'Boys Si Main Draw Prep'!$A$7:$P$70,15))","v":""},{"$f":"IF($D49=\"\",\"\",VLOOKUP($D49,'Boys Si Main Draw Prep'!$A$7:$P$70,16))","v":""},null,{"$f":"UPPER(IF($D49=\"\",\"\",VLOOKUP($D49,'Boys Si Main Draw Prep'!$A$7:$P$70,2)))","v":""},{"$f":"IF($D49=\"\",\"\",VLOOKUP($D49,'Boys Si Main Draw Prep'!$A$7:$P$70,3))","v":""},null,{"$f":"IF($D49=\"\",\"\",VLOOKUP($D49,'Boys Si Main Draw Prep'!$A$7:$P$70,4))","v":""},null,{"$f":"UPPER(IF(OR(I50=\"a\",I50=\"as\"),E49,IF(OR(I50=\"b\",I50=\"bs\"),E50,)))","v":""}]
["44",{"$f":"IF($D50=\"\",\"\",VLOOKUP($D50,'Boys Si Main Draw Prep'!$A$7:$P$70,15))","v":""},{"$f":"IF($D50=\"\",\"\",VLOOKUP($D50,'Boys Si Main Draw Prep'!$A$7:$P$70,16))","v":""},null,{"$f":"UPPER(IF($D50=\"\",\"\",VLOOKUP($D50,'Boys Si Main Draw Prep'!$A$7:$P$70,2)))","v":""},{"$f":"IF($D50=\"\",\"\",VLOOKUP($D50,'Boys Si Main Draw Prep'!$A$7:$P$70,3))","v":""},null,{"$f":"IF($D50=\"\",\"\",VLOOKUP($D50,'Boys Si Main Draw Prep'!$A$7:$P$70,4))","v":""},null,null,null,"Umpire",null,{"$f":"UPPER(IF(OR(M50=\"a\",M50=\"as\"),L48,IF(OR(M50=\"b\",M50=\"bs\"),L52,)))","v":""}]
["45",{"$f":"IF($D51=\"\",\"\",VLOOKUP($D51,'Boys Si Main Draw Prep'!$A$7:$P$70,15))","v":""},{"$f":"IF($D51=\"\",\"\",VLOOKUP($D51,'Boys Si Main Draw Prep'!$A$7:$P$70,16))","v":""},null,{"$f":"UPPER(IF($D51=\"\",\"\",VLOOKUP($D51,'Boys Si Main Draw Prep'!$A$7:$P$70,2)))","v":""},{"$f":"IF($D51=\"\",\"\",VLOOKUP($D51,'Boys Si Main Draw Prep'!$A$7:$P$70,3))","v":""},null,{"$f":"IF($D51=\"\",\"\",VLOOKUP($D51,'Boys Si Main Draw Prep'!$A$7:$P$70,4))","v":""},null,{"$f":"UPPER(IF(OR(I52=\"a\",I52=\"as\"),E51,IF(OR(I52=\"b\",I52=\"bs\"),E52,)))","v":""}]
["46",{"$f":"IF($D52=\"\",\"\",VLOOKUP($D52,'Boys Si Main Draw Prep'!$A$7:$P$70,15))","v":""},{"$f":"IF($D52=\"\",\"\",VLOOKUP($D52,'Boys Si Main Draw Prep'!$A$7:$P$70,16))","v":""},null,{"$f":"UPPER(IF($D52=\"\",\"\",VLOOKUP($D52,'Boys Si Main Draw Prep'!$A$7:$P$70,2)))","v":""},{"$f":"IF($D52=\"\",\"\",VLOOKUP($D52,'Boys Si Main Draw Prep'!$A$7:$P$70,3))","v":""},null,{"$f":"IF($D52=\"\",\"\",VLOOKUP($D52,'Boys Si Main Draw Prep'!$A$7:$P$70,4))","v":""},null,null,null,{"$f":"UPPER(IF(OR(K52=\"a\",K52=\"as\"),J51,IF(OR(K52=\"b\",K52=\"bs\"),J53,)))","v":""}]
["47",{"$f":"IF($D53=\"\",\"\",VLOOKUP($D53,'Boys Si Main Draw Prep'!$A$7:$P$70,15))","v":""},{"$f":"IF($D53=\"\",\"\",VLOOKUP($D53,'Boys Si Main Draw Prep'!$A$7:$P$70,16))","v":""},null,{"$f":"UPPER(IF($D53=\"\",\"\",VLOOKUP($D53,'Boys Si Main Draw Prep'!$A$7:$P$70,2)))","v":""},{"$f":"IF($D53=\"\",\"\",VLOOKUP($D53,'Boys Si Main Draw Prep'!$A$7:$P$70,3))","v":""},null,{"$f":"IF($D53=\"\",\"\",VLOOKUP($D53,'Boys Si Main Draw Prep'!$A$7:$P$70,4))","v":""},null,{"$f":"UPPER(IF(OR(I54=\"a\",I54=\"as\"),E53,IF(OR(I54=\"b\",I54=\"bs\"),E54,)))","v":""}]
["48",{"$f":"IF($D54=\"\",\"\",VLOOKUP($D54,'Boys Si Main Draw Prep'!$A$7:$P$70,15))","v":""},{"$f":"IF($D54=\"\",\"\",VLOOKUP($D54,'Boys Si Main Draw Prep'!$A$7:$P$70,16))","v":""},null,{"$f":"UPPER(IF($D54=\"\",\"\",VLOOKUP($D54,'Boys Si Main Draw Prep'!$A$7:$P$70,2)))","v":""},{"$f":"IF($D54=\"\",\"\",VLOOKUP($D54,'Boys Si Main Draw Prep'!$A$7:$P$70,3))","v":""},null,{"$f":"IF($D54=\"\",\"\",VLOOKUP($D54,'Boys Si Main Draw Prep'!$A$7:$P$70,4))","v":""},null,null,null,null,null,"Finalist 2:",null,{"$f":"UPPER(IF(OR(O55=\"a\",O55=\"as\"),P46,IF(OR(O55=\"b\",O55=\"bs\"),P62,)))","v":""}]
["49",{"$f":"IF($D55=\"\",\"\",VLOOKUP($D55,'Boys Si Main Draw Prep'!$A$7:$P$70,15))","v":""},{"$f":"IF($D55=\"\",\"\",VLOOKUP($D55,'Boys Si Main Draw Prep'!$A$7:$P$70,16))","v":""},null,{"$f":"UPPER(IF($D55=\"\",\"\",VLOOKUP($D55,'Boys Si Main Draw Prep'!$A$7:$P$70,2)))","v":""},{"$f":"IF($D55=\"\",\"\",VLOOKUP($D55,'Boys Si Main Draw Prep'!$A$7:$P$70,3))","v":""},null,{"$f":"IF($D55=\"\",\"\",VLOOKUP($D55,'Boys Si Main Draw Prep'!$A$7:$P$70,4))","v":""},null,{"$f":"UPPER(IF(OR(I56=\"a\",I56=\"as\"),E55,IF(OR(I56=\"b\",I56=\"bs\"),E56,)))","v":""},null,null,null,"Umpire"]
["50",{"$f":"IF($D56=\"\",\"\",VLOOKUP($D56,'Boys Si Main Draw Prep'!$A$7:$P$70,15))","v":""},{"$f":"IF($D56=\"\",\"\",VLOOKUP($D56,'Boys Si Main Draw Prep'!$A$7:$P$70,16))","v":""},null,{"$f":"UPPER(IF($D56=\"\",\"\",VLOOKUP($D56,'Boys Si Main Draw Prep'!$A$7:$P$70,2)))","v":""},{"$f":"IF($D56=\"\",\"\",VLOOKUP($D56,'Boys Si Main Draw Prep'!$A$7:$P$70,3))","v":""},null,{"$f":"IF($D56=\"\",\"\",VLOOKUP($D56,'Boys Si Main Draw Prep'!$A$7:$P$70,4))","v":""},null,null,null,{"$f":"UPPER(IF(OR(K56=\"a\",K56=\"as\"),J55,IF(OR(K56=\"b\",K56=\"bs\"),J57,)))","v":""}]
["51",{"$f":"IF($D57=\"\",\"\",VLOOKUP($D57,'Boys Si Main Draw Prep'!$A$7:$P$70,15))","v":""},{"$f":"IF($D57=\"\",\"\",VLOOKUP($D57,'Boys Si Main Draw Prep'!$A$7:$P$70,16))","v":""},null,{"$f":"UPPER(IF($D57=\"\",\"\",VLOOKUP($D57,'Boys Si Main Draw Prep'!$A$7:$P$70,2)))","v":""},{"$f":"IF($D57=\"\",\"\",VLOOKUP($D57,'Boys Si Main Draw Prep'!$A$7:$P$70,3))","v":""},null,{"$f":"IF($D57=\"\",\"\",VLOOKUP($D57,'Boys Si Main Draw Prep'!$A$7:$P$70,4))","v":""},null,{"$f":"UPPER(IF(OR(I58=\"a\",I58=\"as\"),E57,IF(OR(I58=\"b\",I58=\"bs\"),E58,)))","v":""}]
["52",{"$f":"IF($D58=\"\",\"\",VLOOKUP($D58,'Boys Si Main Draw Prep'!$A$7:$P$70,15))","v":""},{"$f":"IF($D58=\"\",\"\",VLOOKUP($D58,'Boys Si Main Draw Prep'!$A$7:$P$70,16))","v":""},null,{"$f":"UPPER(IF($D58=\"\",\"\",VLOOKUP($D58,'Boys Si Main Draw Prep'!$A$7:$P$70,2)))","v":""},{"$f":"IF($D58=\"\",\"\",VLOOKUP($D58,'Boys Si Main Draw Prep'!$A$7:$P$70,3))","v":""},null,{"$f":"IF($D58=\"\",\"\",VLOOKUP($D58,'Boys Si Main Draw Prep'!$A$7:$P$70,4))","v":""},null,null,null,"Umpire",null,{"$f":"UPPER(IF(OR(M58=\"a\",M58=\"as\"),L56,IF(OR(M58=\"b\",M58=\"bs\"),L60,)))","v":""}]
["53",{"$f":"IF($D59=\"\",\"\",VLOOKUP($D59,'Boys Si Main Draw Prep'!$A$7:$P$70,15))","v":""},{"$f":"IF($D59=\"\",\"\",VLOOKUP($D59,'Boys Si Main Draw Prep'!$A$7:$P$70,16))","v":""},null,{"$f":"UPPER(IF($D59=\"\",\"\",VLOOKUP($D59,'Boys Si Main Draw Prep'!$A$7:$P$70,2)))","v":""},{"$f":"IF($D59=\"\",\"\",VLOOKUP($D59,'Boys Si Main Draw Prep'!$A$7:$P$70,3))","v":""},null,{"$f":"IF($D59=\"\",\"\",VLOOKUP($D59,'Boys Si Main Draw Prep'!$A$7:$P$70,4))","v":""},null,{"$f":"UPPER(IF(OR(I60=\"a\",I60=\"as\"),E59,IF(OR(I60=\"b\",I60=\"bs\"),E60,)))","v":""}]
["54",{"$f":"IF($D60=\"\",\"\",VLOOKUP($D60,'Boys Si Main Draw Prep'!$A$7:$P$70,15))","v":""},{"$f":"IF($D60=\"\",\"\",VLOOKUP($D60,'Boys Si Main Draw Prep'!$A$7:$P$70,16))","v":""},null,{"$f":"UPPER(IF($D60=\"\",\"\",VLOOKUP($D60,'Boys Si Main Draw Prep'!$A$7:$P$70,2)))","v":""},{"$f":"IF($D60=\"\",\"\",VLOOKUP($D60,'Boys Si Main Draw Prep'!$A$7:$P$70,3))","v":""},null,{"$f":"IF($D60=\"\",\"\",VLOOKUP($D60,'Boys Si Main Draw Prep'!$A$7:$P$70,4))","v":""},null,null,null,{"$f":"UPPER(IF(OR(K60=\"a\",K60=\"as\"),J59,IF(OR(K60=\"b\",K60=\"bs\"),J61,)))","v":""}]
["55",{"$f":"IF($D61=\"\",\"\",VLOOKUP($D61,'Boys Si Main Draw Prep'!$A$7:$P$70,15))","v":""},{"$f":"IF($D61=\"\",\"\",VLOOKUP($D61,'Boys Si Main Draw Prep'!$A$7:$P$70,16))","v":""},null,{"$f":"UPPER(IF($D61=\"\",\"\",VLOOKUP($D61,'Boys Si Main Draw Prep'!$A$7:$P$70,2)))","v":""},{"$f":"IF($D61=\"\",\"\",VLOOKUP($D61,'Boys Si Main Draw Prep'!$A$7:$P$70,3))","v":""},null,{"$f":"IF($D61=\"\",\"\",VLOOKUP($D61,'Boys Si Main Draw Prep'!$A$7:$P$70,4))","v":""},null,{"$f":"UPPER(IF(OR(I62=\"a\",I62=\"as\"),E61,IF(OR(I62=\"b\",I62=\"bs\"),E62,)))","v":""}]
["56",{"$f":"IF($D62=\"\",\"\",VLOOKUP($D62,'Boys Si Main Draw Prep'!$A$7:$P$70,15))","v":""},{"$f":"IF($D62=\"\",\"\",VLOOKUP($D62,'Boys Si Main Draw Prep'!$A$7:$P$70,16))","v":""},null,{"$f":"UPPER(IF($D62=\"\",\"\",VLOOKUP($D62,'Boys Si Main Draw Prep'!$A$7:$P$70,2)))","v":""},{"$f":"IF($D62=\"\",\"\",VLOOKUP($D62,'Boys Si Main Draw Prep'!$A$7:$P$70,3))","v":""},null,{"$f":"IF($D62=\"\",\"\",VLOOKUP($D62,'Boys Si Main Draw Prep'!$A$7:$P$70,4))","v":""},null,null,null,null,null,"Umpire",null,{"$f":"UPPER(IF(OR(O62=\"a\",O62=\"as\"),N58,IF(OR(O62=\"b\",O62=\"bs\"),N66,)))","v":""}]
["57",{"$f":"IF($D63=\"\",\"\",VLOOKUP($D63,'Boys Si Main Draw Prep'!$A$7:$P$70,15))","v":""},{"$f":"IF($D63=\"\",\"\",VLOOKUP($D63,'Boys Si Main Draw Prep'!$A$7:$P$70,16))","v":""},null,{"$f":"UPPER(IF($D63=\"\",\"\",VLOOKUP($D63,'Boys Si Main Draw Prep'!$A$7:$P$70,2)))","v":""},{"$f":"IF($D63=\"\",\"\",VLOOKUP($D63,'Boys Si Main Draw Prep'!$A$7:$P$70,3))","v":""},null,{"$f":"IF($D63=\"\",\"\",VLOOKUP($D63,'Boys Si Main Draw Prep'!$A$7:$P$70,4))","v":""},null,{"$f":"UPPER(IF(OR(I64=\"a\",I64=\"as\"),E63,IF(OR(I64=\"b\",I64=\"bs\"),E64,)))","v":""}]
["58",{"$f":"IF($D64=\"\",\"\",VLOOKUP($D64,'Boys Si Main Draw Prep'!$A$7:$P$70,15))","v":""},{"$f":"IF($D64=\"\",\"\",VLOOKUP($D64,'Boys Si Main Draw Prep'!$A$7:$P$70,16))","v":""},null,{"$f":"UPPER(IF($D64=\"\",\"\",VLOOKUP($D64,'Boys Si Main Draw Prep'!$A$7:$P$70,2)))","v":""},{"$f":"IF($D64=\"\",\"\",VLOOKUP($D64,'Boys Si Main Draw Prep'!$A$7:$P$70,3))","v":""},null,{"$f":"IF($D64=\"\",\"\",VLOOKUP($D64,'Boys Si Main Draw Prep'!$A$7:$P$70,4))","v":""},null,null,null,{"$f":"UPPER(IF(OR(K64=\"a\",K64=\"as\"),J63,IF(OR(K64=\"b\",K64=\"bs\"),J65,)))","v":""}]
["59",{"$f":"IF($D65=\"\",\"\",VLOOKUP($D65,'Boys Si Main Draw Prep'!$A$7:$P$70,15))","v":""},{"$f":"IF($D65=\"\",\"\",VLOOKUP($D65,'Boys Si Main Draw Prep'!$A$7:$P$70,16))","v":""},null,{"$f":"UPPER(IF($D65=\"\",\"\",VLOOKUP($D65,'Boys Si Main Draw Prep'!$A$7:$P$70,2)))","v":""},{"$f":"IF($D65=\"\",\"\",VLOOKUP($D65,'Boys Si Main Draw Prep'!$A$7:$P$70,3))","v":""},null,{"$f":"IF($D65=\"\",\"\",VLOOKUP($D65,'Boys Si Main Draw Prep'!$A$7:$P$70,4))","v":""},null,{"$f":"UPPER(IF(OR(I66=\"a\",I66=\"as\"),E65,IF(OR(I66=\"b\",I66=\"bs\"),E66,)))","v":""}]
["60",{"$f":"IF($D66=\"\",\"\",VLOOKUP($D66,'Boys Si Main Draw Prep'!$A$7:$P$70,15))","v":""},{"$f":"IF($D66=\"\",\"\",VLOOKUP($D66,'Boys Si Main Draw Prep'!$A$7:$P$70,16))","v":""},null,{"$f":"UPPER(IF($D66=\"\",\"\",VLOOKUP($D66,'Boys Si Main Draw Prep'!$A$7:$P$70,2)))","v":""},{"$f":"IF($D66=\"\",\"\",VLOOKUP($D66,'Boys Si Main Draw Prep'!$A$7:$P$70,3))","v":""},null,{"$f":"IF($D66=\"\",\"\",VLOOKUP($D66,'Boys Si Main Draw Prep'!$A$7:$P$70,4))","v":""},null,null,null,"Umpire",null,{"$f":"UPPER(IF(OR(M66=\"a\",M66=\"as\"),L64,IF(OR(M66=\"b\",M66=\"bs\"),L68,)))","v":""}]
["61",{"$f":"IF($D67=\"\",\"\",VLOOKUP($D67,'Boys Si Main Draw Prep'!$A$7:$P$70,15))","v":""},{"$f":"IF($D67=\"\",\"\",VLOOKUP($D67,'Boys Si Main Draw Prep'!$A$7:$P$70,16))","v":""},null,{"$f":"UPPER(IF($D67=\"\",\"\",VLOOKUP($D67,'Boys Si Main Draw Prep'!$A$7:$P$70,2)))","v":""},{"$f":"IF($D67=\"\",\"\",VLOOKUP($D67,'Boys Si Main Draw Prep'!$A$7:$P$70,3))","v":""},null,{"$f":"IF($D67=\"\",\"\",VLOOKUP($D67,'Boys Si Main Draw Prep'!$A$7:$P$70,4))","v":""},null,{"$f":"UPPER(IF(OR(I68=\"a\",I68=\"as\"),E67,IF(OR(I68=\"b\",I68=\"bs\"),E68,)))","v":""}]
["62",{"$f":"IF($D68=\"\",\"\",VLOOKUP($D68,'Boys Si Main Draw Prep'!$A$7:$P$70,15))","v":""},{"$f":"IF($D68=\"\",\"\",VLOOKUP($D68,'Boys Si Main Draw Prep'!$A$7:$P$70,16))","v":""},null,{"$f":"UPPER(IF($D68=\"\",\"\",VLOOKUP($D68,'Boys Si Main Draw Prep'!$A$7:$P$70,2)))","v":""},{"$f":"IF($D68=\"\",\"\",VLOOKUP($D68,'Boys Si Main Draw Prep'!$A$7:$P$70,3))","v":""},null,{"$f":"IF($D68=\"\",\"\",VLOOKUP($D68,'Boys Si Main Draw Prep'!$A$7:$P$70,4))","v":""},null,null,null,{"$f":"UPPER(IF(OR(K68=\"a\",K68=\"as\"),J67,IF(OR(K68=\"b\",K68=\"bs\"),J69,)))","v":""}]
["63",{"$f":"IF($D69=\"\",\"\",VLOOKUP($D69,'Boys Si Main Draw Prep'!$A$7:$P$70,15))","v":""},{"$f":"IF($D69=\"\",\"\",VLOOKUP($D69,'Boys Si Main Draw Prep'!$A$7:$P$70,16))","v":""},null,{"$f":"UPPER(IF($D69=\"\",\"\",VLOOKUP($D69,'Boys Si Main Draw Prep'!$A$7:$P$70,2)))","v":""},{"$f":"IF($D69=\"\",\"\",VLOOKUP($D69,'Boys Si Main Draw Prep'!$A$7:$P$70,3))","v":""},null,{"$f":"IF($D69=\"\",\"\",VLOOKUP($D69,'Boys Si Main Draw Prep'!$A$7:$P$70,4))","v":""},null,{"$f":"UPPER(IF(OR(I70=\"a\",I70=\"as\"),E69,IF(OR(I70=\"b\",I70=\"bs\"),E70,)))","v":""}]
["64",{"$f":"IF($D70=\"\",\"\",VLOOKUP($D70,'Boys Si Main Draw Prep'!$A$7:$P$70,15))","v":""},{"$f":"IF($D70=\"\",\"\",VLOOKUP($D70,'Boys Si Main Draw Prep'!$A$7:$P$70,16))","v":""},null,{"$f":"UPPER(IF($D70=\"\",\"\",VLOOKUP($D70,'Boys Si Main Draw Prep'!$A$7:$P$70,2)))","v":""},{"$f":"IF($D70=\"\",\"\",VLOOKUP($D70,'Boys Si Main Draw Prep'!$A$7:$P$70,3))","v":""},null,{"$f":"IF($D70=\"\",\"\",VLOOKUP($D70,'Boys Si Main Draw Prep'!$A$7:$P$70,4))","v":""}]
[]
["Acc. Ranking",null,null,"#","Seeded players","#","Seeded players",null,"#","Lucky Losers",null,"Replacing",null,"Draw date/time:"]
["Rkg Date",null,null,1,{"$f":"IF(D73>$Q$80,,UPPER(VLOOKUP(D73,'Boys Si Main Draw Prep'!$A$7:$R$134,2)))","v":0},9,{"$f":"IF(F73>$Q$80,,UPPER(VLOOKUP(F73,'Boys Si Main Draw Prep'!$A$7:$R$134,2)))","v":0},null,"1",null,null,null,null,"Last Accepted player"]
["Top DA",null,null,2,{"$f":"IF(D74>$Q$80,,UPPER(VLOOKUP(D74,'Boys Si Main Draw Prep'!$A$7:$R$134,2)))","v":0},10,{"$f":"IF(F74>$Q$80,,UPPER(VLOOKUP(F74,'Boys Si Main Draw Prep'!$A$7:$R$134,2)))","v":0},null,"2"]
["Last DA",null,null,3,{"$f":"IF(D75>$Q$80,,UPPER(VLOOKUP(D75,'Boys Si Main Draw Prep'!$A$7:$R$134,2)))","v":0},11,{"$f":"IF(F75>$Q$80,,UPPER(VLOOKUP(F75,'Boys Si Main Draw Prep'!$A$7:$R$134,2)))","v":0},null,"3",null,null,null,null,"Player representatives"]
[null,null,null,4,{"$f":"IF(D76>$Q$80,,UPPER(VLOOKUP(D76,'Boys Si Main Draw Prep'!$A$7:$R$134,2)))","v":0},12,{"$f":"IF(F76>$Q$80,,UPPER(VLOOKUP(F76,'Boys Si Main Draw Prep'!$A$7:$R$134,2)))","v":0},null,"4"]
["Seed ranking",null,null,5,{"$f":"IF(D77>$Q$80,,UPPER(VLOOKUP(D77,'Boys Si Main Draw Prep'!$A$7:$R$134,2)))","v":0},13,{"$f":"IF(F77>$Q$80,,UPPER(VLOOKUP(F77,'Boys Si Main Draw Prep'!$A$7:$R$134,2)))","v":0},null,"5"]
["Rkg Date",null,null,6,{"$f":"IF(D78>$Q$80,,UPPER(VLOOKUP(D78,'Boys Si Main Draw Prep'!$A$7:$R$134,2)))","v":0},14,{"$f":"IF(F78>$Q$80,,UPPER(VLOOKUP(F78,'Boys Si Main Draw Prep'!$A$7:$R$134,2)))","v":0},null,"6",null,null,null,null,"ITF Referee's signature"]
["Top seed",null,null,7,{"$f":"IF(D79>$Q$80,,UPPER(VLOOKUP(D79,'Boys Si Main Draw Prep'!$A$7:$R$134,2)))","v":0},15,{"$f":"IF(F79>$Q$80,,UPPER(VLOOKUP(F79,'Boys Si Main Draw Prep'!$A$7:$R$134,2)))","v":0},null,"7"]
["Last seed",null,null,8,{"$f":"IF(D80>$Q$80,,UPPER(VLOOKUP(D80,'Boys Si Main Draw Prep'!$A$7:$R$134,2)))","v":0},16,{"$f":"IF(F80>$Q$80,,UPPER(VLOOKUP(F80,'Boys Si Main Draw Prep'!$A$7:$R$134,2)))","v":0},null,"8",null,null,null,null,{"$f":"Q4","v":0},null,null,{"$f":"MIN(16,'Boys Si Main Draw Prep'!R5)","v":0}]

{"sheet":"Boys Si Main 96&128","index":15,"n_rows":225,"n_cols":20,"rows_kept":225,"cut":false,"hidden":false,"merged":[[3,0,3,2]]}
[{"$f":"'Week SetUp'!$A$6","v":0},null,null,null,null,null,null,null,null,"BOYS SINGLES",null,null,null,"CU"]
[{"$f":"'Week SetUp'!$A$8","v":"ITF Junior Circuit"},null,null,null,null,null,null,null,null,"MAIN DRAW (96&128)"]
["Week of",null,null,null,null,"City, Country",null,null,null,"Group",null,"Tourn. ID",null,null,null,null,"ITF Referee"]
[{"$f":"'Week SetUp'!$A$10","v":"00:00:00"},null,null,null,null,{"$f":"'Week SetUp'!$C$10","v":0},null,null,null,{"$f":"'Week SetUp'!$D$10","v":0},null,{"$f":"'Week SetUp'!$A$12","v":0},null,null,null,null,{"$f":"'Week SetUp'!$E$10","v":0}]
[null,"St.","Rank","Seed","Family Name","First name",null,"Nationality",null,"2nd Round",null,"3rd Round",null,"4th Round",null,"Quarterfinalists"]
[]
["1",{"$f":"IF($D7=\"\",\"\",VLOOKUP($D7,'Boys Si Main Draw Prep'!$A$7:$P$134,15))","v":""},{"$f":"IF($D7=\"\",\"\",VLOOKUP($D7,'Boys Si Main Draw Prep'!$A$7:$P$134,16))","v":""},null,{"$f":"UPPER(IF($D7=\"\",\"\",VLOOKUP($D7,'Boys Si Main Draw Prep'!$A$7:$P$134,2)))","v":""},{"$f":"IF($D7=\"\",\"\",VLOOKUP($D7,'Boys Si Main Draw Prep'!$A$7:$P$134,3))","v":""},null,{"$f":"IF($D7=\"\",\"\",VLOOKUP($D7,'Boys Si Main Draw Prep'!$A$7:$P$134,4))","v":""},null,{"$f":"UPPER(IF(OR(I8=\"a\",I8=\"as\"),E7,IF(OR(I8=\"b\",I8=\"bs\"),E8,)))","v":""},null,null,null,null,null,null,"Page 1(3)",null,null,{"$f":"'SetUp Officials'!P21","v":"Umpire"}]
["2",{"$f":"IF($D8=\"\",\"\",VLOOKUP($D8,'Boys Si Main Draw Prep'!$A$7:$P$134,15))","v":""},{"$f":"IF($D8=\"\",\"\",VLOOKUP($D8,'Boys Si Main Draw Prep'!$A$7:$P$134,16))","v":""},null,{"$f":"UPPER(IF($D8=\"\",\"\",VLOOKUP($D8,'Boys Si Main Draw Prep'!$A$7:$P$134,2)))","v":""},{"$f":"IF($D8=\"\",\"\",VLOOKUP($D8,'Boys Si Main Draw Prep'!$A$7:$P$134,3))","v":""},null,{"$f":"IF($D8=\"\",\"\",VLOOKUP($D8,'Boys Si Main Draw Prep'!$A$7:$P$134,4))","v":""},null,null,null,{"$f":"UPPER(IF(OR(K8=\"a\",K8=\"as\"),J7,IF(OR(K8=\"b\",K8=\"bs\"),J9,)))","v":""},null,null,null,null,null,null,null,{"$f":"'SetUp Officials'!P22","v":" "}]
["3",{"$f":"IF($D9=\"\",\"\",VLOOKUP($D9,'Boys Si Main Draw Prep'!$A$7:$P$134,15))","v":""},{"$f":"IF($D9=\"\",\"\",VLOOKUP($D9,'Boys Si Main Draw Prep'!$A$7:$P$134,16))","v":""},null,{"$f":"UPPER(IF($D9=\"\",\"\",VLOOKUP($D9,'Boys Si Main Draw Prep'!$A$7:$P$134,2)))","v":""},{"$f":"IF($D9=\"\",\"\",VLOOKUP($D9,'Boys Si Main Draw Prep'!$A$7:$P$134,3))","v":""},null,{"$f":"IF($D9=\"\",\"\",VLOOKUP($D9,'Boys Si Main Draw Prep'!$A$7:$P$134,4))","v":""},null,{"$f":"UPPER(IF(OR(I10=\"a\",I10=\"as\"),E9,IF(OR(I10=\"b\",I10=\"bs\"),E10,)))","v":""},null,null,null,null,null,null,null,null,null,{"$f":"'SetUp Officials'!P23","v":" "}]
["4",{"$f":"IF($D10=\"\",\"\",VLOOKUP($D10,'Boys Si Main Draw Prep'!$A$7:$P$134,15))","v":""},{"$f":"IF($D10=\"\",\"\",VLOOKUP($D10,'Boys Si Main Draw Prep'!$A$7:$P$134,16))","v":""},null,{"$f":"UPPER(IF($D10=\"\",\"\",VLOOKUP($D10,'Boys Si Main Draw Prep'!$A$7:$P$134,2)))","v":""},{"$f":"IF($D10=\"\",\"\",VLOOKUP($D10,'Boys Si Main Draw Prep'!$A$7:$P$134,3))","v":""},null,{"$f":"IF($D10=\"\",\"\",VLOOKUP($D10,'Boys Si Main Draw Prep'!$A$7:$P$134,4))","v":""},null,null,null,"Umpire",null,{"$f":"UPPER(IF(OR(M10=\"a\",M10=\"as\"),L8,IF(OR(M10=\"b\",M10=\"bs\"),L12,)))","v":""},null,null,null,null,null,{"$f":"'SetUp Officials'!P24","v":" "}]
["5",{"$f":"IF($D11=\"\",\"\",VLOOKUP($D11,'Boys Si Main Draw Prep'!$A$7:$P$134,15))","v":""},{"$f":"IF($D11=\"\",\"\",VLOOKUP($D11,'Boys Si Main Draw Prep'!$A$7:$P$134,16))","v":""},null,{"$f":"UPPER(IF($D11=\"\",\"\",VLOOKUP($D11,'Boys Si Main Draw Prep'!$A$7:$P$134,2)))","v":""},{"$f":"IF($D11=\"\",\"\",VLOOKUP($D11,'Boys Si Main Draw Prep'!$A$7:$P$134,3))","v":""},null,{"$f":"IF($D11=\"\",\"\",VLOOKUP($D11,'Boys Si Main Draw Prep'!$A$7:$P$134,4))","v":""},null,{"$f":"UPPER(IF(OR(I12=\"a\",I12=\"as\"),E11,IF(OR(I12=\"b\",I12=\"bs\"),E12,)))","v":""},null,null,null,null,null,null,null,null,null,{"$f":"'SetUp Officials'!P25","v":" "}]
["6",{"$f":"IF($D12=\"\",\"\",VLOOKUP($D12,'Boys Si Main Draw Prep'!$A$7:$P$134,15))","v":""},{"$f":"IF($D12=\"\",\"\",VLOOKUP($D12,'Boys Si Main Draw Prep'!$A$7:$P$134,16))","v":""},null,{"$f":"UPPER(IF($D12=\"\",\"\",VLOOKUP($D12,'Boys Si Main Draw Prep'!$A$7:$P$134,2)))","v":""},{"$f":"IF($D12=\"\",\"\",VLOOKUP($D12,'Boys Si Main Draw Prep'!$A$7:$P$134,3))","v":""},null,{"$f":"IF($D12=\"\",\"\",VLOOKUP($D12,'Boys Si Main Draw Prep'!$A$7:$P$134,4))","v":""},null,null,null,{"$f":"UPPER(IF(OR(K12=\"a\",K12=\"as\"),J11,IF(OR(K12=\"b\",K12=\"bs\"),J13,)))","v":""},null,null,null,null,null,null,null,{"$f":"'SetUp Officials'!P26","v":" "}]
["7",{"$f":"IF($D13=\"\",\"\",VLOOKUP($D13,'Boys Si Main Draw Prep'!$A$7:$P$134,15))","v":""},{"$f":"IF($D13=\"\",\"\",VLOOKUP($D13,'Boys Si Main Draw Prep'!$A$7:$P$134,16))","v":""},null,{"$f":"UPPER(IF($D13=\"\",\"\",VLOOKUP($D13,'Boys Si Main Draw Prep'!$A$7:$P$134,2)))","v":""},{"$f":"IF($D13=\"\",\"\",VLOOKUP($D13,'Boys Si Main Draw Prep'!$A$7:$P$134,3))","v":""},null,{"$f":"IF($D13=\"\",\"\",VLOOKUP($D13,'Boys Si Main Draw Prep'!$A$7:$P$134,4))","v":""},null,{"$f":"UPPER(IF(OR(I14=\"a\",I14=\"as\"),E13,IF(OR(I14=\"b\",I14=\"bs\"),E14,)))","v":""},null,null,null,null,null,null,null,null,null,{"$f":"'SetUp Officials'!P27","v":" "}]
["8",{"$f":"IF($D14=\"\",\"\",VLOOKUP($D14,'Boys Si Main Draw Prep'!$A$7:$P$134,15))","v":""},{"$f":"IF($D14=\"\",\"\",VLOOKUP($D14,'Boys Si Main Draw Prep'!$A$7:$P$134,16))","v":""},null,{"$f":"UPPER(IF($D14=\"\",\"\",VLOOKUP($D14,'Boys Si Main Draw Prep'!$A$7:$P$134,2)))","v":""},{"$f":"IF($D14=\"\",\"\",VLOOKUP($D14,'Boys Si Main Draw Prep'!$A$7:$P$134,3))","v":""},null,{"$f":"IF($D14=\"\",\"\",VLOOKUP($D14,'Boys Si Main Draw Prep'!$A$7:$P$134,4))","v":""},null,null,null,null,null,"Umpire",null,{"$f":"UPPER(IF(OR(O14=\"a\",O14=\"as\"),N10,IF(OR(O14=\"b\",O14=\"bs\"),N18,)))","v":""},null,null,null,{"$f":"'SetUp Officials'!P28","v":" "}]
["9",{"$f":"IF($D15=\"\",\"\",VLOOKUP($D15,'Boys Si Main Draw Prep'!$A$7:$P$134,15))","v":""},{"$f":"IF($D15=\"\",\"\",VLOOKUP($D15,'Boys Si Main Draw Prep'!$A$7:$P$134,16))","v":""},null,{"$f":"UPPER(IF($D15=\"\",\"\",VLOOKUP($D15,'Boys Si Main Draw Prep'!$A$7:$P$134,2)))","v":""},{"$f":"IF($D15=\"\",\"\",VLOOKUP($D15,'Boys Si Main Draw Prep'!$A$7:$P$134,3))","v":""},null,{"$f":"IF($D15=\"\",\"\",VLOOKUP($D15,'Boys Si Main Draw Prep'!$A$7:$P$134,4))","v":""},null,{"$f":"UPPER(IF(OR(I16=\"a\",I16=\"as\"),E15,IF(OR(I16=\"b\",I16=\"bs\"),E16,)))","v":""},null,null,null,null,null,null,null,null,null,{"$f":"'SetUp Officials'!P29","v":" "}]
["10",{"$f":"IF($D16=\"\",\"\",VLOOKUP($D16,'Boys Si Main Draw Prep'!$A$7:$P$134,15))","v":""},{"$f":"IF($D16=\"\",\"\",VLOOKUP($D16,'Boys Si Main Draw Prep'!$A$7:$P$134,16))","v":""},null,{"$f":"UPPER(IF($D16=\"\",\"\",VLOOKUP($D16,'Boys Si Main Draw Prep'!$A$7:$P$134,2)))","v":""},{"$f":"IF($D16=\"\",\"\",VLOOKUP($D16,'Boys Si Main Draw Prep'!$A$7:$P$134,3))","v":""},null,{"$f":"IF($D16=\"\",\"\",VLOOKUP($D16,'Boys Si Main Draw Prep'!$A$7:$P$134,4))","v":""},null,null,null,{"$f":"UPPER(IF(OR(K16=\"a\",K16=\"as\"),J15,IF(OR(K16=\"b\",K16=\"bs\"),J17,)))","v":""},null,null,null,null,null,null,null,{"$f":"'SetUp Officials'!P30","v":"None"}]
["11",{"$f":"IF($D17=\"\",\"\",VLOOKUP($D17,'Boys Si Main Draw Prep'!$A$7:$P$134,15))","v":""},{"$f":"IF($D17=\"\",\"\",VLOOKUP($D17,'Boys Si Main Draw Prep'!$A$7:$P$134,16))","v":""},null,{"$f":"UPPER(IF($D17=\"\",\"\",VLOOKUP($D17,'Boys Si Main Draw Prep'!$A$7:$P$134,2)))","v":""},{"$f":"IF($D17=\"\",\"\",VLOOKUP($D17,'Boys Si Main Draw Prep'!$A$7:$P$134,3))","v":""},null,{"$f":"IF($D17=\"\",\"\",VLOOKUP($D17,'Boys Si Main Draw Prep'!$A$7:$P$134,4))","v":""},null,{"$f":"UPPER(IF(OR(I18=\"a\",I18=\"as\"),E17,IF(OR(I18=\"b\",I18=\"bs\"),E18,)))","v":""}]
["12",{"$f":"IF($D18=\"\",\"\",VLOOKUP($D18,'Boys Si Main Draw Prep'!$A$7:$P$134,15))","v":""},{"$f":"IF($D18=\"\",\"\",VLOOKUP($D18,'Boys Si Main Draw Prep'!$A$7:$P$134,16))","v":""},null,{"$f":"UPPER(IF($D18=\"\",\"\",VLOOKUP($D18,'Boys Si Main Draw Prep'!$A$7:$P$134,2)))","v":""},{"$f":"IF($D18=\"\",\"\",VLOOKUP($D18,'Boys Si Main Draw Prep'!$A$7:$P$134,3))","v":""},null,{"$f":"IF($D18=\"\",\"\",VLOOKUP($D18,'Boys Si Main Draw Prep'!$A$7:$P$134,4))","v":""},null,null,null,"Umpire",null,{"$f":"UPPER(IF(OR(M18=\"a\",M18=\"as\"),L16,IF(OR(M18=\"b\",M18=\"bs\"),L20,)))","v":""}]
["13",{"$f":"IF($D19=\"\",\"\",VLOOKUP($D19,'Boys Si Main Draw Prep'!$A$7:$P$134,15))","v":""},{"$f":"IF($D19=\"\",\"\",VLOOKUP($D19,'Boys Si Main Draw Prep'!$A$7:$P$134,16))","v":""},null,{"$f":"UPPER(IF($D19=\"\",\"\",VLOOKUP($D19,'Boys Si Main Draw Prep'!$A$7:$P$134,2)))","v":""},{"$f":"IF($D19=\"\",\"\",VLOOKUP($D19,'Boys Si Main Draw Prep'!$A$7:$P$134,3))","v":""},null,{"$f":"IF($D19=\"\",\"\",VLOOKUP($D19,'Boys Si Main Draw Prep'!$A$7:$P$134,4))","v":""},null,{"$f":"UPPER(IF(OR(I20=\"a\",I20=\"as\"),E19,IF(OR(I20=\"b\",I20=\"bs\"),E20,)))","v":""}]
["14",{"$f":"IF($D20=\"\",\"\",VLOOKUP($D20,'Boys Si Main Draw Prep'!$A$7:$P$134,15))","v":""},{"$f":"IF($D20=\"\",\"\",VLOOKUP($D20,'Boys Si Main Draw Prep'!$A$7:$P$134,16))","v":""},null,{"$f":"UPPER(IF($D20=\"\",\"\",VLOOKUP($D20,'Boys Si Main Draw Prep'!$A$7:$P$134,2)))","v":""},{"$f":"IF($D20=\"\",\"\",VLOOKUP($D20,'Boys Si Main Draw Prep'!$A$7:$P$134,3))","v":""},null,{"$f":"IF($D20=\"\",\"\",VLOOKUP($D20,'Boys Si Main Draw Prep'!$A$7:$P$134,4))","v":""},null,null,null,{"$f":"UPPER(IF(OR(K20=\"a\",K20=\"as\"),J19,IF(OR(K20=\"b\",K20=\"bs\"),J21,)))","v":""}]
["15",{"$f":"IF($D21=\"\",\"\",VLOOKUP($D21,'Boys Si Main Draw Prep'!$A$7:$P$134,15))","v":""},{"$f":"IF($D21=\"\",\"\",VLOOKUP($D21,'Boys Si Main Draw Prep'!$A$7:$P$134,16))","v":""},null,{"$f":"UPPER(IF($D21=\"\",\"\",VLOOKUP($D21,'Boys Si Main Draw Prep'!$A$7:$P$134,2)))","v":""},{"$f":"IF($D21=\"\",\"\",VLOOKUP($D21,'Boys Si Main Draw Prep'!$A$7:$P$134,3))","v":""},null,{"$f":"IF($D21=\"\",\"\",VLOOKUP($D21,'Boys Si Main Draw Prep'!$A$7:$P$134,4))","v":""},null,{"$f":"UPPER(IF(OR(I22=\"a\",I22=\"as\"),E21,IF(OR(I22=\"b\",I22=\"bs\"),E22,)))","v":""}]
["16",{"$f":"IF($D22=\"\",\"\",VLOOKUP($D22,'Boys Si Main Draw Prep'!$A$7:$P$134,15))","v":""},{"$f":"IF($D22=\"\",\"\",VLOOKUP($D22,'Boys Si Main Draw Prep'!$A$7:$P$134,16))","v":""},null,{"$f":"UPPER(IF($D22=\"\",\"\",VLOOKUP($D22,'Boys Si Main Draw Prep'!$A$7:$P$134,2)))","v":""},{"$f":"IF($D22=\"\",\"\",VLOOKUP($D22,'Boys Si Main Draw Prep'!$A$7:$P$134,3))","v":""},null,{"$f":"IF($D22=\"\",\"\",VLOOKUP($D22,'Boys Si Main Draw Prep'!$A$7:$P$134,4))","v":""}]
["17",{"$f":"IF($D23=\"\",\"\",VLOOKUP($D23,'Boys Si Main Draw Prep'!$A$7:$P$134,15))","v":""},{"$f":"IF($D23=\"\",\"\",VLOOKUP($D23,'Boys Si Main Draw Prep'!$A$7:$P$134,16))","v":""},null,{"$f":"UPPER(IF($D23=\"\",\"\",VLOOKUP($D23,'Boys Si Main Draw Prep'!$A$7:$P$134,2)))","v":""},{"$f":"IF($D23=\"\",\"\",VLOOKUP($D23,'Boys Si Main Draw Prep'!$A$7:$P$134,3))","v":""},null,{"$f":"IF($D23=\"\",\"\",VLOOKUP($D23,'Boys Si Main Draw Prep'!$A$7:$P$134,4))","v":""},null,{"$f":"UPPER(IF(OR(I24=\"a\",I24=\"as\"),E23,IF(OR(I24=\"b\",I24=\"bs\"),E24,)))","v":""}]
["18",{"$f":"IF($D24=\"\",\"\",VLOOKUP($D24,'Boys Si Main Draw Prep'!$A$7:$P$134,15))","v":""},{"$f":"IF($D24=\"\",\"\",VLOOKUP($D24,'Boys Si Main Draw Prep'!$A$7:$P$134,16))","v":""},null,{"$f":"UPPER(IF($D24=\"\",\"\",VLOOKUP($D24,'Boys Si Main Draw Prep'!$A$7:$P$134,2)))","v":""},{"$f":"IF($D24=\"\",\"\",VLOOKUP($D24,'Boys Si Main Draw Prep'!$A$7:$P$134,3))","v":""},null,{"$f":"IF($D24=\"\",\"\",VLOOKUP($D24,'Boys Si Main Draw Prep'!$A$7:$P$134,4))","v":""},null,null,null,{"$f":"UPPER(IF(OR(K24=\"a\",K24=\"as\"),J23,IF(OR(K24=\"b\",K24=\"bs\"),J25,)))","v":""}]
["19",{"$f":"IF($D25=\"\",\"\",VLOOKUP($D25,'Boys Si Main Draw Prep'!$A$7:$P$134,15))","v":""},{"$f":"IF($D25=\"\",\"\",VLOOKUP($D25,'Boys Si Main Draw Prep'!$A$7:$P$134,16))","v":""},null,{"$f":"UPPER(IF($D25=\"\",\"\",VLOOKUP($D25,'Boys Si Main Draw Prep'!$A$7:$P$134,2)))","v":""},{"$f":"IF($D25=\"\",\"\",VLOOKUP($D25,'Boys Si Main Draw Prep'!$A$7:$P$134,3))","v":""},null,{"$f":"IF($D25=\"\",\"\",VLOOKUP($D25,'Boys Si Main Draw Prep'!$A$7:$P$134,4))","v":""},null,{"$f":"UPPER(IF(OR(I26=\"a\",I26=\"as\"),E25,IF(OR(I26=\"b\",I26=\"bs\"),E26,)))","v":""}]
["20",{"$f":"IF($D26=\"\",\"\",VLOOKUP($D26,'Boys Si Main Draw Prep'!$A$7:$P$134,15))","v":""},{"$f":"IF($D26=\"\",\"\",VLOOKUP($D26,'Boys Si Main Draw Prep'!$A$7:$P$134,16))","v":""},null,{"$f":"UPPER(IF($D26=\"\",\"\",VLOOKUP($D26,'Boys Si Main Draw Prep'!$A$7:$P$134,2)))","v":""},{"$f":"IF($D26=\"\",\"\",VLOOKUP($D26,'Boys Si Main Draw Prep'!$A$7:$P$134,3))","v":""},null,{"$f":"IF($D26=\"\",\"\",VLOOKUP($D26,'Boys Si Main Draw Prep'!$A$7:$P$134,4))","v":""},null,null,null,"Umpire",null,{"$f":"UPPER(IF(OR(M26=\"a\",M26=\"as\"),L24,IF(OR(M26=\"b\",M26=\"bs\"),L28,)))","v":""}]
["21",{"$f":"IF($D27=\"\",\"\",VLOOKUP($D27,'Boys Si Main Draw Prep'!$A$7:$P$134,15))","v":""},{"$f":"IF($D27=\"\",\"\",VLOOKUP($D27,'Boys Si Main Draw Prep'!$A$7:$P$134,16))","v":""},null,{"$f":"UPPER(IF($D27=\"\",\"\",VLOOKUP($D27,'Boys Si Main Draw Prep'!$A$7:$P$134,2)))","v":""},{"$f":"IF($D27=\"\",\"\",VLOOKUP($D27,'Boys Si Main Draw Prep'!$A$7:$P$134,3))","v":""},null,{"$f":"IF($D27=\"\",\"\",VLOOKUP($D27,'Boys Si Main Draw Prep'!$A$7:$P$134,4))","v":""},null,{"$f":"UPPER(IF(OR(I28=\"a\",I28=\"as\"),E27,IF(OR(I28=\"b\",I28=\"bs\"),E28,)))","v":""}]
["22",{"$f":"IF($D28=\"\",\"\",VLOOKUP($D28,'Boys Si Main Draw Prep'!$A$7:$P$134,15))","v":""},{"$f":"IF($D28=\"\",\"\",VLOOKUP($D28,'Boys Si Main Draw Prep'!$A$7:$P$134,16))","v":""},null,{"$f":"UPPER(IF($D28=\"\",\"\",VLOOKUP($D28,'Boys Si Main Draw Prep'!$A$7:$P$134,2)))","v":""},{"$f":"IF($D28=\"\",\"\",VLOOKUP($D28,'Boys Si Main Draw Prep'!$A$7:$P$134,3))","v":""},null,{"$f":"IF($D28=\"\",\"\",VLOOKUP($D28,'Boys Si Main Draw Prep'!$A$7:$P$134,4))","v":""},null,null,null,{"$f":"UPPER(IF(OR(K28=\"a\",K28=\"as\"),J27,IF(OR(K28=\"b\",K28=\"bs\"),J29,)))","v":""}]
["23",{"$f":"IF($D29=\"\",\"\",VLOOKUP($D29,'Boys Si Main Draw Prep'!$A$7:$P$134,15))","v":""},{"$f":"IF($D29=\"\",\"\",VLOOKUP($D29,'Boys Si Main Draw Prep'!$A$7:$P$134,16))","v":""},null,{"$f":"UPPER(IF($D29=\"\",\"\",VLOOKUP($D29,'Boys Si Main Draw Prep'!$A$7:$P$134,2)))","v":""},{"$f":"IF($D29=\"\",\"\",VLOOKUP($D29,'Boys Si Main Draw Prep'!$A$7:$P$134,3))","v":""},null,{"$f":"IF($D29=\"\",\"\",VLOOKUP($D29,'Boys Si Main Draw Prep'!$A$7:$P$134,4))","v":""},null,{"$f":"UPPER(IF(OR(I30=\"a\",I30=\"as\"),E29,IF(OR(I30=\"b\",I30=\"bs\"),E30,)))","v":""}]
["24",{"$f":"IF($D30=\"\",\"\",VLOOKUP($D30,'Boys Si Main Draw Prep'!$A$7:$P$134,15))","v":""},{"$f":"IF($D30=\"\",\"\",VLOOKUP($D30,'Boys Si Main Draw Prep'!$A$7:$P$134,16))","v":""},null,{"$f":"UPPER(IF($D30=\"\",\"\",VLOOKUP($D30,'Boys Si Main Draw Prep'!$A$7:$P$134,2)))","v":""},{"$f":"IF($D30=\"\",\"\",VLOOKUP($D30,'Boys Si Main Draw Prep'!$A$7:$P$134,3))","v":""},null,{"$f":"IF($D30=\"\",\"\",VLOOKUP($D30,'Boys Si Main Draw Prep'!$A$7:$P$134,4))","v":""},null,null,null,null,null,"Umpire",null,{"$f":"UPPER(IF(OR(O30=\"a\",O30=\"as\"),N26,IF(OR(O30=\"b\",O30=\"bs\"),N34,)))","v":""}]
["25",{"$f":"IF($D31=\"\",\"\",VLOOKUP($D31,'Boys Si Main Draw Prep'!$A$7:$P$134,15))","v":""},{"$f":"IF($D31=\"\",\"\",VLOOKUP($D31,'Boys Si Main Draw Prep'!$A$7:$P$134,16))","v":""},null,{"$f":"UPPER(IF($D31=\"\",\"\",VLOOKUP($D31,'Boys Si Main Draw Prep'!$A$7:$P$134,2)))","v":""},{"$f":"IF($D31=\"\",\"\",VLOOKUP($D31,'Boys Si Main Draw Prep'!$A$7:$P$134,3))","v":""},null,{"$f":"IF($D31=\"\",\"\",VLOOKUP($D31,'Boys Si Main Draw Prep'!$A$7:$P$134,4))","v":""},null,{"$f":"UPPER(IF(OR(I32=\"a\",I32=\"as\"),E31,IF(OR(I32=\"b\",I32=\"bs\"),E32,)))","v":""}]
["26",{"$f":"IF($D32=\"\",\"\",VLOOKUP($D32,'Boys Si Main Draw Prep'!$A$7:$P$134,15))","v":""},{"$f":"IF($D32=\"\",\"\",VLOOKUP($D32,'Boys Si Main Draw Prep'!$A$7:$P$134,16))","v":""},null,{"$f":"UPPER(IF($D32=\"\",\"\",VLOOKUP($D32,'Boys Si Main Draw Prep'!$A$7:$P$134,2)))","v":""},{"$f":"IF($D32=\"\",\"\",VLOOKUP($D32,'Boys Si Main Draw Prep'!$A$7:$P$134,3))","v":""},null,{"$f":"IF($D32=\"\",\"\",VLOOKUP($D32,'Boys Si Main Draw Prep'!$A$7:$P$134,4))","v":""},null,null,null,{"$f":"UPPER(IF(OR(K32=\"a\",K32=\"as\"),J31,IF(OR(K32=\"b\",K32=\"bs\"),J33,)))","v":""}]
["27",{"$f":"IF($D33=\"\",\"\",VLOOKUP($D33,'Boys Si Main Draw Prep'!$A$7:$P$134,15))","v":""},{"$f":"IF($D33=\"\",\"\",VLOOKUP($D33,'Boys Si Main Draw Prep'!$A$7:$P$134,16))","v":""},null,{"$f":"UPPER(IF($D33=\"\",\"\",VLOOKUP($D33,'Boys Si Main Draw Prep'!$A$7:$P$134,2)))","v":""},{"$f":"IF($D33=\"\",\"\",VLOOKUP($D33,'Boys Si Main Draw Prep'!$A$7:$P$134,3))","v":""},null,{"$f":"IF($D33=\"\",\"\",VLOOKUP($D33,'Boys Si Main Draw Prep'!$A$7:$P$134,4))","v":""},null,{"$f":"UPPER(IF(OR(I34=\"a\",I34=\"as\"),E33,IF(OR(I34=\"b\",I34=\"bs\"),E34,)))","v":""}]
["28",{"$f":"IF($D34=\"\",\"\",VLOOKUP($D34,'Boys Si Main Draw Prep'!$A$7:$P$134,15))","v":""},{"$f":"IF($D34=\"\",\"\",VLOOKUP($D34,'Boys Si Main Draw Prep'!$A$7:$P$134,16))","v":""},null,{"$f":"UPPER(IF($D34=\"\",\"\",VLOOKUP($D34,'Boys Si Main Draw Prep'!$A$7:$P$134,2)))","v":""},{"$f":"IF($D34=\"\",\"\",VLOOKUP($D34,'Boys Si Main Draw Prep'!$A$7:$P$134,3))","v":""},null,{"$f":"IF($D34=\"\",\"\",VLOOKUP($D34,'Boys Si Main Draw Prep'!$A$7:$P$134,4))","v":""},null,null,null,"Umpire",null,{"$f":"UPPER(IF(OR(M34=\"a\",M34=\"as\"),L32,IF(OR(M34=\"b\",M34=\"bs\"),L36,)))","v":""}]
["29",{"$f":"IF($D35=\"\",\"\",VLOOKUP($D35,'Boys Si Main Draw Prep'!$A$7:$P$134,15))","v":""},{"$f":"IF($D35=\"\",\"\",VLOOKUP($D35,'Boys Si Main Draw Prep'!$A$7:$P$134,16))","v":""},null,{"$f":"UPPER(IF($D35=\"\",\"\",VLOOKUP($D35,'Boys Si Main Draw Prep'!$A$7:$P$134,2)))","v":""},{"$f":"IF($D35=\"\",\"\",VLOOKUP($D35,'Boys Si Main Draw Prep'!$A$7:$P$134,3))","v":""},null,{"$f":"IF($D35=\"\",\"\",VLOOKUP($D35,'Boys Si Main Draw Prep'!$A$7:$P$134,4))","v":""},null,{"$f":"UPPER(IF(OR(I36=\"a\",I36=\"as\"),E35,IF(OR(I36=\"b\",I36=\"bs\"),E36,)))","v":""}]
["30",{"$f":"IF($D36=\"\",\"\",VLOOKUP($D36,'Boys Si Main Draw Prep'!$A$7:$P$134,15))","v":""},{"$f":"IF($D36=\"\",\"\",VLOOKUP($D36,'Boys Si Main Draw Prep'!$A$7:$P$134,16))","v":""},null,{"$f":"UPPER(IF($D36=\"\",\"\",VLOOKUP($D36,'Boys Si Main Draw Prep'!$A$7:$P$134,2)))","v":""},{"$f":"IF($D36=\"\",\"\",VLOOKUP($D36,'Boys Si Main Draw Prep'!$A$7:$P$134,3))","v":""},null,{"$f":"IF($D36=\"\",\"\",VLOOKUP($D36,'Boys Si Main Draw Prep'!$A$7:$P$134,4))","v":""},null,null,null,{"$f":"UPPER(IF(OR(K36=\"a\",K36=\"as\"),J35,IF(OR(K36=\"b\",K36=\"bs\"),J37,)))","v":""}]
["31",{"$f":"IF($D37=\"\",\"\",VLOOKUP($D37,'Boys Si Main Draw Prep'!$A$7:$P$134,15))","v":""},{"$f":"IF($D37=\"\",\"\",VLOOKUP($D37,'Boys Si Main Draw Prep'!$A$7:$P$134,16))","v":""},null,{"$f":"UPPER(IF($D37=\"\",\"\",VLOOKUP($D37,'Boys Si Main Draw Prep'!$A$7:$P$134,2)))","v":""},{"$f":"IF($D37=\"\",\"\",VLOOKUP($D37,'Boys Si Main Draw Prep'!$A$7:$P$134,3))","v":""},null,{"$f":"IF($D37=\"\",\"\",VLOOKUP($D37,'Boys Si Main Draw Prep'!$A$7:$P$134,4))","v":""},null,{"$f":"UPPER(IF(OR(I38=\"a\",I38=\"as\"),E37,IF(OR(I38=\"b\",I38=\"bs\"),E38,)))","v":""}]
["32",{"$f":"IF($D38=\"\",\"\",VLOOKUP($D38,'Boys Si Main Draw Prep'!$A$7:$P$134,15))","v":""},{"$f":"IF($D38=\"\",\"\",VLOOKUP($D38,'Boys Si Main Draw Prep'!$A$7:$P$134,16))","v":""},null,{"$f":"UPPER(IF($D38=\"\",\"\",VLOOKUP($D38,'Boys Si Main Draw Prep'!$A$7:$P$134,2)))","v":""},{"$f":"IF($D38=\"\",\"\",VLOOKUP($D38,'Boys Si Main Draw Prep'!$A$7:$P$134,3))","v":""},null,{"$f":"IF($D38=\"\",\"\",VLOOKUP($D38,'Boys Si Main Draw Prep'!$A$7:$P$134,4))","v":""}]
["33",{"$f":"IF($D39=\"\",\"\",VLOOKUP($D39,'Boys Si Main Draw Prep'!$A$7:$P$134,15))","v":""},{"$f":"IF($D39=\"\",\"\",VLOOKUP($D39,'Boys Si Main Draw Prep'!$A$7:$P$134,16))","v":""},null,{"$f":"UPPER(IF($D39=\"\",\"\",VLOOKUP($D39,'Boys Si Main Draw Prep'!$A$7:$P$134,2)))","v":""},{"$f":"IF($D39=\"\",\"\",VLOOKUP($D39,'Boys Si Main Draw Prep'!$A$7:$P$134,3))","v":""},null,{"$f":"IF($D39=\"\",\"\",VLOOKUP($D39,'Boys Si Main Draw Prep'!$A$7:$P$134,4))","v":""},null,{"$f":"UPPER(IF(OR(I40=\"a\",I40=\"as\"),E39,IF(OR(I40=\"b\",I40=\"bs\"),E40,)))","v":""}]
["34",{"$f":"IF($D40=\"\",\"\",VLOOKUP($D40,'Boys Si Main Draw Prep'!$A$7:$P$134,15))","v":""},{"$f":"IF($D40=\"\",\"\",VLOOKUP($D40,'Boys Si Main Draw Prep'!$A$7:$P$134,16))","v":""},null,{"$f":"UPPER(IF($D40=\"\",\"\",VLOOKUP($D40,'Boys Si Main Draw Prep'!$A$7:$P$134,2)))","v":""},{"$f":"IF($D40=\"\",\"\",VLOOKUP($D40,'Boys Si Main Draw Prep'!$A$7:$P$134,3))","v":""},null,{"$f":"IF($D40=\"\",\"\",VLOOKUP($D40,'Boys Si Main Draw Prep'!$A$7:$P$134,4))","v":""},null,null,null,{"$f":"UPPER(IF(OR(K40=\"a\",K40=\"as\"),J39,IF(OR(K40=\"b\",K40=\"bs\"),J41,)))","v":""}]
["35",{"$f":"IF($D41=\"\",\"\",VLOOKUP($D41,'Boys Si Main Draw Prep'!$A$7:$P$134,15))","v":""},{"$f":"IF($D41=\"\",\"\",VLOOKUP($D41,'Boys Si Main Draw Prep'!$A$7:$P$134,16))","v":""},null,{"$f":"UPPER(IF($D41=\"\",\"\",VLOOKUP($D41,'Boys Si Main Draw Prep'!$A$7:$P$134,2)))","v":""},{"$f":"IF($D41=\"\",\"\",VLOOKUP($D41,'Boys Si Main Draw Prep'!$A$7:$P$134,3))","v":""},null,{"$f":"IF($D41=\"\",\"\",VLOOKUP($D41,'Boys Si Main Draw Prep'!$A$7:$P$134,4))","v":""},null,{"$f":"UPPER(IF(OR(I42=\"a\",I42=\"as\"),E41,IF(OR(I42=\"b\",I42=\"bs\"),E42,)))","v":""}]
["36",{"$f":"IF($D42=\"\",\"\",VLOOKUP($D42,'Boys Si Main Draw Prep'!$A$7:$P$134,15))","v":""},{"$f":"IF($D42=\"\",\"\",VLOOKUP($D42,'Boys Si Main Draw Prep'!$A$7:$P$134,16))","v":""},null,{"$f":"UPPER(IF($D42=\"\",\"\",VLOOKUP($D42,'Boys Si Main Draw Prep'!$A$7:$P$134,2)))","v":""},{"$f":"IF($D42=\"\",\"\",VLOOKUP($D42,'Boys Si Main Draw Prep'!$A$7:$P$134,3))","v":""},null,{"$f":"IF($D42=\"\",\"\",VLOOKUP($D42,'Boys Si Main Draw Prep'!$A$7:$P$134,4))","v":""},null,null,null,"Umpire",null,{"$f":"UPPER(IF(OR(M42=\"a\",M42=\"as\"),L40,IF(OR(M42=\"b\",M42=\"bs\"),L44,)))","v":""}]
["37",{"$f":"IF($D43=\"\",\"\",VLOOKUP($D43,'Boys Si Main Draw Prep'!$A$7:$P$134,15))","v":""},{"$f":"IF($D43=\"\",\"\",VLOOKUP($D43,'Boys Si Main Draw Prep'!$A$7:$P$134,16))","v":""},null,{"$f":"UPPER(IF($D43=\"\",\"\",VLOOKUP($D43,'Boys Si Main Draw Prep'!$A$7:$P$134,2)))","v":""},{"$f":"IF($D43=\"\",\"\",VLOOKUP($D43,'Boys Si Main Draw Prep'!$A$7:$P$134,3))","v":""},null,{"$f":"IF($D43=\"\",\"\",VLOOKUP($D43,'Boys Si Main Draw Prep'!$A$7:$P$134,4))","v":""},null,{"$f":"UPPER(IF(OR(I44=\"a\",I44=\"as\"),E43,IF(OR(I44=\"b\",I44=\"bs\"),E44,)))","v":""}]
["38",{"$f":"IF($D44=\"\",\"\",VLOOKUP($D44,'Boys Si Main Draw Prep'!$A$7:$P$134,15))","v":""},{"$f":"IF($D44=\"\",\"\",VLOOKUP($D44,'Boys Si Main Draw Prep'!$A$7:$P$134,16))","v":""},null,{"$f":"UPPER(IF($D44=\"\",\"\",VLOOKUP($D44,'Boys Si Main Draw Prep'!$A$7:$P$134,2)))","v":""},{"$f":"IF($D44=\"\",\"\",VLOOKUP($D44,'Boys Si Main Draw Prep'!$A$7:$P$134,3))","v":""},null,{"$f":"IF($D44=\"\",\"\",VLOOKUP($D44,'Boys Si Main Draw Prep'!$A$7:$P$134,4))","v":""},null,null,null,{"$f":"UPPER(IF(OR(K44=\"a\",K44=\"as\"),J43,IF(OR(K44=\"b\",K44=\"bs\"),J45,)))","v":""}]
["39",{"$f":"IF($D45=\"\",\"\",VLOOKUP($D45,'Boys Si Main Draw Prep'!$A$7:$P$134,15))","v":""},{"$f":"IF($D45=\"\",\"\",VLOOKUP($D45,'Boys Si Main Draw Prep'!$A$7:$P$134,16))","v":""},null,{"$f":"UPPER(IF($D45=\"\",\"\",VLOOKUP($D45,'Boys Si Main Draw Prep'!$A$7:$P$134,2)))","v":""},{"$f":"IF($D45=\"\",\"\",VLOOKUP($D45,'Boys Si Main Draw Prep'!$A$7:$P$134,3))","v":""},null,{"$f":"IF($D45=\"\",\"\",VLOOKUP($D45,'Boys Si Main Draw Prep'!$A$7:$P$134,4))","v":""},null,{"$f":"UPPER(IF(OR(I46=\"a\",I46=\"as\"),E45,IF(OR(I46=\"b\",I46=\"bs\"),E46,)))","v":""}]
["40",{"$f":"IF($D46=\"\",\"\",VLOOKUP($D46,'Boys Si Main Draw Prep'!$A$7:$P$134,15))","v":""},{"$f":"IF($D46=\"\",\"\",VLOOKUP($D46,'Boys Si Main Draw Prep'!$A$7:$P$134,16))","v":""},null,{"$f":"UPPER(IF($D46=\"\",\"\",VLOOKUP($D46,'Boys Si Main Draw Prep'!$A$7:$P$134,2)))","v":""},{"$f":"IF($D46=\"\",\"\",VLOOKUP($D46,'Boys Si Main Draw Prep'!$A$7:$P$134,3))","v":""},null,{"$f":"IF($D46=\"\",\"\",VLOOKUP($D46,'Boys Si Main Draw Prep'!$A$7:$P$134,4))","v":""},null,null,null,null,null,"Umpire",null,{"$f":"UPPER(IF(OR(O46=\"a\",O46=\"as\"),N42,IF(OR(O46=\"b\",O46=\"bs\"),N50,)))","v":""}]
["41",{"$f":"IF($D47=\"\",\"\",VLOOKUP($D47,'Boys Si Main Draw Prep'!$A$7:$P$134,15))","v":""},{"$f":"IF($D47=\"\",\"\",VLOOKUP($D47,'Boys Si Main Draw Prep'!$A$7:$P$134,16))","v":""},null,{"$f":"UPPER(IF($D47=\"\",\"\",VLOOKUP($D47,'Boys Si Main Draw Prep'!$A$7:$P$134,2)))","v":""},{"$f":"IF($D47=\"\",\"\",VLOOKUP($D47,'Boys Si Main Draw Prep'!$A$7:$P$134,3))","v":""},null,{"$f":"IF($D47=\"\",\"\",VLOOKUP($D47,'Boys Si Main Draw Prep'!$A$7:$P$134,4))","v":""},null,{"$f":"UPPER(IF(OR(I48=\"a\",I48=\"as\"),E47,IF(OR(I48=\"b\",I48=\"bs\"),E48,)))","v":""}]
["42",{"$f":"IF($D48=\"\",\"\",VLOOKUP($D48,'Boys Si Main Draw Prep'!$A$7:$P$134,15))","v":""},{"$f":"IF($D48=\"\",\"\",VLOOKUP($D48,'Boys Si Main Draw Prep'!$A$7:$P$134,16))","v":""},null,{"$f":"UPPER(IF($D48=\"\",\"\",VLOOKUP($D48,'Boys Si Main Draw Prep'!$A$7:$P$134,2)))","v":""},{"$f":"IF($D48=\"\",\"\",VLOOKUP($D48,'Boys Si Main Draw Prep'!$A$7:$P$134,3))","v":""},null,{"$f":"IF($D48=\"\",\"\",VLOOKUP($D48,'Boys Si Main Draw Prep'!$A$7:$P$134,4))","v":""},null,null,null,{"$f":"UPPER(IF(OR(K48=\"a\",K48=\"as\"),J47,IF(OR(K48=\"b\",K48=\"bs\"),J49,)))","v":""}]
["43",{"$f":"IF($D49=\"\",\"\",VLOOKUP($D49,'Boys Si Main Draw Prep'!$A$7:$P$134,15))","v":""},{"$f":"IF($D49=\"\",\"\",VLOOKUP($D49,'Boys Si Main Draw Prep'!$A$7:$P$134,16))","v":""},null,{"$f":"UPPER(IF($D49=\"\",\"\",VLOOKUP($D49,'Boys Si Main Draw Prep'!$A$7:$P$134,2)))","v":""},{"$f":"IF($D49=\"\",\"\",VLOOKUP($D49,'Boys Si Main Draw Prep'!$A$7:$P$134,3))","v":""},null,{"$f":"IF($D49=\"\",\"\",VLOOKUP($D49,'Boys Si Main Draw Prep'!$A$7:$P$134,4))","v":""},null,{"$f":"UPPER(IF(OR(I50=\"a\",I50=\"as\"),E49,IF(OR(I50=\"b\",I50=\"bs\"),E50,)))","v":""}]
["44",{"$f":"IF($D50=\"\",\"\",VLOOKUP($D50,'Boys Si Main Draw Prep'!$A$7:$P$134,15))","v":""},{"$f":"IF($D50=\"\",\"\",VLOOKUP($D50,'Boys Si Main Draw Prep'!$A$7:$P$134,16))","v":""},null,{"$f":"UPPER(IF($D50=\"\",\"\",VLOOKUP($D50,'Boys Si Main Draw Prep'!$A$7:$P$134,2)))","v":""},{"$f":"IF($D50=\"\",\"\",VLOOKUP($D50,'Boys Si Main Draw Prep'!$A$7:$P$134,3))","v":""},null,{"$f":"IF($D50=\"\",\"\",VLOOKUP($D50,'Boys Si Main Draw Prep'!$A$7:$P$134,4))","v":""},null,null,null,"Umpire",null,{"$f":"UPPER(IF(OR(M50=\"a\",M50=\"as\"),L48,IF(OR(M50=\"b\",M50=\"bs\"),L52,)))","v":""}]
["45",{"$f":"IF($D51=\"\",\"\",VLOOKUP($D51,'Boys Si Main Draw Prep'!$A$7:$P$134,15))","v":""},{"$f":"IF($D51=\"\",\"\",VLOOKUP($D51,'Boys Si Main Draw Prep'!$A$7:$P$134,16))","v":""},null,{"$f":"UPPER(IF($D51=\"\",\"\",VLOOKUP($D51,'Boys Si Main Draw Prep'!$A$7:$P$134,2)))","v":""},{"$f":"IF($D51=\"\",\"\",VLOOKUP($D51,'Boys Si Main Draw Prep'!$A$7:$P$134,3))","v":""},null,{"$f":"IF($D51=\"\",\"\",VLOOKUP($D51,'Boys Si Main Draw Prep'!$A$7:$P$134,4))","v":""},null,{"$f":"UPPER(IF(OR(I52=\"a\",I52=\"as\"),E51,IF(OR(I52=\"b\",I52=\"bs\"),E52,)))","v":""}]
["46",{"$f":"IF($D52=\"\",\"\",VLOOKUP($D52,'Boys Si Main Draw Prep'!$A$7:$P$134,15))","v":""},{"$f":"IF($D52=\"\",\"\",VLOOKUP($D52,'Boys Si Main Draw Prep'!$A$7:$P$134,16))","v":""},null,{"$f":"UPPER(IF($D52=\"\",\"\",VLOOKUP($D52,'Boys Si Main Draw Prep'!$A$7:$P$134,2)))","v":""},{"$f":"IF($D52=\"\",\"\",VLOOKUP($D52,'Boys Si Main Draw Prep'!$A$7:$P$134,3))","v":""},null,{"$f":"IF($D52=\"\",\"\",VLOOKUP($D52,'Boys Si Main Draw Prep'!$A$7:$P$134,4))","v":""},null,null,null,{"$f":"UPPER(IF(OR(K52=\"a\",K52=\"as\"),J51,IF(OR(K52=\"b\",K52=\"bs\"),J53,)))","v":""}]
["47",{"$f":"IF($D53=\"\",\"\",VLOOKUP($D53,'Boys Si Main Draw Prep'!$A$7:$P$134,15))","v":""},{"$f":"IF($D53=\"\",\"\",VLOOKUP($D53,'Boys Si Main Draw Prep'!$A$7:$P$134,16))","v":""},null,{"$f":"UPPER(IF($D53=\"\",\"\",VLOOKUP($D53,'Boys Si Main Draw Prep'!$A$7:$P$134,2)))","v":""},{"$f":"IF($D53=\"\",\"\",VLOOKUP($D53,'Boys Si Main Draw Prep'!$A$7:$P$134,3))","v":""},null,{"$f":"IF($D53=\"\",\"\",VLOOKUP($D53,'Boys Si Main Draw Prep'!$A$7:$P$134,4))","v":""},null,{"$f":"UPPER(IF(OR(I54=\"a\",I54=\"as\"),E53,IF(OR(I54=\"b\",I54=\"bs\"),E54,)))","v":""}]
["48",{"$f":"IF($D54=\"\",\"\",VLOOKUP($D54,'Boys Si Main Draw Prep'!$A$7:$P$134,15))","v":""},{"$f":"IF($D54=\"\",\"\",VLOOKUP($D54,'Boys Si Main Draw Prep'!$A$7:$P$134,16))","v":""},null,{"$f":"UPPER(IF($D54=\"\",\"\",VLOOKUP($D54,'Boys Si Main Draw Prep'!$A$7:$P$134,2)))","v":""},{"$f":"IF($D54=\"\",\"\",VLOOKUP($D54,'Boys Si Main Draw Prep'!$A$7:$P$134,3))","v":""},null,{"$f":"IF($D54=\"\",\"\",VLOOKUP($D54,'Boys Si Main Draw Prep'!$A$7:$P$134,4))","v":""}]
["49",{"$f":"IF($D55=\"\",\"\",VLOOKUP($D55,'Boys Si Main Draw Prep'!$A$7:$P$134,15))","v":""},{"$f":"IF($D55=\"\",\"\",VLOOKUP($D55,'Boys Si Main Draw Prep'!$A$7:$P$134,16))","v":""},null,{"$f":"UPPER(IF($D55=\"\",\"\",VLOOKUP($D55,'Boys Si Main Draw Prep'!$A$7:$P$134,2)))","v":""},{"$f":"IF($D55=\"\",\"\",VLOOKUP($D55,'Boys Si Main Draw Prep'!$A$7:$P$134,3))","v":""},null,{"$f":"IF($D55=\"\",\"\",VLOOKUP($D55,'Boys Si Main Draw Prep'!$A$7:$P$134,4))","v":""},null,{"$f":"UPPER(IF(OR(I56=\"a\",I56=\"as\"),E55,IF(OR(I56=\"b\",I56=\"bs\"),E56,)))","v":""}]
["50",{"$f":"IF($D56=\"\",\"\",VLOOKUP($D56,'Boys Si Main Draw Prep'!$A$7:$P$134,15))","v":""},{"$f":"IF($D56=\"\",\"\",VLOOKUP($D56,'Boys Si Main Draw Prep'!$A$7:$P$134,16))","v":""},null,{"$f":"UPPER(IF($D56=\"\",\"\",VLOOKUP($D56,'Boys Si Main Draw Prep'!$A$7:$P$134,2)))","v":""},{"$f":"IF($D56=\"\",\"\",VLOOKUP($D56,'Boys Si Main Draw Prep'!$A$7:$P$134,3))","v":""},null,{"$f":"IF($D56=\"\",\"\",VLOOKUP($D56,'Boys Si Main Draw Prep'!$A$7:$P$134,4))","v":""},null,null,null,{"$f":"UPPER(IF(OR(K56=\"a\",K56=\"as\"),J55,IF(OR(K56=\"b\",K56=\"bs\"),J57,)))","v":""}]
["51",{"$f":"IF($D57=\"\",\"\",VLOOKUP($D57,'Boys Si Main Draw Prep'!$A$7:$P$134,15))","v":""},{"$f":"IF($D57=\"\",\"\",VLOOKUP($D57,'Boys Si Main Draw Prep'!$A$7:$P$134,16))","v":""},null,{"$f":"UPPER(IF($D57=\"\",\"\",VLOOKUP($D57,'Boys Si Main Draw Prep'!$A$7:$P$134,2)))","v":""},{"$f":"IF($D57=\"\",\"\",VLOOKUP($D57,'Boys Si Main Draw Prep'!$A$7:$P$134,3))","v":""},null,{"$f":"IF($D57=\"\",\"\",VLOOKUP($D57,'Boys Si Main Draw Prep'!$A$7:$P$134,4))","v":""},null,{"$f":"UPPER(IF(OR(I58=\"a\",I58=\"as\"),E57,IF(OR(I58=\"b\",I58=\"bs\"),E58,)))","v":""}]
["52",{"$f":"IF($D58=\"\",\"\",VLOOKUP($D58,'Boys Si Main Draw Prep'!$A$7:$P$134,15))","v":""},{"$f":"IF($D58=\"\",\"\",VLOOKUP($D58,'Boys Si Main Draw Prep'!$A$7:$P$134,16))","v":""},null,{"$f":"UPPER(IF($D58=\"\",\"\",VLOOKUP($D58,'Boys Si Main Draw Prep'!$A$7:$P$134,2)))","v":""},{"$f":"IF($D58=\"\",\"\",VLOOKUP($D58,'Boys Si Main Draw Prep'!$A$7:$P$134,3))","v":""},null,{"$f":"IF($D58=\"\",\"\",VLOOKUP($D58,'Boys Si Main Draw Prep'!$A$7:$P$134,4))","v":""},null,null,null,"Umpire",null,{"$f":"UPPER(IF(OR(M58=\"a\",M58=\"as\"),L56,IF(OR(M58=\"b\",M58=\"bs\"),L60,)))","v":""}]
["53",{"$f":"IF($D59=\"\",\"\",VLOOKUP($D59,'Boys Si Main Draw Prep'!$A$7:$P$134,15))","v":""},{"$f":"IF($D59=\"\",\"\",VLOOKUP($D59,'Boys Si Main Draw Prep'!$A$7:$P$134,16))","v":""},null,{"$f":"UPPER(IF($D59=\"\",\"\",VLOOKUP($D59,'Boys Si Main Draw Prep'!$A$7:$P$134,2)))","v":""},{"$f":"IF($D59=\"\",\"\",VLOOKUP($D59,'Boys Si Main Draw Prep'!$A$7:$P$134,3))","v":""},null,{"$f":"IF($D59=\"\",\"\",VLOOKUP($D59,'Boys Si Main Draw Prep'!$A$7:$P$134,4))","v":""},null,{"$f":"UPPER(IF(OR(I60=\"a\",I60=\"as\"),E59,IF(OR(I60=\"b\",I60=\"bs\"),E60,)))","v":""}]
["54",{"$f":"IF($D60=\"\",\"\",VLOOKUP($D60,'Boys Si Main Draw Prep'!$A$7:$P$134,15))","v":""},{"$f":"IF($D60=\"\",\"\",VLOOKUP($D60,'Boys Si Main Draw Prep'!$A$7:$P$134,16))","v":""},null,{"$f":"UPPER(IF($D60=\"\",\"\",VLOOKUP($D60,'Boys Si Main Draw Prep'!$A$7:$P$134,2)))","v":""},{"$f":"IF($D60=\"\",\"\",VLOOKUP($D60,'Boys Si Main Draw Prep'!$A$7:$P$134,3))","v":""},null,{"$f":"IF($D60=\"\",\"\",VLOOKUP($D60,'Boys Si Main Draw Prep'!$A$7:$P$134,4))","v":""},null,null,null,{"$f":"UPPER(IF(OR(K60=\"a\",K60=\"as\"),J59,IF(OR(K60=\"b\",K60=\"bs\"),J61,)))","v":""}]
["55",{"$f":"IF($D61=\"\",\"\",VLOOKUP($D61,'Boys Si Main Draw Prep'!$A$7:$P$134,15))","v":""},{"$f":"IF($D61=\"\",\"\",VLOOKUP($D61,'Boys Si Main Draw Prep'!$A$7:$P$134,16))","v":""},null,{"$f":"UPPER(IF($D61=\"\",\"\",VLOOKUP($D61,'Boys Si Main Draw Prep'!$A$7:$P$134,2)))","v":""},{"$f":"IF($D61=\"\",\"\",VLOOKUP($D61,'Boys Si Main Draw Prep'!$A$7:$P$134,3))","v":""},null,{"$f":"IF($D61=\"\",\"\",VLOOKUP($D61,'Boys Si Main Draw Prep'!$A$7:$P$134,4))","v":""},null,{"$f":"UPPER(IF(OR(I62=\"a\",I62=\"as\"),E61,IF(OR(I62=\"b\",I62=\"bs\"),E62,)))","v":""}]
["56",{"$f":"IF($D62=\"\",\"\",VLOOKUP($D62,'Boys Si Main Draw Prep'!$A$7:$P$134,15))","v":""},{"$f":"IF($D62=\"\",\"\",VLOOKUP($D62,'Boys Si Main Draw Prep'!$A$7:$P$134,16))","v":""},null,{"$f":"UPPER(IF($D62=\"\",\"\",VLOOKUP($D62,'Boys Si Main Draw Prep'!$A$7:$P$134,2)))","v":""},{"$f":"IF($D62=\"\",\"\",VLOOKUP($D62,'Boys Si Main Draw Prep'!$A$7:$P$134,3))","v":""},null,{"$f":"IF($D62=\"\",\"\",VLOOKUP($D62,'Boys Si Main Draw Prep'!$A$7:$P$134,4))","v":""},null,null,null,null,null,"Umpire",null,{"$f":"UPPER(IF(OR(O62=\"a\",O62=\"as\"),N58,IF(OR(O62=\"b\",O62=\"bs\"),N66,)))","v":""}]
["57",{"$f":"IF($D63=\"\",\"\",VLOOKUP($D63,'Boys Si Main Draw Prep'!$A$7:$P$134,15))","v":""},{"$f":"IF($D63=\"\",\"\",VLOOKUP($D63,'Boys Si Main Draw Prep'!$A$7:$P$134,16))","v":""},null,{"$f":"UPPER(IF($D63=\"\",\"\",VLOOKUP($D63,'Boys Si Main Draw Prep'!$A$7:$P$134,2)))","v":""},{"$f":"IF($D63=\"\",\"\",VLOOKUP($D63,'Boys Si Main Draw Prep'!$A$7:$P$134,3))","v":""},null,{"$f":"IF($D63=\"\",\"\",VLOOKUP($D63,'Boys Si Main Draw Prep'!$A$7:$P$134,4))","v":""},null,{"$f":"UPPER(IF(OR(I64=\"a\",I64=\"as\"),E63,IF(OR(I64=\"b\",I64=\"bs\"),E64,)))","v":""}]
["58",{"$f":"IF($D64=\"\",\"\",VLOOKUP($D64,'Boys Si Main Draw Prep'!$A$7:$P$134,15))","v":""},{"$f":"IF($D64=\"\",\"\",VLOOKUP($D64,'Boys Si Main Draw Prep'!$A$7:$P$134,16))","v":""},null,{"$f":"UPPER(IF($D64=\"\",\"\",VLOOKUP($D64,'Boys Si Main Draw Prep'!$A$7:$P$134,2)))","v":""},{"$f":"IF($D64=\"\",\"\",VLOOKUP($D64,'Boys Si Main Draw Prep'!$A$7:$P$134,3))","v":""},null,{"$f":"IF($D64=\"\",\"\",VLOOKUP($D64,'Boys Si Main Draw Prep'!$A$7:$P$134,4))","v":""},null,null,null,{"$f":"UPPER(IF(OR(K64=\"a\",K64=\"as\"),J63,IF(OR(K64=\"b\",K64=\"bs\"),J65,)))","v":""}]
["59",{"$f":"IF($D65=\"\",\"\",VLOOKUP($D65,'Boys Si Main Draw Prep'!$A$7:$P$134,15))","v":""},{"$f":"IF($D65=\"\",\"\",VLOOKUP($D65,'Boys Si Main Draw Prep'!$A$7:$P$134,16))","v":""},null,{"$f":"UPPER(IF($D65=\"\",\"\",VLOOKUP($D65,'Boys Si Main Draw Prep'!$A$7:$P$134,2)))","v":""},{"$f":"IF($D65=\"\",\"\",VLOOKUP($D65,'Boys Si Main Draw Prep'!$A$7:$P$134,3))","v":""},null,{"$f":"IF($D65=\"\",\"\",VLOOKUP($D65,'Boys Si Main Draw Prep'!$A$7:$P$134,4))","v":""},null,{"$f":"UPPER(IF(OR(I66=\"a\",I66=\"as\"),E65,IF(OR(I66=\"b\",I66=\"bs\"),E66,)))","v":""}]
["60",{"$f":"IF($D66=\"\",\"\",VLOOKUP($D66,'Boys Si Main Draw Prep'!$A$7:$P$134,15))","v":""},{"$f":"IF($D66=\"\",\"\",VLOOKUP($D66,'Boys Si Main Draw Prep'!$A$7:$P$134,16))","v":""},null,{"$f":"UPPER(IF($D66=\"\",\"\",VLOOKUP($D66,'Boys Si Main Draw Prep'!$A$7:$P$134,2)))","v":""},{"$f":"IF($D66=\"\",\"\",VLOOKUP($D66,'Boys Si Main Draw Prep'!$A$7:$P$134,3))","v":""},null,{"$f":"IF($D66=\"\",\"\",VLOOKUP($D66,'Boys Si Main Draw Prep'!$A$7:$P$134,4))","v":""},null,null,null,"Umpire",null,{"$f":"UPPER(IF(OR(M66=\"a\",M66=\"as\"),L64,IF(OR(M66=\"b\",M66=\"bs\"),L68,)))","v":""}]
["61",{"$f":"IF($D67=\"\",\"\",VLOOKUP($D67,'Boys Si Main Draw Prep'!$A$7:$P$134,15))","v":""},{"$f":"IF($D67=\"\",\"\",VLOOKUP($D67,'Boys Si Main Draw Prep'!$A$7:$P$134,16))","v":""},null,{"$f":"UPPER(IF($D67=\"\",\"\",VLOOKUP($D67,'Boys Si Main Draw Prep'!$A$7:$P$134,2)))","v":""},{"$f":"IF($D67=\"\",\"\",VLOOKUP($D67,'Boys Si Main Draw Prep'!$A$7:$P$134,3))","v":""},null,{"$f":"IF($D67=\"\",\"\",VLOOKUP($D67,'Boys Si Main Draw Prep'!$A$7:$P$134,4))","v":""},null,{"$f":"UPPER(IF(OR(I68=\"a\",I68=\"as\"),E67,IF(OR(I68=\"b\",I68=\"bs\"),E68,)))","v":""}]
["62",{"$f":"IF($D68=\"\",\"\",VLOOKUP($D68,'Boys Si Main Draw Prep'!$A$7:$P$134,15))","v":""},{"$f":"IF($D68=\"\",\"\",VLOOKUP($D68,'Boys Si Main Draw Prep'!$A$7:$P$134,16))","v":""},null,{"$f":"UPPER(IF($D68=\"\",\"\",VLOOKUP($D68,'Boys Si Main Draw Prep'!$A$7:$P$134,2)))","v":""},{"$f":"IF($D68=\"\",\"\",VLOOKUP($D68,'Boys Si Main Draw Prep'!$A$7:$P$134,3))","v":""},null,{"$f":"IF($D68=\"\",\"\",VLOOKUP($D68,'Boys Si Main Draw Prep'!$A$7:$P$134,4))","v":""},null,null,null,{"$f":"UPPER(IF(OR(K68=\"a\",K68=\"as\"),J67,IF(OR(K68=\"b\",K68=\"bs\"),J69,)))","v":""}]
["63",{"$f":"IF($D69=\"\",\"\",VLOOKUP($D69,'Boys Si Main Draw Prep'!$A$7:$P$134,15))","v":""},{"$f":"IF($D69=\"\",\"\",VLOOKUP($D69,'Boys Si Main Draw Prep'!$A$7:$P$134,16))","v":""},null,{"$f":"UPPER(IF($D69=\"\",\"\",VLOOKUP($D69,'Boys Si Main Draw Prep'!$A$7:$P$134,2)))","v":""},{"$f":"IF($D69=\"\",\"\",VLOOKUP($D69,'Boys Si Main Draw Prep'!$A$7:$P$134,3))","v":""},null,{"$f":"IF($D69=\"\",\"\",VLOOKUP($D69,'Boys Si Main Draw Prep'!$A$7:$P$134,4))","v":""},null,{"$f":"UPPER(IF(OR(I70=\"a\",I70=\"as\"),E69,IF(OR(I70=\"b\",I70=\"bs\"),E70,)))","v":""}]
["64",{"$f":"IF($D70=\"\",\"\",VLOOKUP($D70,'Boys Si Main Draw Prep'!$A$7:$P$134,15))","v":""},{"$f":"IF($D70=\"\",\"\",VLOOKUP($D70,'Boys Si Main Draw Prep'!$A$7:$P$134,16))","v":""},null,{"$f":"UPPER(IF($D70=\"\",\"\",VLOOKUP($D70,'Boys Si Main Draw Prep'!$A$7:$P$134,2)))","v":""},{"$f":"IF($D70=\"\",\"\",VLOOKUP($D70,'Boys Si Main Draw Prep'!$A$7:$P$134,3))","v":""},null,{"$f":"IF($D70=\"\",\"\",VLOOKUP($D70,'Boys Si Main Draw Prep'!$A$7:$P$134,4))","v":""}]
[]
["Acc. Ranking",null,null,"#","Seeded players","#","Seeded players",null,"#","Lucky Losers",null,"Replacing",null,"Draw date/time:"]
["Rkg Date",null,null,1,{"$f":"IF(D73>$Q$80,,UPPER(VLOOKUP(D73,'Boys Si Main Draw Prep'!$A$7:$R$134,2)))","v":0},9,{"$f":"IF(F73>$Q$80,,UPPER(VLOOKUP(F73,'Boys Si Main Draw Prep'!$A$7:$R$134,2)))","v":0},null,"1",null,null,null,null,"Last Accepted player"]
["Top DA",null,null,2,{"$f":"IF(D74>$Q$80,,UPPER(VLOOKUP(D74,'Boys Si Main Draw Prep'!$A$7:$R$134,2)))","v":0},10,{"$f":"IF(F74>$Q$80,,UPPER(VLOOKUP(F74,'Boys Si Main Draw Prep'!$A$7:$R$134,2)))","v":0},null,"2"]
["Last DA",null,null,3,{"$f":"IF(D75>$Q$80,,UPPER(VLOOKUP(D75,'Boys Si Main Draw Prep'!$A$7:$R$134,2)))","v":0},11,{"$f":"IF(F75>$Q$80,,UPPER(VLOOKUP(F75,'Boys Si Main Draw Prep'!$A$7:$R$134,2)))","v":0},null,"3",null,null,null,null,"Player representatives"]
[null,null,null,4,{"$f":"IF(D76>$Q$80,,UPPER(VLOOKUP(D76,'Boys Si Main Draw Prep'!$A$7:$R$134,2)))","v":0},12,{"$f":"IF(F76>$Q$80,,UPPER(VLOOKUP(F76,'Boys Si Main Draw Prep'!$A$7:$R$134,2)))","v":0},null,"4"]
["Seed ranking",null,null,5,{"$f":"IF(D77>$Q$80,,UPPER(VLOOKUP(D77,'Boys Si Main Draw Prep'!$A$7:$R$134,2)))","v":0},13,{"$f":"IF(F77>$Q$80,,UPPER(VLOOKUP(F77,'Boys Si Main Draw Prep'!$A$7:$R$134,2)))","v":0},null,"5"]
["Rkg Date",null,null,6,{"$f":"IF(D78>$Q$80,,UPPER(VLOOKUP(D78,'Boys Si Main Draw Prep'!$A$7:$R$134,2)))","v":0},14,{"$f":"IF(F78>$Q$80,,UPPER(VLOOKUP(F78,'Boys Si Main Draw Prep'!$A$7:$R$134,2)))","v":0},null,"6",null,null,null,null,"ITF Referee's signature"]
["Top seed",null,null,7,{"$f":"IF(D79>$Q$80,,UPPER(VLOOKUP(D79,'Boys Si Main Draw Prep'!$A$7:$R$134,2)))","v":0},15,{"$f":"IF(F79>$Q$80,,UPPER(VLOOKUP(F79,'Boys Si Main Draw Prep'!$A$7:$R$134,2)))","v":0},null,"7"]
["Last seed",null,null,8,{"$f":"IF(D80>$Q$80,,UPPER(VLOOKUP(D80,'Boys Si Main Draw Prep'!$A$7:$R$134,2)))","v":0},16,{"$f":"IF(F80>$Q$80,,UPPER(VLOOKUP(F80,'Boys Si Main Draw Prep'!$A$7:$R$134,2)))","v":0},null,"8",null,null,null,null,{"$f":"Q4","v":0},null,null,{"$f":"MIN(16,'Boys Si Main Draw Prep'!R5)","v":0}]
[null,"St.","Rank","Seed","Family Name","First name",null,"Nationality",null,"2nd Round",null,"3rd Round",null,"4th Round",null,"Quarterfinalists"]
[]
["65",{"$f":"IF($D83=\"\",\"\",VLOOKUP($D83,'Boys Si Main Draw Prep'!$A$7:$P$134,15))","v":""},{"$f":"IF($D83=\"\",\"\",VLOOKUP($D83,'Boys Si Main Draw Prep'!$A$7:$P$134,16))","v":""},null,{"$f":"UPPER(IF($D83=\"\",\"\",VLOOKUP($D83,'Boys Si Main Draw Prep'!$A$7:$P$134,2)))","v":""},{"$f":"IF($D83=\"\",\"\",VLOOKUP($D83,'Boys Si Main Draw Prep'!$A$7:$P$134,3))","v":""},null,{"$f":"IF($D83=\"\",\"\",VLOOKUP($D83,'Boys Si Main Draw Prep'!$A$7:$P$134,4))","v":""},null,{"$f":"UPPER(IF(OR(I84=\"a\",I84=\"as\"),E83,IF(OR(I84=\"b\",I84=\"bs\"),E84,)))","v":""},null,null,null,null,null,null,"Page 2(3)"]
["66",{"$f":"IF($D84=\"\",\"\",VLOOKUP($D84,'Boys Si Main Draw Prep'!$A$7:$P$134,15))","v":""},{"$f":"IF($D84=\"\",\"\",VLOOKUP($D84,'Boys Si Main Draw Prep'!$A$7:$P$134,16))","v":""},null,{"$f":"UPPER(IF($D84=\"\",\"\",VLOOKUP($D84,'Boys Si Main Draw Prep'!$A$7:$P$134,2)))","v":""},{"$f":"IF($D84=\"\",\"\",VLOOKUP($D84,'Boys Si Main Draw Prep'!$A$7:$P$134,3))","v":""},null,{"$f":"IF($D84=\"\",\"\",VLOOKUP($D84,'Boys Si Main Draw Prep'!$A$7:$P$134,4))","v":""},null,null,null,{"$f":"UPPER(IF(OR(K84=\"a\",K84=\"as\"),J83,IF(OR(K84=\"b\",K84=\"bs\"),J85,)))","v":""}]
["67",{"$f":"IF($D85=\"\",\"\",VLOOKUP($D85,'Boys Si Main Draw Prep'!$A$7:$P$134,15))","v":""},{"$f":"IF($D85=\"\",\"\",VLOOKUP($D85,'Boys Si Main Draw Prep'!$A$7:$P$134,16))","v":""},null,{"$f":"UPPER(IF($D85=\"\",\"\",VLOOKUP($D85,'Boys Si Main Draw Prep'!$A$7:$P$134,2)))","v":""},{"$f":"IF($D85=\"\",\"\",VLOOKUP($D85,'Boys Si Main Draw Prep'!$A$7:$P$134,3))","v":""},null,{"$f":"IF($D85=\"\",\"\",VLOOKUP($D85,'Boys Si Main Draw Prep'!$A$7:$P$134,4))","v":""},null,{"$f":"UPPER(IF(OR(I86=\"a\",I86=\"as\"),E85,IF(OR(I86=\"b\",I86=\"bs\"),E86,)))","v":""}]
["68",{"$f":"IF($D86=\"\",\"\",VLOOKUP($D86,'Boys Si Main Draw Prep'!$A$7:$P$134,15))","v":""},{"$f":"IF($D86=\"\",\"\",VLOOKUP($D86,'Boys Si Main Draw Prep'!$A$7:$P$134,16))","v":""},null,{"$f":"UPPER(IF($D86=\"\",\"\",VLOOKUP($D86,'Boys Si Main Draw Prep'!$A$7:$P$134,2)))","v":""},{"$f":"IF($D86=\"\",\"\",VLOOKUP($D86,'Boys Si Main Draw Prep'!$A$7:$P$134,3))","v":""},null,{"$f":"IF($D86=\"\",\"\",VLOOKUP($D86,'Boys Si Main Draw Prep'!$A$7:$P$134,4))","v":""},null,null,null,"Umpire",null,{"$f":"UPPER(IF(OR(M86=\"a\",M86=\"as\"),L84,IF(OR(M86=\"b\",M86=\"bs\"),L88,)))","v":""}]
["69",{"$f":"IF($D87=\"\",\"\",VLOOKUP($D87,'Boys Si Main Draw Prep'!$A$7:$P$134,15))","v":""},{"$f":"IF($D87=\"\",\"\",VLOOKUP($D87,'Boys Si Main Draw Prep'!$A$7:$P$134,16))","v":""},null,{"$f":"UPPER(IF($D87=\"\",\"\",VLOOKUP($D87,'Boys Si Main Draw Prep'!$A$7:$P$134,2)))","v":""},{"$f":"IF($D87=\"\",\"\",VLOOKUP($D87,'Boys Si Main Draw Prep'!$A$7:$P$134,3))","v":""},null,{"$f":"IF($D87=\"\",\"\",VLOOKUP($D87,'Boys Si Main Draw Prep'!$A$7:$P$134,4))","v":""},null,{"$f":"UPPER(IF(OR(I88=\"a\",I88=\"as\"),E87,IF(OR(I88=\"b\",I88=\"bs\"),E88,)))","v":""}]
["70",{"$f":"IF($D88=\"\",\"\",VLOOKUP($D88,'Boys Si Main Draw Prep'!$A$7:$P$134,15))","v":""},{"$f":"IF($D88=\"\",\"\",VLOOKUP($D88,'Boys Si Main Draw Prep'!$A$7:$P$134,16))","v":""},null,{"$f":"UPPER(IF($D88=\"\",\"\",VLOOKUP($D88,'Boys Si Main Draw Prep'!$A$7:$P$134,2)))","v":""},{"$f":"IF($D88=\"\",\"\",VLOOKUP($D88,'Boys Si Main Draw Prep'!$A$7:$P$134,3))","v":""},null,{"$f":"IF($D88=\"\",\"\",VLOOKUP($D88,'Boys Si Main Draw Prep'!$A$7:$P$134,4))","v":""},null,null,null,{"$f":"UPPER(IF(OR(K88=\"a\",K88=\"as\"),J87,IF(OR(K88=\"b\",K88=\"bs\"),J89,)))","v":""}]
["71",{"$f":"IF($D89=\"\",\"\",VLOOKUP($D89,'Boys Si Main Draw Prep'!$A$7:$P$134,15))","v":""},{"$f":"IF($D89=\"\",\"\",VLOOKUP($D89,'Boys Si Main Draw Prep'!$A$7:$P$134,16))","v":""},null,{"$f":"UPPER(IF($D89=\"\",\"\",VLOOKUP($D89,'Boys Si Main Draw Prep'!$A$7:$P$134,2)))","v":""},{"$f":"IF($D89=\"\",\"\",VLOOKUP($D89,'Boys Si Main Draw Prep'!$A$7:$P$134,3))","v":""},null,{"$f":"IF($D89=\"\",\"\",VLOOKUP($D89,'Boys Si Main Draw Prep'!$A$7:$P$134,4))","v":""},null,{"$f":"UPPER(IF(OR(I90=\"a\",I90=\"as\"),E89,IF(OR(I90=\"b\",I90=\"bs\"),E90,)))","v":""}]
["72",{"$f":"IF($D90=\"\",\"\",VLOOKUP($D90,'Boys Si Main Draw Prep'!$A$7:$P$134,15))","v":""},{"$f":"IF($D90=\"\",\"\",VLOOKUP($D90,'Boys Si Main Draw Prep'!$A$7:$P$134,16))","v":""},null,{"$f":"UPPER(IF($D90=\"\",\"\",VLOOKUP($D90,'Boys Si Main Draw Prep'!$A$7:$P$134,2)))","v":""},{"$f":"IF($D90=\"\",\"\",VLOOKUP($D90,'Boys Si Main Draw Prep'!$A$7:$P$134,3))","v":""},null,{"$f":"IF($D90=\"\",\"\",VLOOKUP($D90,'Boys Si Main Draw Prep'!$A$7:$P$134,4))","v":""},null,null,null,null,null,"Umpire",null,{"$f":"UPPER(IF(OR(O90=\"a\",O90=\"as\"),N86,IF(OR(O90=\"b\",O90=\"bs\"),N94,)))","v":""}]
["73",{"$f":"IF($D91=\"\",\"\",VLOOKUP($D91,'Boys Si Main Draw Prep'!$A$7:$P$134,15))","v":""},{"$f":"IF($D91=\"\",\"\",VLOOKUP($D91,'Boys Si Main Draw Prep'!$A$7:$P$134,16))","v":""},null,{"$f":"UPPER(IF($D91=\"\",\"\",VLOOKUP($D91,'Boys Si Main Draw Prep'!$A$7:$P$134,2)))","v":""},{"$f":"IF($D91=\"\",\"\",VLOOKUP($D91,'Boys Si Main Draw Prep'!$A$7:$P$134,3))","v":""},null,{"$f":"IF($D91=\"\",\"\",VLOOKUP($D91,'Boys Si Main Draw Prep'!$A$7:$P$134,4))","v":""},null,{"$f":"UPPER(IF(OR(I92=\"a\",I92=\"as\"),E91,IF(OR(I92=\"b\",I92=\"bs\"),E92,)))","v":""}]
["74",{"$f":"IF($D92=\"\",\"\",VLOOKUP($D92,'Boys Si Main Draw Prep'!$A$7:$P$134,15))","v":""},{"$f":"IF($D92=\"\",\"\",VLOOKUP($D92,'Boys Si Main Draw Prep'!$A$7:$P$134,16))","v":""},null,{"$f":"UPPER(IF($D92=\"\",\"\",VLOOKUP($D92,'Boys Si Main Draw Prep'!$A$7:$P$134,2)))","v":""},{"$f":"IF($D92=\"\",\"\",VLOOKUP($D92,'Boys Si Main Draw Prep'!$A$7:$P$134,3))","v":""},null,{"$f":"IF($D92=\"\",\"\",VLOOKUP($D92,'Boys Si Main Draw Prep'!$A$7:$P$134,4))","v":""},null,null,null,{"$f":"UPPER(IF(OR(K92=\"a\",K92=\"as\"),J91,IF(OR(K92=\"b\",K92=\"bs\"),J93,)))","v":""}]
["75",{"$f":"IF($D93=\"\",\"\",VLOOKUP($D93,'Boys Si Main Draw Prep'!$A$7:$P$134,15))","v":""},{"$f":"IF($D93=\"\",\"\",VLOOKUP($D93,'Boys Si Main Draw Prep'!$A$7:$P$134,16))","v":""},null,{"$f":"UPPER(IF($D93=\"\",\"\",VLOOKUP($D93,'Boys Si Main Draw Prep'!$A$7:$P$134,2)))","v":""},{"$f":"IF($D93=\"\",\"\",VLOOKUP($D93,'Boys Si Main Draw Prep'!$A$7:$P$134,3))","v":""},null,{"$f":"IF($D93=\"\",\"\",VLOOKUP($D93,'Boys Si Main Draw Prep'!$A$7:$P$134,4))","v":""},null,{"$f":"UPPER(IF(OR(I94=\"a\",I94=\"as\"),E93,IF(OR(I94=\"b\",I94=\"bs\"),E94,)))","v":""}]
["76",{"$f":"IF($D94=\"\",\"\",VLOOKUP($D94,'Boys Si Main Draw Prep'!$A$7:$P$134,15))","v":""},{"$f":"IF($D94=\"\",\"\",VLOOKUP($D94,'Boys Si Main Draw Prep'!$A$7:$P$134,16))","v":""},null,{"$f":"UPPER(IF($D94=\"\",\"\",VLOOKUP($D94,'Boys Si Main Draw Prep'!$A$7:$P$134,2)))","v":""},{"$f":"IF($D94=\"\",\"\",VLOOKUP($D94,'Boys Si Main Draw Prep'!$A$7:$P$134,3))","v":""},null,{"$f":"IF($D94=\"\",\"\",VLOOKUP($D94,'Boys Si Main Draw Prep'!$A$7:$P$134,4))","v":""},null,null,null,"Umpire",null,{"$f":"UPPER(IF(OR(M94=\"a\",M94=\"as\"),L92,IF(OR(M94=\"b\",M94=\"bs\"),L96,)))","v":""}]
["77",{"$f":"IF($D95=\"\",\"\",VLOOKUP($D95,'Boys Si Main Draw Prep'!$A$7:$P$134,15))","v":""},{"$f":"IF($D95=\"\",\"\",VLOOKUP($D95,'Boys Si Main Draw Prep'!$A$7:$P$134,16))","v":""},null,{"$f":"UPPER(IF($D95=\"\",\"\",VLOOKUP($D95,'Boys Si Main Draw Prep'!$A$7:$P$134,2)))","v":""},{"$f":"IF($D95=\"\",\"\",VLOOKUP($D95,'Boys Si Main Draw Prep'!$A$7:$P$134,3))","v":""},null,{"$f":"IF($D95=\"\",\"\",VLOOKUP($D95,'Boys Si Main Draw Prep'!$A$7:$P$134,4))","v":""},null,{"$f":"UPPER(IF(OR(I96=\"a\",I96=\"as\"),E95,IF(OR(I96=\"b\",I96=\"bs\"),E96,)))","v":""}]
["78",{"$f":"IF($D96=\"\",\"\",VLOOKUP($D96,'Boys Si Main Draw Prep'!$A$7:$P$134,15))","v":""},{"$f":"IF($D96=\"\",\"\",VLOOKUP($D96,'Boys Si Main Draw Prep'!$A$7:$P$134,16))","v":""},null,{"$f":"UPPER(IF($D96=\"\",\"\",VLOOKUP($D96,'Boys Si Main Draw Prep'!$A$7:$P$134,2)))","v":""},{"$f":"IF($D96=\"\",\"\",VLOOKUP($D96,'Boys Si Main Draw Prep'!$A$7:$P$134,3))","v":""},null,{"$f":"IF($D96=\"\",\"\",VLOOKUP($D96,'Boys Si Main Draw Prep'!$A$7:$P$134,4))","v":""},null,null,null,{"$f":"UPPER(IF(OR(K96=\"a\",K96=\"as\"),J95,IF(OR(K96=\"b\",K96=\"bs\"),J97,)))","v":""}]
["79",{"$f":"IF($D97=\"\",\"\",VLOOKUP($D97,'Boys Si Main Draw Prep'!$A$7:$P$134,15))","v":""},{"$f":"IF($D97=\"\",\"\",VLOOKUP($D97,'Boys Si Main Draw Prep'!$A$7:$P$134,16))","v":""},null,{"$f":"UPPER(IF($D97=\"\",\"\",VLOOKUP($D97,'Boys Si Main Draw Prep'!$A$7:$P$134,2)))","v":""},{"$f":"IF($D97=\"\",\"\",VLOOKUP($D97,'Boys Si Main Draw Prep'!$A$7:$P$134,3))","v":""},null,{"$f":"IF($D97=\"\",\"\",VLOOKUP($D97,'Boys Si Main Draw Prep'!$A$7:$P$134,4))","v":""},null,{"$f":"UPPER(IF(OR(I98=\"a\",I98=\"as\"),E97,IF(OR(I98=\"b\",I98=\"bs\"),E98,)))","v":""}]
["80",{"$f":"IF($D98=\"\",\"\",VLOOKUP($D98,'Boys Si Main Draw Prep'!$A$7:$P$134,15))","v":""},{"$f":"IF($D98=\"\",\"\",VLOOKUP($D98,'Boys Si Main Draw Prep'!$A$7:$P$134,16))","v":""},null,{"$f":"UPPER(IF($D98=\"\",\"\",VLOOKUP($D98,'Boys Si Main Draw Prep'!$A$7:$P$134,2)))","v":""},{"$f":"IF($D98=\"\",\"\",VLOOKUP($D98,'Boys Si Main Draw Prep'!$A$7:$P$134,3))","v":""},null,{"$f":"IF($D98=\"\",\"\",VLOOKUP($D98,'Boys Si Main Draw Prep'!$A$7:$P$134,4))","v":""}]
["81",{"$f":"IF($D99=\"\",\"\",VLOOKUP($D99,'Boys Si Main Draw Prep'!$A$7:$P$134,15))","v":""},{"$f":"IF($D99=\"\",\"\",VLOOKUP($D99,'Boys Si Main Draw Prep'!$A$7:$P$134,16))","v":""},null,{"$f":"UPPER(IF($D99=\"\",\"\",VLOOKUP($D99,'Boys Si Main Draw Prep'!$A$7:$P$134,2)))","v":""},{"$f":"IF($D99=\"\",\"\",VLOOKUP($D99,'Boys Si Main Draw Prep'!$A$7:$P$134,3))","v":""},null,{"$f":"IF($D99=\"\",\"\",VLOOKUP($D99,'Boys Si Main Draw Prep'!$A$7:$P$134,4))","v":""},null,{"$f":"UPPER(IF(OR(I100=\"a\",I100=\"as\"),E99,IF(OR(I100=\"b\",I100=\"bs\"),E100,)))","v":""}]
["82",{"$f":"IF($D100=\"\",\"\",VLOOKUP($D100,'Boys Si Main Draw Prep'!$A$7:$P$134,15))","v":""},{"$f":"IF($D100=\"\",\"\",VLOOKUP($D100,'Boys Si Main Draw Prep'!$A$7:$P$134,16))","v":""},null,{"$f":"UPPER(IF($D100=\"\",\"\",VLOOKUP($D100,'Boys Si Main Draw Prep'!$A$7:$P$134,2)))","v":""},{"$f":"IF($D100=\"\",\"\",VLOOKUP($D100,'Boys Si Main Draw Prep'!$A$7:$P$134,3))","v":""},null,{"$f":"IF($D100=\"\",\"\",VLOOKUP($D100,'Boys Si Main Draw Prep'!$A$7:$P$134,4))","v":""},null,null,null,{"$f":"UPPER(IF(OR(K100=\"a\",K100=\"as\"),J99,IF(OR(K100=\"b\",K100=\"bs\"),J101,)))","v":""}]
["83",{"$f":"IF($D101=\"\",\"\",VLOOKUP($D101,'Boys Si Main Draw Prep'!$A$7:$P$134,15))","v":""},{"$f":"IF($D101=\"\",\"\",VLOOKUP($D101,'Boys Si Main Draw Prep'!$A$7:$P$134,16))","v":""},null,{"$f":"UPPER(IF($D101=\"\",\"\",VLOOKUP($D101,'Boys Si Main Draw Prep'!$A$7:$P$134,2)))","v":""},{"$f":"IF($D101=\"\",\"\",VLOOKUP($D101,'Boys Si Main Draw Prep'!$A$7:$P$134,3))","v":""},null,{"$f":"IF($D101=\"\",\"\",VLOOKUP($D101,'Boys Si Main Draw Prep'!$A$7:$P$134,4))","v":""},null,{"$f":"UPPER(IF(OR(I102=\"a\",I102=\"as\"),E101,IF(OR(I102=\"b\",I102=\"bs\"),E102,)))","v":""}]
["84",{"$f":"IF($D102=\"\",\"\",VLOOKUP($D102,'Boys Si Main Draw Prep'!$A$7:$P$134,15))","v":""},{"$f":"IF($D102=\"\",\"\",VLOOKUP($D102,'Boys Si Main Draw Prep'!$A$7:$P$134,16))","v":""},null,{"$f":"UPPER(IF($D102=\"\",\"\",VLOOKUP($D102,'Boys Si Main Draw Prep'!$A$7:$P$134,2)))","v":""},{"$f":"IF($D102=\"\",\"\",VLOOKUP($D102,'Boys Si Main Draw Prep'!$A$7:$P$134,3))","v":""},null,{"$f":"IF($D102=\"\",\"\",VLOOKUP($D102,'Boys Si Main Draw Prep'!$A$7:$P$134,4))","v":""},null,null,null,"Umpire",null,{"$f":"UPPER(IF(OR(M102=\"a\",M102=\"as\"),L100,IF(OR(M102=\"b\",M102=\"bs\"),L104,)))","v":""}]
["85",{"$f":"IF($D103=\"\",\"\",VLOOKUP($D103,'Boys Si Main Draw Prep'!$A$7:$P$134,15))","v":""},{"$f":"IF($D103=\"\",\"\",VLOOKUP($D103,'Boys Si Main Draw Prep'!$A$7:$P$134,16))","v":""},null,{"$f":"UPPER(IF($D103=\"\",\"\",VLOOKUP($D103,'Boys Si Main Draw Prep'!$A$7:$P$134,2)))","v":""},{"$f":"IF($D103=\"\",\"\",VLOOKUP($D103,'Boys Si Main Draw Prep'!$A$7:$P$134,3))","v":""},null,{"$f":"IF($D103=\"\",\"\",VLOOKUP($D103,'Boys Si Main Draw Prep'!$A$7:$P$134,4))","v":""},null,{"$f":"UPPER(IF(OR(I104=\"a\",I104=\"as\"),E103,IF(OR(I104=\"b\",I104=\"bs\"),E104,)))","v":""}]
["86",{"$f":"IF($D104=\"\",\"\",VLOOKUP($D104,'Boys Si Main Draw Prep'!$A$7:$P$134,15))","v":""},{"$f":"IF($D104=\"\",\"\",VLOOKUP($D104,'Boys Si Main Draw Prep'!$A$7:$P$134,16))","v":""},null,{"$f":"UPPER(IF($D104=\"\",\"\",VLOOKUP($D104,'Boys Si Main Draw Prep'!$A$7:$P$134,2)))","v":""},{"$f":"IF($D104=\"\",\"\",VLOOKUP($D104,'Boys Si Main Draw Prep'!$A$7:$P$134,3))","v":""},null,{"$f":"IF($D104=\"\",\"\",VLOOKUP($D104,'Boys Si Main Draw Prep'!$A$7:$P$134,4))","v":""},null,null,null,{"$f":"UPPER(IF(OR(K104=\"a\",K104=\"as\"),J103,IF(OR(K104=\"b\",K104=\"bs\"),J105,)))","v":""}]
["87",{"$f":"IF($D105=\"\",\"\",VLOOKUP($D105,'Boys Si Main Draw Prep'!$A$7:$P$134,15))","v":""},{"$f":"IF($D105=\"\",\"\",VLOOKUP($D105,'Boys Si Main Draw Prep'!$A$7:$P$134,16))","v":""},null,{"$f":"UPPER(IF($D105=\"\",\"\",VLOOKUP($D105,'Boys Si Main Draw Prep'!$A$7:$P$134,2)))","v":""},{"$f":"IF($D105=\"\",\"\",VLOOKUP($D105,'Boys Si Main Draw Prep'!$A$7:$P$134,3))","v":""},null,{"$f":"IF($D105=\"\",\"\",VLOOKUP($D105,'Boys Si Main Draw Prep'!$A$7:$P$134,4))","v":""},null,{"$f":"UPPER(IF(OR(I106=\"a\",I106=\"as\"),E105,IF(OR(I106=\"b\",I106=\"bs\"),E106,)))","v":""}]
["88",{"$f":"IF($D106=\"\",\"\",VLOOKUP($D106,'Boys Si Main Draw Prep'!$A$7:$P$134,15))","v":""},{"$f":"IF($D106=\"\",\"\",VLOOKUP($D106,'Boys Si Main Draw Prep'!$A$7:$P$134,16))","v":""},null,{"$f":"UPPER(IF($D106=\"\",\"\",VLOOKUP($D106,'Boys Si Main Draw Prep'!$A$7:$P$134,2)))","v":""},{"$f":"IF($D106=\"\",\"\",VLOOKUP($D106,'Boys Si Main Draw Prep'!$A$7:$P$134,3))","v":""},null,{"$f":"IF($D106=\"\",\"\",VLOOKUP($D106,'Boys Si Main Draw Prep'!$A$7:$P$134,4))","v":""},null,null,null,null,null,"Umpire",null,{"$f":"UPPER(IF(OR(O106=\"a\",O106=\"as\"),N102,IF(OR(O106=\"b\",O106=\"bs\"),N110,)))","v":""}]
["89",{"$f":"IF($D107=\"\",\"\",VLOOKUP($D107,'Boys Si Main Draw Prep'!$A$7:$P$134,15))","v":""},{"$f":"IF($D107=\"\",\"\",VLOOKUP($D107,'Boys Si Main Draw Prep'!$A$7:$P$134,16))","v":""},null,{"$f":"UPPER(IF($D107=\"\",\"\",VLOOKUP($D107,'Boys Si Main Draw Prep'!$A$7:$P$134,2)))","v":""},{"$f":"IF($D107=\"\",\"\",VLOOKUP($D107,'Boys Si Main Draw Prep'!$A$7:$P$134,3))","v":""},null,{"$f":"IF($D107=\"\",\"\",VLOOKUP($D107,'Boys Si Main Draw Prep'!$A$7:$P$134,4))","v":""},null,{"$f":"UPPER(IF(OR(I108=\"a\",I108=\"as\"),E107,IF(OR(I108=\"b\",I108=\"bs\"),E108,)))","v":""}]
["90",{"$f":"IF($D108=\"\",\"\",VLOOKUP($D108,'Boys Si Main Draw Prep'!$A$7:$P$134,15))","v":""},{"$f":"IF($D108=\"\",\"\",VLOOKUP($D108,'Boys Si Main Draw Prep'!$A$7:$P$134,16))","v":""},null,{"$f":"UPPER(IF($D108=\"\",\"\",VLOOKUP($D108,'Boys Si Main Draw Prep'!$A$7:$P$134,2)))","v":""},{"$f":"IF($D108=\"\",\"\",VLOOKUP($D108,'Boys Si Main Draw Prep'!$A$7:$P$134,3))","v":""},null,{"$f":"IF($D108=\"\",\"\",VLOOKUP($D108,'Boys Si Main Draw Prep'!$A$7:$P$134,4))","v":""},null,null,null,{"$f":"UPPER(IF(OR(K108=\"a\",K108=\"as\"),J107,IF(OR(K108=\"b\",K108=\"bs\"),J109,)))","v":""}]
["91",{"$f":"IF($D109=\"\",\"\",VLOOKUP($D109,'Boys Si Main Draw Prep'!$A$7:$P$134,15))","v":""},{"$f":"IF($D109=\"\",\"\",VLOOKUP($D109,'Boys Si Main Draw Prep'!$A$7:$P$134,16))","v":""},null,{"$f":"UPPER(IF($D109=\"\",\"\",VLOOKUP($D109,'Boys Si Main Draw Prep'!$A$7:$P$134,2)))","v":""},{"$f":"IF($D109=\"\",\"\",VLOOKUP($D109,'Boys Si Main Draw Prep'!$A$7:$P$134,3))","v":""},null,{"$f":"IF($D109=\"\",\"\",VLOOKUP($D109,'Boys Si Main Draw Prep'!$A$7:$P$134,4))","v":""},null,{"$f":"UPPER(IF(OR(I110=\"a\",I110=\"as\"),E109,IF(OR(I110=\"b\",I110=\"bs\"),E110,)))","v":""}]
["92",{"$f":"IF($D110=\"\",\"\",VLOOKUP($D110,'Boys Si Main Draw Prep'!$A$7:$P$134,15))","v":""},{"$f":"IF($D110=\"\",\"\",VLOOKUP($D110,'Boys Si Main Draw Prep'!$A$7:$P$134,16))","v":""},null,{"$f":"UPPER(IF($D110=\"\",\"\",VLOOKUP($D110,'Boys Si Main Draw Prep'!$A$7:$P$134,2)))","v":""},{"$f":"IF($D110=\"\",\"\",VLOOKUP($D110,'Boys Si Main Draw Prep'!$A$7:$P$134,3))","v":""},null,{"$f":"IF($D110=\"\",\"\",VLOOKUP($D110,'Boys Si Main Draw Prep'!$A$7:$P$134,4))","v":""},null,null,null,"Umpire",null,{"$f":"UPPER(IF(OR(M110=\"a\",M110=\"as\"),L108,IF(OR(M110=\"b\",M110=\"bs\"),L112,)))","v":""}]
["93",{"$f":"IF($D111=\"\",\"\",VLOOKUP($D111,'Boys Si Main Draw Prep'!$A$7:$P$134,15))","v":""},{"$f":"IF($D111=\"\",\"\",VLOOKUP($D111,'Boys Si Main Draw Prep'!$A$7:$P$134,16))","v":""},null,{"$f":"UPPER(IF($D111=\"\",\"\",VLOOKUP($D111,'Boys Si Main Draw Prep'!$A$7:$P$134,2)))","v":""},{"$f":"IF($D111=\"\",\"\",VLOOKUP($D111,'Boys Si Main Draw Prep'!$A$7:$P$134,3))","v":""},null,{"$f":"IF($D111=\"\",\"\",VLOOKUP($D111,'Boys Si Main Draw Prep'!$A$7:$P$134,4))","v":""},null,{"$f":"UPPER(IF(OR(I112=\"a\",I112=\"as\"),E111,IF(OR(I112=\"b\",I112=\"bs\"),E112,)))","v":""}]
["94",{"$f":"IF($D112=\"\",\"\",VLOOKUP($D112,'Boys Si Main Draw Prep'!$A$7:$P$134,15))","v":""},{"$f":"IF($D112=\"\",\"\",VLOOKUP($D112,'Boys Si Main Draw Prep'!$A$7:$P$134,16))","v":""},null,{"$f":"UPPER(IF($D112=\"\",\"\",VLOOKUP($D112,'Boys Si Main Draw Prep'!$A$7:$P$134,2)))","v":""},{"$f":"IF($D112=\"\",\"\",VLOOKUP($D112,'Boys Si Main Draw Prep'!$A$7:$P$134,3))","v":""},null,{"$f":"IF($D112=\"\",\"\",VLOOKUP($D112,'Boys Si Main Draw Prep'!$A$7:$P$134,4))","v":""},null,null,null,{"$f":"UPPER(IF(OR(K112=\"a\",K112=\"as\"),J111,IF(OR(K112=\"b\",K112=\"bs\"),J113,)))","v":""}]
["95",{"$f":"IF($D113=\"\",\"\",VLOOKUP($D113,'Boys Si Main Draw Prep'!$A$7:$P$134,15))","v":""},{"$f":"IF($D113=\"\",\"\",VLOOKUP($D113,'Boys Si Main Draw Prep'!$A$7:$P$134,16))","v":""},null,{"$f":"UPPER(IF($D113=\"\",\"\",VLOOKUP($D113,'Boys Si Main Draw Prep'!$A$7:$P$134,2)))","v":""},{"$f":"IF($D113=\"\",\"\",VLOOKUP($D113,'Boys Si Main Draw Prep'!$A$7:$P$134,3))","v":""},null,{"$f":"IF($D113=\"\",\"\",VLOOKUP($D113,'Boys Si Main Draw Prep'!$A$7:$P$134,4))","v":""},null,{"$f":"UPPER(IF(OR(I114=\"a\",I114=\"as\"),E113,IF(OR(I114=\"b\",I114=\"bs\"),E114,)))","v":""}]
["96",{"$f":"IF($D114=\"\",\"\",VLOOKUP($D114,'Boys Si Main Draw Prep'!$A$7:$P$134,15))","v":""},{"$f":"IF($D114=\"\",\"\",VLOOKUP($D114,'Boys Si Main Draw Prep'!$A$7:$P$134,16))","v":""},null,{"$f":"UPPER(IF($D114=\"\",\"\",VLOOKUP($D114,'Boys Si Main Draw Prep'!$A$7:$P$134,2)))","v":""},{"$f":"IF($D114=\"\",\"\",VLOOKUP($D114,'Boys Si Main Draw Prep'!$A$7:$P$134,3))","v":""},null,{"$f":"IF($D114=\"\",\"\",VLOOKUP($D114,'Boys Si Main Draw Prep'!$A$7:$P$134,4))","v":""}]
["97",{"$f":"IF($D115=\"\",\"\",VLOOKUP($D115,'Boys Si Main Draw Prep'!$A$7:$P$134,15))","v":""},{"$f":"IF($D115=\"\",\"\",VLOOKUP($D115,'Boys Si Main Draw Prep'!$A$7:$P$134,16))","v":""},null,{"$f":"UPPER(IF($D115=\"\",\"\",VLOOKUP($D115,'Boys Si Main Draw Prep'!$A$7:$P$134,2)))","v":""},{"$f":"IF($D115=\"\",\"\",VLOOKUP($D115,'Boys Si Main Draw Prep'!$A$7:$P$134,3))","v":""},null,{"$f":"IF($D115=\"\",\"\",VLOOKUP($D115,'Boys Si Main Draw Prep'!$A$7:$P$134,4))","v":""},null,{"$f":"UPPER(IF(OR(I116=\"a\",I116=\"as\"),E115,IF(OR(I116=\"b\",I116=\"bs\"),E116,)))","v":""}]
["98",{"$f":"IF($D116=\"\",\"\",VLOOKUP($D116,'Boys Si Main Draw Prep'!$A$7:$P$134,15))","v":""},{"$f":"IF($D116=\"\",\"\",VLOOKUP($D116,'Boys Si Main Draw Prep'!$A$7:$P$134,16))","v":""},null,{"$f":"UPPER(IF($D116=\"\",\"\",VLOOKUP($D116,'Boys Si Main Draw Prep'!$A$7:$P$134,2)))","v":""},{"$f":"IF($D116=\"\",\"\",VLOOKUP($D116,'Boys Si Main Draw Prep'!$A$7:$P$134,3))","v":""},null,{"$f":"IF($D116=\"\",\"\",VLOOKUP($D116,'Boys Si Main Draw Prep'!$A$7:$P$134,4))","v":""},null,null,null,{"$f":"UPPER(IF(OR(K116=\"a\",K116=\"as\"),J115,IF(OR(K116=\"b\",K116=\"bs\"),J117,)))","v":""}]
["99",{"$f":"IF($D117=\"\",\"\",VLOOKUP($D117,'Boys Si Main Draw Prep'!$A$7:$P$134,15))","v":""},{"$f":"IF($D117=\"\",\"\",VLOOKUP($D117,'Boys Si Main Draw Prep'!$A$7:$P$134,16))","v":""},null,{"$f":"UPPER(IF($D117=\"\",\"\",VLOOKUP($D117,'Boys Si Main Draw Prep'!$A$7:$P$134,2)))","v":""},{"$f":"IF($D117=\"\",\"\",VLOOKUP($D117,'Boys Si Main Draw Prep'!$A$7:$P$134,3))","v":""},null,{"$f":"IF($D117=\"\",\"\",VLOOKUP($D117,'Boys Si Main Draw Prep'!$A$7:$P$134,4))","v":""},null,{"$f":"UPPER(IF(OR(I118=\"a\",I118=\"as\"),E117,IF(OR(I118=\"b\",I118=\"bs\"),E118,)))","v":""}]
["100",{"$f":"IF($D118=\"\",\"\",VLOOKUP($D118,'Boys Si Main Draw Prep'!$A$7:$P$134,15))","v":""},{"$f":"IF($D118=\"\",\"\",VLOOKUP($D118,'Boys Si Main Draw Prep'!$A$7:$P$134,16))","v":""},null,{"$f":"UPPER(IF($D118=\"\",\"\",VLOOKUP($D118,'Boys Si Main Draw Prep'!$A$7:$P$134,2)))","v":""},{"$f":"IF($D118=\"\",\"\",VLOOKUP($D118,'Boys Si Main Draw Prep'!$A$7:$P$134,3))","v":""},null,{"$f":"IF($D118=\"\",\"\",VLOOKUP($D118,'Boys Si Main Draw Prep'!$A$7:$P$134,4))","v":""},null,null,null,"Umpire",null,{"$f":"UPPER(IF(OR(M118=\"a\",M118=\"as\"),L116,IF(OR(M118=\"b\",M118=\"bs\"),L120,)))","v":""}]
["101",{"$f":"IF($D119=\"\",\"\",VLOOKUP($D119,'Boys Si Main Draw Prep'!$A$7:$P$134,15))","v":""},{"$f":"IF($D119=\"\",\"\",VLOOKUP($D119,'Boys Si Main Draw Prep'!$A$7:$P$134,16))","v":""},null,{"$f":"UPPER(IF($D119=\"\",\"\",VLOOKUP($D119,'Boys Si Main Draw Prep'!$A$7:$P$134,2)))","v":""},{"$f":"IF($D119=\"\",\"\",VLOOKUP($D119,'Boys Si Main Draw Prep'!$A$7:$P$134,3))","v":""},null,{"$f":"IF($D119=\"\",\"\",VLOOKUP($D119,'Boys Si Main Draw Prep'!$A$7:$P$134,4))","v":""},null,{"$f":"UPPER(IF(OR(I120=\"a\",I120=\"as\"),E119,IF(OR(I120=\"b\",I120=\"bs\"),E120,)))","v":""}]
["102",{"$f":"IF($D120=\"\",\"\",VLOOKUP($D120,'Boys Si Main Draw Prep'!$A$7:$P$134,15))","v":""},{"$f":"IF($D120=\"\",\"\",VLOOKUP($D120,'Boys Si Main Draw Prep'!$A$7:$P$134,16))","v":""},null,{"$f":"UPPER(IF($D120=\"\",\"\",VLOOKUP($D120,'Boys Si Main Draw Prep'!$A$7:$P$134,2)))","v":""},{"$f":"IF($D120=\"\",\"\",VLOOKUP($D120,'Boys Si Main Draw Prep'!$A$7:$P$134,3))","v":""},null,{"$f":"IF($D120=\"\",\"\",VLOOKUP($D120,'Boys Si Main Draw Prep'!$A$7:$P$134,4))","v":""},null,null,null,{"$f":"UPPER(IF(OR(K120=\"a\",K120=\"as\"),J119,IF(OR(K120=\"b\",K120=\"bs\"),J121,)))","v":""}]
["103",{"$f":"IF($D121=\"\",\"\",VLOOKUP($D121,'Boys Si Main Draw Prep'!$A$7:$P$134,15))","v":""},{"$f":"IF($D121=\"\",\"\",VLOOKUP($D121,'Boys Si Main Draw Prep'!$A$7:$P$134,16))","v":""},null,{"$f":"UPPER(IF($D121=\"\",\"\",VLOOKUP($D121,'Boys Si Main Draw Prep'!$A$7:$P$134,2)))","v":""},{"$f":"IF($D121=\"\",\"\",VLOOKUP($D121,'Boys Si Main Draw Prep'!$A$7:$P$134,3))","v":""},null,{"$f":"IF($D121=\"\",\"\",VLOOKUP($D121,'Boys Si Main Draw Prep'!$A$7:$P$134,4))","v":""},null,{"$f":"UPPER(IF(OR(I122=\"a\",I122=\"as\"),E121,IF(OR(I122=\"b\",I122=\"bs\"),E122,)))","v":""}]
["104",{"$f":"IF($D122=\"\",\"\",VLOOKUP($D122,'Boys Si Main Draw Prep'!$A$7:$P$134,15))","v":""},{"$f":"IF($D122=\"\",\"\",VLOOKUP($D122,'Boys Si Main Draw Prep'!$A$7:$P$134,16))","v":""},null,{"$f":"UPPER(IF($D122=\"\",\"\",VLOOKUP($D122,'Boys Si Main Draw Prep'!$A$7:$P$134,2)))","v":""},{"$f":"IF($D122=\"\",\"\",VLOOKUP($D122,'Boys Si Main Draw Prep'!$A$7:$P$134,3))","v":""},null,{"$f":"IF($D122=\"\",\"\",VLOOKUP($D122,'Boys Si Main Draw Prep'!$A$7:$P$134,4))","v":""},null,null,null,null,null,"Umpire",null,{"$f":"UPPER(IF(OR(O122=\"a\",O122=\"as\"),N118,IF(OR(O122=\"b\",O122=\"bs\"),N126,)))","v":""}]
["105",{"$f":"IF($D123=\"\",\"\",VLOOKUP($D123,'Boys Si Main Draw Prep'!$A$7:$P$134,15))","v":""},{"$f":"IF($D123=\"\",\"\",VLOOKUP($D123,'Boys Si Main Draw Prep'!$A$7:$P$134,16))","v":""},null,{"$f":"UPPER(IF($D123=\"\",\"\",VLOOKUP($D123,'Boys Si Main Draw Prep'!$A$7:$P$134,2)))","v":""},{"$f":"IF($D123=\"\",\"\",VLOOKUP($D123,'Boys Si Main Draw Prep'!$A$7:$P$134,3))","v":""},null,{"$f":"IF($D123=\"\",\"\",VLOOKUP($D123,'Boys Si Main Draw Prep'!$A$7:$P$134,4))","v":""},null,{"$f":"UPPER(IF(OR(I124=\"a\",I124=\"as\"),E123,IF(OR(I124=\"b\",I124=\"bs\"),E124,)))","v":""}]
["106",{"$f":"IF($D124=\"\",\"\",VLOOKUP($D124,'Boys Si Main Draw Prep'!$A$7:$P$134,15))","v":""},{"$f":"IF($D124=\"\",\"\",VLOOKUP($D124,'Boys Si Main Draw Prep'!$A$7:$P$134,16))","v":""},null,{"$f":"UPPER(IF($D124=\"\",\"\",VLOOKUP($D124,'Boys Si Main Draw Prep'!$A$7:$P$134,2)))","v":""},{"$f":"IF($D124=\"\",\"\",VLOOKUP($D124,'Boys Si Main Draw Prep'!$A$7:$P$134,3))","v":""},null,{"$f":"IF($D124=\"\",\"\",VLOOKUP($D124,'Boys Si Main Draw Prep'!$A$7:$P$134,4))","v":""},null,null,null,{"$f":"UPPER(IF(OR(K124=\"a\",K124=\"as\"),J123,IF(OR(K124=\"b\",K124=\"bs\"),J125,)))","v":""}]
["107",{"$f":"IF($D125=\"\",\"\",VLOOKUP($D125,'Boys Si Main Draw Prep'!$A$7:$P$134,15))","v":""},{"$f":"IF($D125=\"\",\"\",VLOOKUP($D125,'Boys Si Main Draw Prep'!$A$7:$P$134,16))","v":""},null,{"$f":"UPPER(IF($D125=\"\",\"\",VLOOKUP($D125,'Boys Si Main Draw Prep'!$A$7:$P$134,2)))","v":""},{"$f":"IF($D125=\"\",\"\",VLOOKUP($D125,'Boys Si Main Draw Prep'!$A$7:$P$134,3))","v":""},null,{"$f":"IF($D125=\"\",\"\",VLOOKUP($D125,'Boys Si Main Draw Prep'!$A$7:$P$134,4))","v":""},null,{"$f":"UPPER(IF(OR(I126=\"a\",I126=\"as\"),E125,IF(OR(I126=\"b\",I126=\"bs\"),E126,)))","v":""}]
["108",{"$f":"IF($D126=\"\",\"\",VLOOKUP($D126,'Boys Si Main Draw Prep'!$A$7:$P$134,15))","v":""},{"$f":"IF($D126=\"\",\"\",VLOOKUP($D126,'Boys Si Main Draw Prep'!$A$7:$P$134,16))","v":""},null,{"$f":"UPPER(IF($D126=\"\",\"\",VLOOKUP($D126,'Boys Si Main Draw Prep'!$A$7:$P$134,2)))","v":""},{"$f":"IF($D126=\"\",\"\",VLOOKUP($D126,'Boys Si Main Draw Prep'!$A$7:$P$134,3))","v":""},null,{"$f":"IF($D126=\"\",\"\",VLOOKUP($D126,'Boys Si Main Draw Prep'!$A$7:$P$134,4))","v":""},null,null,null,"Umpire",null,{"$f":"UPPER(IF(OR(M126=\"a\",M126=\"as\"),L124,IF(OR(M126=\"b\",M126=\"bs\"),L128,)))","v":""}]
["109",{"$f":"IF($D127=\"\",\"\",VLOOKUP($D127,'Boys Si Main Draw Prep'!$A$7:$P$134,15))","v":""},{"$f":"IF($D127=\"\",\"\",VLOOKUP($D127,'Boys Si Main Draw Prep'!$A$7:$P$134,16))","v":""},null,{"$f":"UPPER(IF($D127=\"\",\"\",VLOOKUP($D127,'Boys Si Main Draw Prep'!$A$7:$P$134,2)))","v":""},{"$f":"IF($D127=\"\",\"\",VLOOKUP($D127,'Boys Si Main Draw Prep'!$A$7:$P$134,3))","v":""},null,{"$f":"IF($D127=\"\",\"\",VLOOKUP($D127,'Boys Si Main Draw Prep'!$A$7:$P$134,4))","v":""},null,{"$f":"UPPER(IF(OR(I128=\"a\",I128=\"as\"),E127,IF(OR(I128=\"b\",I128=\"bs\"),E128,)))","v":""}]
["110",{"$f":"IF($D128=\"\",\"\",VLOOKUP($D128,'Boys Si Main Draw Prep'!$A$7:$P$134,15))","v":""},{"$f":"IF($D128=\"\",\"\",VLOOKUP($D128,'Boys Si Main Draw Prep'!$A$7:$P$134,16))","v":""},null,{"$f":"UPPER(IF($D128=\"\",\"\",VLOOKUP($D128,'Boys Si Main Draw Prep'!$A$7:$P$134,2)))","v":""},{"$f":"IF($D128=\"\",\"\",VLOOKUP($D128,'Boys Si Main Draw Prep'!$A$7:$P$134,3))","v":""},null,{"$f":"IF($D128=\"\",\"\",VLOOKUP($D128,'Boys Si Main Draw Prep'!$A$7:$P$134,4))","v":""},null,null,null,{"$f":"UPPER(IF(OR(K128=\"a\",K128=\"as\"),J127,IF(OR(K128=\"b\",K128=\"bs\"),J129,)))","v":""}]
["111",{"$f":"IF($D129=\"\",\"\",VLOOKUP($D129,'Boys Si Main Draw Prep'!$A$7:$P$134,15))","v":""},{"$f":"IF($D129=\"\",\"\",VLOOKUP($D129,'Boys Si Main Draw Prep'!$A$7:$P$134,16))","v":""},null,{"$f":"UPPER(IF($D129=\"\",\"\",VLOOKUP($D129,'Boys Si Main Draw Prep'!$A$7:$P$134,2)))","v":""},{"$f":"IF($D129=\"\",\"\",VLOOKUP($D129,'Boys Si Main Draw Prep'!$A$7:$P$134,3))","v":""},null,{"$f":"IF($D129=\"\",\"\",VLOOKUP($D129,'Boys Si Main Draw Prep'!$A$7:$P$134,4))","v":""},null,{"$f":"UPPER(IF(OR(I130=\"a\",I130=\"as\"),E129,IF(OR(I130=\"b\",I130=\"bs\"),E130,)))","v":""}]
["112",{"$f":"IF($D130=\"\",\"\",VLOOKUP($D130,'Boys Si Main Draw Prep'!$A$7:$P$134,15))","v":""},{"$f":"IF($D130=\"\",\"\",VLOOKUP($D130,'Boys Si Main Draw Prep'!$A$7:$P$134,16))","v":""},null,{"$f":"UPPER(IF($D130=\"\",\"\",VLOOKUP($D130,'Boys Si Main Draw Prep'!$A$7:$P$134,2)))","v":""},{"$f":"IF($D130=\"\",\"\",VLOOKUP($D130,'Boys Si Main Draw Prep'!$A$7:$P$134,3))","v":""},null,{"$f":"IF($D130=\"\",\"\",VLOOKUP($D130,'Boys Si Main Draw Prep'!$A$7:$P$134,4))","v":""}]
["113",{"$f":"IF($D131=\"\",\"\",VLOOKUP($D131,'Boys Si Main Draw Prep'!$A$7:$P$134,15))","v":""},{"$f":"IF($D131=\"\",\"\",VLOOKUP($D131,'Boys Si Main Draw Prep'!$A$7:$P$134,16))","v":""},null,{"$f":"UPPER(IF($D131=\"\",\"\",VLOOKUP($D131,'Boys Si Main Draw Prep'!$A$7:$P$134,2)))","v":""},{"$f":"IF($D131=\"\",\"\",VLOOKUP($D131,'Boys Si Main Draw Prep'!$A$7:$P$134,3))","v":""},null,{"$f":"IF($D131=\"\",\"\",VLOOKUP($D131,'Boys Si Main Draw Prep'!$A$7:$P$134,4))","v":""},null,{"$f":"UPPER(IF(OR(I132=\"a\",I132=\"as\"),E131,IF(OR(I132=\"b\",I132=\"bs\"),E132,)))","v":""}]
["114",{"$f":"IF($D132=\"\",\"\",VLOOKUP($D132,'Boys Si Main Draw Prep'!$A$7:$P$134,15))","v":""},{"$f":"IF($D132=\"\",\"\",VLOOKUP($D132,'Boys Si Main Draw Prep'!$A$7:$P$134,16))","v":""},null,{"$f":"UPPER(IF($D132=\"\",\"\",VLOOKUP($D132,'Boys Si Main Draw Prep'!$A$7:$P$134,2)))","v":""},{"$f":"IF($D132=\"\",\"\",VLOOKUP($D132,'Boys Si Main Draw Prep'!$A$7:$P$134,3))","v":""},null,{"$f":"IF($D132=\"\",\"\",VLOOKUP($D132,'Boys Si Main Draw Prep'!$A$7:$P$134,4))","v":""},null,null,null,{"$f":"UPPER(IF(OR(K132=\"a\",K132=\"as\"),J131,IF(OR(K132=\"b\",K132=\"bs\"),J133,)))","v":""}]
["115",{"$f":"IF($D133=\"\",\"\",VLOOKUP($D133,'Boys Si Main Draw Prep'!$A$7:$P$134,15))","v":""},{"$f":"IF($D133=\"\",\"\",VLOOKUP($D133,'Boys Si Main Draw Prep'!$A$7:$P$134,16))","v":""},null,{"$f":"UPPER(IF($D133=\"\",\"\",VLOOKUP($D133,'Boys Si Main Draw Prep'!$A$7:$P$134,2)))","v":""},{"$f":"IF($D133=\"\",\"\",VLOOKUP($D133,'Boys Si Main Draw Prep'!$A$7:$P$134,3))","v":""},null,{"$f":"IF($D133=\"\",\"\",VLOOKUP($D133,'Boys Si Main Draw Prep'!$A$7:$P$134,4))","v":""},null,{"$f":"UPPER(IF(OR(I134=\"a\",I134=\"as\"),E133,IF(OR(I134=\"b\",I134=\"bs\"),E134,)))","v":""}]
["116",{"$f":"IF($D134=\"\",\"\",VLOOKUP($D134,'Boys Si Main Draw Prep'!$A$7:$P$134,15))","v":""},{"$f":"IF($D134=\"\",\"\",VLOOKUP($D134,'Boys Si Main Draw Prep'!$A$7:$P$134,16))","v":""},null,{"$f":"UPPER(IF($D134=\"\",\"\",VLOOKUP($D134,'Boys Si Main Draw Prep'!$A$7:$P$134,2)))","v":""},{"$f":"IF($D134=\"\",\"\",VLOOKUP($D134,'Boys Si Main Draw Prep'!$A$7:$P$134,3))","v":""},null,{"$f":"IF($D134=\"\",\"\",VLOOKUP($D134,'Boys Si Main Draw Prep'!$A$7:$P$134,4))","v":""},null,null,null,"Umpire",null,{"$f":"UPPER(IF(OR(M134=\"a\",M134=\"as\"),L132,IF(OR(M134=\"b\",M134=\"bs\"),L136,)))","v":""}]
["117",{"$f":"IF($D135=\"\",\"\",VLOOKUP($D135,'Boys Si Main Draw Prep'!$A$7:$P$134,15))","v":""},{"$f":"IF($D135=\"\",\"\",VLOOKUP($D135,'Boys Si Main Draw Prep'!$A$7:$P$134,16))","v":""},null,{"$f":"UPPER(IF($D135=\"\",\"\",VLOOKUP($D135,'Boys Si Main Draw Prep'!$A$7:$P$134,2)))","v":""},{"$f":"IF($D135=\"\",\"\",VLOOKUP($D135,'Boys Si Main Draw Prep'!$A$7:$P$134,3))","v":""},null,{"$f":"IF($D135=\"\",\"\",VLOOKUP($D135,'Boys Si Main Draw Prep'!$A$7:$P$134,4))","v":""},null,{"$f":"UPPER(IF(OR(I136=\"a\",I136=\"as\"),E135,IF(OR(I136=\"b\",I136=\"bs\"),E136,)))","v":""}]
["118",{"$f":"IF($D136=\"\",\"\",VLOOKUP($D136,'Boys Si Main Draw Prep'!$A$7:$P$134,15))","v":""},{"$f":"IF($D136=\"\",\"\",VLOOKUP($D136,'Boys Si Main Draw Prep'!$A$7:$P$134,16))","v":""},null,{"$f":"UPPER(IF($D136=\"\",\"\",VLOOKUP($D136,'Boys Si Main Draw Prep'!$A$7:$P$134,2)))","v":""},{"$f":"IF($D136=\"\",\"\",VLOOKUP($D136,'Boys Si Main Draw Prep'!$A$7:$P$134,3))","v":""},null,{"$f":"IF($D136=\"\",\"\",VLOOKUP($D136,'Boys Si Main Draw Prep'!$A$7:$P$134,4))","v":""},null,null,null,{"$f":"UPPER(IF(OR(K136=\"a\",K136=\"as\"),J135,IF(OR(K136=\"b\",K136=\"bs\"),J137,)))","v":""}]
["119",{"$f":"IF($D137=\"\",\"\",VLOOKUP($D137,'Boys Si Main Draw Prep'!$A$7:$P$134,15))","v":""},{"$f":"IF($D137=\"\",\"\",VLOOKUP($D137,'Boys Si Main Draw Prep'!$A$7:$P$134,16))","v":""},null,{"$f":"UPPER(IF($D137=\"\",\"\",VLOOKUP($D137,'Boys Si Main Draw Prep'!$A$7:$P$134,2)))","v":""},{"$f":"IF($D137=\"\",\"\",VLOOKUP($D137,'Boys Si Main Draw Prep'!$A$7:$P$134,3))","v":""},null,{"$f":"IF($D137=\"\",\"\",VLOOKUP($D137,'Boys Si Main Draw Prep'!$A$7:$P$134,4))","v":""},null,{"$f":"UPPER(IF(OR(I138=\"a\",I138=\"as\"),E137,IF(OR(I138=\"b\",I138=\"bs\"),E138,)))","v":""}]
["120",{"$f":"IF($D138=\"\",\"\",VLOOKUP($D138,'Boys Si Main Draw Prep'!$A$7:$P$134,15))","v":""},{"$f":"IF($D138=\"\",\"\",VLOOKUP($D138,'Boys Si Main Draw Prep'!$A$7:$P$134,16))","v":""},null,{"$f":"UPPER(IF($D138=\"\",\"\",VLOOKUP($D138,'Boys Si Main Draw Prep'!$A$7:$P$134,2)))","v":""},{"$f":"IF($D138=\"\",\"\",VLOOKUP($D138,'Boys Si Main Draw Prep'!$A$7:$P$134,3))","v":""},null,{"$f":"IF($D138=\"\",\"\",VLOOKUP($D138,'Boys Si Main Draw Prep'!$A$7:$P$134,4))","v":""},null,null,null,null,null,"Umpire",null,{"$f":"UPPER(IF(OR(O138=\"a\",O138=\"as\"),N134,IF(OR(O138=\"b\",O138=\"bs\"),N142,)))","v":""}]
["121",{"$f":"IF($D139=\"\",\"\",VLOOKUP($D139,'Boys Si Main Draw Prep'!$A$7:$P$134,15))","v":""},{"$f":"IF($D139=\"\",\"\",VLOOKUP($D139,'Boys Si Main Draw Prep'!$A$7:$P$134,16))","v":""},null,{"$f":"UPPER(IF($D139=\"\",\"\",VLOOKUP($D139,'Boys Si Main Draw Prep'!$A$7:$P$134,2)))","v":""},{"$f":"IF($D139=\"\",\"\",VLOOKUP($D139,'Boys Si Main Draw Prep'!$A$7:$P$134,3))","v":""},null,{"$f":"IF($D139=\"\",\"\",VLOOKUP($D139,'Boys Si Main Draw Prep'!$A$7:$P$134,4))","v":""},null,{"$f":"UPPER(IF(OR(I140=\"a\",I140=\"as\"),E139,IF(OR(I140=\"b\",I140=\"bs\"),E140,)))","v":""}]
["122",{"$f":"IF($D140=\"\",\"\",VLOOKUP($D140,'Boys Si Main Draw Prep'!$A$7:$P$134,15))","v":""},{"$f":"IF($D140=\"\",\"\",VLOOKUP($D140,'Boys Si Main Draw Prep'!$A$7:$P$134,16))","v":""},null,{"$f":"UPPER(IF($D140=\"\",\"\",VLOOKUP($D140,'Boys Si Main Draw Prep'!$A$7:$P$134,2)))","v":""},{"$f":"IF($D140=\"\",\"\",VLOOKUP($D140,'Boys Si Main Draw Prep'!$A$7:$P$134,3))","v":""},null,{"$f":"IF($D140=\"\",\"\",VLOOKUP($D140,'Boys Si Main Draw Prep'!$A$7:$P$134,4))","v":""},null,null,null,{"$f":"UPPER(IF(OR(K140=\"a\",K140=\"as\"),J139,IF(OR(K140=\"b\",K140=\"bs\"),J141,)))","v":""}]
["123",{"$f":"IF($D141=\"\",\"\",VLOOKUP($D141,'Boys Si Main Draw Prep'!$A$7:$P$134,15))","v":""},{"$f":"IF($D141=\"\",\"\",VLOOKUP($D141,'Boys Si Main Draw Prep'!$A$7:$P$134,16))","v":""},null,{"$f":"UPPER(IF($D141=\"\",\"\",VLOOKUP($D141,'Boys Si Main Draw Prep'!$A$7:$P$134,2)))","v":""},{"$f":"IF($D141=\"\",\"\",VLOOKUP($D141,'Boys Si Main Draw Prep'!$A$7:$P$134,3))","v":""},null,{"$f":"IF($D141=\"\",\"\",VLOOKUP($D141,'Boys Si Main Draw Prep'!$A$7:$P$134,4))","v":""},null,{"$f":"UPPER(IF(OR(I142=\"a\",I142=\"as\"),E141,IF(OR(I142=\"b\",I142=\"bs\"),E142,)))","v":""}]
["124",{"$f":"IF($D142=\"\",\"\",VLOOKUP($D142,'Boys Si Main Draw Prep'!$A$7:$P$134,15))","v":""},{"$f":"IF($D142=\"\",\"\",VLOOKUP($D142,'Boys Si Main Draw Prep'!$A$7:$P$134,16))","v":""},null,{"$f":"UPPER(IF($D142=\"\",\"\",VLOOKUP($D142,'Boys Si Main Draw Prep'!$A$7:$P$134,2)))","v":""},{"$f":"IF($D142=\"\",\"\",VLOOKUP($D142,'Boys Si Main Draw Prep'!$A$7:$P$134,3))","v":""},null,{"$f":"IF($D142=\"\",\"\",VLOOKUP($D142,'Boys Si Main Draw Prep'!$A$7:$P$134,4))","v":""},null,null,null,"Umpire",null,{"$f":"UPPER(IF(OR(M142=\"a\",M142=\"as\"),L140,IF(OR(M142=\"b\",M142=\"bs\"),L144,)))","v":""}]
["125",{"$f":"IF($D143=\"\",\"\",VLOOKUP($D143,'Boys Si Main Draw Prep'!$A$7:$P$134,15))","v":""},{"$f":"IF($D143=\"\",\"\",VLOOKUP($D143,'Boys Si Main Draw Prep'!$A$7:$P$134,16))","v":""},null,{"$f":"UPPER(IF($D143=\"\",\"\",VLOOKUP($D143,'Boys Si Main Draw Prep'!$A$7:$P$134,2)))","v":""},{"$f":"IF($D143=\"\",\"\",VLOOKUP($D143,'Boys Si Main Draw Prep'!$A$7:$P$134,3))","v":""},null,{"$f":"IF($D143=\"\",\"\",VLOOKUP($D143,'Boys Si Main Draw Prep'!$A$7:$P$134,4))","v":""},null,{"$f":"UPPER(IF(OR(I144=\"a\",I144=\"as\"),E143,IF(OR(I144=\"b\",I144=\"bs\"),E144,)))","v":""}]
["126",{"$f":"IF($D144=\"\",\"\",VLOOKUP($D144,'Boys Si Main Draw Prep'!$A$7:$P$134,15))","v":""},{"$f":"IF($D144=\"\",\"\",VLOOKUP($D144,'Boys Si Main Draw Prep'!$A$7:$P$134,16))","v":""},null,{"$f":"UPPER(IF($D144=\"\",\"\",VLOOKUP($D144,'Boys Si Main Draw Prep'!$A$7:$P$134,2)))","v":""},{"$f":"IF($D144=\"\",\"\",VLOOKUP($D144,'Boys Si Main Draw Prep'!$A$7:$P$134,3))","v":""},null,{"$f":"IF($D144=\"\",\"\",VLOOKUP($D144,'Boys Si Main Draw Prep'!$A$7:$P$134,4))","v":""},null,null,null,{"$f":"UPPER(IF(OR(K144=\"a\",K144=\"as\"),J143,IF(OR(K144=\"b\",K144=\"bs\"),J145,)))","v":""}]
["127",{"$f":"IF($D145=\"\",\"\",VLOOKUP($D145,'Boys Si Main Draw Prep'!$A$7:$P$134,15))","v":""},{"$f":"IF($D145=\"\",\"\",VLOOKUP($D145,'Boys Si Main Draw Prep'!$A$7:$P$134,16))","v":""},null,{"$f":"UPPER(IF($D145=\"\",\"\",VLOOKUP($D145,'Boys Si Main Draw Prep'!$A$7:$P$134,2)))","v":""},{"$f":"IF($D145=\"\",\"\",VLOOKUP($D145,'Boys Si Main Draw Prep'!$A$7:$P$134,3))","v":""},null,{"$f":"IF($D145=\"\",\"\",VLOOKUP($D145,'Boys Si Main Draw Prep'!$A$7:$P$134,4))","v":""},null,{"$f":"UPPER(IF(OR(I146=\"a\",I146=\"as\"),E145,IF(OR(I146=\"b\",I146=\"bs\"),E146,)))","v":""}]
["128",{"$f":"IF($D146=\"\",\"\",VLOOKUP($D146,'Boys Si Main Draw Prep'!$A$7:$P$134,15))","v":""},{"$f":"IF($D146=\"\",\"\",VLOOKUP($D146,'Boys Si Main Draw Prep'!$A$7:$P$134,16))","v":""},null,{"$f":"UPPER(IF($D146=\"\",\"\",VLOOKUP($D146,'Boys Si Main Draw Prep'!$A$7:$P$134,2)))","v":""},{"$f":"IF($D146=\"\",\"\",VLOOKUP($D146,'Boys Si Main Draw Prep'!$A$7:$P$134,3))","v":""},null,{"$f":"IF($D146=\"\",\"\",VLOOKUP($D146,'Boys Si Main Draw Prep'!$A$7:$P$134,4))","v":""}]
[]
["Acc. Ranking",null,null,"#","Seeded players","#","Seeded players",null,"#","Lucky Losers",null,"Replacing",null,"Draw date/time:",null,{"$f":"$P$72","v":0}]
["Rkg Date",null,{"$f":"C73","v":0},{"$f":"'Boys Si Main 96&128'!D73","v":1},{"$f":"E73","v":0},{"$f":"'Boys Si Main 96&128'!F73","v":9},{"$f":"G73","v":0},{"$f":"'Boys Si Main 96&128'!H73","v":0},"1",null,null,null,null,"Last Accepted player"]
["Top DA",null,0,{"$f":"'Boys Si Main 96&128'!D74","v":2},0,{"$f":"'Boys Si Main 96&128'!F74","v":10},0,{"$f":"'Boys Si Main 96&128'!H74","v":0},"2",null,null,null,null,{"$f":"'Boys Si Main 96&128'!$N$74","v":0}]
["Last DA",null,0,{"$f":"'Boys Si Main 96&128'!D75","v":3},0,{"$f":"'Boys Si Main 96&128'!F75","v":11},0,{"$f":"'Boys Si Main 96&128'!H75","v":0},"3",null,null,null,null,"Player representatives"]
[null,null,0,{"$f":"'Boys Si Main 96&128'!D76","v":4},0,{"$f":"'Boys Si Main 96&128'!F76","v":12},0,{"$f":"'Boys Si Main 96&128'!H76","v":0},"4"]
["Seed ranking",null,0,{"$f":"'Boys Si Main 96&128'!D77","v":5},0,{"$f":"'Boys Si Main 96&128'!F77","v":13},0,{"$f":"'Boys Si Main 96&128'!H77","v":0},"5",null,null,null,null,{"$f":"N77","v":0}]
["Rkg Date",null,0,{"$f":"'Boys Si Main 96&128'!D78","v":6},0,{"$f":"'Boys Si Main 96&128'!F78","v":14},0,{"$f":"'Boys Si Main 96&128'!H78","v":0},"6",null,null,null,null,"ITF Referee's Signature"]
["Top seed",null,0,{"$f":"'Boys Si Main 96&128'!D79","v":7},0,{"$f":"'Boys Si Main 96&128'!F79","v":15},0,{"$f":"'Boys Si Main 96&128'!H79","v":0},"7",null,null,null,null,{"$f":"N79","v":0}]
["Last seed",null,0,{"$f":"'Boys Si Main 96&128'!D80","v":8},0,{"$f":"'Boys Si Main 96&128'!F80","v":16},0,{"$f":"'Boys Si Main 96&128'!H80","v":0},"8",null,null,null,null,{"$f":"N80","v":0}]
[null,null,null,null,null,null,null,null,null,"Quarterfinals",null,"Semifinals",null,"Final",null,"Winner"]
[]
[null,null,null,null,null,null,null,null,null,null,null,null,null,null,null,null,"Page 3(3)",null,null,{"$f":"'SetUp Officials'!P136","v":0}]
[null,null,null,null,null,null,null,"Quarterfinalist 1:",null,{"$f":"UPPER(IF(OR(O4=\"a\",O4=\"as\"),N10,IF(OR(O4=\"b\",O4=\"bs\"),N18,)))","v":""},null,null,null,null,null,null,null,null,null,{"$f":"'SetUp Officials'!P137","v":0}]
[null,null,null,null,null,null,null,null,null,null,null,null,null,null,null,null,null,null,null,{"$f":"'SetUp Officials'!P138","v":0}]
[null,null,null,null,null,null,null,null,null,"Umpire",null,{"$f":"UPPER(IF(OR(K162=\"a\",K162=\"as\"),J160,IF(OR(K162=\"b\",K162=\"bs\"),J164,)))","v":""},null,null,null,null,null,null,null,{"$f":"'SetUp Officials'!P139","v":0}]
[null,null,null,null,null,null,null,null,null,null,null,null,null,null,null,null,null,null,null,{"$f":"'SetUp Officials'!P140","v":0}]
[null,null,null,null,null,null,null,"Quarterfinalist 2:",null,{"$f":"UPPER(IF(OR(O30=\"a\",O30=\"as\"),N26,IF(OR(O30=\"b\",O30=\"bs\"),N34,)))","v":""},null,null,null,null,null,null,null,null,null,{"$f":"'SetUp Officials'!P141","v":0}]
[null,null,null,null,null,null,null,null,null,null,null,null,null,null,null,null,null,null,null,{"$f":"'SetUp Officials'!P142","v":0}]
[null,null,null,null,null,null,null,null,null,null,null,"Umpire",null,{"$f":"UPPER(IF(OR(M166=\"a\",M166=\"as\"),L162,IF(OR(M166=\"b\",M166=\"bs\"),L170,)))","v":""},null,null,null,null,null,{"$f":"'SetUp Officials'!P143","v":0}]
[null,null,null,null,null,null,null,null,null,null,null,null,null,null,null,null,null,null,null,{"$f":"'SetUp Officials'!P144","v":0}]
[null,null,null,null,null,null,null,"Quarterfinalist 3:",null,{"$f":"UPPER(IF(OR(O46=\"a\",O46=\"as\"),N42,IF(OR(O46=\"b\",O46=\"bs\"),N50,)))","v":""},null,null,null,null,null,null,null,null,null,{"$f":"'SetUp Officials'!P145","v":0}]
[]
[null,null,null,null,null,null,null,null,null,"Umpire",null,{"$f":"UPPER(IF(OR(K170=\"a\",K170=\"as\"),J168,IF(OR(K170=\"b\",K170=\"bs\"),J172,)))","v":""}]
[]
[null,null,null,null,null,null,null,"Quarterfinalist 4:",null,{"$f":"UPPER(IF(OR(O62=\"a\",O62=\"as\"),N58,IF(OR(O62=\"b\",O62=\"bs\"),N66,)))","v":""}]
[]
[null,"LATER ROUNDS",null,null,null,null,null,null,null,null,null,null,null,"Umpire",null,{"$f":"UPPER(IF(OR(O174=\"a\",O174=\"as\"),N166,IF(OR(O174=\"b\",O174=\"bs\"),N182,)))","v":""}]
[]
[null,null,null,null,null,null,null,"Quarterfinalist 5:",null,{"$f":"UPPER(IF(OR(O90=\"a\",O90=\"as\"),N86,IF(OR(O90=\"b\",O90=\"bs\"),N94,)))","v":""}]
[]
[null,null,null,null,null,null,null,null,null,"Umpire",null,{"$f":"UPPER(IF(OR(K178=\"a\",K178=\"as\"),J176,IF(OR(K178=\"b\",K178=\"bs\"),J180,)))","v":""}]
[]
[null,null,null,null,null,null,null,"Quarterfinalist 6:",null,{"$f":"UPPER(IF(OR(O106=\"a\",O106=\"as\"),N102,IF(OR(O106=\"b\",O106=\"bs\"),N110,)))","v":""}]
[]
[null,null,null,null,null,null,null,null,null,null,null,"Umpire",null,{"$f":"UPPER(IF(OR(M182=\"a\",M182=\"as\"),L178,IF(OR(M182=\"b\",M182=\"bs\"),L186,)))","v":""}]
[]
[null,null,null,null,null,null,null,"Quarterfinalist 7:",null,{"$f":"UPPER(IF(OR(O122=\"a\",O122=\"as\"),N118,IF(OR(O122=\"b\",O122=\"bs\"),N126,)))","v":""}]
[]
[null,null,null,null,null,null,null,null,null,"Umpire",null,{"$f":"UPPER(IF(OR(K186=\"a\",K186=\"as\"),J184,IF(OR(K186=\"b\",K186=\"bs\"),J188,)))","v":""}]
[]
[null,null,null,null,null,null,null,"Quarterfinalist 8:",null,{"$f":"UPPER(IF(OR(O138=\"a\",O138=\"as\"),N134,IF(OR(O138=\"b\",O138=\"bs\"),N142,)))","v":""}]
[]
[]
[]
[]
[]
[]
[]
[]
[]
[]
[]
[]
[]
[]
[]
[]
[]
[]
[]
[]
[]
[]
[]
[]
[]
[]
[]
[]
["Acc. Ranking",null,null,"#","Seeded players","#","Seeded players",null,"#","Lucky Losers",null,"Replacing",null,"Draw date/time:",null,{"$f":"$P$72","v":0}]
["Rkg Date",null,{"$f":"C73","v":0},1,{"$f":"E73","v":0},9,{"$f":"G73","v":0},null,"1",null,null,null,null,"Last Accepted player"]
["Top DA",null,0,2,0,10,0,null,"2"]
["Last DA",null,0,3,0,11,0,null,"3",null,null,null,null,"Player representatives"]
[null,null,0,4,0,12,0,null,"4"]
["Seed ranking",null,0,5,0,13,0,null,"5",null,null,null,null,{"$f":"N77","v":0}]
["Rkg Date",null,0,6,0,14,0,null,"6",null,null,null,null,"ITF Referee's Signature"]
["Top seed",null,0,7,0,15,0,null,"7",null,null,null,null,{"$f":"N79","v":0}]
["Last seed",null,0,8,0,16,0,null,"8",null,null,null,null,{"$f":"N80","v":0}]

{"sheet":"Girls Si MainDraw Sign-in sheet","index":16,"n_rows":135,"n_cols":18,"rows_kept":135,"cut":false,"hidden":false,"merged":[[3,0,3,1]]}
[{"$f":"'Week SetUp'!$A$6","v":0},null,null,null,null,"GIRLS SINGLES MAIN DRAW SIGN-IN"]
[{"$f":"'Week SetUp'!$A$8","v":"ITF Junior Circuit"}]
["Week of",null,"City, Country",null,null,"Group","Tourn. ID",null,null,"ITF Referee","ITF Referee's signature"]
[{"$f":"'Week SetUp'!$A$10","v":"00:00:00"},null,{"$f":"'Week SetUp'!$C$10","v":0},null,null,{"$f":"'Week SetUp'!$D$10","v":0},{"$f":"'Week SetUp'!$A$12","v":0},null,null,{"$f":"'Week SetUp'!$E$10","v":0}]
[null,null,"Day","Date",null,"Time","Place"]
["Sign-in deadline:"]
["Line","Family name","First name","Nat.","Date of birth Day/Mth/Yr","Player signature","Player hotel or\nContact number","On Acc.List\nY/N","ITF18\nRank","Pro-\nRank","Other",null,null,null,null,"Accept status","Seed\nPos","Draw chip number"]
[1]
[2]
[3]
[4]
[5]
[6]
[7]
[8]
[9]
[10]
[11]
[12]
[13]
[14]
[15]
[16]
[17]
[18]
[19]
[20]
[21]
[22]
[23]
[24]
[25]
[26]
[27]
[28]
[29]
[30]
[31]
[32]
[33]
[34]
[35]
[36]
[37]
[38]
[39]
[40]
[41]
[42]
[43]
[44]
[45]
[46]
[47]
[48]
[49]
[50]
[51]
[52]
[53]
[54]
[55]
[56]
[57]
[58]
[59]
[60]
[61]
[62]
[63]
[64]
[65]
[66]
[67]
[68]
[69]
[70]
[71]
[72]
[73]
[74]
[75]
[76]
[77]
[78]
[79]
[80]
[81]
[82]
[83]
[84]
[85]
[86]
[87]
[88]
[89]
[90]
[91]
[92]
[93]
[94]
[95]
[96]
[97]
[98]
[99]
[100]
[101]
[102]
[103]
[104]
[105]
[106]
[107]
[108]
[109]
[110]
[111]
[112]
[113]
[114]
[115]
[116]
[117]
[118]
[119]
[120]
[121]
[122]
[123]
[124]
[125]
[126]
[127]
[128]

{"sheet":"Girls Si Main Draw Prep","index":17,"n_rows":134,"n_cols":21,"rows_kept":134,"cut":false,"hidden":false,"merged":[[4,0,4,1]]}
[{"$f":"'Week SetUp'!$A$6","v":0},null,null,"GIRLS SINGLES MAIN DRAW"]
[{"$f":"'Week SetUp'!$A$8","v":"ITF Junior Circuit"},null,null,"PREPARATION LIST"]
["DO NO DELETE THIS PAGE IF YOU ARE USING LINK-IN'S TO THE DRAW",null,null,null,null,null,null,null,null,null,null,null,null,null,"ITF Referee's signature",null,null,null,null,"Over 18",{"$f":"YEAR($A$5)-18","v":1882}]
["Week of",null,"City, Country","Group",null,null,"Tourn. ID",null,null,"ITF Referee",null,null,null,null,null,null,null,null,null,"Under 13",{"$f":"YEAR($A$5)-13","v":1887}]
[{"$f":"'Week SetUp'!$A$10","v":"00:00:00"},null,{"$f":"'Week SetUp'!$C$10","v":0},{"$f":"'Week SetUp'!$D$10","v":0},null,null,{"$f":"'Week SetUp'!$A$12","v":0},null,null,{"$f":"'Week SetUp'!$E$10","v":0},null,null,null,null,null,null,null,{"$f":"COUNTA(R7:R134)","v":0}]
["Line","Family name","First name","Nat.","Date of Birth\ndd mmm yy","On\nAccept. List\nYes","Signed-in\nYes","ITF 18\nRanking","Pro-\nRanking","Other ordering",null,"Criterium\nSort","Seed Sort",null,"Accept status","Seed\nRanking","AccSort","Seed\nPosition"]
[1,null,null,null,null,null,null,null,null,null,null,null,{"$f":"IF(R7=\"\",999,R7)","v":999},null,null,null,{"$f":"IF(O7=\"DA\",1,IF(O7=\"WC\",2,IF(O7=\"SE\",3,IF(O7=\"Q\",4,IF(O7=\"LL\",5,999)))))","v":999}]
[2,null,null,null,null,null,null,null,null,null,null,null,999,null,null,null,999]
[3,null,null,null,null,null,null,null,null,null,null,null,999,null,null,null,999]
[4,null,null,null,null,null,null,null,null,null,null,null,999,null,null,null,999]
[5,null,null,null,null,null,null,null,null,null,null,null,999,null,null,null,999]
[6,null,null,null,null,null,null,null,null,null,null,null,999,null,null,null,999]
[7,null,null,null,null,null,null,null,null,null,null,null,999,null,null,null,999]
[8,null,null,null,null,null,null,null,null,null,null,null,999,null,null,null,999]
[9,null,null,null,null,null,null,null,null,null,null,null,999,null,null,null,999]
[10,null,null,null,null,null,null,null,null,null,null,null,999,null,null,null,999]
[11,null,null,null,null,null,null,null,null,null,null,null,999,null,null,null,999]
[12,null,null,null,null,null,null,null,null,null,null,null,999,null,null,null,999]
[13,null,null,null,null,null,null,null,null,null,null,null,999,null,null,null,999]
[14,null,null,null,null,null,null,null,null,null,null,null,999,null,null,null,999]
[15,null,null,null,null,null,null,null,null,null,null,null,999,null,null,null,999]
[16,null,null,null,null,null,null,null,null,null,null,null,999,null,null,null,999]
[17,null,null,null,null,null,null,null,null,null,null,null,999,null,null,null,999]
[18,null,null,null,null,null,null,null,null,null,null,null,999,null,null,null,999]
[19,null,null,null,null,null,null,null,null,null,null,null,999,null,null,null,999]
[20,null,null,null,null,null,null,null,null,null,null,null,999,null,null,null,999]
[21,null,null,null,null,null,null,null,null,null,null,null,999,null,null,null,999]
[22,null,null,null,null,null,null,null,null,null,null,null,999,null,null,null,999]
[23,null,null,null,null,null,null,null,null,null,null,null,999,null,null,null,999]
[24,null,null,null,null,null,null,null,null,null,null,null,999,null,null,null,999]
[25,null,null,null,null,null,null,null,null,null,null,null,999,null,null,null,999]
[26,null,null,null,null,null,null,null,null,null,null,null,999,null,null,null,999]
[27,null,null,null,null,null,null,null,null,null,null,null,999,null,null,null,999]
[28,null,null,null,null,null,null,null,null,null,null,null,999,null,null,null,999]
[29,null,null,null,null,null,null,null,null,null,null,null,999,null,null,null,999]
[30,null,null,null,null,null,null,null,null,null,null,null,999,null,null,null,999]
[31,null,null,null,null,null,null,null,null,null,null,null,999,null,null,null,999]
[32,null,null,null,null,null,null,null,null,null,null,null,999,null,null,null,999]
[33,null,null,null,null,null,null,null,null,null,null,null,{"$f":"IF(R39=\"\",999,R39)","v":999},null,null,null,{"$f":"IF(O39=\"DA\",1,IF(O39=\"WC\",2,IF(O39=\"SE\",3,IF(O39=\"Q\",4,IF(O39=\"LL\",5,999)))))","v":999}]
[34,null,null,null,null,null,null,null,null,null,null,null,999,null,null,null,999]
[35,null,null,null,null,null,null,null,null,null,null,null,999,null,null,null,999]
[36,null,null,null,null,null,null,null,null,null,null,null,999,null,null,null,999]
[37,null,null,null,null,null,null,null,null,null,null,null,999,null,null,null,999]
[38,null,null,null,null,null,null,null,null,null,null,null,999,null,null,null,999]
[39,null,null,null,null,null,null,null,null,null,null,null,999,null,null,null,999]
[40,null,null,null,null,null,null,null,null,null,null,null,999,null,null,null,999]
[41,null,null,null,null,null,null,null,null,null,null,null,999,null,null,null,999]
[42,null,null,null,null,null,null,null,null,null,null,null,999,null,null,null,999]
[43,null,null,null,null,null,null,null,null,null,null,null,999,null,null,null,999]
[44,null,null,null,null,null,null,null,null,null,null,null,999,null,null,null,999]
[45,null,null,null,null,null,null,null,null,null,null,null,999,null,null,null,999]
[46,null,null,null,null,null,null,null,null,null,null,null,999,null,null,null,999]
[47,null,null,null,null,null,null,null,null,null,null,null,999,null,null,null,999]
[48,null,null,null,null,null,null,null,null,null,null,null,999,null,null,null,999]
[49,null,null,null,null,null,null,null,null,null,null,null,999,null,null,null,999]
[50,null,null,null,null,null,null,null,null,null,null,null,999,null,null,null,999]
[51,null,null,null,null,null,null,null,null,null,null,null,999,null,null,null,999]
[52,null,null,null,null,null,null,null,null,null,null,null,999,null,null,null,999]
[53,null,null,null,null,null,null,null,null,null,null,null,999,null,null,null,999]
[54,null,null,null,null,null,null,null,null,null,null,null,999,null,null,null,999]
[55,null,null,null,null,null,null,null,null,null,null,null,999,null,null,null,999]
[56,null,null,null,null,null,null,null,null,null,null,null,999,null,null,null,999]
[57,null,null,null,null,null,null,null,null,null,null,null,999,null,null,null,999]
[58,null,null,null,null,null,null,null,null,null,null,null,999,null,null,null,999]
[59,null,null,null,null,null,null,null,null,null,null,null,999,null,null,null,999]
[60,null,null,null,null,null,null,null,null,null,null,null,999,null,null,null,999]
[61,null,null,null,null,null,null,null,null,null,null,null,999,null,null,null,999]
[62,null,null,null,null,null,null,null,null,null,null,null,999,null,null,null,999]
[63,null,null,null,null,null,null,null,null,null,null,null,999,null,null,null,999]
[64,null,null,null,null,null,null,null,null,null,null,null,999,null,null,null,999]
[65,null,null,null,null,null,null,null,null,null,null,null,{"$f":"IF(R71=\"\",999,R71)","v":999},null,null,null,{"$f":"IF(O71=\"DA\",1,IF(O71=\"WC\",2,IF(O71=\"SE\",3,IF(O71=\"Q\",4,IF(O71=\"LL\",5,999)))))","v":999}]
[66,null,null,null,null,null,null,null,null,null,null,null,999,null,null,null,999]
[67,null,null,null,null,null,null,null,null,null,null,null,999,null,null,null,999]
[68,null,null,null,null,null,null,null,null,null,null,null,999,null,null,null,999]
[69,null,null,null,null,null,null,null,null,null,null,null,999,null,null,null,999]
[70,null,null,null,null,null,null,null,null,null,null,null,999,null,null,null,999]
[71,null,null,null,null,null,null,null,null,null,null,null,999,null,null,null,999]
[72,null,null,null,null,null,null,null,null,null,null,null,999,null,null,null,999]
[73,null,null,null,null,null,null,null,null,null,null,null,999,null,null,null,999]
[74,null,null,null,null,null,null,null,null,null,null,null,999,null,null,null,999]
[75,null,null,null,null,null,null,null,null,null,null,null,999,null,null,null,999]
[76,null,null,null,null,null,null,null,null,null,null,null,999,null,null,null,999]
[77,null,null,null,null,null,null,null,null,null,null,null,999,null,null,null,999]
[78,null,null,null,null,null,null,null,null,null,null,null,999,null,null,null,999]
[79,null,null,null,null,null,null,null,null,null,null,null,999,null,null,null,999]
[80,null,null,null,null,null,null,null,null,null,null,null,999,null,null,null,999]
[81,null,null,null,null,null,null,null,null,null,null,null,999,null,null,null,999]
[82,null,null,null,null,null,null,null,null,null,null,null,999,null,null,null,999]
[83,null,null,null,null,null,null,null,null,null,null,null,999,null,null,null,999]
[84,null,null,null,null,null,null,null,null,null,null,null,999,null,null,null,999]
[85,null,null,null,null,null,null,null,null,null,null,null,999,null,null,null,999]
[86,null,null,null,null,null,null,null,null,null,null,null,999,null,null,null,999]
[87,null,null,null,null,null,null,null,null,null,null,null,999,null,null,null,999]
[88,null,null,null,null,null,null,null,null,null,null,null,999,null,null,null,999]
[89,null,null,null,null,null,null,null,null,null,null,null,999,null,null,null,999]
[90,null,null,null,null,null,null,null,null,null,null,null,999,null,null,null,999]
[91,null,null,null,null,null,null,null,null,null,null,null,999,null,null,null,999]
[92,null,null,null,null,null,null,null,null,null,null,null,999,null,null,null,999]
[93,null,null,null,null,null,null,null,null,null,null,null,999,null,null,null,999]
[94,null,null,null,null,null,null,null,null,null,null,null,999,null,null,null,999]
[95,null,null,null,null,null,null,null,null,null,null,null,999,null,null,null,999]
[96,null,null,null,null,null,null,null,null,null,null,null,999,null,null,null,999]
[97,null,null,null,null,null,null,null,null,null,null,null,{"$f":"IF(R103=\"\",999,R103)","v":999},null,null,null,{"$f":"IF(O103=\"DA\",1,IF(O103=\"WC\",2,IF(O103=\"SE\",3,IF(O103=\"Q\",4,IF(O103=\"LL\",5,999)))))","v":999}]
[98,null,null,null,null,null,null,null,null,null,null,null,999,null,null,null,999]
[99,null,null,null,null,null,null,null,null,null,null,null,999,null,null,null,999]
[100,null,null,null,null,null,null,null,null,null,null,null,999,null,null,null,999]
[101,null,null,null,null,null,null,null,null,null,null,null,999,null,null,null,999]
[102,null,null,null,null,null,null,null,null,null,null,null,999,null,null,null,999]
[103,null,null,null,null,null,null,null,null,null,null,null,999,null,null,null,999]
[104,null,null,null,null,null,null,null,null,null,null,null,999,null,null,null,999]
[105,null,null,null,null,null,null,null,null,null,null,null,999,null,null,null,999]
[106,null,null,null,null,null,null,null,null,null,null,null,999,null,null,null,999]
[107,null,null,null,null,null,null,null,null,null,null,null,999,null,null,null,999]
[108,null,null,null,null,null,null,null,null,null,null,null,999,null,null,null,999]
[109,null,null,null,null,null,null,null,null,null,null,null,999,null,null,null,999]
[110,null,null,null,null,null,null,null,null,null,null,null,999,null,null,null,999]
[111,null,null,null,null,null,null,null,null,null,null,null,999,null,null,null,999]
[112,null,null,null,null,null,null,null,null,null,null,null,999,null,null,null,999]
[113,null,null,null,null,null,null,null,null,null,null,null,999,null,null,null,999]
[114,null,null,null,null,null,null,null,null,null,null,null,999,null,null,null,999]
[115,null,null,null,null,null,null,null,null,null,null,null,999,null,null,null,999]
[116,null,null,null,null,null,null,null,null,null,null,null,999,null,null,null,999]
[117,null,null,null,null,null,null,null,null,null,null,null,999,null,null,null,999]
[118,null,null,null,null,null,null,null,null,null,null,null,999,null,null,null,999]
[119,null,null,null,null,null,null,null,null,null,null,null,999,null,null,null,999]
[120,null,null,null,null,null,null,null,null,null,null,null,999,null,null,null,999]
[121,null,null,null,null,null,null,null,null,null,null,null,999,null,null,null,999]
[122,null,null,null,null,null,null,null,null,null,null,null,999,null,null,null,999]
[123,null,null,null,null,null,null,null,null,null,null,null,999,null,null,null,999]
[124,null,null,null,null,null,null,null,null,null,null,null,999,null,null,null,999]
[125,null,null,null,null,null,null,null,null,null,null,null,999,null,null,null,999]
[126,null,null,null,null,null,null,null,null,null,null,null,999,null,null,null,999]
[127,null,null,null,null,null,null,null,null,null,null,null,999,null,null,null,999]
[128,null,null,null,null,null,null,null,null,null,null,null,999,null,null,null,999]

{"sheet":"Girls Si Main 16","index":18,"n_rows":79,"n_cols":20,"rows_kept":79,"cut":false,"hidden":false,"merged":[[3,0,3,2]]}
[{"$f":"'Week SetUp'!$A$6","v":0},null,null,null,null,null,null,null,null,"GIRLS SINGLES",null,null,null,"CU"]
[{"$f":"'Week SetUp'!$A$8","v":"ITF Junior Circuit"},null,null,null,null,null,null,null,null,"MAIN DRAW (16)"]
["Week of",null,null,null,null,"City, Country",null,null,null,"Group",null,"Tourn. ID",null,null,null,null,"ITF Referee"]
[{"$f":"'Week SetUp'!$A$10","v":"00:00:00"},null,null,null,null,{"$f":"'Week SetUp'!$C$10","v":0},null,null,null,{"$f":"'Week SetUp'!$D$10","v":0},null,{"$f":"'Week SetUp'!$A$12","v":0},null,null,null,null,{"$f":"'Week SetUp'!$E$10","v":0}]
[null,"St.","Rank","Seed","Family Name","First name",null,"Nationality",null,"2nd Round",null,"Semifinals",null,"Final",null,"Winner"]
[]
[1,{"$f":"IF($D7=\"\",\"\",VLOOKUP($D7,'Girls Si Main Draw Prep'!$A$7:$P$22,15))","v":""},{"$f":"IF($D7=\"\",\"\",VLOOKUP($D7,'Girls Si Main Draw Prep'!$A$7:$P$22,16))","v":""},null,{"$f":"UPPER(IF($D7=\"\",\"\",VLOOKUP($D7,'Girls Si Main Draw Prep'!$A$7:$P$22,2)))","v":""},{"$f":"IF($D7=\"\",\"\",VLOOKUP($D7,'Girls Si Main Draw Prep'!$A$7:$P$22,3))","v":""},null,{"$f":"IF($D7=\"\",\"\",VLOOKUP($D7,'Girls Si Main Draw Prep'!$A$7:$P$22,4))","v":""},null,null,null,null,null,null,null,null,null,null,null,{"$f":"'SetUp Officials'!P21","v":"Umpire"}]
[null,null,null,null,null,null,null,"Umpire",null,{"$f":"UPPER(IF(OR(I8=\"a\",I8=\"as\"),E7,IF(OR(I8=\"b\",I8=\"bs\"),E9,)))","v":""},null,null,null,null,null,null,null,null,null,{"$f":"'SetUp Officials'!P22","v":" "}]
[2,{"$f":"IF($D9=\"\",\"\",VLOOKUP($D9,'Girls Si Main Draw Prep'!$A$7:$P$22,15))","v":""},{"$f":"IF($D9=\"\",\"\",VLOOKUP($D9,'Girls Si Main Draw Prep'!$A$7:$P$22,16))","v":""},null,{"$f":"UPPER(IF($D9=\"\",\"\",VLOOKUP($D9,'Girls Si Main Draw Prep'!$A$7:$P$22,2)))","v":""},{"$f":"IF($D9=\"\",\"\",VLOOKUP($D9,'Girls Si Main Draw Prep'!$A$7:$P$22,3))","v":""},null,{"$f":"IF($D9=\"\",\"\",VLOOKUP($D9,'Girls Si Main Draw Prep'!$A$7:$P$22,4))","v":""},null,null,null,null,null,null,null,null,null,null,null,{"$f":"'SetUp Officials'!P23","v":" "}]
[null,null,null,null,null,null,null,null,null,"Umpire",null,{"$f":"UPPER(IF(OR(K10=\"a\",K10=\"as\"),J8,IF(OR(K10=\"b\",K10=\"bs\"),J12,)))","v":""},null,null,null,null,null,null,null,{"$f":"'SetUp Officials'!P24","v":" "}]
[3,{"$f":"IF($D11=\"\",\"\",VLOOKUP($D11,'Girls Si Main Draw Prep'!$A$7:$P$22,15))","v":0},{"$f":"IF($D11=\"\",\"\",VLOOKUP($D11,'Girls Si Main Draw Prep'!$A$7:$P$22,16))","v":0},24,{"$f":"UPPER(IF($D11=\"\",\"\",VLOOKUP($D11,'Girls Si Main Draw Prep'!$A$7:$P$22,2)))","v":""},{"$f":"IF($D11=\"\",\"\",VLOOKUP($D11,'Girls Si Main Draw Prep'!$A$7:$P$22,3))","v":0},null,{"$f":"IF($D11=\"\",\"\",VLOOKUP($D11,'Girls Si Main Draw Prep'!$A$7:$P$22,4))","v":0},null,null,null,null,null,null,null,null,null,null,null,{"$f":"'SetUp Officials'!P25","v":" "}]
[null,null,null,null,null,null,null,"Umpire",null,{"$f":"UPPER(IF(OR(I12=\"a\",I12=\"as\"),E11,IF(OR(I12=\"b\",I12=\"bs\"),E13,)))","v":""},null,null,null,null,null,null,null,null,null,{"$f":"'SetUp Officials'!P26","v":" "}]
[4,{"$f":"IF($D13=\"\",\"\",VLOOKUP($D13,'Girls Si Main Draw Prep'!$A$7:$P$22,15))","v":""},{"$f":"IF($D13=\"\",\"\",VLOOKUP($D13,'Girls Si Main Draw Prep'!$A$7:$P$22,16))","v":""},null,{"$f":"UPPER(IF($D13=\"\",\"\",VLOOKUP($D13,'Girls Si Main Draw Prep'!$A$7:$P$22,2)))","v":""},{"$f":"IF($D13=\"\",\"\",VLOOKUP($D13,'Girls Si Main Draw Prep'!$A$7:$P$22,3))","v":""},null,{"$f":"IF($D13=\"\",\"\",VLOOKUP($D13,'Girls Si Main Draw Prep'!$A$7:$P$22,4))","v":""},null,null,null,null,null,null,null,null,null,null,null,{"$f":"'SetUp Officials'!P27","v":" "}]
[null,null,null,null,null,null,null,null,null,null,null,"Umpire",null,{"$f":"UPPER(IF(OR(M14=\"a\",M14=\"as\"),L10,IF(OR(M14=\"b\",M14=\"bs\"),L18,)))","v":""},null,null,null,null,null,{"$f":"'SetUp Officials'!P28","v":" "}]
[5,{"$f":"IF($D15=\"\",\"\",VLOOKUP($D15,'Girls Si Main Draw Prep'!$A$7:$P$22,15))","v":""},{"$f":"IF($D15=\"\",\"\",VLOOKUP($D15,'Girls Si Main Draw Prep'!$A$7:$P$22,16))","v":""},null,{"$f":"UPPER(IF($D15=\"\",\"\",VLOOKUP($D15,'Girls Si Main Draw Prep'!$A$7:$P$22,2)))","v":""},{"$f":"IF($D15=\"\",\"\",VLOOKUP($D15,'Girls Si Main Draw Prep'!$A$7:$P$22,3))","v":""},null,{"$f":"IF($D15=\"\",\"\",VLOOKUP($D15,'Girls Si Main Draw Prep'!$A$7:$P$22,4))","v":""},null,null,null,null,null,null,null,null,null,null,null,{"$f":"'SetUp Officials'!P29","v":" "}]
[null,null,null,null,null,null,null,"Umpire",null,{"$f":"UPPER(IF(OR(I16=\"a\",I16=\"as\"),E15,IF(OR(I16=\"b\",I16=\"bs\"),E17,)))","v":""},null,null,null,null,null,null,null,null,null,{"$f":"'SetUp Officials'!P30","v":"None"}]
[6,{"$f":"IF($D17=\"\",\"\",VLOOKUP($D17,'Girls Si Main Draw Prep'!$A$7:$P$22,15))","v":""},{"$f":"IF($D17=\"\",\"\",VLOOKUP($D17,'Girls Si Main Draw Prep'!$A$7:$P$22,16))","v":""},null,{"$f":"UPPER(IF($D17=\"\",\"\",VLOOKUP($D17,'Girls Si Main Draw Prep'!$A$7:$P$22,2)))","v":""},{"$f":"IF($D17=\"\",\"\",VLOOKUP($D17,'Girls Si Main Draw Prep'!$A$7:$P$22,3))","v":""},null,{"$f":"IF($D17=\"\",\"\",VLOOKUP($D17,'Girls Si Main Draw Prep'!$A$7:$P$22,4))","v":""}]
[null,null,null,null,null,null,null,null,null,"Umpire",null,{"$f":"UPPER(IF(OR(K18=\"a\",K18=\"as\"),J16,IF(OR(K18=\"b\",K18=\"bs\"),J20,)))","v":""}]
[7,{"$f":"IF($D19=\"\",\"\",VLOOKUP($D19,'Girls Si Main Draw Prep'!$A$7:$P$22,15))","v":""},{"$f":"IF($D19=\"\",\"\",VLOOKUP($D19,'Girls Si Main Draw Prep'!$A$7:$P$22,16))","v":""},null,{"$f":"UPPER(IF($D19=\"\",\"\",VLOOKUP($D19,'Girls Si Main Draw Prep'!$A$7:$P$22,2)))","v":""},{"$f":"IF($D19=\"\",\"\",VLOOKUP($D19,'Girls Si Main Draw Prep'!$A$7:$P$22,3))","v":""},null,{"$f":"IF($D19=\"\",\"\",VLOOKUP($D19,'Girls Si Main Draw Prep'!$A$7:$P$22,4))","v":""}]
[null,null,null,null,null,null,null,"Umpire",null,{"$f":"UPPER(IF(OR(I20=\"a\",I20=\"as\"),E19,IF(OR(I20=\"b\",I20=\"bs\"),E21,)))","v":""}]
[8,{"$f":"IF($D21=\"\",\"\",VLOOKUP($D21,'Girls Si Main Draw Prep'!$A$7:$P$22,15))","v":""},{"$f":"IF($D21=\"\",\"\",VLOOKUP($D21,'Girls Si Main Draw Prep'!$A$7:$P$22,16))","v":""},null,{"$f":"UPPER(IF($D21=\"\",\"\",VLOOKUP($D21,'Girls Si Main Draw Prep'!$A$7:$P$22,2)))","v":""},{"$f":"IF($D21=\"\",\"\",VLOOKUP($D21,'Girls Si Main Draw Prep'!$A$7:$P$22,3))","v":""},null,{"$f":"IF($D21=\"\",\"\",VLOOKUP($D21,'Girls Si Main Draw Prep'!$A$7:$P$22,4))","v":""}]
[null,null,null,null,null,null,null,null,null,null,null,null,null,"Umpire",null,{"$f":"UPPER(IF(OR(O22=\"a\",O22=\"as\"),N14,IF(OR(O22=\"b\",O22=\"bs\"),N30,)))","v":""}]
[9,{"$f":"IF($D23=\"\",\"\",VLOOKUP($D23,'Girls Si Main Draw Prep'!$A$7:$P$22,15))","v":""},{"$f":"IF($D23=\"\",\"\",VLOOKUP($D23,'Girls Si Main Draw Prep'!$A$7:$P$22,16))","v":""},null,{"$f":"UPPER(IF($D23=\"\",\"\",VLOOKUP($D23,'Girls Si Main Draw Prep'!$A$7:$P$22,2)))","v":""},{"$f":"IF($D23=\"\",\"\",VLOOKUP($D23,'Girls Si Main Draw Prep'!$A$7:$P$22,3))","v":""},null,{"$f":"IF($D23=\"\",\"\",VLOOKUP($D23,'Girls Si Main Draw Prep'!$A$7:$P$22,4))","v":""}]
[null,null,null,null,null,null,null,"Umpire",null,{"$f":"UPPER(IF(OR(I24=\"a\",I24=\"as\"),E23,IF(OR(I24=\"b\",I24=\"bs\"),E25,)))","v":""}]
[10,{"$f":"IF($D25=\"\",\"\",VLOOKUP($D25,'Girls Si Main Draw Prep'!$A$7:$P$22,15))","v":""},{"$f":"IF($D25=\"\",\"\",VLOOKUP($D25,'Girls Si Main Draw Prep'!$A$7:$P$22,16))","v":""},null,{"$f":"UPPER(IF($D25=\"\",\"\",VLOOKUP($D25,'Girls Si Main Draw Prep'!$A$7:$P$22,2)))","v":""},{"$f":"IF($D25=\"\",\"\",VLOOKUP($D25,'Girls Si Main Draw Prep'!$A$7:$P$22,3))","v":""},null,{"$f":"IF($D25=\"\",\"\",VLOOKUP($D25,'Girls Si Main Draw Prep'!$A$7:$P$22,4))","v":""}]
[null,null,null,null,null,null,null,null,null,"Umpire",null,{"$f":"UPPER(IF(OR(K26=\"a\",K26=\"as\"),J24,IF(OR(K26=\"b\",K26=\"bs\"),J28,)))","v":""}]
[11,{"$f":"IF($D27=\"\",\"\",VLOOKUP($D27,'Girls Si Main Draw Prep'!$A$7:$P$22,15))","v":""},{"$f":"IF($D27=\"\",\"\",VLOOKUP($D27,'Girls Si Main Draw Prep'!$A$7:$P$22,16))","v":""},null,{"$f":"UPPER(IF($D27=\"\",\"\",VLOOKUP($D27,'Girls Si Main Draw Prep'!$A$7:$P$22,2)))","v":""},{"$f":"IF($D27=\"\",\"\",VLOOKUP($D27,'Girls Si Main Draw Prep'!$A$7:$P$22,3))","v":""},null,{"$f":"IF($D27=\"\",\"\",VLOOKUP($D27,'Girls Si Main Draw Prep'!$A$7:$P$22,4))","v":""}]
[null,null,null,null,null,null,null,"Umpire",null,{"$f":"UPPER(IF(OR(I28=\"a\",I28=\"as\"),E27,IF(OR(I28=\"b\",I28=\"bs\"),E29,)))","v":""}]
[12,{"$f":"IF($D29=\"\",\"\",VLOOKUP($D29,'Girls Si Main Draw Prep'!$A$7:$P$22,15))","v":""},{"$f":"IF($D29=\"\",\"\",VLOOKUP($D29,'Girls Si Main Draw Prep'!$A$7:$P$22,16))","v":""},null,{"$f":"UPPER(IF($D29=\"\",\"\",VLOOKUP($D29,'Girls Si Main Draw Prep'!$A$7:$P$22,2)))","v":""},{"$f":"IF($D29=\"\",\"\",VLOOKUP($D29,'Girls Si Main Draw Prep'!$A$7:$P$22,3))","v":""},null,{"$f":"IF($D29=\"\",\"\",VLOOKUP($D29,'Girls Si Main Draw Prep'!$A$7:$P$22,4))","v":""}]
[null,null,null,null,null,null,null,null,null,null,null,"Umpire",null,{"$f":"UPPER(IF(OR(M30=\"a\",M30=\"as\"),L26,IF(OR(M30=\"b\",M30=\"bs\"),L34,)))","v":""}]
[13,{"$f":"IF($D31=\"\",\"\",VLOOKUP($D31,'Girls Si Main Draw Prep'!$A$7:$P$22,15))","v":""},{"$f":"IF($D31=\"\",\"\",VLOOKUP($D31,'Girls Si Main Draw Prep'!$A$7:$P$22,16))","v":""},null,{"$f":"UPPER(IF($D31=\"\",\"\",VLOOKUP($D31,'Girls Si Main Draw Prep'!$A$7:$P$22,2)))","v":""},{"$f":"IF($D31=\"\",\"\",VLOOKUP($D31,'Girls Si Main Draw Prep'!$A$7:$P$22,3))","v":""},null,{"$f":"IF($D31=\"\",\"\",VLOOKUP($D31,'Girls Si Main Draw Prep'!$A$7:$P$22,4))","v":""}]
[null,null,null,null,null,null,null,"Umpire",null,{"$f":"UPPER(IF(OR(I32=\"a\",I32=\"as\"),E31,IF(OR(I32=\"b\",I32=\"bs\"),E33,)))","v":""}]
[14,{"$f":"IF($D33=\"\",\"\",VLOOKUP($D33,'Girls Si Main Draw Prep'!$A$7:$P$22,15))","v":""},{"$f":"IF($D33=\"\",\"\",VLOOKUP($D33,'Girls Si Main Draw Prep'!$A$7:$P$22,16))","v":""},null,{"$f":"UPPER(IF($D33=\"\",\"\",VLOOKUP($D33,'Girls Si Main Draw Prep'!$A$7:$P$22,2)))","v":""},{"$f":"IF($D33=\"\",\"\",VLOOKUP($D33,'Girls Si Main Draw Prep'!$A$7:$P$22,3))","v":""},null,{"$f":"IF($D33=\"\",\"\",VLOOKUP($D33,'Girls Si Main Draw Prep'!$A$7:$P$22,4))","v":""}]
[null,null,null,null,null,null,null,null,null,"Umpire",null,{"$f":"UPPER(IF(OR(K34=\"a\",K34=\"as\"),J32,IF(OR(K34=\"b\",K34=\"bs\"),J36,)))","v":""}]
[15,{"$f":"IF($D35=\"\",\"\",VLOOKUP($D35,'Girls Si Main Draw Prep'!$A$7:$P$22,15))","v":""},{"$f":"IF($D35=\"\",\"\",VLOOKUP($D35,'Girls Si Main Draw Prep'!$A$7:$P$22,16))","v":""},null,{"$f":"UPPER(IF($D35=\"\",\"\",VLOOKUP($D35,'Girls Si Main Draw Prep'!$A$7:$P$22,2)))","v":""},{"$f":"IF($D35=\"\",\"\",VLOOKUP($D35,'Girls Si Main Draw Prep'!$A$7:$P$22,3))","v":""},null,{"$f":"IF($D35=\"\",\"\",VLOOKUP($D35,'Girls Si Main Draw Prep'!$A$7:$P$22,4))","v":""}]
[null,null,null,null,null,null,null,"Umpire",null,{"$f":"UPPER(IF(OR(I36=\"a\",I36=\"as\"),E35,IF(OR(I36=\"b\",I36=\"bs\"),E37,)))","v":""}]
[16,{"$f":"IF($D37=\"\",\"\",VLOOKUP($D37,'Girls Si Main Draw Prep'!$A$7:$P$22,15))","v":""},{"$f":"IF($D37=\"\",\"\",VLOOKUP($D37,'Girls Si Main Draw Prep'!$A$7:$P$22,16))","v":""},null,{"$f":"UPPER(IF($D37=\"\",\"\",VLOOKUP($D37,'Girls Si Main Draw Prep'!$A$7:$P$22,2)))","v":""},{"$f":"IF($D37=\"\",\"\",VLOOKUP($D37,'Girls Si Main Draw Prep'!$A$7:$P$22,3))","v":""},null,{"$f":"IF($D37=\"\",\"\",VLOOKUP($D37,'Girls Si Main Draw Prep'!$A$7:$P$22,4))","v":""}]
[]
[]
[]
[]
[]
[]
[]
[]
[]
[]
[]
[]
[]
[]
[]
[]
[]
[]
[]
[]
[]
[]
[]
[]
[]
[]
[]
[]
[]
[]
[]
[]
[]
["Acc. Ranking",null,null,"#","Seeded players",null,null,null,"#","Lucky Losers",null,"Replacing",null,"Draw date/time:"]
["Rkg Date",null,null,1,{"$f":"IF(D72>$Q$79,,UPPER(VLOOKUP(D72,'Girls Si Main Draw Prep'!$A$7:$R$134,2)))","v":0},null,null,null,"1",null,null,null,null,"Last Accepted player"]
["Top DA",null,null,2,{"$f":"IF(D73>$Q$79,,UPPER(VLOOKUP(D73,'Girls Si Main Draw Prep'!$A$7:$R$134,2)))","v":0},null,null,null,"2"]
["Last DA",null,null,3,{"$f":"IF(D74>$Q$79,,UPPER(VLOOKUP(D74,'Girls Si Main Draw Prep'!$A$7:$R$134,2)))","v":0},null,null,null,"3",null,null,null,null,"Player representatives"]
[null,null,null,4,{"$f":"IF(D75>$Q$79,,UPPER(VLOOKUP(D75,'Girls Si Main Draw Prep'!$A$7:$R$134,2)))","v":0},null,null,null,"4"]
["Seed ranking",null,null,null,null,null,null,null,"5"]
["Rkg Date",null,null,null,null,null,null,null,"6",null,null,null,null,"ITF Referee's signature"]
["Top seed",null,null,null,null,null,null,null,"7"]
["Last seed",null,null,null,null,null,null,null,"8",null,null,null,null,{"$f":"Q4","v":0},null,null,{"$f":"MIN(4,'Girls Si Main Draw Prep'!R5)","v":0}]

{"sheet":"CONSOLATION","index":19,"n_rows":79,"n_cols":20,"rows_kept":79,"cut":false,"hidden":false,"merged":[[3,0,3,2]]}
["ΤΑΜΠΛΟ  CONSOLATION"]
[null,null,null,"\"ΛΙΛΑ ΤΣΑΛΙΚΗ - ΠΑΥΛΑΝΤΩΝΕΑ 2017\""]
[]
[]
[null,"St.","Rank","Seed","Family Name","First name",null,"Nationality",null,"2nd Round",null,"Quarterfinals",null,"Semifinals",null,"Final"]
[]
[1,{"$f":"IF($D7=\"\",\"\",VLOOKUP($D7,'Girls Si Main Draw Prep'!$A$7:$P$38,15))","v":""},{"$f":"IF($D7=\"\",\"\",VLOOKUP($D7,'Girls Si Main Draw Prep'!$A$7:$P$38,16))","v":""},null,"ΛΕΙΒΑΔΙΤΑΚΗΣ",{"$f":"IF($D7=\"\",\"\",VLOOKUP($D7,'Girls Si Main Draw Prep'!$A$7:$P$38,3))","v":""},null,{"$f":"IF($D7=\"\",\"\",VLOOKUP($D7,'Girls Si Main Draw Prep'!$A$7:$P$38,4))","v":""},null,null,null,null,null,null,null,null,null,null,null,{"$f":"'SetUp Officials'!P21","v":"Umpire"}]
[null,null,null,null,null,null,null,"Umpire",null,"ΛΕΙΒΑΔΙΤΑΚΗΣ",null,null,null,null,null,null,null,null,null,{"$f":"'SetUp Officials'!P22","v":" "}]
[2,{"$f":"IF($D9=\"\",\"\",VLOOKUP($D9,'Girls Si Main Draw Prep'!$A$7:$P$38,15))","v":""},{"$f":"IF($D9=\"\",\"\",VLOOKUP($D9,'Girls Si Main Draw Prep'!$A$7:$P$38,16))","v":""},null,"ΓΙΑΠΙΤΣΗΣ Ν.",{"$f":"IF($D9=\"\",\"\",VLOOKUP($D9,'Girls Si Main Draw Prep'!$A$7:$P$38,3))","v":""},null,{"$f":"IF($D9=\"\",\"\",VLOOKUP($D9,'Girls Si Main Draw Prep'!$A$7:$P$38,4))","v":""},null,"53  40",null,null,null,null,null,null,null,null,null,{"$f":"'SetUp Officials'!P23","v":" "}]
[null,null,null,null,null,null,null,null,null,11,null,"ΣΠΥΡΙΔΑΚΗΣ",null,null,null,null,null,null,null,{"$f":"'SetUp Officials'!P24","v":" "}]
[3,{"$f":"IF($D11=\"\",\"\",VLOOKUP($D11,'Girls Si Main Draw Prep'!$A$7:$P$38,15))","v":""},{"$f":"IF($D11=\"\",\"\",VLOOKUP($D11,'Girls Si Main Draw Prep'!$A$7:$P$38,16))","v":""},null,"ΚΟΥΡΑΚΗΣ Γ.",{"$f":"IF($D11=\"\",\"\",VLOOKUP($D11,'Girls Si Main Draw Prep'!$A$7:$P$38,3))","v":""},null,{"$f":"IF($D11=\"\",\"\",VLOOKUP($D11,'Girls Si Main Draw Prep'!$A$7:$P$38,4))","v":""},null,null,null,"04  42  (11-9)",null,null,null,null,null,null,null,{"$f":"'SetUp Officials'!P25","v":" "}]
[null,null,null,null,null,null,null,"Umpire",null,"ΣΠΥΡΙΔΑΚΗΣ",null,null,null,null,null,null,null,null,null,{"$f":"'SetUp Officials'!P26","v":" "}]
[4,{"$f":"IF($D13=\"\",\"\",VLOOKUP($D13,'Girls Si Main Draw Prep'!$A$7:$P$38,15))","v":""},{"$f":"IF($D13=\"\",\"\",VLOOKUP($D13,'Girls Si Main Draw Prep'!$A$7:$P$38,16))","v":""},null,"ΣΠΥΡΙΔΑΚΗΣ",{"$f":"IF($D13=\"\",\"\",VLOOKUP($D13,'Girls Si Main Draw Prep'!$A$7:$P$38,3))","v":""},null,{"$f":"IF($D13=\"\",\"\",VLOOKUP($D13,'Girls Si Main Draw Prep'!$A$7:$P$38,4))","v":""},null,"wo",null,null,null,null,null,null,null,null,null,{"$f":"'SetUp Officials'!P27","v":" "}]
[null,null,null,null,null,null,null,null,null,null,null,null,null,"ΣΠΥΡΙΔΑΚΗΣ",null,null,null,null,null,{"$f":"'SetUp Officials'!P28","v":" "}]
[5,{"$f":"IF($D15=\"\",\"\",VLOOKUP($D15,'Girls Si Main Draw Prep'!$A$7:$P$38,15))","v":""},{"$f":"IF($D15=\"\",\"\",VLOOKUP($D15,'Girls Si Main Draw Prep'!$A$7:$P$38,16))","v":""},null,"ΜΑΤΖΟΡΑΚΗΣ Γ.",{"$f":"IF($D15=\"\",\"\",VLOOKUP($D15,'Girls Si Main Draw Prep'!$A$7:$P$38,3))","v":""},null,{"$f":"IF($D15=\"\",\"\",VLOOKUP($D15,'Girls Si Main Draw Prep'!$A$7:$P$38,4))","v":""},null,null,null,"ΤΕΤΑΡΤΗ",null,"40  42",null,null,null,null,null,{"$f":"'SetUp Officials'!P29","v":" "}]
[null,null,null,null,null,null,null,"Umpire",null,"ΠΕΤΡΑΚΗΣ",null,null,null,null,null,null,null,null,null,{"$f":"'SetUp Officials'!P30","v":"None"}]
[6,{"$f":"IF($D17=\"\",\"\",VLOOKUP($D17,'Girls Si Main Draw Prep'!$A$7:$P$38,15))","v":""},{"$f":"IF($D17=\"\",\"\",VLOOKUP($D17,'Girls Si Main Draw Prep'!$A$7:$P$38,16))","v":""},null,"ΠΕΤΡΑΚΗΣ ΣΤ.",{"$f":"IF($D17=\"\",\"\",VLOOKUP($D17,'Girls Si Main Draw Prep'!$A$7:$P$38,3))","v":""},null,{"$f":"IF($D17=\"\",\"\",VLOOKUP($D17,'Girls Si Main Draw Prep'!$A$7:$P$38,4))","v":""},null,"53  42"]
[null,null,null,null,null,null,null,null,null,"Umpire",null,"ΠΕΤΡΑΚΗΣ"]
[7,{"$f":"IF($D19=\"\",\"\",VLOOKUP($D19,'Girls Si Main Draw Prep'!$A$7:$P$38,15))","v":""},{"$f":"IF($D19=\"\",\"\",VLOOKUP($D19,'Girls Si Main Draw Prep'!$A$7:$P$38,16))","v":""},null,"ΠΕΤΡΑΚΑΚΗΣ ΓΙΑΝ.",{"$f":"IF($D19=\"\",\"\",VLOOKUP($D19,'Girls Si Main Draw Prep'!$A$7:$P$38,3))","v":""},null,{"$f":"IF($D19=\"\",\"\",VLOOKUP($D19,'Girls Si Main Draw Prep'!$A$7:$P$38,4))","v":""},null,null,null,"54  24  (10-8)"]
[null,null,null,null,null,null,null,"Umpire",null,"ΒΟΥΡΔΟΥΜΠΑΣ"]
[8,{"$f":"IF($D21=\"\",\"\",VLOOKUP($D21,'Girls Si Main Draw Prep'!$A$7:$P$38,15))","v":""},{"$f":"IF($D21=\"\",\"\",VLOOKUP($D21,'Girls Si Main Draw Prep'!$A$7:$P$38,16))","v":""},null,"ΒΟΥΡΔΟΥΜΠΑΣ ΣΤΕΛΙΟΣ",{"$f":"IF($D21=\"\",\"\",VLOOKUP($D21,'Girls Si Main Draw Prep'!$A$7:$P$38,3))","v":""},null,{"$f":"IF($D21=\"\",\"\",VLOOKUP($D21,'Girls Si Main Draw Prep'!$A$7:$P$38,4))","v":""},null,"41  24  (11-9)"]
[null,null,null,null,null,null,null,null,null,null,null,null,null,null,null,"ΜΠΑΝΤΟΥΡΑΚΗΣ"]
[9,{"$f":"IF($D23=\"\",\"\",VLOOKUP($D23,'Girls Si Main Draw Prep'!$A$7:$P$38,15))","v":""},{"$f":"IF($D23=\"\",\"\",VLOOKUP($D23,'Girls Si Main Draw Prep'!$A$7:$P$38,16))","v":""},null,"ΣΚΟΥΒΑΚΗ ΕΛΕΝΗ",{"$f":"IF($D23=\"\",\"\",VLOOKUP($D23,'Girls Si Main Draw Prep'!$A$7:$P$38,3))","v":""},null,{"$f":"IF($D23=\"\",\"\",VLOOKUP($D23,'Girls Si Main Draw Prep'!$A$7:$P$38,4))","v":""},null,null,null,null,null,null,null,"16  64  (13-11)"]
[null,null,null,null,null,null,null,"Umpire",null,"ΜΟΙΡΑΔΩΡΑΚΗΣ"]
[10,{"$f":"IF($D25=\"\",\"\",VLOOKUP($D25,'Girls Si Main Draw Prep'!$A$7:$P$38,15))","v":""},{"$f":"IF($D25=\"\",\"\",VLOOKUP($D25,'Girls Si Main Draw Prep'!$A$7:$P$38,16))","v":""},null,"ΜΟΙΡΑΔΩΡΑΚΗΣ",{"$f":"IF($D25=\"\",\"\",VLOOKUP($D25,'Girls Si Main Draw Prep'!$A$7:$P$38,3))","v":""},null,{"$f":"IF($D25=\"\",\"\",VLOOKUP($D25,'Girls Si Main Draw Prep'!$A$7:$P$38,4))","v":""},null,"(7-10)  53  (10-3)"]
[null,null,null,null,null,null,null,null,null,"Umpire",null,"ΝΤΕΡΜΑΝΑΚΗΣ"]
[11,{"$f":"IF($D27=\"\",\"\",VLOOKUP($D27,'Girls Si Main Draw Prep'!$A$7:$P$38,15))","v":""},{"$f":"IF($D27=\"\",\"\",VLOOKUP($D27,'Girls Si Main Draw Prep'!$A$7:$P$38,16))","v":""},null,"ΓΕΩΡΓΙΑΔΗ Μ.",{"$f":"IF($D27=\"\",\"\",VLOOKUP($D27,'Girls Si Main Draw Prep'!$A$7:$P$38,3))","v":""},null,{"$f":"IF($D27=\"\",\"\",VLOOKUP($D27,'Girls Si Main Draw Prep'!$A$7:$P$38,4))","v":""},null,null,null,"40  20 ret"]
[null,null,null,null,null,null,null,"Umpire",null,"ΝΤΕΡΜΑΝΑΚΗΣ"]
[12,{"$f":"IF($D29=\"\",\"\",VLOOKUP($D29,'Girls Si Main Draw Prep'!$A$7:$P$38,15))","v":""},{"$f":"IF($D29=\"\",\"\",VLOOKUP($D29,'Girls Si Main Draw Prep'!$A$7:$P$38,16))","v":""},null,"ΝΤΕΡΜΑΝΑΚΗΣ Γ.",{"$f":"IF($D29=\"\",\"\",VLOOKUP($D29,'Girls Si Main Draw Prep'!$A$7:$P$38,3))","v":""},null,{"$f":"IF($D29=\"\",\"\",VLOOKUP($D29,'Girls Si Main Draw Prep'!$A$7:$P$38,4))","v":""},null,"41  41"]
[null,null,null,null,null,null,null,null,null,null,null,null,null,"ΜΠΑΝΤΟΥΡΑΚΗΣ"]
[13,{"$f":"IF($D31=\"\",\"\",VLOOKUP($D31,'Girls Si Main Draw Prep'!$A$7:$P$38,15))","v":""},{"$f":"IF($D31=\"\",\"\",VLOOKUP($D31,'Girls Si Main Draw Prep'!$A$7:$P$38,16))","v":""},null,"ΣΜΥΡΝΑΙΟΣ ",{"$f":"IF($D31=\"\",\"\",VLOOKUP($D31,'Girls Si Main Draw Prep'!$A$7:$P$38,3))","v":""},null,{"$f":"IF($D31=\"\",\"\",VLOOKUP($D31,'Girls Si Main Draw Prep'!$A$7:$P$38,4))","v":""},null,null,null,"ΤΕΤΑΡΤΗ",null,"42  54  (10-8)"]
[null,null,null,null,null,null,null,"Umpire",null,"ΜΠΑΝΤΟΥΡΑΚΗΣ"]
[14,{"$f":"IF($D33=\"\",\"\",VLOOKUP($D33,'Girls Si Main Draw Prep'!$A$7:$P$38,15))","v":""},{"$f":"IF($D33=\"\",\"\",VLOOKUP($D33,'Girls Si Main Draw Prep'!$A$7:$P$38,16))","v":""},null,"ΜΠΑΝΤΟΥΡΑΚΗΣ",{"$f":"IF($D33=\"\",\"\",VLOOKUP($D33,'Girls Si Main Draw Prep'!$A$7:$P$38,3))","v":""},null,{"$f":"IF($D33=\"\",\"\",VLOOKUP($D33,'Girls Si Main Draw Prep'!$A$7:$P$38,4))","v":""},null,"40  41"]
[null,null,null,null,null,null,null,null,null,null,null,"ΜΠΑΝΤΟΥΡΑΚΗΣ"]
[15,{"$f":"IF($D35=\"\",\"\",VLOOKUP($D35,'Girls Si Main Draw Prep'!$A$7:$P$38,15))","v":""},{"$f":"IF($D35=\"\",\"\",VLOOKUP($D35,'Girls Si Main Draw Prep'!$A$7:$P$38,16))","v":""},null,"ΑΛΕΞΑΚΗ ΣΟΦΙΑ",{"$f":"IF($D35=\"\",\"\",VLOOKUP($D35,'Girls Si Main Draw Prep'!$A$7:$P$38,3))","v":""},null,{"$f":"IF($D35=\"\",\"\",VLOOKUP($D35,'Girls Si Main Draw Prep'!$A$7:$P$38,4))","v":""},null,null,null,"40  41"]
[null,null,null,null,null,null,null,"Umpire",null,"ΓΑΪΤΑΝΟΠΟΥΛΟΣ"]
[16,{"$f":"IF($D37=\"\",\"\",VLOOKUP($D37,'Girls Si Main Draw Prep'!$A$7:$P$38,15))","v":""},{"$f":"IF($D37=\"\",\"\",VLOOKUP($D37,'Girls Si Main Draw Prep'!$A$7:$P$38,16))","v":""},null,"ΓΑΪΤΑΝΟΠΟΥΛΟΣ",{"$f":"IF($D37=\"\",\"\",VLOOKUP($D37,'Girls Si Main Draw Prep'!$A$7:$P$38,3))","v":""},null,{"$f":"IF($D37=\"\",\"\",VLOOKUP($D37,'Girls Si Main Draw Prep'!$A$7:$P$38,4))","v":""},null,"54  42"]
[]
[17,{"$f":"IF($D39=\"\",\"\",VLOOKUP($D39,'Girls Si Main Draw Prep'!$A$7:$P$38,15))","v":""},{"$f":"IF($D39=\"\",\"\",VLOOKUP($D39,'Girls Si Main Draw Prep'!$A$7:$P$38,16))","v":""},null,"ΣΟΛΙΔΑΚΗΣ Μ.",{"$f":"IF($D39=\"\",\"\",VLOOKUP($D39,'Girls Si Main Draw Prep'!$A$7:$P$38,3))","v":""},null,{"$f":"IF($D39=\"\",\"\",VLOOKUP($D39,'Girls Si Main Draw Prep'!$A$7:$P$38,4))","v":""}]
[null,null,null,null,null,null,null,"Umpire",null,"ΚΑΤΣΟΥΛΑΚΗΣ",null,null,null,null,null,"ΚΥΡΙΑΚΗ 18.00"]
[18,{"$f":"IF($D41=\"\",\"\",VLOOKUP($D41,'Girls Si Main Draw Prep'!$A$7:$P$38,15))","v":""},{"$f":"IF($D41=\"\",\"\",VLOOKUP($D41,'Girls Si Main Draw Prep'!$A$7:$P$38,16))","v":""},null,"ΚΑΤΣΟΥΛΑΚΗΣ",{"$f":"IF($D41=\"\",\"\",VLOOKUP($D41,'Girls Si Main Draw Prep'!$A$7:$P$38,3))","v":""},null,{"$f":"IF($D41=\"\",\"\",VLOOKUP($D41,'Girls Si Main Draw Prep'!$A$7:$P$38,4))","v":""},null,"wo"]
[null,null,null,null,null,null,null,null,null,null,null,"ΚΑΤΣΟΥΛΑΚΗΣ"]
[19,{"$f":"IF($D43=\"\",\"\",VLOOKUP($D43,'Girls Si Main Draw Prep'!$A$7:$P$38,15))","v":""},{"$f":"IF($D43=\"\",\"\",VLOOKUP($D43,'Girls Si Main Draw Prep'!$A$7:$P$38,16))","v":""},null,"ΤΖΩΡΤΖΑΚΗΣ Σ.",{"$f":"IF($D43=\"\",\"\",VLOOKUP($D43,'Girls Si Main Draw Prep'!$A$7:$P$38,3))","v":""},null,{"$f":"IF($D43=\"\",\"\",VLOOKUP($D43,'Girls Si Main Draw Prep'!$A$7:$P$38,4))","v":""},null,null,null,"41  41"]
[null,null,null,null,null,null,null,"Umpire",null,"ΤΖΩΡΤΖΑΚΗΣ"]
[20,{"$f":"IF($D45=\"\",\"\",VLOOKUP($D45,'Girls Si Main Draw Prep'!$A$7:$P$38,15))","v":""},{"$f":"IF($D45=\"\",\"\",VLOOKUP($D45,'Girls Si Main Draw Prep'!$A$7:$P$38,16))","v":""},null,"ΠΕΤΡΟΓΙΑΝΝΗΣ",{"$f":"IF($D45=\"\",\"\",VLOOKUP($D45,'Girls Si Main Draw Prep'!$A$7:$P$38,3))","v":""},null,{"$f":"IF($D45=\"\",\"\",VLOOKUP($D45,'Girls Si Main Draw Prep'!$A$7:$P$38,4))","v":""},null,"42  53"]
[null,null,null,null,null,null,null,null,null,null,null,null,null,"ΚΑΤΣΟΥΛΑΚΗΣ"]
[21,{"$f":"IF($D47=\"\",\"\",VLOOKUP($D47,'Girls Si Main Draw Prep'!$A$7:$P$38,15))","v":""},{"$f":"IF($D47=\"\",\"\",VLOOKUP($D47,'Girls Si Main Draw Prep'!$A$7:$P$38,16))","v":""},null,"ΠΕΤΡΑΚΗΣ Ν.",{"$f":"IF($D47=\"\",\"\",VLOOKUP($D47,'Girls Si Main Draw Prep'!$A$7:$P$38,3))","v":""},null,{"$f":"IF($D47=\"\",\"\",VLOOKUP($D47,'Girls Si Main Draw Prep'!$A$7:$P$38,4))","v":""},null,null,null,null,null,"wo"]
[null,null,null,null,null,null,null,"Umpire",null,"ΠΕΤΡΑΚΗΣ"]
[22,{"$f":"IF($D49=\"\",\"\",VLOOKUP($D49,'Girls Si Main Draw Prep'!$A$7:$P$38,15))","v":""},{"$f":"IF($D49=\"\",\"\",VLOOKUP($D49,'Girls Si Main Draw Prep'!$A$7:$P$38,16))","v":""},null,"ΓΚΙΚΑ Κ.",{"$f":"IF($D49=\"\",\"\",VLOOKUP($D49,'Girls Si Main Draw Prep'!$A$7:$P$38,3))","v":""},null,{"$f":"IF($D49=\"\",\"\",VLOOKUP($D49,'Girls Si Main Draw Prep'!$A$7:$P$38,4))","v":""},null,"24  42  (10-3)"]
[null,null,null,null,null,null,null,null,null,null,null,"ΚΑΣΑΠΑΚΗΣ"]
[23,{"$f":"IF($D51=\"\",\"\",VLOOKUP($D51,'Girls Si Main Draw Prep'!$A$7:$P$38,15))","v":""},{"$f":"IF($D51=\"\",\"\",VLOOKUP($D51,'Girls Si Main Draw Prep'!$A$7:$P$38,16))","v":""},null,"ΚΑΣΑΠΑΚΗΣ",{"$f":"IF($D51=\"\",\"\",VLOOKUP($D51,'Girls Si Main Draw Prep'!$A$7:$P$38,3))","v":""},null,{"$f":"IF($D51=\"\",\"\",VLOOKUP($D51,'Girls Si Main Draw Prep'!$A$7:$P$38,4))","v":""},null,null,null,"40  ret"]
[null,null,null,null,null,null,null,"Umpire",null,"ΚΑΣΑΠΑΚΗΣ"]
[24,{"$f":"IF($D53=\"\",\"\",VLOOKUP($D53,'Girls Si Main Draw Prep'!$A$7:$P$38,15))","v":""},{"$f":"IF($D53=\"\",\"\",VLOOKUP($D53,'Girls Si Main Draw Prep'!$A$7:$P$38,16))","v":""},null,"ΣΠΑΝΟΥΔΑΚΗΣ",{"$f":"IF($D53=\"\",\"\",VLOOKUP($D53,'Girls Si Main Draw Prep'!$A$7:$P$38,3))","v":""},null,{"$f":"IF($D53=\"\",\"\",VLOOKUP($D53,'Girls Si Main Draw Prep'!$A$7:$P$38,4))","v":""},null,"41  40"]
[null,null,null,null,null,null,null,null,null,null,null,null,null,null,null,"ΚΑΤΣΟΥΛΑΚΗΣ"]
[25,{"$f":"IF($D55=\"\",\"\",VLOOKUP($D55,'Girls Si Main Draw Prep'!$A$7:$P$38,15))","v":""},{"$f":"IF($D55=\"\",\"\",VLOOKUP($D55,'Girls Si Main Draw Prep'!$A$7:$P$38,16))","v":""},null,"ΤΙΤΗ ΕΜΜ.",{"$f":"IF($D55=\"\",\"\",VLOOKUP($D55,'Girls Si Main Draw Prep'!$A$7:$P$38,3))","v":""},null,{"$f":"IF($D55=\"\",\"\",VLOOKUP($D55,'Girls Si Main Draw Prep'!$A$7:$P$38,4))","v":""},null,null,null,null,null,null,null,"wo"]
[null,null,null,null,null,null,null,"Umpire",null,"ΤΙΤΗ"]
[26,{"$f":"IF($D57=\"\",\"\",VLOOKUP($D57,'Girls Si Main Draw Prep'!$A$7:$P$38,15))","v":""},{"$f":"IF($D57=\"\",\"\",VLOOKUP($D57,'Girls Si Main Draw Prep'!$A$7:$P$38,16))","v":""},null,"ΧΑΤΖΗΣ",{"$f":"IF($D57=\"\",\"\",VLOOKUP($D57,'Girls Si Main Draw Prep'!$A$7:$P$38,3))","v":""},null,{"$f":"IF($D57=\"\",\"\",VLOOKUP($D57,'Girls Si Main Draw Prep'!$A$7:$P$38,4))","v":""},null,"41  40"]
[null,null,null,null,null,null,null,null,null,null,null,"ΤΙΤΗ"]
[27,{"$f":"IF($D59=\"\",\"\",VLOOKUP($D59,'Girls Si Main Draw Prep'!$A$7:$P$38,15))","v":""},{"$f":"IF($D59=\"\",\"\",VLOOKUP($D59,'Girls Si Main Draw Prep'!$A$7:$P$38,16))","v":""},null,"ΤΖΟΜΠΑΝΑΚΗΣ",{"$f":"IF($D59=\"\",\"\",VLOOKUP($D59,'Girls Si Main Draw Prep'!$A$7:$P$38,3))","v":""},null,{"$f":"IF($D59=\"\",\"\",VLOOKUP($D59,'Girls Si Main Draw Prep'!$A$7:$P$38,4))","v":""},null,null,null,"40  41"]
[null,null,null,null,null,null,null,"Umpire",null,"ΤΖΟΜΠΑΝΑΚΗΣ"]
[28,{"$f":"IF($D61=\"\",\"\",VLOOKUP($D61,'Girls Si Main Draw Prep'!$A$7:$P$38,15))","v":""},{"$f":"IF($D61=\"\",\"\",VLOOKUP($D61,'Girls Si Main Draw Prep'!$A$7:$P$38,16))","v":""},null,"ΒΡΑΝΑΣ Μ.",{"$f":"IF($D61=\"\",\"\",VLOOKUP($D61,'Girls Si Main Draw Prep'!$A$7:$P$38,3))","v":""},null,{"$f":"IF($D61=\"\",\"\",VLOOKUP($D61,'Girls Si Main Draw Prep'!$A$7:$P$38,4))","v":""},null,"wo"]
[null,null,null,null,null,null,null,null,null,null,null,null,null,"ΤΙΤΗ"]
[29,{"$f":"IF($D63=\"\",\"\",VLOOKUP($D63,'Girls Si Main Draw Prep'!$A$7:$P$38,15))","v":""},{"$f":"IF($D63=\"\",\"\",VLOOKUP($D63,'Girls Si Main Draw Prep'!$A$7:$P$38,16))","v":""},null,"ΓΙΑΚΟΥΜΑΚΗΣ ",{"$f":"IF($D63=\"\",\"\",VLOOKUP($D63,'Girls Si Main Draw Prep'!$A$7:$P$38,3))","v":""},null,{"$f":"IF($D63=\"\",\"\",VLOOKUP($D63,'Girls Si Main Draw Prep'!$A$7:$P$38,4))","v":""},null,null,null,null,null,"53  42 "]
[null,null,null,null,null,null,null,"Umpire",null,"ΓΙΑΚΟΥΜΑΚΗΣ"]
[30,{"$f":"IF($D65=\"\",\"\",VLOOKUP($D65,'Girls Si Main Draw Prep'!$A$7:$P$38,15))","v":""},{"$f":"IF($D65=\"\",\"\",VLOOKUP($D65,'Girls Si Main Draw Prep'!$A$7:$P$38,16))","v":""},null,"ΣΦΑΚΙΑΝΑΚΗΣ Γ.",{"$f":"IF($D65=\"\",\"\",VLOOKUP($D65,'Girls Si Main Draw Prep'!$A$7:$P$38,3))","v":""},null,{"$f":"IF($D65=\"\",\"\",VLOOKUP($D65,'Girls Si Main Draw Prep'!$A$7:$P$38,4))","v":""},null,"wo"]
[null,null,null,null,null,null,null,null,null,null,null,"ΧΑΛΑΚΑΤΕΒΑΚΗΣ"]
[31,{"$f":"IF($D67=\"\",\"\",VLOOKUP($D67,'Girls Si Main Draw Prep'!$A$7:$P$38,15))","v":""},{"$f":"IF($D67=\"\",\"\",VLOOKUP($D67,'Girls Si Main Draw Prep'!$A$7:$P$38,16))","v":""},null,"ΧΑΛΑΚΑΤΕΒΑΚΗΣ Α.",{"$f":"IF($D67=\"\",\"\",VLOOKUP($D67,'Girls Si Main Draw Prep'!$A$7:$P$38,3))","v":""},null,{"$f":"IF($D67=\"\",\"\",VLOOKUP($D67,'Girls Si Main Draw Prep'!$A$7:$P$38,4))","v":""},null,null,null,"40  53"]
[null,null,null,null,null,null,null,"Umpire",null,"ΧΑΛΑΚΑΤΕΒΑΚΗΣ"]
[32,{"$f":"IF($D69=\"\",\"\",VLOOKUP($D69,'Girls Si Main Draw Prep'!$A$7:$P$38,15))","v":""},{"$f":"IF($D69=\"\",\"\",VLOOKUP($D69,'Girls Si Main Draw Prep'!$A$7:$P$38,16))","v":""},null,"ΦΡΑΓΚΟΝΙΚΟΛΑΚΗΣ",{"$f":"IF($D69=\"\",\"\",VLOOKUP($D69,'Girls Si Main Draw Prep'!$A$7:$P$38,3))","v":""},null,{"$f":"IF($D69=\"\",\"\",VLOOKUP($D69,'Girls Si Main Draw Prep'!$A$7:$P$38,4))","v":""},null,"42  43"]
[]
["Acc. Ranking",null,null,"#","Seeded players",null,null,null,"#","Lucky Losers",null,"Replacing",null,"Draw date/time:"]
["Rkg Date",null,null,1,{"$f":"IF(D72>$Q$79,,UPPER(VLOOKUP(D72,'Girls Si Main Draw Prep'!$A$7:$R$134,2)))","v":0},null,null,null,"1",null,null,null,null,"Last Accepted player"]
["Top DA",null,null,2,{"$f":"IF(D73>$Q$79,,UPPER(VLOOKUP(D73,'Girls Si Main Draw Prep'!$A$7:$R$134,2)))","v":0},null,null,null,"2"]
["Last DA",null,null,3,{"$f":"IF(D74>$Q$79,,UPPER(VLOOKUP(D74,'Girls Si Main Draw Prep'!$A$7:$R$134,2)))","v":0},null,null,null,"3",null,null,null,null,"Player representatives"]
[null,null,null,4,{"$f":"IF(D75>$Q$79,,UPPER(VLOOKUP(D75,'Girls Si Main Draw Prep'!$A$7:$R$134,2)))","v":0},null,null,null,"4"]
["Seed ranking",null,null,5,{"$f":"IF(D76>$Q$79,,UPPER(VLOOKUP(D76,'Girls Si Main Draw Prep'!$A$7:$R$134,2)))","v":0},null,null,null,"5"]
["Rkg Date",null,null,6,{"$f":"IF(D77>$Q$79,,UPPER(VLOOKUP(D77,'Girls Si Main Draw Prep'!$A$7:$R$134,2)))","v":0},null,null,null,"6",null,null,null,null,"ITF Referee's signature"]
["Top seed",null,null,7,{"$f":"IF(D78>$Q$79,,UPPER(VLOOKUP(D78,'Girls Si Main Draw Prep'!$A$7:$R$134,2)))","v":0},null,null,null,"7"]
["Last seed",null,null,8,{"$f":"IF(D79>$Q$79,,UPPER(VLOOKUP(D79,'Girls Si Main Draw Prep'!$A$7:$R$134,2)))","v":0},null,null,null,"8",null,null,null,null,{"$f":"Q4","v":0},null,null,{"$f":"MIN(8,'Girls Si Main Draw Prep'!R5)","v":0}]

{"sheet":"Κ.Τ.","index":20,"n_rows":70,"n_cols":20,"rows_kept":70,"cut":false,"hidden":false,"merged":[[3,0,3,2]]}
[{"$f":"'Week SetUp'!$A$6","v":0},null,null,null,null,null,null,null,null,null,null,null,null,"CU"]
[null,"ΕΣΩΤΕΡΙΚΟ ΠΡΩΤΑΘΛΗΜΑ \"ΛΙΛΑ ΤΣΑΛΙΚΗ-ΠΑΥΛΑΝΤΩΝΕΑ 2017\""]
[]
[{"$f":"'Week SetUp'!$A$10","v":"00:00:00"},null,null,null,null,{"$f":"'Week SetUp'!$C$10","v":0},null,null,null,{"$f":"'Week SetUp'!$D$10","v":0},null,{"$f":"'Week SetUp'!$A$12","v":0},null,null,null,null,{"$f":"'Week SetUp'!$E$10","v":0}]
[null,"St.","Rank","Seed","Family Name","First name",null,"Nationality",null,"2nd Round",null,"3rd Round",null,"Quarterfinals",null,"Semifinals"]
[]
["1",{"$f":"IF($D7=\"\",\"\",VLOOKUP($D7,'Girls Si Main Draw Prep'!$A$7:$P$70,15))","v":""},{"$f":"IF($D7=\"\",\"\",VLOOKUP($D7,'Girls Si Main Draw Prep'!$A$7:$P$70,16))","v":""},null,"ΝΑΟΥΜ ΣΠΥΡΟΣ",null,null,{"$f":"IF($D7=\"\",\"\",VLOOKUP($D7,'Girls Si Main Draw Prep'!$A$7:$P$70,4))","v":""},null,"ΝΑΟΥΜ",null,null,null,null,null,null,null,null,null,{"$f":"'SetUp Officials'!P21","v":"Umpire"}]
["2",{"$f":"IF($D8=\"\",\"\",VLOOKUP($D8,'Girls Si Main Draw Prep'!$A$7:$P$70,15))","v":""},{"$f":"IF($D8=\"\",\"\",VLOOKUP($D8,'Girls Si Main Draw Prep'!$A$7:$P$70,16))","v":""},null,"ΛΕΙΒΑΔΙΤΑΚΗΣ ΑΝΤΩΝΗΣ",null,null,{"$f":"IF($D8=\"\",\"\",VLOOKUP($D8,'Girls Si Main Draw Prep'!$A$7:$P$70,4))","v":""},null,"40  40",null,"ΝΑΟΥΜ",null,null,null,null,null,null,null,{"$f":"'SetUp Officials'!P22","v":" "}]
["3",{"$f":"IF($D9=\"\",\"\",VLOOKUP($D9,'Girls Si Main Draw Prep'!$A$7:$P$70,15))","v":""},{"$f":"IF($D9=\"\",\"\",VLOOKUP($D9,'Girls Si Main Draw Prep'!$A$7:$P$70,16))","v":""},null,"ΓΙΑΠΙΤΣΗΣ ΝΙΚΟΣ",null,null,{"$f":"IF($D9=\"\",\"\",VLOOKUP($D9,'Girls Si Main Draw Prep'!$A$7:$P$70,4))","v":""},null,"ΝΙΚΟΛΟΠΟΥΛΟΥ",null,"40  40",null,null,null,null,null,null,null,{"$f":"'SetUp Officials'!P23","v":" "}]
["4",{"$f":"IF($D10=\"\",\"\",VLOOKUP($D10,'Girls Si Main Draw Prep'!$A$7:$P$70,15))","v":""},{"$f":"IF($D10=\"\",\"\",VLOOKUP($D10,'Girls Si Main Draw Prep'!$A$7:$P$70,16))","v":""},null,"ΝΙΚΟΛΟΠΟΥΛΟΥ ΒΑΡΒΑΡΑ",null,null,{"$f":"IF($D10=\"\",\"\",VLOOKUP($D10,'Girls Si Main Draw Prep'!$A$7:$P$70,4))","v":""},null,"40  42",null,null,null,"NAOYM",null,null,null,null,null,{"$f":"'SetUp Officials'!P24","v":" "}]
["5",{"$f":"IF($D11=\"\",\"\",VLOOKUP($D11,'Girls Si Main Draw Prep'!$A$7:$P$70,15))","v":""},{"$f":"IF($D11=\"\",\"\",VLOOKUP($D11,'Girls Si Main Draw Prep'!$A$7:$P$70,16))","v":""},null,"ΚΟΥΡΑΚΗΣ ΓΙΩΡΓΟΣ",null,null,{"$f":"IF($D11=\"\",\"\",VLOOKUP($D11,'Girls Si Main Draw Prep'!$A$7:$P$70,4))","v":""},null,"ΗΛΙΑΚΗΣ",null,null,null,"42  40",null,null,null,null,null,{"$f":"'SetUp Officials'!P25","v":" "}]
["6",{"$f":"IF($D12=\"\",\"\",VLOOKUP($D12,'Girls Si Main Draw Prep'!$A$7:$P$70,15))","v":""},{"$f":"IF($D12=\"\",\"\",VLOOKUP($D12,'Girls Si Main Draw Prep'!$A$7:$P$70,16))","v":""},null,"ΗΛΙΑΚΗΣ ΣΤΡΑΤΟΣ",null,null,{"$f":"IF($D12=\"\",\"\",VLOOKUP($D12,'Girls Si Main Draw Prep'!$A$7:$P$70,4))","v":""},null,"40  54",null,"ΚΟΝΤΑΞΑΚΗΣ",null,null,null,null,null,null,null,{"$f":"'SetUp Officials'!P26","v":" "}]
["7",{"$f":"IF($D13=\"\",\"\",VLOOKUP($D13,'Girls Si Main Draw Prep'!$A$7:$P$70,15))","v":""},{"$f":"IF($D13=\"\",\"\",VLOOKUP($D13,'Girls Si Main Draw Prep'!$A$7:$P$70,16))","v":""},null,"ΣΠΥΡΙΔΑΚΗΣ ΓΙΩΡΓΟΣ",null,null,{"$f":"IF($D13=\"\",\"\",VLOOKUP($D13,'Girls Si Main Draw Prep'!$A$7:$P$70,4))","v":""},null,"ΚΟΝΤΑΞΑΚΗΣ",null,"41  41",null,null,null,null,null,null,null,{"$f":"'SetUp Officials'!P27","v":" "}]
["8",{"$f":"IF($D14=\"\",\"\",VLOOKUP($D14,'Girls Si Main Draw Prep'!$A$7:$P$70,15))","v":""},{"$f":"IF($D14=\"\",\"\",VLOOKUP($D14,'Girls Si Main Draw Prep'!$A$7:$P$70,16))","v":""},null,"ΚΟΝΤΑΞΑΚΗΣ ΑΝΑΣΤΑΣΙΟΣ",null,null,{"$f":"IF($D14=\"\",\"\",VLOOKUP($D14,'Girls Si Main Draw Prep'!$A$7:$P$70,4))","v":""},null,"40  42",null,null,null,null,null,"ΝΑΟΥΜ",null,null,null,{"$f":"'SetUp Officials'!P28","v":" "}]
["9",{"$f":"IF($D15=\"\",\"\",VLOOKUP($D15,'Girls Si Main Draw Prep'!$A$7:$P$70,15))","v":""},{"$f":"IF($D15=\"\",\"\",VLOOKUP($D15,'Girls Si Main Draw Prep'!$A$7:$P$70,16))","v":""},null,"ΚΩΝΣΤΑΝΤΑΡΑΚΗΣ ΑΝΔΡΕΑΣ",null,null,{"$f":"IF($D15=\"\",\"\",VLOOKUP($D15,'Girls Si Main Draw Prep'!$A$7:$P$70,4))","v":""},null,"ΚΩΝΣΤΑΝΤΑΡΑΚΗΣ",null,null,null,"ΤΕΤΑΡΤΗ",null,"60  64",null,null,null,{"$f":"'SetUp Officials'!P29","v":" "}]
["10",{"$f":"IF($D16=\"\",\"\",VLOOKUP($D16,'Girls Si Main Draw Prep'!$A$7:$P$70,15))","v":""},{"$f":"IF($D16=\"\",\"\",VLOOKUP($D16,'Girls Si Main Draw Prep'!$A$7:$P$70,16))","v":""},null,"ΜΑΤΖΟΡΑΚΗΣ ΓΙΩΡΓΟΣ",null,null,{"$f":"IF($D16=\"\",\"\",VLOOKUP($D16,'Girls Si Main Draw Prep'!$A$7:$P$70,4))","v":""},null,"42  41",null,"ΚΩΝΣΤΑΝΤΑΡΑΚΗΣ",null,null,null,null,null,null,null,{"$f":"'SetUp Officials'!P30","v":"None"}]
["11",{"$f":"IF($D17=\"\",\"\",VLOOKUP($D17,'Girls Si Main Draw Prep'!$A$7:$P$70,15))","v":""},{"$f":"IF($D17=\"\",\"\",VLOOKUP($D17,'Girls Si Main Draw Prep'!$A$7:$P$70,16))","v":""},null,"ΛΙΓΚΟΥΝΑΚΗΣ ΜΑΝΩΛΗΣ",null,null,{"$f":"IF($D17=\"\",\"\",VLOOKUP($D17,'Girls Si Main Draw Prep'!$A$7:$P$70,4))","v":""},null,"ΛΙΓΚΟΥΝΑΚΗΣ",null,"41  42"]
["12",{"$f":"IF($D18=\"\",\"\",VLOOKUP($D18,'Girls Si Main Draw Prep'!$A$7:$P$70,15))","v":""},{"$f":"IF($D18=\"\",\"\",VLOOKUP($D18,'Girls Si Main Draw Prep'!$A$7:$P$70,16))","v":""},null,"ΠΕΤΡΑΚΗΣ ΣΤΕΛΙΟΣ",null,null,{"$f":"IF($D18=\"\",\"\",VLOOKUP($D18,'Girls Si Main Draw Prep'!$A$7:$P$70,4))","v":""},null,"40  40",null,null,null,"ΚΩΝΣΤΑΝΤΑΡΑΚΗΣ"]
["13",{"$f":"IF($D19=\"\",\"\",VLOOKUP($D19,'Girls Si Main Draw Prep'!$A$7:$P$70,15))","v":""},{"$f":"IF($D19=\"\",\"\",VLOOKUP($D19,'Girls Si Main Draw Prep'!$A$7:$P$70,16))","v":""},null,"ΑΛΠΑΝΤΗ ΑΝΝΑ",null,null,{"$f":"IF($D19=\"\",\"\",VLOOKUP($D19,'Girls Si Main Draw Prep'!$A$7:$P$70,4))","v":""},null,"ΑΛΠΑΝΤΗ",null,null,null,"41  53"]
["14",{"$f":"IF($D20=\"\",\"\",VLOOKUP($D20,'Girls Si Main Draw Prep'!$A$7:$P$70,15))","v":""},{"$f":"IF($D20=\"\",\"\",VLOOKUP($D20,'Girls Si Main Draw Prep'!$A$7:$P$70,16))","v":""},null,"ΠΕΤΡΑΚΑΚΗΣ ΓΙΑΝΝΗΣ",null,null,{"$f":"IF($D20=\"\",\"\",VLOOKUP($D20,'Girls Si Main Draw Prep'!$A$7:$P$70,4))","v":""},null,"42  42",null,"ΚΟΝΤΑΡΑΚΗΣ"]
["15",{"$f":"IF($D21=\"\",\"\",VLOOKUP($D21,'Girls Si Main Draw Prep'!$A$7:$P$70,15))","v":""},{"$f":"IF($D21=\"\",\"\",VLOOKUP($D21,'Girls Si Main Draw Prep'!$A$7:$P$70,16))","v":""},null,"ΒΟΥΡΔΟΥΜΠΑΣ ΣΤΥΛΙΑΝΟΣ",null,null,{"$f":"IF($D21=\"\",\"\",VLOOKUP($D21,'Girls Si Main Draw Prep'!$A$7:$P$70,4))","v":""},null,"ΚΟΝΤΑΡΑΚΗΣ",null,"40  40"]
["16",{"$f":"IF($D22=\"\",\"\",VLOOKUP($D22,'Girls Si Main Draw Prep'!$A$7:$P$70,15))","v":""},{"$f":"IF($D22=\"\",\"\",VLOOKUP($D22,'Girls Si Main Draw Prep'!$A$7:$P$70,16))","v":""},null,"ΚΟΝΤΑΡΑΚΗΣ ΑΝΔΡΕΑΣ",null,null,{"$f":"IF($D22=\"\",\"\",VLOOKUP($D22,'Girls Si Main Draw Prep'!$A$7:$P$70,4))","v":""},null,"40  40",null,null,null,null,null,{"$f":"UPPER(IF(OR(O23=\"a\",O23=\"as\"),P14,IF(OR(O23=\"b\",O23=\"bs\"),P30,)))","v":""}]
["17",{"$f":"IF($D23=\"\",\"\",VLOOKUP($D23,'Girls Si Main Draw Prep'!$A$7:$P$70,15))","v":""},{"$f":"IF($D23=\"\",\"\",VLOOKUP($D23,'Girls Si Main Draw Prep'!$A$7:$P$70,16))","v":""},null,"ΚΟΚΚΙΝΑΚΗΣ ΓΙΑΝΝΗΣ",null,null,{"$f":"IF($D23=\"\",\"\",VLOOKUP($D23,'Girls Si Main Draw Prep'!$A$7:$P$70,4))","v":""},null,"ΚΟΚΚΙΝΑΚΗΣ"]
["18",{"$f":"IF($D24=\"\",\"\",VLOOKUP($D24,'Girls Si Main Draw Prep'!$A$7:$P$70,15))","v":""},{"$f":"IF($D24=\"\",\"\",VLOOKUP($D24,'Girls Si Main Draw Prep'!$A$7:$P$70,16))","v":""},null,"ΣΚΟΥΒΑΚΗ ΕΛΕΝΗ",null,null,{"$f":"IF($D24=\"\",\"\",VLOOKUP($D24,'Girls Si Main Draw Prep'!$A$7:$P$70,4))","v":""},null,"41  42",null,"ΚΟΚΚΙΝΑΚΗΣ",null,null,null,"ΠΑΡΑΣΚΕΥΗ"]
["19",{"$f":"IF($D25=\"\",\"\",VLOOKUP($D25,'Girls Si Main Draw Prep'!$A$7:$P$70,15))","v":""},{"$f":"IF($D25=\"\",\"\",VLOOKUP($D25,'Girls Si Main Draw Prep'!$A$7:$P$70,16))","v":""},null,"ΜΟΙΡΑΔΩΡΑΚΗΣ ΚΩΝΣΤΑΝΤΙΝΟΣ",null,null,{"$f":"IF($D25=\"\",\"\",VLOOKUP($D25,'Girls Si Main Draw Prep'!$A$7:$P$70,4))","v":""},null,"ΛΑΓΟΥΒΑΡΔΟΣ",null,"40  40"]
["20",{"$f":"IF($D26=\"\",\"\",VLOOKUP($D26,'Girls Si Main Draw Prep'!$A$7:$P$70,15))","v":""},{"$f":"IF($D26=\"\",\"\",VLOOKUP($D26,'Girls Si Main Draw Prep'!$A$7:$P$70,16))","v":""},null,"ΛΑΓΟΥΒΑΡΔΟΣ ΑΛΕΞΑΝΔΡΟΣ",null,null,{"$f":"IF($D26=\"\",\"\",VLOOKUP($D26,'Girls Si Main Draw Prep'!$A$7:$P$70,4))","v":""},null,"41  41",null,null,null,"ΚΟΚΚΙΝΑΚΗΣ"]
["21",{"$f":"IF($D27=\"\",\"\",VLOOKUP($D27,'Girls Si Main Draw Prep'!$A$7:$P$70,15))","v":""},{"$f":"IF($D27=\"\",\"\",VLOOKUP($D27,'Girls Si Main Draw Prep'!$A$7:$P$70,16))","v":""},null,"ΓΕΩΡΓΙΑΔΗ ΜΕΝΙΑ",null,null,{"$f":"IF($D27=\"\",\"\",VLOOKUP($D27,'Girls Si Main Draw Prep'!$A$7:$P$70,4))","v":""},null,"ΒΟΓΙΑΤΖΟΓΛΟΥ",null,null,null,"40  42"]
["22",{"$f":"IF($D28=\"\",\"\",VLOOKUP($D28,'Girls Si Main Draw Prep'!$A$7:$P$70,15))","v":""},{"$f":"IF($D28=\"\",\"\",VLOOKUP($D28,'Girls Si Main Draw Prep'!$A$7:$P$70,16))","v":""},null,"ΒΟΓΙΑΤΖΟΓΛΟΥ ΜΑΡΙΑΝΝΑ",null,null,{"$f":"IF($D28=\"\",\"\",VLOOKUP($D28,'Girls Si Main Draw Prep'!$A$7:$P$70,4))","v":""},null,"41  41",null,"ΤΣΟΥΡΒΕΛΟΥΔΗΣ"]
["23",{"$f":"IF($D29=\"\",\"\",VLOOKUP($D29,'Girls Si Main Draw Prep'!$A$7:$P$70,15))","v":""},{"$f":"IF($D29=\"\",\"\",VLOOKUP($D29,'Girls Si Main Draw Prep'!$A$7:$P$70,16))","v":""},null,"ΝΤΕΡΜΑΝΑΚΗΣ ΓΙΑΝΝΗΣ",null,null,{"$f":"IF($D29=\"\",\"\",VLOOKUP($D29,'Girls Si Main Draw Prep'!$A$7:$P$70,4))","v":""},null,"ΤΣΟΥΡΒΕΛΟΥΔΗΣ",null,"40  40"]
["24",{"$f":"IF($D30=\"\",\"\",VLOOKUP($D30,'Girls Si Main Draw Prep'!$A$7:$P$70,15))","v":""},{"$f":"IF($D30=\"\",\"\",VLOOKUP($D30,'Girls Si Main Draw Prep'!$A$7:$P$70,16))","v":""},null,"ΤΣΟΥΡΒΕΛΟΥΔΗΣ ΝΙΚΟΣ",null,null,{"$f":"IF($D30=\"\",\"\",VLOOKUP($D30,'Girls Si Main Draw Prep'!$A$7:$P$70,4))","v":""},null,"42  40",null,null,null,null,null,"ΚΟΚΚΙΝΑΚΗΣ"]
["25",{"$f":"IF($D31=\"\",\"\",VLOOKUP($D31,'Girls Si Main Draw Prep'!$A$7:$P$70,15))","v":""},{"$f":"IF($D31=\"\",\"\",VLOOKUP($D31,'Girls Si Main Draw Prep'!$A$7:$P$70,16))","v":""},null,"ΒΑΡΒΕΡΑΚΗ ΜΑΡΙΑ",null,null,{"$f":"IF($D31=\"\",\"\",VLOOKUP($D31,'Girls Si Main Draw Prep'!$A$7:$P$70,4))","v":""},null,"ΒΑΡΒΕΡΑΚΗ",null,null,null,"ΤΕΤΑΡΤΗ",null,"62  76  (7-4)"]
["26",{"$f":"IF($D32=\"\",\"\",VLOOKUP($D32,'Girls Si Main Draw Prep'!$A$7:$P$70,15))","v":""},{"$f":"IF($D32=\"\",\"\",VLOOKUP($D32,'Girls Si Main Draw Prep'!$A$7:$P$70,16))","v":""},null,"ΣΜΥΡΑΝΙΟΣ ΜΑΝΩΛΗΣ",null,null,{"$f":"IF($D32=\"\",\"\",VLOOKUP($D32,'Girls Si Main Draw Prep'!$A$7:$P$70,4))","v":""},null,"40  40",null,"ΒΑΡΒΕΡΑΚΗ"]
["27",{"$f":"IF($D33=\"\",\"\",VLOOKUP($D33,'Girls Si Main Draw Prep'!$A$7:$P$70,15))","v":""},{"$f":"IF($D33=\"\",\"\",VLOOKUP($D33,'Girls Si Main Draw Prep'!$A$7:$P$70,16))","v":""},null,"ΜΠΑΝΤΟΥΡΑΚΗΣ ΓΙΩΡΓΟΣ",null,null,{"$f":"IF($D33=\"\",\"\",VLOOKUP($D33,'Girls Si Main Draw Prep'!$A$7:$P$70,4))","v":""},null,"ΜΠΑΝΤΟΥΡΑΚΗΣ",null,"42  53"]
["28",{"$f":"IF($D34=\"\",\"\",VLOOKUP($D34,'Girls Si Main Draw Prep'!$A$7:$P$70,15))","v":""},{"$f":"IF($D34=\"\",\"\",VLOOKUP($D34,'Girls Si Main Draw Prep'!$A$7:$P$70,16))","v":""},null,"ΜΑΡΑΚΗΣ ΚΩΣΤΑΣ",null,null,{"$f":"IF($D34=\"\",\"\",VLOOKUP($D34,'Girls Si Main Draw Prep'!$A$7:$P$70,4))","v":""},null,"wo",null,null,null,"ΒΑΡΒΕΡΑΚΗΣ"]
["29",{"$f":"IF($D35=\"\",\"\",VLOOKUP($D35,'Girls Si Main Draw Prep'!$A$7:$P$70,15))","v":""},{"$f":"IF($D35=\"\",\"\",VLOOKUP($D35,'Girls Si Main Draw Prep'!$A$7:$P$70,16))","v":""},null,"ΓΕΩΡΓΟΥΣΑΚΗΣ ΓΙΩΡΓΟΣ",null,null,{"$f":"IF($D35=\"\",\"\",VLOOKUP($D35,'Girls Si Main Draw Prep'!$A$7:$P$70,4))","v":""},null,"ΓΕΩΡΓΟΥΣΑΚΗΣ",null,null,null,"40  41"]
["30",{"$f":"IF($D36=\"\",\"\",VLOOKUP($D36,'Girls Si Main Draw Prep'!$A$7:$P$70,15))","v":""},{"$f":"IF($D36=\"\",\"\",VLOOKUP($D36,'Girls Si Main Draw Prep'!$A$7:$P$70,16))","v":""},null,"ΑΛΕΞΑΚΗ ΣΟΦΙΑ",null,null,{"$f":"IF($D36=\"\",\"\",VLOOKUP($D36,'Girls Si Main Draw Prep'!$A$7:$P$70,4))","v":""},null,"14  41  (10-7)",null,"ΒΑΡΒΕΡΑΚΗΣ"]
["31",{"$f":"IF($D37=\"\",\"\",VLOOKUP($D37,'Girls Si Main Draw Prep'!$A$7:$P$70,15))","v":""},{"$f":"IF($D37=\"\",\"\",VLOOKUP($D37,'Girls Si Main Draw Prep'!$A$7:$P$70,16))","v":""},null,"ΓΑΪΤΑΝΟΠΟΥΛΟΣ ΓΙΩΡΓΟΣ",null,null,{"$f":"IF($D37=\"\",\"\",VLOOKUP($D37,'Girls Si Main Draw Prep'!$A$7:$P$70,4))","v":""},null,"ΒΑΡΒΕΡΑΚΗΣ",null,"40  40",null,"ΝΑΟΥΜ   62  75"]
["32",{"$f":"IF($D38=\"\",\"\",VLOOKUP($D38,'Girls Si Main Draw Prep'!$A$7:$P$70,15))","v":""},{"$f":"IF($D38=\"\",\"\",VLOOKUP($D38,'Girls Si Main Draw Prep'!$A$7:$P$70,16))","v":""},null,"ΒΑΡΒΕΡΑΚΗΣ ΓΙΩΡΓΟΣ",null,null,{"$f":"IF($D38=\"\",\"\",VLOOKUP($D38,'Girls Si Main Draw Prep'!$A$7:$P$70,4))","v":""},null,"40  40",null,null,null,null,null,{"$f":"UPPER(IF(OR(O38=\"a\",O38=\"as\"),N37,IF(OR(O38=\"b\",O38=\"bs\"),N39,)))","v":""}]
["33",{"$f":"IF($D39=\"\",\"\",VLOOKUP($D39,'Girls Si Main Draw Prep'!$A$7:$P$70,15))","v":""},{"$f":"IF($D39=\"\",\"\",VLOOKUP($D39,'Girls Si Main Draw Prep'!$A$7:$P$70,16))","v":""},null,"ΜΑΤΣΑΜΑΚΗΣ ΑΝΤΩΝΗΣ",null,null,{"$f":"IF($D39=\"\",\"\",VLOOKUP($D39,'Girls Si Main Draw Prep'!$A$7:$P$70,4))","v":""},null,"ΜΑΤΣΑΜΑΚΗΣ",null,null,null,"ΚΑΡΑΧΑΛΙΟΣ"]
["34",{"$f":"IF($D40=\"\",\"\",VLOOKUP($D40,'Girls Si Main Draw Prep'!$A$7:$P$70,15))","v":""},{"$f":"IF($D40=\"\",\"\",VLOOKUP($D40,'Girls Si Main Draw Prep'!$A$7:$P$70,16))","v":""},null,"ΣΟΛΙΔΑΚΗΣ ΜΑΝΩΛΗΣ",null,null,{"$f":"IF($D40=\"\",\"\",VLOOKUP($D40,'Girls Si Main Draw Prep'!$A$7:$P$70,4))","v":""},null,null,null,"ΜΑΤΣΑΜΑΚΗΣ",null,"62  62"]
["35",{"$f":"IF($D41=\"\",\"\",VLOOKUP($D41,'Girls Si Main Draw Prep'!$A$7:$P$70,15))","v":""},{"$f":"IF($D41=\"\",\"\",VLOOKUP($D41,'Girls Si Main Draw Prep'!$A$7:$P$70,16))","v":""},null,"ΑΛΕΞΑΝΔΡΙΔΗΣ ΚΩΣΤΑΣ",null,null,{"$f":"IF($D41=\"\",\"\",VLOOKUP($D41,'Girls Si Main Draw Prep'!$A$7:$P$70,4))","v":""},null,"ΚΑΤΣΟΥΛΑΚΗΣ",null,"42  40",null,null,null,"ΚΥΡΙΑΚΗ 21.00"]
["36",{"$f":"IF($D42=\"\",\"\",VLOOKUP($D42,'Girls Si Main Draw Prep'!$A$7:$P$70,15))","v":""},{"$f":"IF($D42=\"\",\"\",VLOOKUP($D42,'Girls Si Main Draw Prep'!$A$7:$P$70,16))","v":""},null,"ΚΑΤΣΟΥΛΑΚΗΣ ΜΑΝΟΣ",null,null,{"$f":"IF($D42=\"\",\"\",VLOOKUP($D42,'Girls Si Main Draw Prep'!$A$7:$P$70,4))","v":""},null,"wo",null,null,null,"ΜΑΤΣΑΜΑΚΗΣ"]
["37",{"$f":"IF($D43=\"\",\"\",VLOOKUP($D43,'Girls Si Main Draw Prep'!$A$7:$P$70,15))","v":""},{"$f":"IF($D43=\"\",\"\",VLOOKUP($D43,'Girls Si Main Draw Prep'!$A$7:$P$70,16))","v":""},null,"ΤΖΩΡΤΖΑΚΗΣ ΣΤΕΛΙΟΣ",null,null,{"$f":"IF($D43=\"\",\"\",VLOOKUP($D43,'Girls Si Main Draw Prep'!$A$7:$P$70,4))","v":""},null,"ΜΑΤΣΑΜΑΚΗΣ"]
["38",{"$f":"IF($D44=\"\",\"\",VLOOKUP($D44,'Girls Si Main Draw Prep'!$A$7:$P$70,15))","v":""},{"$f":"IF($D44=\"\",\"\",VLOOKUP($D44,'Girls Si Main Draw Prep'!$A$7:$P$70,16))","v":""},null,"ΜΑΤΣΑΜΑΚΗΣ ΛΕΥΤΕΡΗΣ",null,null,{"$f":"IF($D44=\"\",\"\",VLOOKUP($D44,'Girls Si Main Draw Prep'!$A$7:$P$70,4))","v":""},null,"41  41",null,"ΜΠΑΛΑΣΚΑ"]
["39",{"$f":"IF($D45=\"\",\"\",VLOOKUP($D45,'Girls Si Main Draw Prep'!$A$7:$P$70,15))","v":""},{"$f":"IF($D45=\"\",\"\",VLOOKUP($D45,'Girls Si Main Draw Prep'!$A$7:$P$70,16))","v":""},null,"ΠΕΤΡΟΓΙΑΝΝΗΣ ΒΑΣΙΛΗΣ",null,null,{"$f":"IF($D45=\"\",\"\",VLOOKUP($D45,'Girls Si Main Draw Prep'!$A$7:$P$70,4))","v":""},null,"ΜΠΑΛΑΣΚΑ",null,"40  42"]
["40",{"$f":"IF($D46=\"\",\"\",VLOOKUP($D46,'Girls Si Main Draw Prep'!$A$7:$P$70,15))","v":""},{"$f":"IF($D46=\"\",\"\",VLOOKUP($D46,'Girls Si Main Draw Prep'!$A$7:$P$70,16))","v":""},null,"ΜΠΑΛΑΣΚΑ ΒΑΣΙΛΙΚΗ",null,null,{"$f":"IF($D46=\"\",\"\",VLOOKUP($D46,'Girls Si Main Draw Prep'!$A$7:$P$70,4))","v":""},null,"41  40",null,null,null,null,null,"ΚΑΡΑΧΑΛΙΟΣ"]
["41",{"$f":"IF($D47=\"\",\"\",VLOOKUP($D47,'Girls Si Main Draw Prep'!$A$7:$P$70,15))","v":""},{"$f":"IF($D47=\"\",\"\",VLOOKUP($D47,'Girls Si Main Draw Prep'!$A$7:$P$70,16))","v":""},null,"ΧΑΛΑΚΑΤΕΒΑΚΗΣ ΛΕΥΤΕΡΗΣ",null,null,{"$f":"IF($D47=\"\",\"\",VLOOKUP($D47,'Girls Si Main Draw Prep'!$A$7:$P$70,4))","v":""},null,"ΧΑΛΑΚΑΤΕΒΑΚΗΣ",null,null,null,"ΤΕΤΑΡΤΗ",null,"63  62"]
["42",{"$f":"IF($D48=\"\",\"\",VLOOKUP($D48,'Girls Si Main Draw Prep'!$A$7:$P$70,15))","v":""},{"$f":"IF($D48=\"\",\"\",VLOOKUP($D48,'Girls Si Main Draw Prep'!$A$7:$P$70,16))","v":""},null,"ΠΕΤΡΑΚΗΣ ΝΙΚΟΣ",null,null,{"$f":"IF($D48=\"\",\"\",VLOOKUP($D48,'Girls Si Main Draw Prep'!$A$7:$P$70,4))","v":""},null,"41  41",null,"ΧΑΛΑΚΑΤΕΒΑΚΗΣ"]
["43",{"$f":"IF($D49=\"\",\"\",VLOOKUP($D49,'Girls Si Main Draw Prep'!$A$7:$P$70,15))","v":""},{"$f":"IF($D49=\"\",\"\",VLOOKUP($D49,'Girls Si Main Draw Prep'!$A$7:$P$70,16))","v":""},null,"ΓΚΙΚΑ ΚΙΣΙΛΝΤΑ",null,null,{"$f":"IF($D49=\"\",\"\",VLOOKUP($D49,'Girls Si Main Draw Prep'!$A$7:$P$70,4))","v":""},null,"ΣΟΛΙΔΑΚΗΣ Γ.",null,"41  41"]
["44",{"$f":"IF($D50=\"\",\"\",VLOOKUP($D50,'Girls Si Main Draw Prep'!$A$7:$P$70,15))","v":""},{"$f":"IF($D50=\"\",\"\",VLOOKUP($D50,'Girls Si Main Draw Prep'!$A$7:$P$70,16))","v":""},null,"ΣΟΛΙΔΑΚΗΣ ΓΙΑΝΝΗΣ",null,null,{"$f":"IF($D50=\"\",\"\",VLOOKUP($D50,'Girls Si Main Draw Prep'!$A$7:$P$70,4))","v":""},null,"54  42 (10-7)",null,null,null,"ΚΑΡΑΧΑΛΙΟΣ"]
["45",{"$f":"IF($D51=\"\",\"\",VLOOKUP($D51,'Girls Si Main Draw Prep'!$A$7:$P$70,15))","v":""},{"$f":"IF($D51=\"\",\"\",VLOOKUP($D51,'Girls Si Main Draw Prep'!$A$7:$P$70,16))","v":""},null,"ΤΙΜΟΥΡ ΓΚΑΪΡΙΝΤΙΝΟΒ",null,null,{"$f":"IF($D51=\"\",\"\",VLOOKUP($D51,'Girls Si Main Draw Prep'!$A$7:$P$70,4))","v":""},null,"ΜΠΑΡΑΝΟΒΑ",null,null,null,"41  40"]
["46",{"$f":"IF($D52=\"\",\"\",VLOOKUP($D52,'Girls Si Main Draw Prep'!$A$7:$P$70,15))","v":""},{"$f":"IF($D52=\"\",\"\",VLOOKUP($D52,'Girls Si Main Draw Prep'!$A$7:$P$70,16))","v":""},null,"ΜΠΑΡΑΝΟΒΑ ΙΟΥΛΙΑ",null,null,{"$f":"IF($D52=\"\",\"\",VLOOKUP($D52,'Girls Si Main Draw Prep'!$A$7:$P$70,4))","v":""},null,"41  22 ret",null,"ΚΑΡΑΧΑΛΙΟΣ"]
["47",{"$f":"IF($D53=\"\",\"\",VLOOKUP($D53,'Girls Si Main Draw Prep'!$A$7:$P$70,15))","v":""},{"$f":"IF($D53=\"\",\"\",VLOOKUP($D53,'Girls Si Main Draw Prep'!$A$7:$P$70,16))","v":""},null,"ΣΠΑΝΟΥΔΑΚΗΣ ΠΑΥΛΟΣ",null,null,{"$f":"IF($D53=\"\",\"\",VLOOKUP($D53,'Girls Si Main Draw Prep'!$A$7:$P$70,4))","v":""},null,"ΚΑΡΑΧΑΛΙΟΣ",null,"41  40"]
["48",{"$f":"IF($D54=\"\",\"\",VLOOKUP($D54,'Girls Si Main Draw Prep'!$A$7:$P$70,15))","v":""},{"$f":"IF($D54=\"\",\"\",VLOOKUP($D54,'Girls Si Main Draw Prep'!$A$7:$P$70,16))","v":""},null,"ΚΑΡΑΧΑΛΙΟΣ ΑΓΓΕΛΟΣ",null,null,{"$f":"IF($D54=\"\",\"\",VLOOKUP($D54,'Girls Si Main Draw Prep'!$A$7:$P$70,4))","v":""},null,"40  40",null,null,null,null,null,{"$f":"UPPER(IF(OR(O55=\"a\",O55=\"as\"),P46,IF(OR(O55=\"b\",O55=\"bs\"),P62,)))","v":""}]
["49",{"$f":"IF($D55=\"\",\"\",VLOOKUP($D55,'Girls Si Main Draw Prep'!$A$7:$P$70,15))","v":""},{"$f":"IF($D55=\"\",\"\",VLOOKUP($D55,'Girls Si Main Draw Prep'!$A$7:$P$70,16))","v":""},null,"ΔΟΥΛΓΕΡΑΚΗΣ ΣΤΑΥΡΟΣ",null,null,{"$f":"IF($D55=\"\",\"\",VLOOKUP($D55,'Girls Si Main Draw Prep'!$A$7:$P$70,4))","v":""},null,"ΔΟΥΛΓΕΡΑΚΗΣ"]
["50",{"$f":"IF($D56=\"\",\"\",VLOOKUP($D56,'Girls Si Main Draw Prep'!$A$7:$P$70,15))","v":""},{"$f":"IF($D56=\"\",\"\",VLOOKUP($D56,'Girls Si Main Draw Prep'!$A$7:$P$70,16))","v":""},null,"ΤΙΤΗ ΕΜΜΑΝΟΥΕΛΑ",null,null,{"$f":"IF($D56=\"\",\"\",VLOOKUP($D56,'Girls Si Main Draw Prep'!$A$7:$P$70,4))","v":""},null,"41  41",null,"ΔΟΥΛΓΕΡΑΚΗΣ",null,null,null,"ΠΑΡΑΣΚΕΥΗ"]
["51",{"$f":"IF($D57=\"\",\"\",VLOOKUP($D57,'Girls Si Main Draw Prep'!$A$7:$P$70,15))","v":""},{"$f":"IF($D57=\"\",\"\",VLOOKUP($D57,'Girls Si Main Draw Prep'!$A$7:$P$70,16))","v":""},null,"ΧΑΤΖΗΣ ΑΛΕΚΟΣ",null,null,{"$f":"IF($D57=\"\",\"\",VLOOKUP($D57,'Girls Si Main Draw Prep'!$A$7:$P$70,4))","v":""},null,"ΜΙΟΥΜΠΗΣ",null,"41  40"]
["52",{"$f":"IF($D58=\"\",\"\",VLOOKUP($D58,'Girls Si Main Draw Prep'!$A$7:$P$70,15))","v":""},{"$f":"IF($D58=\"\",\"\",VLOOKUP($D58,'Girls Si Main Draw Prep'!$A$7:$P$70,16))","v":""},null,"ΜΙΟΥΜΠΗ ΖΑΜΕΛ",null,null,{"$f":"IF($D58=\"\",\"\",VLOOKUP($D58,'Girls Si Main Draw Prep'!$A$7:$P$70,4))","v":""},null,"41  41",null,null,null,"ΔΟΥΛΓΕΡΑΚΗΣ"]
["53",null,null,null,"ΒΛΗΣΙΔΗΣ ΓΙΩΡΓΟΣ",null,null,{"$f":"IF($D59=\"\",\"\",VLOOKUP($D59,'Girls Si Main Draw Prep'!$A$7:$P$70,4))","v":""},null,"ΒΛΗΣΙΔΗΣ",null,null,null,"40  53"]
["54",{"$f":"IF($D60=\"\",\"\",VLOOKUP($D60,'Girls Si Main Draw Prep'!$A$7:$P$70,15))","v":""},{"$f":"IF($D60=\"\",\"\",VLOOKUP($D60,'Girls Si Main Draw Prep'!$A$7:$P$70,16))","v":""},null,"ΤΖΟΜΠΑΝΑΚΗΣ ΓΙΩΡΓΟΣ",null,null,{"$f":"IF($D60=\"\",\"\",VLOOKUP($D60,'Girls Si Main Draw Prep'!$A$7:$P$70,4))","v":""},null,"40  40",null,"ΚΩΝΣΤΑΝΤΑΡΑΚΗΣ"]
["55",{"$f":"IF($D61=\"\",\"\",VLOOKUP($D61,'Girls Si Main Draw Prep'!$A$7:$P$70,15))","v":""},{"$f":"IF($D61=\"\",\"\",VLOOKUP($D61,'Girls Si Main Draw Prep'!$A$7:$P$70,16))","v":""},null,"ΒΡΑΝΑΣ ΜΑΝΩΛΗΣ",null,null,{"$f":"IF($D61=\"\",\"\",VLOOKUP($D61,'Girls Si Main Draw Prep'!$A$7:$P$70,4))","v":""},null,"ΚΩΝΣΤΑΝΤΑΡΑΚΗΣ",null,"54  54"]
["56",{"$f":"IF($D62=\"\",\"\",VLOOKUP($D62,'Girls Si Main Draw Prep'!$A$7:$P$70,15))","v":""},{"$f":"IF($D62=\"\",\"\",VLOOKUP($D62,'Girls Si Main Draw Prep'!$A$7:$P$70,16))","v":""},null,"ΚΩΝΣΤΑΝΤΑΡΑΚΗΣ ΑΝΤΩΝΗΣ",null,null,{"$f":"IF($D62=\"\",\"\",VLOOKUP($D62,'Girls Si Main Draw Prep'!$A$7:$P$70,4))","v":""},null,"41  53",null,null,null,null,null,"ΔΟΥΛΓΕΡΑΚΗΣ"]
["57",{"$f":"IF($D63=\"\",\"\",VLOOKUP($D63,'Girls Si Main Draw Prep'!$A$7:$P$70,15))","v":""},{"$f":"IF($D63=\"\",\"\",VLOOKUP($D63,'Girls Si Main Draw Prep'!$A$7:$P$70,16))","v":""},null,"ΚΑΫΜΕΝΑΚΗΣ ΗΛΙΑΣ",null,null,{"$f":"IF($D63=\"\",\"\",VLOOKUP($D63,'Girls Si Main Draw Prep'!$A$7:$P$70,4))","v":""},null,"ΚΑΫΜΕΝΑΚΗΣ",null,null,null,null,null,"wo"]
["58",{"$f":"IF($D64=\"\",\"\",VLOOKUP($D64,'Girls Si Main Draw Prep'!$A$7:$P$70,15))","v":""},{"$f":"IF($D64=\"\",\"\",VLOOKUP($D64,'Girls Si Main Draw Prep'!$A$7:$P$70,16))","v":""},null,"ΓΙΑΚΟΥΜΑΚΗΣ ΓΙΑΝΝΗΣ",null,null,{"$f":"IF($D64=\"\",\"\",VLOOKUP($D64,'Girls Si Main Draw Prep'!$A$7:$P$70,4))","v":""},null,"42  41",null,"ΚΑΫΜΕΝΑΚΗΣ"]
["59",{"$f":"IF($D65=\"\",\"\",VLOOKUP($D65,'Girls Si Main Draw Prep'!$A$7:$P$70,15))","v":""},{"$f":"IF($D65=\"\",\"\",VLOOKUP($D65,'Girls Si Main Draw Prep'!$A$7:$P$70,16))","v":""},null,"ΚΟΥΤΡΑΚΗΣ ΣΤΕΛΙΟΣ",null,null,{"$f":"IF($D65=\"\",\"\",VLOOKUP($D65,'Girls Si Main Draw Prep'!$A$7:$P$70,4))","v":""},null,"ΚΟΥΤΡΑΚΗΣ",null,"42  40"]
["60",{"$f":"IF($D66=\"\",\"\",VLOOKUP($D66,'Girls Si Main Draw Prep'!$A$7:$P$70,15))","v":""},{"$f":"IF($D66=\"\",\"\",VLOOKUP($D66,'Girls Si Main Draw Prep'!$A$7:$P$70,16))","v":""},null,"ΣΦΑΚΙΑΝΑΚΗΣ ΓΙΑΝΝΗΣ",null,null,{"$f":"IF($D66=\"\",\"\",VLOOKUP($D66,'Girls Si Main Draw Prep'!$A$7:$P$70,4))","v":""},null,"42  42",null,null,null,"ΜΙΧΕΛΑΚΗΣ"]
["61",{"$f":"IF($D67=\"\",\"\",VLOOKUP($D67,'Girls Si Main Draw Prep'!$A$7:$P$70,15))","v":""},{"$f":"IF($D67=\"\",\"\",VLOOKUP($D67,'Girls Si Main Draw Prep'!$A$7:$P$70,16))","v":""},null,"ΧΑΛΑΚΑΤΕΒΑΚΗΣ ΑΠΟΣΤΟΛΟΣ",null,null,{"$f":"IF($D67=\"\",\"\",VLOOKUP($D67,'Girls Si Main Draw Prep'!$A$7:$P$70,4))","v":""},null,"ΜΙΧΕΛΑΚΗΣ",null,null,null,"42  53"]
["62",{"$f":"IF($D68=\"\",\"\",VLOOKUP($D68,'Girls Si Main Draw Prep'!$A$7:$P$70,15))","v":""},{"$f":"IF($D68=\"\",\"\",VLOOKUP($D68,'Girls Si Main Draw Prep'!$A$7:$P$70,16))","v":""},null,"ΜΙΧΕΛΑΚΗΣ ΓΙΩΡΓΟΣ",null,null,{"$f":"IF($D68=\"\",\"\",VLOOKUP($D68,'Girls Si Main Draw Prep'!$A$7:$P$70,4))","v":""},null,"40  42",null,"ΜΙΧΕΛΑΚΗΣ"]
["63",{"$f":"IF($D69=\"\",\"\",VLOOKUP($D69,'Girls Si Main Draw Prep'!$A$7:$P$70,15))","v":""},{"$f":"IF($D69=\"\",\"\",VLOOKUP($D69,'Girls Si Main Draw Prep'!$A$7:$P$70,16))","v":""},null,"ΦΡΑΓΚΟΝΙΚΟΛΑΚΗΣ ΓΙΩΡΓΟΣ",null,null,{"$f":"IF($D69=\"\",\"\",VLOOKUP($D69,'Girls Si Main Draw Prep'!$A$7:$P$70,4))","v":""},null,"ΦΡΑΓΚΟΝΙΚΟΛΑΚΗΣ",null,"42  40"]
["64",{"$f":"IF($D70=\"\",\"\",VLOOKUP($D70,'Girls Si Main Draw Prep'!$A$7:$P$70,15))","v":""},{"$f":"IF($D70=\"\",\"\",VLOOKUP($D70,'Girls Si Main Draw Prep'!$A$7:$P$70,16))","v":""},null,"ΣΚΑΛΙΔΑΚΗΣ ΔΗΜΗΤΡΗΣ",null,null,{"$f":"IF($D70=\"\",\"\",VLOOKUP($D70,'Girls Si Main Draw Prep'!$A$7:$P$70,4))","v":""},null,"wo"]

{"sheet":"ΔΙΠΛΑ","index":21,"n_rows":79,"n_cols":20,"rows_kept":79,"cut":false,"hidden":false,"merged":[[3,0,3,2]]}
[]
[]
[]
[]
[null,"St.","Rank","Seed","Family Name","First name",null,"Nationality",null,"2nd Round",null,"Quarterfinals",null,"Semifinals",null,"Final"]
[]
[1,{"$f":"IF($D7=\"\",\"\",VLOOKUP($D7,'[1]Girls Si Main Draw Prep'!$A$7:$P$38,15))","v":""},{"$f":"IF($D7=\"\",\"\",VLOOKUP($D7,'[1]Girls Si Main Draw Prep'!$A$7:$P$38,16))","v":""},null,"ΚΟΚΚΙΝΑΚΗ-ΚΟΚΚΙΝΑΚΗ",{"$f":"IF($D7=\"\",\"\",VLOOKUP($D7,'[1]Girls Si Main Draw Prep'!$A$7:$P$38,3))","v":""},null,{"$f":"IF($D7=\"\",\"\",VLOOKUP($D7,'[1]Girls Si Main Draw Prep'!$A$7:$P$38,4))","v":""},null,null,null,null,null,null,null,null,null,null,null,{"$f":"'[1]SetUp Officials'!P21","v":"Umpire"}]
[null,null,null,null,null,null,null,"Umpire",null,"ΚΟΚΚΙΝΑΚΗ-ΚΟΚΚΙΝΑΚΗ",null,null,null,null,null,null,null,null,null,{"$f":"'[1]SetUp Officials'!P22","v":" "}]
[2,{"$f":"IF($D9=\"\",\"\",VLOOKUP($D9,'[1]Girls Si Main Draw Prep'!$A$7:$P$38,15))","v":""},{"$f":"IF($D9=\"\",\"\",VLOOKUP($D9,'[1]Girls Si Main Draw Prep'!$A$7:$P$38,16))","v":""},null,"BYE",{"$f":"IF($D9=\"\",\"\",VLOOKUP($D9,'[1]Girls Si Main Draw Prep'!$A$7:$P$38,3))","v":""},null,{"$f":"IF($D9=\"\",\"\",VLOOKUP($D9,'[1]Girls Si Main Draw Prep'!$A$7:$P$38,4))","v":""},null,null,null,null,null,null,null,null,null,null,null,{"$f":"'[1]SetUp Officials'!P23","v":" "}]
[null,null,null,null,null,null,null,null,null,"Umpire",null,"ΚΟΚΚΙΝΑΚΗΣ-ΚΟΚΚΙΝΑΚΗ",null,null,null,null,null,null,null,{"$f":"'[1]SetUp Officials'!P24","v":" "}]
[3,{"$f":"IF($D11=\"\",\"\",VLOOKUP($D11,'[1]Girls Si Main Draw Prep'!$A$7:$P$38,15))","v":""},{"$f":"IF($D11=\"\",\"\",VLOOKUP($D11,'[1]Girls Si Main Draw Prep'!$A$7:$P$38,16))","v":""},null,"ΖΕΡΒΟΣ Γ.-ΚΑΣΑΠΑΚΗΣ",{"$f":"IF($D11=\"\",\"\",VLOOKUP($D11,'[1]Girls Si Main Draw Prep'!$A$7:$P$38,3))","v":""},null,{"$f":"IF($D11=\"\",\"\",VLOOKUP($D11,'[1]Girls Si Main Draw Prep'!$A$7:$P$38,4))","v":""},null,null,null,"40  40",null,null,null,null,null,null,null,{"$f":"'[1]SetUp Officials'!P25","v":" "}]
[null,null,null,null,null,null,null,"Umpire",null,"ΖΕΡΒΟΣ Γ.-ΚΑΣΑΠΑΚΗΣ",null,null,null,null,null,null,null,null,null,{"$f":"'[1]SetUp Officials'!P26","v":" "}]
[4,{"$f":"IF($D13=\"\",\"\",VLOOKUP($D13,'[1]Girls Si Main Draw Prep'!$A$7:$P$38,15))","v":""},{"$f":"IF($D13=\"\",\"\",VLOOKUP($D13,'[1]Girls Si Main Draw Prep'!$A$7:$P$38,16))","v":""},null,"BYE",{"$f":"IF($D13=\"\",\"\",VLOOKUP($D13,'[1]Girls Si Main Draw Prep'!$A$7:$P$38,3))","v":""},null,{"$f":"IF($D13=\"\",\"\",VLOOKUP($D13,'[1]Girls Si Main Draw Prep'!$A$7:$P$38,4))","v":""},null,null,null,null,null,null,null,null,null,null,null,{"$f":"'[1]SetUp Officials'!P27","v":" "}]
[null,null,null,null,null,null,null,null,null,null,null,"Umpire",null,"ΚΟΚΚΙΝΑΚΗΣ-ΚΟΚΚΙΝΑΚΗ",null,null,null,null,null,{"$f":"'[1]SetUp Officials'!P28","v":" "}]
[5,{"$f":"IF($D15=\"\",\"\",VLOOKUP($D15,'[1]Girls Si Main Draw Prep'!$A$7:$P$38,15))","v":""},{"$f":"IF($D15=\"\",\"\",VLOOKUP($D15,'[1]Girls Si Main Draw Prep'!$A$7:$P$38,16))","v":""},null,"ΚΑΤΣΟΥΛΑΚΗΣ-ΚΑΤΣΟΥΛΑΚΗΣ",{"$f":"IF($D15=\"\",\"\",VLOOKUP($D15,'[1]Girls Si Main Draw Prep'!$A$7:$P$38,3))","v":""},null,{"$f":"IF($D15=\"\",\"\",VLOOKUP($D15,'[1]Girls Si Main Draw Prep'!$A$7:$P$38,4))","v":""},null,null,null,null,null,"40  40",null,null,null,null,null,{"$f":"'[1]SetUp Officials'!P29","v":" "}]
[null,null,null,null,null,null,null,"Umpire",null,"ΜΑΤΣΑΜΑΚΗΣ-ΧΑΛΑΚΑΤΕΒΑΚΗΣ",null,null,null,null,null,null,null,null,null,{"$f":"'[1]SetUp Officials'!P30","v":"None"}]
[6,{"$f":"IF($D17=\"\",\"\",VLOOKUP($D17,'[1]Girls Si Main Draw Prep'!$A$7:$P$38,15))","v":""},{"$f":"IF($D17=\"\",\"\",VLOOKUP($D17,'[1]Girls Si Main Draw Prep'!$A$7:$P$38,16))","v":""},null,"ΜΑΤΣΑΜΑΚΗΣ Λ-ΧΑΛΑΚΑΤΕΒΑΚΗΣ Α",{"$f":"IF($D17=\"\",\"\",VLOOKUP($D17,'[1]Girls Si Main Draw Prep'!$A$7:$P$38,3))","v":""},null,{"$f":"IF($D17=\"\",\"\",VLOOKUP($D17,'[1]Girls Si Main Draw Prep'!$A$7:$P$38,4))","v":""},null,"41  41"]
[null,null,null,null,null,null,null,null,null,"Umpire",null,"ΜΑΤΣΑΜ-ΧΑΛΑΚΑΤ"]
[7,{"$f":"IF($D19=\"\",\"\",VLOOKUP($D19,'[1]Girls Si Main Draw Prep'!$A$7:$P$38,15))","v":""},{"$f":"IF($D19=\"\",\"\",VLOOKUP($D19,'[1]Girls Si Main Draw Prep'!$A$7:$P$38,16))","v":""},null,"BYE",{"$f":"IF($D19=\"\",\"\",VLOOKUP($D19,'[1]Girls Si Main Draw Prep'!$A$7:$P$38,3))","v":""},null,{"$f":"IF($D19=\"\",\"\",VLOOKUP($D19,'[1]Girls Si Main Draw Prep'!$A$7:$P$38,4))","v":""},null,null,null,"wo"]
[null,null,null,null,null,null,null,"Umpire",null,"ΤΣΙΤΣΙΡΙΔΑΚΗ-ΚΟΝΤΑΞΑΚΗΣ"]
[8,{"$f":"IF($D21=\"\",\"\",VLOOKUP($D21,'[1]Girls Si Main Draw Prep'!$A$7:$P$38,15))","v":""},{"$f":"IF($D21=\"\",\"\",VLOOKUP($D21,'[1]Girls Si Main Draw Prep'!$A$7:$P$38,16))","v":""},null,"ΤΣΙΤΣΙΡΙΔΑΚΗ-ΚΟΝΤΑΞΑΚΗΣ",{"$f":"IF($D21=\"\",\"\",VLOOKUP($D21,'[1]Girls Si Main Draw Prep'!$A$7:$P$38,3))","v":""},null,{"$f":"IF($D21=\"\",\"\",VLOOKUP($D21,'[1]Girls Si Main Draw Prep'!$A$7:$P$38,4))","v":""}]
[null,null,null,null,null,null,null,null,null,null,null,null,null,"Umpire",null,"ΜΑΤΣΑΜ-ΚΟΝΤΑΡ"]
[9,{"$f":"IF($D23=\"\",\"\",VLOOKUP($D23,'[1]Girls Si Main Draw Prep'!$A$7:$P$38,15))","v":""},{"$f":"IF($D23=\"\",\"\",VLOOKUP($D23,'[1]Girls Si Main Draw Prep'!$A$7:$P$38,16))","v":""},null,"ΜΑΤΣΑΜΑΚΗΣ ΑΝΤ-ΚΟΝΤΑΡΑΚΗΣ ΑΝ",{"$f":"IF($D23=\"\",\"\",VLOOKUP($D23,'[1]Girls Si Main Draw Prep'!$A$7:$P$38,3))","v":""},null,{"$f":"IF($D23=\"\",\"\",VLOOKUP($D23,'[1]Girls Si Main Draw Prep'!$A$7:$P$38,4))","v":""},null,null,null,null,null,"ΣΑΒΒΑΤΟ",null,"53  35  (10-8)"]
[null,null,null,null,null,null,null,"Umpire",null,"ΜΑΤΣΑΜΑΚΗΣ ΑΝΤ-ΚΟΝΤΑΡΑΚΗΣ ΑΝ"]
[10,{"$f":"IF($D25=\"\",\"\",VLOOKUP($D25,'[1]Girls Si Main Draw Prep'!$A$7:$P$38,15))","v":""},{"$f":"IF($D25=\"\",\"\",VLOOKUP($D25,'[1]Girls Si Main Draw Prep'!$A$7:$P$38,16))","v":""},null,"BYE",{"$f":"IF($D25=\"\",\"\",VLOOKUP($D25,'[1]Girls Si Main Draw Prep'!$A$7:$P$38,3))","v":""},null,{"$f":"IF($D25=\"\",\"\",VLOOKUP($D25,'[1]Girls Si Main Draw Prep'!$A$7:$P$38,4))","v":""}]
[null,null,null,null,null,null,null,null,null,"ΤΕΤΑΡΤΗ",null,"ΜΑΤΣΑΜ-ΚΟΝΤΑΡ"]
[11,{"$f":"IF($D27=\"\",\"\",VLOOKUP($D27,'[1]Girls Si Main Draw Prep'!$A$7:$P$38,15))","v":""},{"$f":"IF($D27=\"\",\"\",VLOOKUP($D27,'[1]Girls Si Main Draw Prep'!$A$7:$P$38,16))","v":""},null,"ΜΠΑΛΑΣΚΑ-ΤΙΤΗ",{"$f":"IF($D27=\"\",\"\",VLOOKUP($D27,'[1]Girls Si Main Draw Prep'!$A$7:$P$38,3))","v":""},null,{"$f":"IF($D27=\"\",\"\",VLOOKUP($D27,'[1]Girls Si Main Draw Prep'!$A$7:$P$38,4))","v":""},null,"ΤΕΤΑΡΤΗ",null,"42  14  (10-3)"]
[null,null,null,null,null,null,null,"Umpire",null,"ΜΠΑΛΑΣΚΑ-ΤΙΤΗ"]
[12,{"$f":"IF($D29=\"\",\"\",VLOOKUP($D29,'[1]Girls Si Main Draw Prep'!$A$7:$P$38,15))","v":""},{"$f":"IF($D29=\"\",\"\",VLOOKUP($D29,'[1]Girls Si Main Draw Prep'!$A$7:$P$38,16))","v":""},null,"BYE",{"$f":"IF($D29=\"\",\"\",VLOOKUP($D29,'[1]Girls Si Main Draw Prep'!$A$7:$P$38,3))","v":""},null,{"$f":"IF($D29=\"\",\"\",VLOOKUP($D29,'[1]Girls Si Main Draw Prep'!$A$7:$P$38,4))","v":""}]
[null,null,null,null,null,null,null,null,null,null,null,"Umpire",null,"ΜΑΤΣΑΜ-ΚΟΝΤΑΡ"]
[13,{"$f":"IF($D31=\"\",\"\",VLOOKUP($D31,'[1]Girls Si Main Draw Prep'!$A$7:$P$38,15))","v":""},{"$f":"IF($D31=\"\",\"\",VLOOKUP($D31,'[1]Girls Si Main Draw Prep'!$A$7:$P$38,16))","v":""},null,"ΜΑΛΑΝΔΡΑΚΗΣ-ΚΑΤΣΙΦΑΡΑΚΗΣ",{"$f":"IF($D31=\"\",\"\",VLOOKUP($D31,'[1]Girls Si Main Draw Prep'!$A$7:$P$38,3))","v":""},null,{"$f":"IF($D31=\"\",\"\",VLOOKUP($D31,'[1]Girls Si Main Draw Prep'!$A$7:$P$38,4))","v":""},null,null,null,"ΠΑΡΑΣΚΕΥΗ",null,"wo"]
[null,null,null,null,null,null,null,"Umpire",null,"ΜΑΛΑΝΔΡ-ΚΑΤΣΙΦ"]
[14,{"$f":"IF($D33=\"\",\"\",VLOOKUP($D33,'[1]Girls Si Main Draw Prep'!$A$7:$P$38,15))","v":""},{"$f":"IF($D33=\"\",\"\",VLOOKUP($D33,'[1]Girls Si Main Draw Prep'!$A$7:$P$38,16))","v":""},null,"ΒΟΓΙΑΤΖΟΓΛΟΥ-ΣΚΟΥΒΑΚΗ",{"$f":"IF($D33=\"\",\"\",VLOOKUP($D33,'[1]Girls Si Main Draw Prep'!$A$7:$P$38,3))","v":""},null,{"$f":"IF($D33=\"\",\"\",VLOOKUP($D33,'[1]Girls Si Main Draw Prep'!$A$7:$P$38,4))","v":""},null,"42  35  (10-6)"]
[null,null,null,null,null,null,null,null,null,"Umpire",null,"ΜΑΛΑΝΔΡ-ΚΑΤΣΙΦ"]
[15,{"$f":"IF($D35=\"\",\"\",VLOOKUP($D35,'[1]Girls Si Main Draw Prep'!$A$7:$P$38,15))","v":""},{"$f":"IF($D35=\"\",\"\",VLOOKUP($D35,'[1]Girls Si Main Draw Prep'!$A$7:$P$38,16))","v":""},null,"BYE",{"$f":"IF($D35=\"\",\"\",VLOOKUP($D35,'[1]Girls Si Main Draw Prep'!$A$7:$P$38,3))","v":""},null,{"$f":"IF($D35=\"\",\"\",VLOOKUP($D35,'[1]Girls Si Main Draw Prep'!$A$7:$P$38,4))","v":""},null,null,null,"wo"]
[null,null,null,null,null,null,null,"Umpire",null,"ΜΠΙΚΑΚΗΣ-ΧΡΙΣΤΟΥΛΑΚΗΣ"]
[16,{"$f":"IF($D37=\"\",\"\",VLOOKUP($D37,'[1]Girls Si Main Draw Prep'!$A$7:$P$38,15))","v":""},{"$f":"IF($D37=\"\",\"\",VLOOKUP($D37,'[1]Girls Si Main Draw Prep'!$A$7:$P$38,16))","v":""},null,"ΜΠΙΚΑΚΗΣ-ΧΡΙΣΤΟΥΛΑΚΗΣ",{"$f":"IF($D37=\"\",\"\",VLOOKUP($D37,'[1]Girls Si Main Draw Prep'!$A$7:$P$38,3))","v":""},null,{"$f":"IF($D37=\"\",\"\",VLOOKUP($D37,'[1]Girls Si Main Draw Prep'!$A$7:$P$38,4))","v":""}]
[null,null,null,null,null,null,null,null,null,null,null,null,null,"Winner:",null,{"$f":"UPPER(IF(OR(O39=\"a\",O39=\"as\"),P22,IF(OR(O39=\"b\",O39=\"bs\"),P54,)))","v":""}]
[17,{"$f":"IF($D39=\"\",\"\",VLOOKUP($D39,'[1]Girls Si Main Draw Prep'!$A$7:$P$38,15))","v":""},{"$f":"IF($D39=\"\",\"\",VLOOKUP($D39,'[1]Girls Si Main Draw Prep'!$A$7:$P$38,16))","v":""},null,"ΧΑΛΑΚΑΤΕΒΑΚΗΣ Λ.-ΚΩΝΣΤΑΝΤΑΡΑΚΗΣ ΑΝΤ.",{"$f":"IF($D39=\"\",\"\",VLOOKUP($D39,'[1]Girls Si Main Draw Prep'!$A$7:$P$38,3))","v":""},null,{"$f":"IF($D39=\"\",\"\",VLOOKUP($D39,'[1]Girls Si Main Draw Prep'!$A$7:$P$38,4))","v":""},null,null,null,null,null,"Umpire"]
[null,null,null,null,null,null,null,"Umpire",null,"ΧΑΛΑΚΑΤΕΒΑΚΗΣ Λ.-ΚΩΝΣΤΑΝΤΑΡΑΚΗΣ ΑΝΤ.",null,null,null,null,null,"ΚΥΡΙΑΚΗ"]
[18,{"$f":"IF($D41=\"\",\"\",VLOOKUP($D41,'[1]Girls Si Main Draw Prep'!$A$7:$P$38,15))","v":""},{"$f":"IF($D41=\"\",\"\",VLOOKUP($D41,'[1]Girls Si Main Draw Prep'!$A$7:$P$38,16))","v":""},null,"BYE",{"$f":"IF($D41=\"\",\"\",VLOOKUP($D41,'[1]Girls Si Main Draw Prep'!$A$7:$P$38,3))","v":""},null,{"$f":"IF($D41=\"\",\"\",VLOOKUP($D41,'[1]Girls Si Main Draw Prep'!$A$7:$P$38,4))","v":""}]
[null,null,null,null,null,null,null,null,null,"Umpire",null,"ΧΑΛΑΚΑΤ-ΚΩΝΣΤΑΝΤ"]
[19,{"$f":"IF($D43=\"\",\"\",VLOOKUP($D43,'[1]Girls Si Main Draw Prep'!$A$7:$P$38,15))","v":""},{"$f":"IF($D43=\"\",\"\",VLOOKUP($D43,'[1]Girls Si Main Draw Prep'!$A$7:$P$38,16))","v":""},null,"ΛΑΓΟΥΒΑΡΔΟΣ-ΜΠΑΡΑΝΟΒΑ",{"$f":"IF($D43=\"\",\"\",VLOOKUP($D43,'[1]Girls Si Main Draw Prep'!$A$7:$P$38,3))","v":""},null,{"$f":"IF($D43=\"\",\"\",VLOOKUP($D43,'[1]Girls Si Main Draw Prep'!$A$7:$P$38,4))","v":""},null,null,null,"41  41"]
[null,null,null,null,null,null,null,"Umpire",null,"ΛΑΓΟΥΒ-ΜΠΑΡΑΝΟΒΑ"]
[20,{"$f":"IF($D45=\"\",\"\",VLOOKUP($D45,'[1]Girls Si Main Draw Prep'!$A$7:$P$38,15))","v":""},{"$f":"IF($D45=\"\",\"\",VLOOKUP($D45,'[1]Girls Si Main Draw Prep'!$A$7:$P$38,16))","v":""},null,"ΠΕΤΡΑΚΗΣ-ΠΕΤΡΑΚΗΣ",{"$f":"IF($D45=\"\",\"\",VLOOKUP($D45,'[1]Girls Si Main Draw Prep'!$A$7:$P$38,3))","v":""},null,{"$f":"IF($D45=\"\",\"\",VLOOKUP($D45,'[1]Girls Si Main Draw Prep'!$A$7:$P$38,4))","v":""},null,"41  53"]
[null,null,null,null,null,null,null,null,null,null,null,"Umpire",null,"ΔΟΥΛΓ-ΗΛΙΑΚΗΣ"]
[21,{"$f":"IF($D47=\"\",\"\",VLOOKUP($D47,'[1]Girls Si Main Draw Prep'!$A$7:$P$38,15))","v":""},{"$f":"IF($D47=\"\",\"\",VLOOKUP($D47,'[1]Girls Si Main Draw Prep'!$A$7:$P$38,16))","v":""},null,"ΒΑΡΒΕΡΑΚΗΣ-ΒΑΡΒΕΡΑΚΗ",{"$f":"IF($D47=\"\",\"\",VLOOKUP($D47,'[1]Girls Si Main Draw Prep'!$A$7:$P$38,3))","v":""},null,{"$f":"IF($D47=\"\",\"\",VLOOKUP($D47,'[1]Girls Si Main Draw Prep'!$A$7:$P$38,4))","v":""},null,null,null,"ΤΕΤΑΡΤΗ",null,"53  40"]
[null,null,null,null,null,null,null,"Umpire",null,"ΒΑΡΒΕΡΑΚΗΣ-ΒΑΡΒΕΡΑΚΗ"]
[22,{"$f":"IF($D49=\"\",\"\",VLOOKUP($D49,'[1]Girls Si Main Draw Prep'!$A$7:$P$38,15))","v":""},{"$f":"IF($D49=\"\",\"\",VLOOKUP($D49,'[1]Girls Si Main Draw Prep'!$A$7:$P$38,16))","v":""},null,"ΧΑΤΖΗΣ-ΟΡΦΑΝΟΥΔΑΚΗ",{"$f":"IF($D49=\"\",\"\",VLOOKUP($D49,'[1]Girls Si Main Draw Prep'!$A$7:$P$38,3))","v":""},null,{"$f":"IF($D49=\"\",\"\",VLOOKUP($D49,'[1]Girls Si Main Draw Prep'!$A$7:$P$38,4))","v":""},null,"41  40"]
[null,null,null,null,null,null,null,null,null,"Umpire",null,"ΔΟΥΛΓ-ΗΛΙΑΚΗΣ"]
[23,{"$f":"IF($D51=\"\",\"\",VLOOKUP($D51,'[1]Girls Si Main Draw Prep'!$A$7:$P$38,15))","v":""},{"$f":"IF($D51=\"\",\"\",VLOOKUP($D51,'[1]Girls Si Main Draw Prep'!$A$7:$P$38,16))","v":""},null,"BYE",{"$f":"IF($D51=\"\",\"\",VLOOKUP($D51,'[1]Girls Si Main Draw Prep'!$A$7:$P$38,3))","v":""},null,{"$f":"IF($D51=\"\",\"\",VLOOKUP($D51,'[1]Girls Si Main Draw Prep'!$A$7:$P$38,4))","v":""},null,null,null,"35  41  (10-2)"]
[null,null,null,null,null,null,null,"Umpire",null,"ΔΟΥΛΓΕΡΑΚΗΣ-ΗΛΙΑΚΗΣ"]
[24,{"$f":"IF($D53=\"\",\"\",VLOOKUP($D53,'[1]Girls Si Main Draw Prep'!$A$7:$P$38,15))","v":""},{"$f":"IF($D53=\"\",\"\",VLOOKUP($D53,'[1]Girls Si Main Draw Prep'!$A$7:$P$38,16))","v":""},null,"ΔΟΥΛΓΕΡΑΚΗΣ-ΗΛΙΑΚΗΣ",{"$f":"IF($D53=\"\",\"\",VLOOKUP($D53,'[1]Girls Si Main Draw Prep'!$A$7:$P$38,3))","v":""},null,{"$f":"IF($D53=\"\",\"\",VLOOKUP($D53,'[1]Girls Si Main Draw Prep'!$A$7:$P$38,4))","v":""}]
[null,null,null,null,null,null,null,null,null,null,null,null,null,"Umpire",null,{"$f":"UPPER(IF(OR(O54=\"a\",O54=\"as\"),N46,IF(OR(O54=\"b\",O54=\"bs\"),N62,)))","v":""}]
[25,{"$f":"IF($D55=\"\",\"\",VLOOKUP($D55,'[1]Girls Si Main Draw Prep'!$A$7:$P$38,15))","v":""},{"$f":"IF($D55=\"\",\"\",VLOOKUP($D55,'[1]Girls Si Main Draw Prep'!$A$7:$P$38,16))","v":""},null,"ΝΙΚΟΛΟΠΟΥΛΟΥ-ΤΣΟΥΤΡΑΣ",{"$f":"IF($D55=\"\",\"\",VLOOKUP($D55,'[1]Girls Si Main Draw Prep'!$A$7:$P$38,3))","v":""},null,{"$f":"IF($D55=\"\",\"\",VLOOKUP($D55,'[1]Girls Si Main Draw Prep'!$A$7:$P$38,4))","v":""},null,null,null,null,null,"ΣΑΒΒΑΤΟ"]
[null,null,null,null,null,null,null,"Umpire",null,"ΝΙΚΟΛΟΠΟΥΛΟΥ-ΤΣΟΥΤΡΑΣ",null,null,null,"18.00"]
[26,{"$f":"IF($D57=\"\",\"\",VLOOKUP($D57,'[1]Girls Si Main Draw Prep'!$A$7:$P$38,15))","v":""},{"$f":"IF($D57=\"\",\"\",VLOOKUP($D57,'[1]Girls Si Main Draw Prep'!$A$7:$P$38,16))","v":""},null,"BYE",{"$f":"IF($D57=\"\",\"\",VLOOKUP($D57,'[1]Girls Si Main Draw Prep'!$A$7:$P$38,3))","v":""},null,{"$f":"IF($D57=\"\",\"\",VLOOKUP($D57,'[1]Girls Si Main Draw Prep'!$A$7:$P$38,4))","v":""}]
[null,null,null,null,null,null,null,null,null,"Umpire",null,"ΚΑΡΑΧ-ΚΩΝΣΤΑΝΤ"]
[27,{"$f":"IF($D59=\"\",\"\",VLOOKUP($D59,'[1]Girls Si Main Draw Prep'!$A$7:$P$38,15))","v":""},{"$f":"IF($D59=\"\",\"\",VLOOKUP($D59,'[1]Girls Si Main Draw Prep'!$A$7:$P$38,16))","v":""},null,"ΓΕΩΡΓΟΥΣΑΚΗΣ-ΓΙΑΚΟΥΜΑΚΗΣ",{"$f":"IF($D59=\"\",\"\",VLOOKUP($D59,'[1]Girls Si Main Draw Prep'!$A$7:$P$38,3))","v":""},null,{"$f":"IF($D59=\"\",\"\",VLOOKUP($D59,'[1]Girls Si Main Draw Prep'!$A$7:$P$38,4))","v":""},null,null,null,"42  41"]
[null,null,null,null,null,null,null,"Umpire",null,"ΚΑΡΑΧ-ΚΩΝΣΤΑΝΤ"]
[28,{"$f":"IF($D61=\"\",\"\",VLOOKUP($D61,'[1]Girls Si Main Draw Prep'!$A$7:$P$38,15))","v":""},{"$f":"IF($D61=\"\",\"\",VLOOKUP($D61,'[1]Girls Si Main Draw Prep'!$A$7:$P$38,16))","v":""},null,"ΚΑΡΑΧΑΛΙΟΣ-ΚΩΝΣΤΑΝΤΑΡΑΚΗΣ ΑΝΔ",{"$f":"IF($D61=\"\",\"\",VLOOKUP($D61,'[1]Girls Si Main Draw Prep'!$A$7:$P$38,3))","v":""},null,{"$f":"IF($D61=\"\",\"\",VLOOKUP($D61,'[1]Girls Si Main Draw Prep'!$A$7:$P$38,4))","v":""},null,"41  40"]
[null,null,null,null,null,null,null,null,null,null,null,"Umpire",null,"ΚΑΡΑΧ-ΚΩΝΣΤΑΝΤ"]
[29,{"$f":"IF($D63=\"\",\"\",VLOOKUP($D63,'[1]Girls Si Main Draw Prep'!$A$7:$P$38,15))","v":""},{"$f":"IF($D63=\"\",\"\",VLOOKUP($D63,'[1]Girls Si Main Draw Prep'!$A$7:$P$38,16))","v":""},null,"ΚΑΫΜΕΝΑΚΗΣ-ΜΟΙΡΑΔΩΡΑΚΗΣ",{"$f":"IF($D63=\"\",\"\",VLOOKUP($D63,'[1]Girls Si Main Draw Prep'!$A$7:$P$38,3))","v":""},null,{"$f":"IF($D63=\"\",\"\",VLOOKUP($D63,'[1]Girls Si Main Draw Prep'!$A$7:$P$38,4))","v":""},null,null,null,"ΠΑΡΑΣΚΕΥΗ",null,"wo"]
[null,null,null,null,null,null,null,"Umpire",null,"ΓΚΙΚΑ-ΒΛΗΣΙΔΗΣ"]
[30,{"$f":"IF($D65=\"\",\"\",VLOOKUP($D65,'[1]Girls Si Main Draw Prep'!$A$7:$P$38,15))","v":""},{"$f":"IF($D65=\"\",\"\",VLOOKUP($D65,'[1]Girls Si Main Draw Prep'!$A$7:$P$38,16))","v":""},null,"ΓΚΙΚΑ-ΒΛΗΣΙΔΗΣ",{"$f":"IF($D65=\"\",\"\",VLOOKUP($D65,'[1]Girls Si Main Draw Prep'!$A$7:$P$38,3))","v":""},null,{"$f":"IF($D65=\"\",\"\",VLOOKUP($D65,'[1]Girls Si Main Draw Prep'!$A$7:$P$38,4))","v":""},null,"53  35  (10-7)"]
[null,null,null,null,null,null,null,null,null,"Umpire",null,"ΝΑΟΥΜ-ΒΛΑΧΑΚΗΣ"]
[31,{"$f":"IF($D67=\"\",\"\",VLOOKUP($D67,'[1]Girls Si Main Draw Prep'!$A$7:$P$38,15))","v":""},{"$f":"IF($D67=\"\",\"\",VLOOKUP($D67,'[1]Girls Si Main Draw Prep'!$A$7:$P$38,16))","v":""},null,"BYE",{"$f":"IF($D67=\"\",\"\",VLOOKUP($D67,'[1]Girls Si Main Draw Prep'!$A$7:$P$38,3))","v":""},null,{"$f":"IF($D67=\"\",\"\",VLOOKUP($D67,'[1]Girls Si Main Draw Prep'!$A$7:$P$38,4))","v":""},null,null,null,"40  41"]
[null,null,null,null,null,null,null,"Umpire",null,"ΝΑΟΥΜ-ΒΛΑΧΑΚΗΣ"]
[32,{"$f":"IF($D69=\"\",\"\",VLOOKUP($D69,'[1]Girls Si Main Draw Prep'!$A$7:$P$38,15))","v":""},{"$f":"IF($D69=\"\",\"\",VLOOKUP($D69,'[1]Girls Si Main Draw Prep'!$A$7:$P$38,16))","v":""},null,"ΝΑΟΥΜ-ΒΛΑΧΑΚΗΣ",{"$f":"IF($D69=\"\",\"\",VLOOKUP($D69,'[1]Girls Si Main Draw Prep'!$A$7:$P$38,3))","v":""},null,{"$f":"IF($D69=\"\",\"\",VLOOKUP($D69,'[1]Girls Si Main Draw Prep'!$A$7:$P$38,4))","v":""}]
[]
["Acc. Ranking",null,null,"#","Seeded players",null,null,null,"#","Lucky Losers",null,"Replacing",null,"Draw date/time:"]
["Rkg Date",null,null,1,{"$f":"IF(D72>$Q$79,,UPPER(VLOOKUP(D72,'[1]Girls Si Main Draw Prep'!$A$7:$R$134,2)))","v":0},null,null,null,"1",null,null,null,null,"Last Accepted player"]
["Top DA",null,null,2,{"$f":"IF(D73>$Q$79,,UPPER(VLOOKUP(D73,'[1]Girls Si Main Draw Prep'!$A$7:$R$134,2)))","v":0},null,null,null,"2"]
["Last DA",null,null,3,{"$f":"IF(D74>$Q$79,,UPPER(VLOOKUP(D74,'[1]Girls Si Main Draw Prep'!$A$7:$R$134,2)))","v":0},null,null,null,"3",null,null,null,null,"Player representatives"]
[null,null,null,4,{"$f":"IF(D75>$Q$79,,UPPER(VLOOKUP(D75,'[1]Girls Si Main Draw Prep'!$A$7:$R$134,2)))","v":0},null,null,null,"4"]
["Seed ranking",null,null,5,{"$f":"IF(D76>$Q$79,,UPPER(VLOOKUP(D76,'[1]Girls Si Main Draw Prep'!$A$7:$R$134,2)))","v":0},null,null,null,"5"]
["Rkg Date",null,null,6,{"$f":"IF(D77>$Q$79,,UPPER(VLOOKUP(D77,'[1]Girls Si Main Draw Prep'!$A$7:$R$134,2)))","v":0},null,null,null,"6",null,null,null,null,"ITF Referee's signature"]
["Top seed",null,null,7,{"$f":"IF(D78>$Q$79,,UPPER(VLOOKUP(D78,'[1]Girls Si Main Draw Prep'!$A$7:$R$134,2)))","v":0},null,null,null,"7"]
["Last seed",null,null,8,{"$f":"IF(D79>$Q$79,,UPPER(VLOOKUP(D79,'[1]Girls Si Main Draw Prep'!$A$7:$R$134,2)))","v":0},null,null,null,"8",null,null,null,null,{"$f":"Q4","v":0},null,null,{"$f":"MIN(8,'[1]Girls Si Main Draw Prep'!R5)","v":0}]

{"sheet":"Girls Si Main 96&128","index":22,"n_rows":225,"n_cols":20,"rows_kept":225,"cut":false,"hidden":false,"merged":[[3,0,3,2]]}
[{"$f":"'Week SetUp'!$A$6","v":0},null,null,null,null,null,null,null,null,null,null,null,null,"CU"]
["Εσωτερικό Τουρνουά \"Λίλα Τσαλίκη-Παυλαντωνέα 2016\""]
[]
[{"$f":"'Week SetUp'!$A$10","v":"00:00:00"},null,null,null,null,{"$f":"'Week SetUp'!$C$10","v":0},null,null,null,{"$f":"'Week SetUp'!$D$10","v":0},null,{"$f":"'Week SetUp'!$A$12","v":0},null,null,null,null,{"$f":"'Week SetUp'!$E$10","v":0}]
[null,null,null,null,null,null,null,null,null,"2nd Round",null,"3rd Round",null,"4th Round"]
[]
["1",{"$f":"IF($D7=\"\",\"\",VLOOKUP($D7,'Girls Si Main Draw Prep'!$A$7:$P$134,15))","v":""},{"$f":"IF($D7=\"\",\"\",VLOOKUP($D7,'Girls Si Main Draw Prep'!$A$7:$P$134,16))","v":""},null,"ΠΡΟΚΟΠΑΚΗΣ ",{"$f":"IF($D7=\"\",\"\",VLOOKUP($D7,'Girls Si Main Draw Prep'!$A$7:$P$134,3))","v":""},"ΧΑΡΗΣ",{"$f":"IF($D7=\"\",\"\",VLOOKUP($D7,'Girls Si Main Draw Prep'!$A$7:$P$134,4))","v":""},null,"ΠΡΟΚΟΠΑΚΗΣ",null,null,null,null,null,null,"Page 1(3)",null,null,{"$f":"'SetUp Officials'!P21","v":"Umpire"}]
["2",{"$f":"IF($D8=\"\",\"\",VLOOKUP($D8,'Girls Si Main Draw Prep'!$A$7:$P$134,15))","v":""},{"$f":"IF($D8=\"\",\"\",VLOOKUP($D8,'Girls Si Main Draw Prep'!$A$7:$P$134,16))","v":""},null,"bye",{"$f":"IF($D8=\"\",\"\",VLOOKUP($D8,'Girls Si Main Draw Prep'!$A$7:$P$134,3))","v":""},null,{"$f":"IF($D8=\"\",\"\",VLOOKUP($D8,'Girls Si Main Draw Prep'!$A$7:$P$134,4))","v":""},null,null,null,"ΠΡΟΚΟΠΑΚΗΣ",null,null,null,null,null,null,null,{"$f":"'SetUp Officials'!P22","v":" "}]
["3",{"$f":"IF($D9=\"\",\"\",VLOOKUP($D9,'Girls Si Main Draw Prep'!$A$7:$P$134,15))","v":""},{"$f":"IF($D9=\"\",\"\",VLOOKUP($D9,'Girls Si Main Draw Prep'!$A$7:$P$134,16))","v":""},null,"bye",{"$f":"IF($D9=\"\",\"\",VLOOKUP($D9,'Girls Si Main Draw Prep'!$A$7:$P$134,3))","v":""},null,{"$f":"IF($D9=\"\",\"\",VLOOKUP($D9,'Girls Si Main Draw Prep'!$A$7:$P$134,4))","v":""},null,"ΜΙΧΕΛΑΚΗΣ",null,"4/0 - 4/0",null,null,null,null,null,null,null,{"$f":"'SetUp Officials'!P23","v":" "}]
["4",{"$f":"IF($D10=\"\",\"\",VLOOKUP($D10,'Girls Si Main Draw Prep'!$A$7:$P$134,15))","v":""},{"$f":"IF($D10=\"\",\"\",VLOOKUP($D10,'Girls Si Main Draw Prep'!$A$7:$P$134,16))","v":""},null,"ΜΙΧΕΛΑΚΗΣ ",{"$f":"IF($D10=\"\",\"\",VLOOKUP($D10,'Girls Si Main Draw Prep'!$A$7:$P$134,3))","v":""},"ΓΙΩΡΓΟΣ",{"$f":"IF($D10=\"\",\"\",VLOOKUP($D10,'Girls Si Main Draw Prep'!$A$7:$P$134,4))","v":""},null,null,null,"Umpire",null,"ΠΡΟΚΟΠΑΚΗΣ",null,null,null,null,null,{"$f":"'SetUp Officials'!P24","v":" "}]
["5",{"$f":"IF($D11=\"\",\"\",VLOOKUP($D11,'Girls Si Main Draw Prep'!$A$7:$P$134,15))","v":""},{"$f":"IF($D11=\"\",\"\",VLOOKUP($D11,'Girls Si Main Draw Prep'!$A$7:$P$134,16))","v":""},null,"ΝΤΟΥΝΤΟΥΛΑΚΗΣ ΑΡΤ",{"$f":"IF($D11=\"\",\"\",VLOOKUP($D11,'Girls Si Main Draw Prep'!$A$7:$P$134,3))","v":""},"ΑΡΤΕΜΗΣ",{"$f":"IF($D11=\"\",\"\",VLOOKUP($D11,'Girls Si Main Draw Prep'!$A$7:$P$134,4))","v":""},null,"ΚΟΝΤΑΞΑΚΗΣ",null,null,null,"4/1 - 4/2",null,null,null,null,null,{"$f":"'SetUp Officials'!P25","v":" "}]
["6",{"$f":"IF($D12=\"\",\"\",VLOOKUP($D12,'Girls Si Main Draw Prep'!$A$7:$P$134,15))","v":""},{"$f":"IF($D12=\"\",\"\",VLOOKUP($D12,'Girls Si Main Draw Prep'!$A$7:$P$134,16))","v":""},null,"ΚΟΝΤΑΞΑΚΗΣ","ΑΝΔΡΕΑΣ",null,{"$f":"IF($D12=\"\",\"\",VLOOKUP($D12,'Girls Si Main Draw Prep'!$A$7:$P$134,4))","v":""},null,"4/0 - 4/1",null,"ΚΟΝΤΑΞΑΚΗΣ",null,null,null,null,null,null,null,{"$f":"'SetUp Officials'!P26","v":" "}]
["7",{"$f":"IF($D13=\"\",\"\",VLOOKUP($D13,'Girls Si Main Draw Prep'!$A$7:$P$134,15))","v":""},{"$f":"IF($D13=\"\",\"\",VLOOKUP($D13,'Girls Si Main Draw Prep'!$A$7:$P$134,16))","v":""},null,"bye",{"$f":"IF($D13=\"\",\"\",VLOOKUP($D13,'Girls Si Main Draw Prep'!$A$7:$P$134,3))","v":""},null,{"$f":"IF($D13=\"\",\"\",VLOOKUP($D13,'Girls Si Main Draw Prep'!$A$7:$P$134,4))","v":""},null,"ΠΕΤΡΑΚΗΣ",null,"4/2 - 4/0",null,null,null,null,null,null,null,{"$f":"'SetUp Officials'!P27","v":" "}]
["8",{"$f":"IF($D14=\"\",\"\",VLOOKUP($D14,'Girls Si Main Draw Prep'!$A$7:$P$134,15))","v":""},{"$f":"IF($D14=\"\",\"\",VLOOKUP($D14,'Girls Si Main Draw Prep'!$A$7:$P$134,16))","v":""},null,"ΠΕΤΡΑΚΗΣ ΝΙΚΟΣ",{"$f":"IF($D14=\"\",\"\",VLOOKUP($D14,'Girls Si Main Draw Prep'!$A$7:$P$134,3))","v":""},null,{"$f":"IF($D14=\"\",\"\",VLOOKUP($D14,'Girls Si Main Draw Prep'!$A$7:$P$134,4))","v":""},null,null,null,null,null,"Umpire",null,"ΠΡΟΚΟΠΑΚΗΣ",null,null,null,{"$f":"'SetUp Officials'!P28","v":" "}]
["9",{"$f":"IF($D15=\"\",\"\",VLOOKUP($D15,'Girls Si Main Draw Prep'!$A$7:$P$134,15))","v":""},{"$f":"IF($D15=\"\",\"\",VLOOKUP($D15,'Girls Si Main Draw Prep'!$A$7:$P$134,16))","v":""},null,"ΓΙΑΚΟΥΜΑΚΗΣ ",{"$f":"IF($D15=\"\",\"\",VLOOKUP($D15,'Girls Si Main Draw Prep'!$A$7:$P$134,3))","v":""},"ΓΙΑΝΝΗΣ",{"$f":"IF($D15=\"\",\"\",VLOOKUP($D15,'Girls Si Main Draw Prep'!$A$7:$P$134,4))","v":""},null,"ΓΙΑΚΟΥΜΑΚΗΣ",null,null,null,null,null,"5/3 - 4/2",null,null,null,{"$f":"'SetUp Officials'!P29","v":" "}]
["10",{"$f":"IF($D16=\"\",\"\",VLOOKUP($D16,'Girls Si Main Draw Prep'!$A$7:$P$134,15))","v":""},{"$f":"IF($D16=\"\",\"\",VLOOKUP($D16,'Girls Si Main Draw Prep'!$A$7:$P$134,16))","v":""},null,"bye",{"$f":"IF($D16=\"\",\"\",VLOOKUP($D16,'Girls Si Main Draw Prep'!$A$7:$P$134,3))","v":""},null,{"$f":"IF($D16=\"\",\"\",VLOOKUP($D16,'Girls Si Main Draw Prep'!$A$7:$P$134,4))","v":""},null,null,null,"ΖΕΡΒΟΣ",null,null,null,null,null,null,null,{"$f":"'SetUp Officials'!P30","v":"None"}]
["11",{"$f":"IF($D17=\"\",\"\",VLOOKUP($D17,'Girls Si Main Draw Prep'!$A$7:$P$134,15))","v":""},{"$f":"IF($D17=\"\",\"\",VLOOKUP($D17,'Girls Si Main Draw Prep'!$A$7:$P$134,16))","v":""},null,"ΧΑΤΖΗΔΑΚΗΣ ",{"$f":"IF($D17=\"\",\"\",VLOOKUP($D17,'Girls Si Main Draw Prep'!$A$7:$P$134,3))","v":""},"ΚΩΣΤΑΣ",{"$f":"IF($D17=\"\",\"\",VLOOKUP($D17,'Girls Si Main Draw Prep'!$A$7:$P$134,4))","v":""},null,"ΖΕΡΒΟΣ",null,"4/2 - 4/0"]
["12",{"$f":"IF($D18=\"\",\"\",VLOOKUP($D18,'Girls Si Main Draw Prep'!$A$7:$P$134,15))","v":""},{"$f":"IF($D18=\"\",\"\",VLOOKUP($D18,'Girls Si Main Draw Prep'!$A$7:$P$134,16))","v":""},null,"ΖΕΡΒΟΣ ΓΙΩΡΓΟΣ",{"$f":"IF($D18=\"\",\"\",VLOOKUP($D18,'Girls Si Main Draw Prep'!$A$7:$P$134,3))","v":""},null,{"$f":"IF($D18=\"\",\"\",VLOOKUP($D18,'Girls Si Main Draw Prep'!$A$7:$P$134,4))","v":""},null,"4/0 - 4/0",null,"Umpire",null,"ΒΑΡΒΕΡΑΚΗΣ"]
["13",{"$f":"IF($D19=\"\",\"\",VLOOKUP($D19,'Girls Si Main Draw Prep'!$A$7:$P$134,15))","v":""},{"$f":"IF($D19=\"\",\"\",VLOOKUP($D19,'Girls Si Main Draw Prep'!$A$7:$P$134,16))","v":""},null,"bye",{"$f":"IF($D19=\"\",\"\",VLOOKUP($D19,'Girls Si Main Draw Prep'!$A$7:$P$134,3))","v":""},null,{"$f":"IF($D19=\"\",\"\",VLOOKUP($D19,'Girls Si Main Draw Prep'!$A$7:$P$134,4))","v":""},null,"ΣΜΥΡΝΑΙΟΣ",null,null,null,"4/0 - 4/1"]
["14",{"$f":"IF($D20=\"\",\"\",VLOOKUP($D20,'Girls Si Main Draw Prep'!$A$7:$P$134,15))","v":""},{"$f":"IF($D20=\"\",\"\",VLOOKUP($D20,'Girls Si Main Draw Prep'!$A$7:$P$134,16))","v":""},null,"ΣΜΥΡΝΑΙΟΣ","ΜΑΝΩΛΗΣ",null,{"$f":"IF($D20=\"\",\"\",VLOOKUP($D20,'Girls Si Main Draw Prep'!$A$7:$P$134,4))","v":""},null,null,null,"ΒΑΡΒΕΡΑΚΗΣ Γ."]
["15",{"$f":"IF($D21=\"\",\"\",VLOOKUP($D21,'Girls Si Main Draw Prep'!$A$7:$P$134,15))","v":""},{"$f":"IF($D21=\"\",\"\",VLOOKUP($D21,'Girls Si Main Draw Prep'!$A$7:$P$134,16))","v":""},null,"bye",{"$f":"IF($D21=\"\",\"\",VLOOKUP($D21,'Girls Si Main Draw Prep'!$A$7:$P$134,3))","v":""},null,{"$f":"IF($D21=\"\",\"\",VLOOKUP($D21,'Girls Si Main Draw Prep'!$A$7:$P$134,4))","v":""},null,"ΒΑΡΒΕΡΑΚΗΣ",null,"4/0 - 4/0"]
["16",{"$f":"IF($D22=\"\",\"\",VLOOKUP($D22,'Girls Si Main Draw Prep'!$A$7:$P$134,15))","v":""},{"$f":"IF($D22=\"\",\"\",VLOOKUP($D22,'Girls Si Main Draw Prep'!$A$7:$P$134,16))","v":""},null,"ΒΑΡΒΕΡΑΚΗΣ ",{"$f":"IF($D22=\"\",\"\",VLOOKUP($D22,'Girls Si Main Draw Prep'!$A$7:$P$134,3))","v":""},"ΓΙΩΡΓΟΣ",{"$f":"IF($D22=\"\",\"\",VLOOKUP($D22,'Girls Si Main Draw Prep'!$A$7:$P$134,4))","v":""}]
["17",{"$f":"IF($D23=\"\",\"\",VLOOKUP($D23,'Girls Si Main Draw Prep'!$A$7:$P$134,15))","v":""},{"$f":"IF($D23=\"\",\"\",VLOOKUP($D23,'Girls Si Main Draw Prep'!$A$7:$P$134,16))","v":""},null,"ΚΗΠΟΥΡΟΣ ",{"$f":"IF($D23=\"\",\"\",VLOOKUP($D23,'Girls Si Main Draw Prep'!$A$7:$P$134,3))","v":""},"ΣΤΑΥΡΟΣ",{"$f":"IF($D23=\"\",\"\",VLOOKUP($D23,'Girls Si Main Draw Prep'!$A$7:$P$134,4))","v":""},null,"ΚΗΠΟΥΡΟΣ"]
["18",{"$f":"IF($D24=\"\",\"\",VLOOKUP($D24,'Girls Si Main Draw Prep'!$A$7:$P$134,15))","v":""},{"$f":"IF($D24=\"\",\"\",VLOOKUP($D24,'Girls Si Main Draw Prep'!$A$7:$P$134,16))","v":""},null,"bye ",{"$f":"IF($D24=\"\",\"\",VLOOKUP($D24,'Girls Si Main Draw Prep'!$A$7:$P$134,3))","v":""},null,{"$f":"IF($D24=\"\",\"\",VLOOKUP($D24,'Girls Si Main Draw Prep'!$A$7:$P$134,4))","v":""},null,null,null,"ΚΗΠΟΥΡΟΣ"]
["19",{"$f":"IF($D25=\"\",\"\",VLOOKUP($D25,'Girls Si Main Draw Prep'!$A$7:$P$134,15))","v":""},{"$f":"IF($D25=\"\",\"\",VLOOKUP($D25,'Girls Si Main Draw Prep'!$A$7:$P$134,16))","v":""},null,"ΚΑΣΤΡΙΝΑΚΗΣ ",{"$f":"IF($D25=\"\",\"\",VLOOKUP($D25,'Girls Si Main Draw Prep'!$A$7:$P$134,3))","v":""},"ΑΝΤΩΝΗΣ",{"$f":"IF($D25=\"\",\"\",VLOOKUP($D25,'Girls Si Main Draw Prep'!$A$7:$P$134,4))","v":""},null,"ΚΟΤΣΩΝΗΣ",null,"4/0 - 4/2"]
["20",{"$f":"IF($D26=\"\",\"\",VLOOKUP($D26,'Girls Si Main Draw Prep'!$A$7:$P$134,15))","v":""},{"$f":"IF($D26=\"\",\"\",VLOOKUP($D26,'Girls Si Main Draw Prep'!$A$7:$P$134,16))","v":""},null,"ΚΟΤΣΩΝΗΣ ",{"$f":"IF($D26=\"\",\"\",VLOOKUP($D26,'Girls Si Main Draw Prep'!$A$7:$P$134,3))","v":""},"ΓΙΑΝΝΗΣ",{"$f":"IF($D26=\"\",\"\",VLOOKUP($D26,'Girls Si Main Draw Prep'!$A$7:$P$134,4))","v":""},null,"5/3 - 1/4 - 10/8",null,"Umpire",null,"ΚΗΠΟΥΡΟΣ"]
["21",{"$f":"IF($D27=\"\",\"\",VLOOKUP($D27,'Girls Si Main Draw Prep'!$A$7:$P$134,15))","v":""},{"$f":"IF($D27=\"\",\"\",VLOOKUP($D27,'Girls Si Main Draw Prep'!$A$7:$P$134,16))","v":""},null,"ΣΟΛΙΔΑΚΗΣ ",{"$f":"IF($D27=\"\",\"\",VLOOKUP($D27,'Girls Si Main Draw Prep'!$A$7:$P$134,3))","v":""},"ΓΙΑΝΝΗΣ",{"$f":"IF($D27=\"\",\"\",VLOOKUP($D27,'Girls Si Main Draw Prep'!$A$7:$P$134,4))","v":""},null,"ΣΟΛΙΔΑΚΗΣ",null,null,null,"4/0 - 4/1"]
["22",{"$f":"IF($D28=\"\",\"\",VLOOKUP($D28,'Girls Si Main Draw Prep'!$A$7:$P$134,15))","v":""},{"$f":"IF($D28=\"\",\"\",VLOOKUP($D28,'Girls Si Main Draw Prep'!$A$7:$P$134,16))","v":""},null,"bye ",{"$f":"IF($D28=\"\",\"\",VLOOKUP($D28,'Girls Si Main Draw Prep'!$A$7:$P$134,3))","v":""},null,{"$f":"IF($D28=\"\",\"\",VLOOKUP($D28,'Girls Si Main Draw Prep'!$A$7:$P$134,4))","v":""},null,null,null,"ΖΕΡΒΟΣ"]
["23",{"$f":"IF($D29=\"\",\"\",VLOOKUP($D29,'Girls Si Main Draw Prep'!$A$7:$P$134,15))","v":""},{"$f":"IF($D29=\"\",\"\",VLOOKUP($D29,'Girls Si Main Draw Prep'!$A$7:$P$134,16))","v":""},null,"ΓΑΒΡΙΛΑΚΗΣ ",{"$f":"IF($D29=\"\",\"\",VLOOKUP($D29,'Girls Si Main Draw Prep'!$A$7:$P$134,3))","v":""},"ΛΕΥΤΕΡΗΣ",{"$f":"IF($D29=\"\",\"\",VLOOKUP($D29,'Girls Si Main Draw Prep'!$A$7:$P$134,4))","v":""},null,"ΖΕΡΒΟΣ",null,"4/1 - 4/1"]
["24",{"$f":"IF($D30=\"\",\"\",VLOOKUP($D30,'Girls Si Main Draw Prep'!$A$7:$P$134,15))","v":""},{"$f":"IF($D30=\"\",\"\",VLOOKUP($D30,'Girls Si Main Draw Prep'!$A$7:$P$134,16))","v":""},null,"ΖΕΡΒΟΣ ",{"$f":"IF($D30=\"\",\"\",VLOOKUP($D30,'Girls Si Main Draw Prep'!$A$7:$P$134,3))","v":""},"ΑΝΔΡΕΑΣ",{"$f":"IF($D30=\"\",\"\",VLOOKUP($D30,'Girls Si Main Draw Prep'!$A$7:$P$134,4))","v":""},null,"4/2 - 2/4 - 10/2",null,null,null,"Umpire",null,"ΚΗΠΟΥΡΟΣ"]
["25",{"$f":"IF($D31=\"\",\"\",VLOOKUP($D31,'Girls Si Main Draw Prep'!$A$7:$P$134,15))","v":""},{"$f":"IF($D31=\"\",\"\",VLOOKUP($D31,'Girls Si Main Draw Prep'!$A$7:$P$134,16))","v":""},null,"bye ",{"$f":"IF($D31=\"\",\"\",VLOOKUP($D31,'Girls Si Main Draw Prep'!$A$7:$P$134,3))","v":""},null,{"$f":"IF($D31=\"\",\"\",VLOOKUP($D31,'Girls Si Main Draw Prep'!$A$7:$P$134,4))","v":""},null,"ΜΑΚΡΗΣ",null,null,null,null,null,"4/1 - 4/2"]
["26",{"$f":"IF($D32=\"\",\"\",VLOOKUP($D32,'Girls Si Main Draw Prep'!$A$7:$P$134,15))","v":""},{"$f":"IF($D32=\"\",\"\",VLOOKUP($D32,'Girls Si Main Draw Prep'!$A$7:$P$134,16))","v":""},null,"ΜΑΚΡΗΣ ","ΑΝΘΟΣ",null,{"$f":"IF($D32=\"\",\"\",VLOOKUP($D32,'Girls Si Main Draw Prep'!$A$7:$P$134,4))","v":""},null,null,null,"ΜΑΚΡΗΣ"]
["27",{"$f":"IF($D33=\"\",\"\",VLOOKUP($D33,'Girls Si Main Draw Prep'!$A$7:$P$134,15))","v":""},{"$f":"IF($D33=\"\",\"\",VLOOKUP($D33,'Girls Si Main Draw Prep'!$A$7:$P$134,16))","v":""},null,"bye ",{"$f":"IF($D33=\"\",\"\",VLOOKUP($D33,'Girls Si Main Draw Prep'!$A$7:$P$134,3))","v":""},null,{"$f":"IF($D33=\"\",\"\",VLOOKUP($D33,'Girls Si Main Draw Prep'!$A$7:$P$134,4))","v":""},null,"ΜΠΕΝΙΟΥΔΑΚΗΣ",null,"4/1 - 4/1"]
["28",{"$f":"IF($D34=\"\",\"\",VLOOKUP($D34,'Girls Si Main Draw Prep'!$A$7:$P$134,15))","v":""},{"$f":"IF($D34=\"\",\"\",VLOOKUP($D34,'Girls Si Main Draw Prep'!$A$7:$P$134,16))","v":""},null,"ΜΠΕΝΙΟΥΔΑΚΗΣ ",{"$f":"IF($D34=\"\",\"\",VLOOKUP($D34,'Girls Si Main Draw Prep'!$A$7:$P$134,3))","v":""},"ΜΑΝΩΛΗΣ",{"$f":"IF($D34=\"\",\"\",VLOOKUP($D34,'Girls Si Main Draw Prep'!$A$7:$P$134,4))","v":""},null,null,null,"Umpire",null,"ΓΑΤΟΥΔΗΣ"]
["29",{"$f":"IF($D35=\"\",\"\",VLOOKUP($D35,'Girls Si Main Draw Prep'!$A$7:$P$134,15))","v":""},{"$f":"IF($D35=\"\",\"\",VLOOKUP($D35,'Girls Si Main Draw Prep'!$A$7:$P$134,16))","v":""},null,"ΓΑΤΟΥΔΗΣ ",{"$f":"IF($D35=\"\",\"\",VLOOKUP($D35,'Girls Si Main Draw Prep'!$A$7:$P$134,3))","v":""},"ΝΙΚΟΛΑΣ",{"$f":"IF($D35=\"\",\"\",VLOOKUP($D35,'Girls Si Main Draw Prep'!$A$7:$P$134,4))","v":""},null,"ΓΑΤΟΥΔΗΣ",null,null,null,"4/0 - 4/0"]
["30",{"$f":"IF($D36=\"\",\"\",VLOOKUP($D36,'Girls Si Main Draw Prep'!$A$7:$P$134,15))","v":""},{"$f":"IF($D36=\"\",\"\",VLOOKUP($D36,'Girls Si Main Draw Prep'!$A$7:$P$134,16))","v":""},null,"bye",{"$f":"IF($D36=\"\",\"\",VLOOKUP($D36,'Girls Si Main Draw Prep'!$A$7:$P$134,3))","v":""},null,{"$f":"IF($D36=\"\",\"\",VLOOKUP($D36,'Girls Si Main Draw Prep'!$A$7:$P$134,4))","v":""},null,null,null,"ΓΑΤΟΥΔΗΣ"]
["31",{"$f":"IF($D37=\"\",\"\",VLOOKUP($D37,'Girls Si Main Draw Prep'!$A$7:$P$134,15))","v":""},{"$f":"IF($D37=\"\",\"\",VLOOKUP($D37,'Girls Si Main Draw Prep'!$A$7:$P$134,16))","v":""},null,"bye ",{"$f":"IF($D37=\"\",\"\",VLOOKUP($D37,'Girls Si Main Draw Prep'!$A$7:$P$134,3))","v":""},null,{"$f":"IF($D37=\"\",\"\",VLOOKUP($D37,'Girls Si Main Draw Prep'!$A$7:$P$134,4))","v":""},null,"ΤΣΙΒΟΥΡΑΚΗΣ",null,"w.o."]
["32",{"$f":"IF($D38=\"\",\"\",VLOOKUP($D38,'Girls Si Main Draw Prep'!$A$7:$P$134,15))","v":""},{"$f":"IF($D38=\"\",\"\",VLOOKUP($D38,'Girls Si Main Draw Prep'!$A$7:$P$134,16))","v":""},null,"ΤΣΙΒΟΥΡΑΚΗΣ ",{"$f":"IF($D38=\"\",\"\",VLOOKUP($D38,'Girls Si Main Draw Prep'!$A$7:$P$134,3))","v":""},"ΑΝΤΩΝΗΣ",{"$f":"IF($D38=\"\",\"\",VLOOKUP($D38,'Girls Si Main Draw Prep'!$A$7:$P$134,4))","v":""}]
["33",{"$f":"IF($D39=\"\",\"\",VLOOKUP($D39,'Girls Si Main Draw Prep'!$A$7:$P$134,15))","v":""},{"$f":"IF($D39=\"\",\"\",VLOOKUP($D39,'Girls Si Main Draw Prep'!$A$7:$P$134,16))","v":""},null,"ΣΚΑΛΙΔΑΚΗΣ ",{"$f":"IF($D39=\"\",\"\",VLOOKUP($D39,'Girls Si Main Draw Prep'!$A$7:$P$134,3))","v":""},"ΔΗΜΗΤΡΗΣ",{"$f":"IF($D39=\"\",\"\",VLOOKUP($D39,'Girls Si Main Draw Prep'!$A$7:$P$134,4))","v":""},null,"ΣΚΑΛΙΔΑΚΗΣ"]
["34",{"$f":"IF($D40=\"\",\"\",VLOOKUP($D40,'Girls Si Main Draw Prep'!$A$7:$P$134,15))","v":""},{"$f":"IF($D40=\"\",\"\",VLOOKUP($D40,'Girls Si Main Draw Prep'!$A$7:$P$134,16))","v":""},null,"bye",{"$f":"IF($D40=\"\",\"\",VLOOKUP($D40,'Girls Si Main Draw Prep'!$A$7:$P$134,3))","v":""},null,{"$f":"IF($D40=\"\",\"\",VLOOKUP($D40,'Girls Si Main Draw Prep'!$A$7:$P$134,4))","v":""},null,null,null,"ΣΚΑΛΙΔΑΚΗΣ"]
["35",{"$f":"IF($D41=\"\",\"\",VLOOKUP($D41,'Girls Si Main Draw Prep'!$A$7:$P$134,15))","v":""},{"$f":"IF($D41=\"\",\"\",VLOOKUP($D41,'Girls Si Main Draw Prep'!$A$7:$P$134,16))","v":""},null,"ΜΑΛΙΝΔΡΕΤΟΣ ",{"$f":"IF($D41=\"\",\"\",VLOOKUP($D41,'Girls Si Main Draw Prep'!$A$7:$P$134,3))","v":""},"ΑΝΔΡΕΑΣ",{"$f":"IF($D41=\"\",\"\",VLOOKUP($D41,'Girls Si Main Draw Prep'!$A$7:$P$134,4))","v":""},null,"ΜΑΛΙΝΔΡΕΤΟΣ",null,"4/0 - 4/0"]
["36",{"$f":"IF($D42=\"\",\"\",VLOOKUP($D42,'Girls Si Main Draw Prep'!$A$7:$P$134,15))","v":""},{"$f":"IF($D42=\"\",\"\",VLOOKUP($D42,'Girls Si Main Draw Prep'!$A$7:$P$134,16))","v":""},null,"bye",null,null,{"$f":"IF($D42=\"\",\"\",VLOOKUP($D42,'Girls Si Main Draw Prep'!$A$7:$P$134,4))","v":""},null,null,null,"Umpire",null,"ΣΚΑΛΙΔΑΚΗΣ"]
["37",{"$f":"IF($D43=\"\",\"\",VLOOKUP($D43,'Girls Si Main Draw Prep'!$A$7:$P$134,15))","v":""},{"$f":"IF($D43=\"\",\"\",VLOOKUP($D43,'Girls Si Main Draw Prep'!$A$7:$P$134,16))","v":""},null,"ΤΖΑΝΑΚΗΣ","ΜΑΝΟΣ",null,{"$f":"IF($D43=\"\",\"\",VLOOKUP($D43,'Girls Si Main Draw Prep'!$A$7:$P$134,4))","v":""},null,"ΤΖΑΝΑΚΗΣ",null,null,null,"4/0 - 4/1"]
["38",{"$f":"IF($D44=\"\",\"\",VLOOKUP($D44,'Girls Si Main Draw Prep'!$A$7:$P$134,15))","v":""},{"$f":"IF($D44=\"\",\"\",VLOOKUP($D44,'Girls Si Main Draw Prep'!$A$7:$P$134,16))","v":""},null,"bye",{"$f":"IF($D44=\"\",\"\",VLOOKUP($D44,'Girls Si Main Draw Prep'!$A$7:$P$134,3))","v":""},null,{"$f":"IF($D44=\"\",\"\",VLOOKUP($D44,'Girls Si Main Draw Prep'!$A$7:$P$134,4))","v":""},null,null,null,"ΚΩΝΣΤΑΝΤΑΡΑΚΗΣ"]
["39",{"$f":"IF($D45=\"\",\"\",VLOOKUP($D45,'Girls Si Main Draw Prep'!$A$7:$P$134,15))","v":""},{"$f":"IF($D45=\"\",\"\",VLOOKUP($D45,'Girls Si Main Draw Prep'!$A$7:$P$134,16))","v":""},null,"bye",{"$f":"IF($D45=\"\",\"\",VLOOKUP($D45,'Girls Si Main Draw Prep'!$A$7:$P$134,3))","v":""},null,{"$f":"IF($D45=\"\",\"\",VLOOKUP($D45,'Girls Si Main Draw Prep'!$A$7:$P$134,4))","v":""},null,"ΚΩΝΣΤΑΝΤΑΡ",null,"4/0 - 4/1"]
["40",{"$f":"IF($D46=\"\",\"\",VLOOKUP($D46,'Girls Si Main Draw Prep'!$A$7:$P$134,15))","v":""},{"$f":"IF($D46=\"\",\"\",VLOOKUP($D46,'Girls Si Main Draw Prep'!$A$7:$P$134,16))","v":""},null,"ΚΩΝΣΤΑΝΤΑΡΑΚΗΣ ",{"$f":"IF($D46=\"\",\"\",VLOOKUP($D46,'Girls Si Main Draw Prep'!$A$7:$P$134,3))","v":""},"ΑΝΤΩΝΗΣ",{"$f":"IF($D46=\"\",\"\",VLOOKUP($D46,'Girls Si Main Draw Prep'!$A$7:$P$134,4))","v":""},null,null,null,null,null,"Umpire",null,"ΣΚΑΛΙΔΑΚΗΣ"]
["41",{"$f":"IF($D47=\"\",\"\",VLOOKUP($D47,'Girls Si Main Draw Prep'!$A$7:$P$134,15))","v":""},{"$f":"IF($D47=\"\",\"\",VLOOKUP($D47,'Girls Si Main Draw Prep'!$A$7:$P$134,16))","v":""},null,"ΝΤΕΡΜΑΝΑΚΗΣ","ΓΙΑΝΝΗΣ",null,{"$f":"IF($D47=\"\",\"\",VLOOKUP($D47,'Girls Si Main Draw Prep'!$A$7:$P$134,4))","v":""},null,"ΝΤΕΡΜΑΝΑΚΗΣ",null,null,null,null,null,"4/1 - 4/1"]
["42",{"$f":"IF($D48=\"\",\"\",VLOOKUP($D48,'Girls Si Main Draw Prep'!$A$7:$P$134,15))","v":""},{"$f":"IF($D48=\"\",\"\",VLOOKUP($D48,'Girls Si Main Draw Prep'!$A$7:$P$134,16))","v":""},null,"bye",{"$f":"IF($D48=\"\",\"\",VLOOKUP($D48,'Girls Si Main Draw Prep'!$A$7:$P$134,3))","v":""},null,{"$f":"IF($D48=\"\",\"\",VLOOKUP($D48,'Girls Si Main Draw Prep'!$A$7:$P$134,4))","v":""},null,null,null,"ΔΙΓΑΛΑΚΗΣ"]
["43",{"$f":"IF($D49=\"\",\"\",VLOOKUP($D49,'Girls Si Main Draw Prep'!$A$7:$P$134,15))","v":""},{"$f":"IF($D49=\"\",\"\",VLOOKUP($D49,'Girls Si Main Draw Prep'!$A$7:$P$134,16))","v":""},null,"ΣΠΗΛΙΩΤΗΣ","ΠΑΝΑΓΙΩΤΗΣ",null,{"$f":"IF($D49=\"\",\"\",VLOOKUP($D49,'Girls Si Main Draw Prep'!$A$7:$P$134,4))","v":""},null,"ΔΙΓΑΛΑΚΗΣ",null,"0/4 - 4/2 - 10-8"]
["44",{"$f":"IF($D50=\"\",\"\",VLOOKUP($D50,'Girls Si Main Draw Prep'!$A$7:$P$134,15))","v":""},{"$f":"IF($D50=\"\",\"\",VLOOKUP($D50,'Girls Si Main Draw Prep'!$A$7:$P$134,16))","v":""},null,"ΔΙΓΑΛΑΚΗΣ","ΒΑΣΙΛΗΣ",null,{"$f":"IF($D50=\"\",\"\",VLOOKUP($D50,'Girls Si Main Draw Prep'!$A$7:$P$134,4))","v":""},null,"4/1 - 4/1",null,"Umpire",null,"ΓΥΠΑΚΗΣ"]
["45",{"$f":"IF($D51=\"\",\"\",VLOOKUP($D51,'Girls Si Main Draw Prep'!$A$7:$P$134,15))","v":""},{"$f":"IF($D51=\"\",\"\",VLOOKUP($D51,'Girls Si Main Draw Prep'!$A$7:$P$134,16))","v":""},null,"ΑΛΙΣΣΑΒΑΚΗΣ","ΔΗΜΗΤΡΗΣ",null,{"$f":"IF($D51=\"\",\"\",VLOOKUP($D51,'Girls Si Main Draw Prep'!$A$7:$P$134,4))","v":""},null,"ΑΛΙΣΣΑΒΑΚΗΣ",null,null,null,"4/2 - 2/4 - 10-5"]
["46",{"$f":"IF($D52=\"\",\"\",VLOOKUP($D52,'Girls Si Main Draw Prep'!$A$7:$P$134,15))","v":""},{"$f":"IF($D52=\"\",\"\",VLOOKUP($D52,'Girls Si Main Draw Prep'!$A$7:$P$134,16))","v":""},null,"ΠΕΤΡΑΚΑΚΗΣ ","ΓΙΑΝΝΗΣ",null,{"$f":"IF($D52=\"\",\"\",VLOOKUP($D52,'Girls Si Main Draw Prep'!$A$7:$P$134,4))","v":""},null,"4/0 - 4/2",null,"ΓΥΠΑΚΗΣ"]
["47",{"$f":"IF($D53=\"\",\"\",VLOOKUP($D53,'Girls Si Main Draw Prep'!$A$7:$P$134,15))","v":""},{"$f":"IF($D53=\"\",\"\",VLOOKUP($D53,'Girls Si Main Draw Prep'!$A$7:$P$134,16))","v":""},null,"bye",{"$f":"IF($D53=\"\",\"\",VLOOKUP($D53,'Girls Si Main Draw Prep'!$A$7:$P$134,3))","v":""},null,{"$f":"IF($D53=\"\",\"\",VLOOKUP($D53,'Girls Si Main Draw Prep'!$A$7:$P$134,4))","v":""},null,"ΓΥΠΑΚΗΣ",null,"4/0 - 5/3"]
["48",{"$f":"IF($D54=\"\",\"\",VLOOKUP($D54,'Girls Si Main Draw Prep'!$A$7:$P$134,15))","v":""},{"$f":"IF($D54=\"\",\"\",VLOOKUP($D54,'Girls Si Main Draw Prep'!$A$7:$P$134,16))","v":""},null,"ΓΥΠΑΚΗΣ","ΝΙΚΟΣ",null,{"$f":"IF($D54=\"\",\"\",VLOOKUP($D54,'Girls Si Main Draw Prep'!$A$7:$P$134,4))","v":""}]
["49",{"$f":"IF($D55=\"\",\"\",VLOOKUP($D55,'Girls Si Main Draw Prep'!$A$7:$P$134,15))","v":""},{"$f":"IF($D55=\"\",\"\",VLOOKUP($D55,'Girls Si Main Draw Prep'!$A$7:$P$134,16))","v":""},null,"ΛΑΖΟΣ ","ΒΑΣΙΛΗΣ",null,{"$f":"IF($D55=\"\",\"\",VLOOKUP($D55,'Girls Si Main Draw Prep'!$A$7:$P$134,4))","v":""},null,"ΛΑΖΟΣ"]
["50",{"$f":"IF($D56=\"\",\"\",VLOOKUP($D56,'Girls Si Main Draw Prep'!$A$7:$P$134,15))","v":""},{"$f":"IF($D56=\"\",\"\",VLOOKUP($D56,'Girls Si Main Draw Prep'!$A$7:$P$134,16))","v":""},null,"bye",{"$f":"IF($D56=\"\",\"\",VLOOKUP($D56,'Girls Si Main Draw Prep'!$A$7:$P$134,3))","v":""},null,{"$f":"IF($D56=\"\",\"\",VLOOKUP($D56,'Girls Si Main Draw Prep'!$A$7:$P$134,4))","v":""},null,null,null,"ΛΑΖΟΣ"]
["51",{"$f":"IF($D57=\"\",\"\",VLOOKUP($D57,'Girls Si Main Draw Prep'!$A$7:$P$134,15))","v":""},{"$f":"IF($D57=\"\",\"\",VLOOKUP($D57,'Girls Si Main Draw Prep'!$A$7:$P$134,16))","v":""},null,"ΓΕΩΡΓΟΥΣΑΚΗΣ","ΓΙΩΡΓΟΣ",null,{"$f":"IF($D57=\"\",\"\",VLOOKUP($D57,'Girls Si Main Draw Prep'!$A$7:$P$134,4))","v":""},null,"ΓΕΩΡΓΟΥΣΑΚΗΣ",null,"0/4 - 4/2 - 10-5"]
["52",{"$f":"IF($D58=\"\",\"\",VLOOKUP($D58,'Girls Si Main Draw Prep'!$A$7:$P$134,15))","v":""},{"$f":"IF($D58=\"\",\"\",VLOOKUP($D58,'Girls Si Main Draw Prep'!$A$7:$P$134,16))","v":""},null,"ΜΑΡΙΝΑΚΗΣ","ΜΙΧΑΛΗΣ",null,{"$f":"IF($D58=\"\",\"\",VLOOKUP($D58,'Girls Si Main Draw Prep'!$A$7:$P$134,4))","v":""},null,"4/2 - 4/0",null,"Umpire",null,"ΛΑΖΟΣ"]
["53",{"$f":"IF($D59=\"\",\"\",VLOOKUP($D59,'Girls Si Main Draw Prep'!$A$7:$P$134,15))","v":""},{"$f":"IF($D59=\"\",\"\",VLOOKUP($D59,'Girls Si Main Draw Prep'!$A$7:$P$134,16))","v":""},null,"bye",{"$f":"IF($D59=\"\",\"\",VLOOKUP($D59,'Girls Si Main Draw Prep'!$A$7:$P$134,3))","v":""},null,{"$f":"IF($D59=\"\",\"\",VLOOKUP($D59,'Girls Si Main Draw Prep'!$A$7:$P$134,4))","v":""},null,"ΒΑΡΒΕΡΑΚΗΣ Μ",null,null,null,"4/0 - 5/4 (3)"]
["54",{"$f":"IF($D60=\"\",\"\",VLOOKUP($D60,'Girls Si Main Draw Prep'!$A$7:$P$134,15))","v":""},{"$f":"IF($D60=\"\",\"\",VLOOKUP($D60,'Girls Si Main Draw Prep'!$A$7:$P$134,16))","v":""},null,"ΒΑΡΒΕΡΑΚΗΣ Γ.","ΜΑΝΩΛΗΣ",null,{"$f":"IF($D60=\"\",\"\",VLOOKUP($D60,'Girls Si Main Draw Prep'!$A$7:$P$134,4))","v":""},null,null,null,"ΚΑΤΣΙΚΑΝΔΑΡΑΚΗΣ"]
["55",{"$f":"IF($D61=\"\",\"\",VLOOKUP($D61,'Girls Si Main Draw Prep'!$A$7:$P$134,15))","v":""},{"$f":"IF($D61=\"\",\"\",VLOOKUP($D61,'Girls Si Main Draw Prep'!$A$7:$P$134,16))","v":""},null,"bye",{"$f":"IF($D61=\"\",\"\",VLOOKUP($D61,'Girls Si Main Draw Prep'!$A$7:$P$134,3))","v":""},null,{"$f":"IF($D61=\"\",\"\",VLOOKUP($D61,'Girls Si Main Draw Prep'!$A$7:$P$134,4))","v":""},null,"ΚΑΤΣΙΚΑΝΔΑΡ",null,"4/2 - 4/2"]
["56",{"$f":"IF($D62=\"\",\"\",VLOOKUP($D62,'Girls Si Main Draw Prep'!$A$7:$P$134,15))","v":""},{"$f":"IF($D62=\"\",\"\",VLOOKUP($D62,'Girls Si Main Draw Prep'!$A$7:$P$134,16))","v":""},null,"ΚΑΤΣΙΚΑΝΔΑΡΑΚΗΣ","ΣΟΛΩΝΑΣ",null,{"$f":"IF($D62=\"\",\"\",VLOOKUP($D62,'Girls Si Main Draw Prep'!$A$7:$P$134,4))","v":""},null,null,null,null,null,"Umpire",null,"ΜΑΤΣΑΜΑΚΗΣ"]
["57",{"$f":"IF($D63=\"\",\"\",VLOOKUP($D63,'Girls Si Main Draw Prep'!$A$7:$P$134,15))","v":""},{"$f":"IF($D63=\"\",\"\",VLOOKUP($D63,'Girls Si Main Draw Prep'!$A$7:$P$134,16))","v":""},null,"bye",{"$f":"IF($D63=\"\",\"\",VLOOKUP($D63,'Girls Si Main Draw Prep'!$A$7:$P$134,3))","v":""},null,{"$f":"IF($D63=\"\",\"\",VLOOKUP($D63,'Girls Si Main Draw Prep'!$A$7:$P$134,4))","v":""},null,"ΣΠΥΡΙΔΑΚΗΣ",null,null,null,null,null,"5/3 - 4/0"]
["58",{"$f":"IF($D64=\"\",\"\",VLOOKUP($D64,'Girls Si Main Draw Prep'!$A$7:$P$134,15))","v":""},{"$f":"IF($D64=\"\",\"\",VLOOKUP($D64,'Girls Si Main Draw Prep'!$A$7:$P$134,16))","v":""},null,"ΣΠΥΡΙΔΑΚΗΣ","ΓΙΩΡΓΟΣ",null,{"$f":"IF($D64=\"\",\"\",VLOOKUP($D64,'Girls Si Main Draw Prep'!$A$7:$P$134,4))","v":""},null,null,null,"ΒΛΗΣΙΔΗΣ"]
["59",{"$f":"IF($D65=\"\",\"\",VLOOKUP($D65,'Girls Si Main Draw Prep'!$A$7:$P$134,15))","v":""},{"$f":"IF($D65=\"\",\"\",VLOOKUP($D65,'Girls Si Main Draw Prep'!$A$7:$P$134,16))","v":""},null,"ΒΛΗΣΙΔΗΣ","ΓΙΩΡΓΟΣ",null,{"$f":"IF($D65=\"\",\"\",VLOOKUP($D65,'Girls Si Main Draw Prep'!$A$7:$P$134,4))","v":""},null,"ΒΛΗΣΙΔΗΣ",null,"4/1 - 4/2"]
["60",{"$f":"IF($D66=\"\",\"\",VLOOKUP($D66,'Girls Si Main Draw Prep'!$A$7:$P$134,15))","v":""},{"$f":"IF($D66=\"\",\"\",VLOOKUP($D66,'Girls Si Main Draw Prep'!$A$7:$P$134,16))","v":""},null,"ΚΟΥΤΡΑΚΗΣ","ΣΤΕΛΙΟΣ",null,{"$f":"IF($D66=\"\",\"\",VLOOKUP($D66,'Girls Si Main Draw Prep'!$A$7:$P$134,4))","v":""},null,"4/2 - 4/1",null,"Umpire",null,"ΜΑΤΣΑΜΑΚΗΣ"]
["61",{"$f":"IF($D67=\"\",\"\",VLOOKUP($D67,'Girls Si Main Draw Prep'!$A$7:$P$134,15))","v":""},{"$f":"IF($D67=\"\",\"\",VLOOKUP($D67,'Girls Si Main Draw Prep'!$A$7:$P$134,16))","v":""},null,"ΒΕΡΥΚΑΚΗΣ","ΣΤΡΑΤΟΣ",null,{"$f":"IF($D67=\"\",\"\",VLOOKUP($D67,'Girls Si Main Draw Prep'!$A$7:$P$134,4))","v":""},null,"ΒΕΡΥΚΑΚΗΣ",null,null,null,"4/2 - 4/1"]
["62",{"$f":"IF($D68=\"\",\"\",VLOOKUP($D68,'Girls Si Main Draw Prep'!$A$7:$P$134,15))","v":""},{"$f":"IF($D68=\"\",\"\",VLOOKUP($D68,'Girls Si Main Draw Prep'!$A$7:$P$134,16))","v":""},null,"bye",{"$f":"IF($D68=\"\",\"\",VLOOKUP($D68,'Girls Si Main Draw Prep'!$A$7:$P$134,3))","v":""},null,{"$f":"IF($D68=\"\",\"\",VLOOKUP($D68,'Girls Si Main Draw Prep'!$A$7:$P$134,4))","v":""},null,null,null,"ΜΑΤΣΑΜΑΚΗΣ"]
["63",{"$f":"IF($D69=\"\",\"\",VLOOKUP($D69,'Girls Si Main Draw Prep'!$A$7:$P$134,15))","v":""},{"$f":"IF($D69=\"\",\"\",VLOOKUP($D69,'Girls Si Main Draw Prep'!$A$7:$P$134,16))","v":""},null,"bye",{"$f":"IF($D69=\"\",\"\",VLOOKUP($D69,'Girls Si Main Draw Prep'!$A$7:$P$134,3))","v":""},null,{"$f":"IF($D69=\"\",\"\",VLOOKUP($D69,'Girls Si Main Draw Prep'!$A$7:$P$134,4))","v":""},null,"ΜΑΤΣΑΜΑΚΗΣ",null,"4/0 - 4/0"]
["64",{"$f":"IF($D70=\"\",\"\",VLOOKUP($D70,'Girls Si Main Draw Prep'!$A$7:$P$134,15))","v":""},{"$f":"IF($D70=\"\",\"\",VLOOKUP($D70,'Girls Si Main Draw Prep'!$A$7:$P$134,16))","v":""},null,"ΜΑΤΣΑΜΑΚΗΣ ","ΑΝΤΩΝΗΣ",null,{"$f":"IF($D70=\"\",\"\",VLOOKUP($D70,'Girls Si Main Draw Prep'!$A$7:$P$134,4))","v":""}]
[]
["Acc. Ranking",null,null,"#","Seeded players","#","Seeded players",null,"#","Lucky Losers",null,"Replacing",null,"Draw date/time:"]
["Rkg Date",null,null,1,"ΠΡΟΚΟΠΑΚΗΣ Χ",9,"ΚΟΚΚΙΝΑΚΗΣ Γ",null,"1",null,null,null,null,"Last Accepted player"]
["Top DA",null,null,2,"ΝΑΟΥΜ ΣΠ",10,"ΚΗΠΟΥΡΟΣ Σ",null,"2"]
["Last DA",null,null,3,"ΣΚΑΛΙΔΑΚΗΣ Δ",11,"ΛΑΖΟΣ Β",null,"3",null,null,null,null,"Player representatives"]
[null,null,null,4,"ΚΑΡΑΧΑΛΙΟΣ Α",12,"ΒΟΛΤΥΡΑΚΗΣ Β",null,"4"]
["Seed ranking",null,null,5,"ΜΑΤΣΑΜΑΚΗΣ ΑΝ",13,"ΒΑΡΒΕΡΑΚΗΣ Γ",null,"5"]
["Rkg Date",null,null,6,"ΚΟΝΤΑΡΑΚΗΣ Α",14,"ΣΟΚΟΡΕΛΗΣ Α",null,"6",null,null,null,null,"ITF Referee's signature"]
["Top seed",null,null,7,"ΤΣΙΒΟΥΡΑΚΗΣ Α",15,"ΓΥΠΑ,ΚΗΣ Ν",null,"7"]
["Last seed",null,null,8,"ΑΡΕΤΑΚΗΣ Γ",16,"ΣΧΟΙΝΟΠΛΟΚΑΚΗΣ",null,"8",null,null,null,null,{"$f":"Q4","v":0},null,null,{"$f":"MIN(16,'Girls Si Main Draw Prep'!R5)","v":0}]
[null,"St.","Rank","Seed","Family Name","First name",null,"Nationality",null,"2nd Round",null,"3rd Round",null,"4th Round",null,"Quarterfinalists"]
[]
["65",{"$f":"IF($D83=\"\",\"\",VLOOKUP($D83,'Girls Si Main Draw Prep'!$A$7:$P$134,15))","v":""},{"$f":"IF($D83=\"\",\"\",VLOOKUP($D83,'Girls Si Main Draw Prep'!$A$7:$P$134,16))","v":""},null,"ΚΟΝΤΑΡΑΚΗΣ","ΑΝΔΡΕΑΣ",null,{"$f":"IF($D83=\"\",\"\",VLOOKUP($D83,'Girls Si Main Draw Prep'!$A$7:$P$134,4))","v":""},null,"ΚΟΝΤΑΡΑΚΗΣ",null,null,null,null,null,null,"Page 2(3)"]
["66",{"$f":"IF($D84=\"\",\"\",VLOOKUP($D84,'Girls Si Main Draw Prep'!$A$7:$P$134,15))","v":""},{"$f":"IF($D84=\"\",\"\",VLOOKUP($D84,'Girls Si Main Draw Prep'!$A$7:$P$134,16))","v":""},null,"bye",{"$f":"IF($D84=\"\",\"\",VLOOKUP($D84,'Girls Si Main Draw Prep'!$A$7:$P$134,3))","v":""},null,{"$f":"IF($D84=\"\",\"\",VLOOKUP($D84,'Girls Si Main Draw Prep'!$A$7:$P$134,4))","v":""},null,null,null,"ΚΟΝΤΑΡΑΚΗΣ"]
["67",{"$f":"IF($D85=\"\",\"\",VLOOKUP($D85,'Girls Si Main Draw Prep'!$A$7:$P$134,15))","v":""},{"$f":"IF($D85=\"\",\"\",VLOOKUP($D85,'Girls Si Main Draw Prep'!$A$7:$P$134,16))","v":""},null,"ΛΙΒΑΔΙΤΑΚΗΣ","ΑΝΤΩΝΗΣ",null,{"$f":"IF($D85=\"\",\"\",VLOOKUP($D85,'Girls Si Main Draw Prep'!$A$7:$P$134,4))","v":""},null,"ΛΙΒΑΔΙΤΑΚΗΣ",null,"4/0 - 4/0"]
["68",{"$f":"IF($D86=\"\",\"\",VLOOKUP($D86,'Girls Si Main Draw Prep'!$A$7:$P$134,15))","v":""},{"$f":"IF($D86=\"\",\"\",VLOOKUP($D86,'Girls Si Main Draw Prep'!$A$7:$P$134,16))","v":""},null,"bye",{"$f":"IF($D86=\"\",\"\",VLOOKUP($D86,'Girls Si Main Draw Prep'!$A$7:$P$134,3))","v":""},null,{"$f":"IF($D86=\"\",\"\",VLOOKUP($D86,'Girls Si Main Draw Prep'!$A$7:$P$134,4))","v":""},null,null,null,"Umpire",null,"ΑΛΙΦΙΕΡΑΚΗΣ"]
["69",{"$f":"IF($D87=\"\",\"\",VLOOKUP($D87,'Girls Si Main Draw Prep'!$A$7:$P$134,15))","v":""},{"$f":"IF($D87=\"\",\"\",VLOOKUP($D87,'Girls Si Main Draw Prep'!$A$7:$P$134,16))","v":""},null,"ΤΖΟΜΠΑΝΑΚΗΣ","ΓΙΩΡΓΟΣ",null,{"$f":"IF($D87=\"\",\"\",VLOOKUP($D87,'Girls Si Main Draw Prep'!$A$7:$P$134,4))","v":""},null,"ΤΖΟΜΠΑΝΑΚΗΣ",null,null,null,"w.o."]
["70",{"$f":"IF($D88=\"\",\"\",VLOOKUP($D88,'Girls Si Main Draw Prep'!$A$7:$P$134,15))","v":""},{"$f":"IF($D88=\"\",\"\",VLOOKUP($D88,'Girls Si Main Draw Prep'!$A$7:$P$134,16))","v":""},null,"bye",null,null,{"$f":"IF($D88=\"\",\"\",VLOOKUP($D88,'Girls Si Main Draw Prep'!$A$7:$P$134,4))","v":""},null,null,null,"ΑΛΙΦΙΕΡΑΚΗΣ"]
["71",{"$f":"IF($D89=\"\",\"\",VLOOKUP($D89,'Girls Si Main Draw Prep'!$A$7:$P$134,15))","v":""},{"$f":"IF($D89=\"\",\"\",VLOOKUP($D89,'Girls Si Main Draw Prep'!$A$7:$P$134,16))","v":""},null,"ΑΛΙΦΙΕΡΑΚΗΣ","ΑΛΕΞΑΝΔΡΟΣ",null,{"$f":"IF($D89=\"\",\"\",VLOOKUP($D89,'Girls Si Main Draw Prep'!$A$7:$P$134,4))","v":""},null,"ΑΛΙΦΙΕΡΑΚΗΣ",null,"4/0 - 4/2"]
["72",{"$f":"IF($D90=\"\",\"\",VLOOKUP($D90,'Girls Si Main Draw Prep'!$A$7:$P$134,15))","v":""},{"$f":"IF($D90=\"\",\"\",VLOOKUP($D90,'Girls Si Main Draw Prep'!$A$7:$P$134,16))","v":""},null,"bye",{"$f":"IF($D90=\"\",\"\",VLOOKUP($D90,'Girls Si Main Draw Prep'!$A$7:$P$134,3))","v":""},null,{"$f":"IF($D90=\"\",\"\",VLOOKUP($D90,'Girls Si Main Draw Prep'!$A$7:$P$134,4))","v":""},null,null,null,null,null,"Umpire",null,"ΚΟΚΚΙΝΑΚΗΣ"]
["73",{"$f":"IF($D91=\"\",\"\",VLOOKUP($D91,'Girls Si Main Draw Prep'!$A$7:$P$134,15))","v":""},{"$f":"IF($D91=\"\",\"\",VLOOKUP($D91,'Girls Si Main Draw Prep'!$A$7:$P$134,16))","v":""},null,"ΜΠΑΡΑΝΟΒΑ","ΓΙΟΥΛΙΑ",null,{"$f":"IF($D91=\"\",\"\",VLOOKUP($D91,'Girls Si Main Draw Prep'!$A$7:$P$134,4))","v":""},null,"ΜΑΘΙΟΥΔΑΚΗ",null,null,null,null,null,"4/0 - 4/0"]
["74",{"$f":"IF($D92=\"\",\"\",VLOOKUP($D92,'Girls Si Main Draw Prep'!$A$7:$P$134,15))","v":""},{"$f":"IF($D92=\"\",\"\",VLOOKUP($D92,'Girls Si Main Draw Prep'!$A$7:$P$134,16))","v":""},null,"ΜΑΘΙΟΥΔΑΚΗ ","ΓΙΟΛΕΝΑ",null,{"$f":"IF($D92=\"\",\"\",VLOOKUP($D92,'Girls Si Main Draw Prep'!$A$7:$P$134,4))","v":""},null,"4/2 - 4/0",null,"ΜΑΘΙΟΥΔΑΚΗ"]
["75",{"$f":"IF($D93=\"\",\"\",VLOOKUP($D93,'Girls Si Main Draw Prep'!$A$7:$P$134,15))","v":""},{"$f":"IF($D93=\"\",\"\",VLOOKUP($D93,'Girls Si Main Draw Prep'!$A$7:$P$134,16))","v":""},null,"bye",{"$f":"IF($D93=\"\",\"\",VLOOKUP($D93,'Girls Si Main Draw Prep'!$A$7:$P$134,3))","v":""},null,{"$f":"IF($D93=\"\",\"\",VLOOKUP($D93,'Girls Si Main Draw Prep'!$A$7:$P$134,4))","v":""},null,"ΒΛΑΧΑΚΗΣ",null,"4/1 - 4/0"]
["76",{"$f":"IF($D94=\"\",\"\",VLOOKUP($D94,'Girls Si Main Draw Prep'!$A$7:$P$134,15))","v":""},{"$f":"IF($D94=\"\",\"\",VLOOKUP($D94,'Girls Si Main Draw Prep'!$A$7:$P$134,16))","v":""},null,"ΒΛΑΧΑΚΗΣ","ΝΙΚΟΣ",null,{"$f":"IF($D94=\"\",\"\",VLOOKUP($D94,'Girls Si Main Draw Prep'!$A$7:$P$134,4))","v":""},null,null,null,"Umpire",null,"ΚΟΚΚΙΝΑΚΗΣ"]
["77",{"$f":"IF($D95=\"\",\"\",VLOOKUP($D95,'Girls Si Main Draw Prep'!$A$7:$P$134,15))","v":""},{"$f":"IF($D95=\"\",\"\",VLOOKUP($D95,'Girls Si Main Draw Prep'!$A$7:$P$134,16))","v":""},null,"ΜΑΥΡΙΔΗΣ","ΠΑΡΑΣΚΕΥΑΣ",null,{"$f":"IF($D95=\"\",\"\",VLOOKUP($D95,'Girls Si Main Draw Prep'!$A$7:$P$134,4))","v":""},null,"ΜΙΟΥΜΠΗΣ",null,null,null,"4/1 - 3/0 - 30-0"]
["78",{"$f":"IF($D96=\"\",\"\",VLOOKUP($D96,'Girls Si Main Draw Prep'!$A$7:$P$134,15))","v":""},{"$f":"IF($D96=\"\",\"\",VLOOKUP($D96,'Girls Si Main Draw Prep'!$A$7:$P$134,16))","v":""},null,"ΜΙΟΥΜΠΗΣ","ΖΑΜΕΛ",null,{"$f":"IF($D96=\"\",\"\",VLOOKUP($D96,'Girls Si Main Draw Prep'!$A$7:$P$134,4))","v":""},null,"4/2 - 4/4 - 7/3",null,"ΚΟΚΚΙΝΑΚΗΣ"]
["79",{"$f":"IF($D97=\"\",\"\",VLOOKUP($D97,'Girls Si Main Draw Prep'!$A$7:$P$134,15))","v":""},{"$f":"IF($D97=\"\",\"\",VLOOKUP($D97,'Girls Si Main Draw Prep'!$A$7:$P$134,16))","v":""},null,"bye",{"$f":"IF($D97=\"\",\"\",VLOOKUP($D97,'Girls Si Main Draw Prep'!$A$7:$P$134,3))","v":""},null,{"$f":"IF($D97=\"\",\"\",VLOOKUP($D97,'Girls Si Main Draw Prep'!$A$7:$P$134,4))","v":""},null,"ΚΟΚΚΙΝΑΚΗΣ",null,"4/0 - 4/0"]
["80",{"$f":"IF($D98=\"\",\"\",VLOOKUP($D98,'Girls Si Main Draw Prep'!$A$7:$P$134,15))","v":""},{"$f":"IF($D98=\"\",\"\",VLOOKUP($D98,'Girls Si Main Draw Prep'!$A$7:$P$134,16))","v":""},null,"ΚΟΚΚΙΝΑΚΗΣ ","ΓΙΑΝΝΗΣ",null,{"$f":"IF($D98=\"\",\"\",VLOOKUP($D98,'Girls Si Main Draw Prep'!$A$7:$P$134,4))","v":""}]
["81",{"$f":"IF($D99=\"\",\"\",VLOOKUP($D99,'Girls Si Main Draw Prep'!$A$7:$P$134,15))","v":""},{"$f":"IF($D99=\"\",\"\",VLOOKUP($D99,'Girls Si Main Draw Prep'!$A$7:$P$134,16))","v":""},null,"ΣΟΚΟΡΕΛΗΣ ","ΑΝΤΩΝΗΣ",null,{"$f":"IF($D99=\"\",\"\",VLOOKUP($D99,'Girls Si Main Draw Prep'!$A$7:$P$134,4))","v":""},null,"ΣΟΚΟΡΕΛΗΣ"]
["82",{"$f":"IF($D100=\"\",\"\",VLOOKUP($D100,'Girls Si Main Draw Prep'!$A$7:$P$134,15))","v":""},{"$f":"IF($D100=\"\",\"\",VLOOKUP($D100,'Girls Si Main Draw Prep'!$A$7:$P$134,16))","v":""},null,"bye",{"$f":"IF($D100=\"\",\"\",VLOOKUP($D100,'Girls Si Main Draw Prep'!$A$7:$P$134,3))","v":""},null,{"$f":"IF($D100=\"\",\"\",VLOOKUP($D100,'Girls Si Main Draw Prep'!$A$7:$P$134,4))","v":""},null,null,null,"ΣΟΚΟΡΕΛΗΣ"]
["83",{"$f":"IF($D101=\"\",\"\",VLOOKUP($D101,'Girls Si Main Draw Prep'!$A$7:$P$134,15))","v":""},{"$f":"IF($D101=\"\",\"\",VLOOKUP($D101,'Girls Si Main Draw Prep'!$A$7:$P$134,16))","v":""},null,"bye",{"$f":"IF($D101=\"\",\"\",VLOOKUP($D101,'Girls Si Main Draw Prep'!$A$7:$P$134,3))","v":""},null,{"$f":"IF($D101=\"\",\"\",VLOOKUP($D101,'Girls Si Main Draw Prep'!$A$7:$P$134,4))","v":""},null,"ΜΟΙΡΑΔΩΡΑΚΗΣ",null,"4/0 - 4/0"]
["84",{"$f":"IF($D102=\"\",\"\",VLOOKUP($D102,'Girls Si Main Draw Prep'!$A$7:$P$134,15))","v":""},{"$f":"IF($D102=\"\",\"\",VLOOKUP($D102,'Girls Si Main Draw Prep'!$A$7:$P$134,16))","v":""},null,"ΜΟΙΡΑΔΩΡΑΚΗΣ","ΚΩΝΣΤΑΝΤΙΝΟΣ",null,{"$f":"IF($D102=\"\",\"\",VLOOKUP($D102,'Girls Si Main Draw Prep'!$A$7:$P$134,4))","v":""},null,null,null,"Umpire",null,"ΣΟΚΟΡΕΛΗΣ"]
["85",{"$f":"IF($D103=\"\",\"\",VLOOKUP($D103,'Girls Si Main Draw Prep'!$A$7:$P$134,15))","v":""},{"$f":"IF($D103=\"\",\"\",VLOOKUP($D103,'Girls Si Main Draw Prep'!$A$7:$P$134,16))","v":""},null,"bye",{"$f":"IF($D103=\"\",\"\",VLOOKUP($D103,'Girls Si Main Draw Prep'!$A$7:$P$134,3))","v":""},null,{"$f":"IF($D103=\"\",\"\",VLOOKUP($D103,'Girls Si Main Draw Prep'!$A$7:$P$134,4))","v":""},null,"ΚΟΚΟΡΕΤΣΗΣ",null,null,null,"4/0 - 4/0"]
["86",{"$f":"IF($D104=\"\",\"\",VLOOKUP($D104,'Girls Si Main Draw Prep'!$A$7:$P$134,15))","v":""},{"$f":"IF($D104=\"\",\"\",VLOOKUP($D104,'Girls Si Main Draw Prep'!$A$7:$P$134,16))","v":""},null,"ΚΟΚΟΡΕΤΣΗΣ","ΓΕΡΑΣΙΜΟΣ",null,{"$f":"IF($D104=\"\",\"\",VLOOKUP($D104,'Girls Si Main Draw Prep'!$A$7:$P$134,4))","v":""},null,null,null,"ΚΟΚΟΡΕΤΣΗΣ"]
["87",{"$f":"IF($D105=\"\",\"\",VLOOKUP($D105,'Girls Si Main Draw Prep'!$A$7:$P$134,15))","v":""},{"$f":"IF($D105=\"\",\"\",VLOOKUP($D105,'Girls Si Main Draw Prep'!$A$7:$P$134,16))","v":""},null,"bye",{"$f":"IF($D105=\"\",\"\",VLOOKUP($D105,'Girls Si Main Draw Prep'!$A$7:$P$134,3))","v":""},null,{"$f":"IF($D105=\"\",\"\",VLOOKUP($D105,'Girls Si Main Draw Prep'!$A$7:$P$134,4))","v":""},null,"ΓΚΙΚΑ ",null,"4/2 - 4/1"]
["88",{"$f":"IF($D106=\"\",\"\",VLOOKUP($D106,'Girls Si Main Draw Prep'!$A$7:$P$134,15))","v":""},{"$f":"IF($D106=\"\",\"\",VLOOKUP($D106,'Girls Si Main Draw Prep'!$A$7:$P$134,16))","v":""},null,"ΓΚΙΚΑ","ΚΕΣΙΛΝΤΑ",null,{"$f":"IF($D106=\"\",\"\",VLOOKUP($D106,'Girls Si Main Draw Prep'!$A$7:$P$134,4))","v":""},null,null,null,null,null,"Umpire",null,"ΣΟΚΟΡΕΛΗΣ"]
["89",{"$f":"IF($D107=\"\",\"\",VLOOKUP($D107,'Girls Si Main Draw Prep'!$A$7:$P$134,15))","v":""},{"$f":"IF($D107=\"\",\"\",VLOOKUP($D107,'Girls Si Main Draw Prep'!$A$7:$P$134,16))","v":""},null,"ΜΑΤΖΟΡΑΚΗΣ","ΓΙΩΡΓΟΣ",null,{"$f":"IF($D107=\"\",\"\",VLOOKUP($D107,'Girls Si Main Draw Prep'!$A$7:$P$134,4))","v":""},null,"ΧΑΛΑΚΑΤΕΒΑΚΗΣ",null,null,null,null,null,"4/1 - 4/1"]
["90",{"$f":"IF($D108=\"\",\"\",VLOOKUP($D108,'Girls Si Main Draw Prep'!$A$7:$P$134,15))","v":""},{"$f":"IF($D108=\"\",\"\",VLOOKUP($D108,'Girls Si Main Draw Prep'!$A$7:$P$134,16))","v":""},null,"ΧΑΛΑΚΑΤΕΒΑΚΗΣ","ΛΕΥΤΕΡΗΣ",null,{"$f":"IF($D108=\"\",\"\",VLOOKUP($D108,'Girls Si Main Draw Prep'!$A$7:$P$134,4))","v":""},null,"4/1 - 3/2 ",null,"ΧΑΛΑΚΑΤΕΒΑΚΗΣ"]
["91",{"$f":"IF($D109=\"\",\"\",VLOOKUP($D109,'Girls Si Main Draw Prep'!$A$7:$P$134,15))","v":""},{"$f":"IF($D109=\"\",\"\",VLOOKUP($D109,'Girls Si Main Draw Prep'!$A$7:$P$134,16))","v":""},null,"ΧΡΙΣΤΟΥΛΑΚΗΣ","ΣΤΑΥΡΟΣ",null,{"$f":"IF($D109=\"\",\"\",VLOOKUP($D109,'Girls Si Main Draw Prep'!$A$7:$P$134,4))","v":""},null,"ΧΡΙΣΤΟΥΛΑΚΗΣ",null,"4/2 - 2/4 - 10-5"]
["92",{"$f":"IF($D110=\"\",\"\",VLOOKUP($D110,'Girls Si Main Draw Prep'!$A$7:$P$134,15))","v":""},{"$f":"IF($D110=\"\",\"\",VLOOKUP($D110,'Girls Si Main Draw Prep'!$A$7:$P$134,16))","v":""},null,"ΞΕΡΑΣ","ΝΙΚΟΣ",null,{"$f":"IF($D110=\"\",\"\",VLOOKUP($D110,'Girls Si Main Draw Prep'!$A$7:$P$134,4))","v":""},null,"4/1 - 4/1",null,"Umpire",null,"ΧΑΛΑΚΑΤΕΒΑΚΗΣ"]
["93",{"$f":"IF($D111=\"\",\"\",VLOOKUP($D111,'Girls Si Main Draw Prep'!$A$7:$P$134,15))","v":""},{"$f":"IF($D111=\"\",\"\",VLOOKUP($D111,'Girls Si Main Draw Prep'!$A$7:$P$134,16))","v":""},null,"ΑΛΕΞΑΝΔΡΙΔΗΣ","ΑΝΤΩΝΗΣ",null,{"$f":"IF($D111=\"\",\"\",VLOOKUP($D111,'Girls Si Main Draw Prep'!$A$7:$P$134,4))","v":""},null,"ΑΛΕΞΑΝΔΡΙΔΗΣ",null,null,null,"4/0 - 2/4 - 10-5"]
["94",{"$f":"IF($D112=\"\",\"\",VLOOKUP($D112,'Girls Si Main Draw Prep'!$A$7:$P$134,15))","v":""},{"$f":"IF($D112=\"\",\"\",VLOOKUP($D112,'Girls Si Main Draw Prep'!$A$7:$P$134,16))","v":""},null,"bye",{"$f":"IF($D112=\"\",\"\",VLOOKUP($D112,'Girls Si Main Draw Prep'!$A$7:$P$134,3))","v":""},null,{"$f":"IF($D112=\"\",\"\",VLOOKUP($D112,'Girls Si Main Draw Prep'!$A$7:$P$134,4))","v":""},null,null,null,"ΑΛΕΞΑΝΔΡΙΔΗΔ"]
["95",{"$f":"IF($D113=\"\",\"\",VLOOKUP($D113,'Girls Si Main Draw Prep'!$A$7:$P$134,15))","v":""},{"$f":"IF($D113=\"\",\"\",VLOOKUP($D113,'Girls Si Main Draw Prep'!$A$7:$P$134,16))","v":""},null,"bye",{"$f":"IF($D113=\"\",\"\",VLOOKUP($D113,'Girls Si Main Draw Prep'!$A$7:$P$134,3))","v":""},null,{"$f":"IF($D113=\"\",\"\",VLOOKUP($D113,'Girls Si Main Draw Prep'!$A$7:$P$134,4))","v":""},null,"ΚΑΡΑΧΑΛΙΟΣ",null,"w.o."]
["96",{"$f":"IF($D114=\"\",\"\",VLOOKUP($D114,'Girls Si Main Draw Prep'!$A$7:$P$134,15))","v":""},{"$f":"IF($D114=\"\",\"\",VLOOKUP($D114,'Girls Si Main Draw Prep'!$A$7:$P$134,16))","v":""},null,"ΚΑΡΑΧΑΛΙΟΣ","ΑΓΓΕΛΟΣ",null,{"$f":"IF($D114=\"\",\"\",VLOOKUP($D114,'Girls Si Main Draw Prep'!$A$7:$P$134,4))","v":""}]
["97",{"$f":"IF($D115=\"\",\"\",VLOOKUP($D115,'Girls Si Main Draw Prep'!$A$7:$P$134,15))","v":""},{"$f":"IF($D115=\"\",\"\",VLOOKUP($D115,'Girls Si Main Draw Prep'!$A$7:$P$134,16))","v":""},null,"ΑΡΕΤΑΚΗΣ ","ΓΙΑΝΝΗΣ",null,{"$f":"IF($D115=\"\",\"\",VLOOKUP($D115,'Girls Si Main Draw Prep'!$A$7:$P$134,4))","v":""},null,"ΑΡΕΤΑΚΗΣ"]
["98",{"$f":"IF($D116=\"\",\"\",VLOOKUP($D116,'Girls Si Main Draw Prep'!$A$7:$P$134,15))","v":""},{"$f":"IF($D116=\"\",\"\",VLOOKUP($D116,'Girls Si Main Draw Prep'!$A$7:$P$134,16))","v":""},null,"bye",{"$f":"IF($D116=\"\",\"\",VLOOKUP($D116,'Girls Si Main Draw Prep'!$A$7:$P$134,3))","v":""},null,{"$f":"IF($D116=\"\",\"\",VLOOKUP($D116,'Girls Si Main Draw Prep'!$A$7:$P$134,4))","v":""},null,null,null,"ΒΡΟΧΑΡΗΣ"]
["99",{"$f":"IF($D117=\"\",\"\",VLOOKUP($D117,'Girls Si Main Draw Prep'!$A$7:$P$134,15))","v":""},{"$f":"IF($D117=\"\",\"\",VLOOKUP($D117,'Girls Si Main Draw Prep'!$A$7:$P$134,16))","v":""},null,"ΒΑΜΒΟΥΚΑΣ","ΔΗΜΗΤΡΗΣ",null,{"$f":"IF($D117=\"\",\"\",VLOOKUP($D117,'Girls Si Main Draw Prep'!$A$7:$P$134,4))","v":""},null,"ΒΡΟΧΑΡΗΣ",null,"w.o."]
["100",{"$f":"IF($D118=\"\",\"\",VLOOKUP($D118,'Girls Si Main Draw Prep'!$A$7:$P$134,15))","v":""},{"$f":"IF($D118=\"\",\"\",VLOOKUP($D118,'Girls Si Main Draw Prep'!$A$7:$P$134,16))","v":""},null,"ΒΡΟΧΑΡΗΣ","ΔΗΜΗΤΡΗΣ",null,{"$f":"IF($D118=\"\",\"\",VLOOKUP($D118,'Girls Si Main Draw Prep'!$A$7:$P$134,4))","v":""},null,"4/1 - 4/2",null,"Umpire",null,"ΒΡΟΧΑΡΗΣ"]
["101",{"$f":"IF($D119=\"\",\"\",VLOOKUP($D119,'Girls Si Main Draw Prep'!$A$7:$P$134,15))","v":""},{"$f":"IF($D119=\"\",\"\",VLOOKUP($D119,'Girls Si Main Draw Prep'!$A$7:$P$134,16))","v":""},null,"bye",{"$f":"IF($D119=\"\",\"\",VLOOKUP($D119,'Girls Si Main Draw Prep'!$A$7:$P$134,3))","v":""},null,{"$f":"IF($D119=\"\",\"\",VLOOKUP($D119,'Girls Si Main Draw Prep'!$A$7:$P$134,4))","v":""},null,"ΚΟΥΡΑΚΗΣ",null,null,null,"4/0 - 4/0"]
["102",{"$f":"IF($D120=\"\",\"\",VLOOKUP($D120,'Girls Si Main Draw Prep'!$A$7:$P$134,15))","v":""},{"$f":"IF($D120=\"\",\"\",VLOOKUP($D120,'Girls Si Main Draw Prep'!$A$7:$P$134,16))","v":""},null,"ΚΟΥΡΑΚΗΣ","ΓΙΩΡΓΟΣ",null,{"$f":"IF($D120=\"\",\"\",VLOOKUP($D120,'Girls Si Main Draw Prep'!$A$7:$P$134,4))","v":""},null,null,null,"ΣΚΑΛΙΔΑΚΗΣ"]
["103",{"$f":"IF($D121=\"\",\"\",VLOOKUP($D121,'Girls Si Main Draw Prep'!$A$7:$P$134,15))","v":""},{"$f":"IF($D121=\"\",\"\",VLOOKUP($D121,'Girls Si Main Draw Prep'!$A$7:$P$134,16))","v":""},null,"bye",{"$f":"IF($D121=\"\",\"\",VLOOKUP($D121,'Girls Si Main Draw Prep'!$A$7:$P$134,3))","v":""},null,{"$f":"IF($D121=\"\",\"\",VLOOKUP($D121,'Girls Si Main Draw Prep'!$A$7:$P$134,4))","v":""},null,"ΣΚΑΛΙΔΑΚΗΣ Σ",null,"4/0 - 4/0"]
["104",{"$f":"IF($D122=\"\",\"\",VLOOKUP($D122,'Girls Si Main Draw Prep'!$A$7:$P$134,15))","v":""},{"$f":"IF($D122=\"\",\"\",VLOOKUP($D122,'Girls Si Main Draw Prep'!$A$7:$P$134,16))","v":""},null,"ΣΚΑΛΙΔΑΚΗΣ ","ΣΤΑΥΡΟΣ",null,{"$f":"IF($D122=\"\",\"\",VLOOKUP($D122,'Girls Si Main Draw Prep'!$A$7:$P$134,4))","v":""},null,null,null,null,null,"Umpire",null,"ΒΟΛΤΥΡΑΚΗΣ"]
["105",{"$f":"IF($D123=\"\",\"\",VLOOKUP($D123,'Girls Si Main Draw Prep'!$A$7:$P$134,15))","v":""},{"$f":"IF($D123=\"\",\"\",VLOOKUP($D123,'Girls Si Main Draw Prep'!$A$7:$P$134,16))","v":""},null,"ΤΖΑΝΑΚΗΣ","ΚΥΡΙΑΚΟΣ",null,{"$f":"IF($D123=\"\",\"\",VLOOKUP($D123,'Girls Si Main Draw Prep'!$A$7:$P$134,4))","v":""},null,"ΤΖΑΝΑΚΗΣ",null,null,null,null,null,"4/2 - 4/1"]
["106",{"$f":"IF($D124=\"\",\"\",VLOOKUP($D124,'Girls Si Main Draw Prep'!$A$7:$P$134,15))","v":""},{"$f":"IF($D124=\"\",\"\",VLOOKUP($D124,'Girls Si Main Draw Prep'!$A$7:$P$134,16))","v":""},null,"bye",null,null,{"$f":"IF($D124=\"\",\"\",VLOOKUP($D124,'Girls Si Main Draw Prep'!$A$7:$P$134,4))","v":""},null,null,null,"ΤΖΑΝΑΚΗΣ"]
["107",{"$f":"IF($D125=\"\",\"\",VLOOKUP($D125,'Girls Si Main Draw Prep'!$A$7:$P$134,15))","v":""},{"$f":"IF($D125=\"\",\"\",VLOOKUP($D125,'Girls Si Main Draw Prep'!$A$7:$P$134,16))","v":""},null,"ΤΖΩΡΤΖΑΚΗΣ","ΣΤΕΛΙΟΣ",null,{"$f":"IF($D125=\"\",\"\",VLOOKUP($D125,'Girls Si Main Draw Prep'!$A$7:$P$134,4))","v":""},null,"ΡΕΝΙΕΡΗΣ",null,"4/1 - 4/0"]
["108",{"$f":"IF($D126=\"\",\"\",VLOOKUP($D126,'Girls Si Main Draw Prep'!$A$7:$P$134,15))","v":""},{"$f":"IF($D126=\"\",\"\",VLOOKUP($D126,'Girls Si Main Draw Prep'!$A$7:$P$134,16))","v":""},null,"ΡΕΝΙΕΡΗΣ","ΝΙΚΟΣ",null,{"$f":"IF($D126=\"\",\"\",VLOOKUP($D126,'Girls Si Main Draw Prep'!$A$7:$P$134,4))","v":""},null,"4/0 - 4/1",null,"Umpire",null,"ΒΟΛΤΥΡΑΚΗΣ"]
["109",{"$f":"IF($D127=\"\",\"\",VLOOKUP($D127,'Girls Si Main Draw Prep'!$A$7:$P$134,15))","v":""},{"$f":"IF($D127=\"\",\"\",VLOOKUP($D127,'Girls Si Main Draw Prep'!$A$7:$P$134,16))","v":""},null,"ΤΖΑΝΙΔΑΚΗΣ","ΑΔΑΜ",null,{"$f":"IF($D127=\"\",\"\",VLOOKUP($D127,'Girls Si Main Draw Prep'!$A$7:$P$134,4))","v":""},null,"ΜΠΕΝΙΟΥΔΑΚΗΣ",null,null,null,"4/0 - 4/1"]
["110",{"$f":"IF($D128=\"\",\"\",VLOOKUP($D128,'Girls Si Main Draw Prep'!$A$7:$P$134,15))","v":""},{"$f":"IF($D128=\"\",\"\",VLOOKUP($D128,'Girls Si Main Draw Prep'!$A$7:$P$134,16))","v":""},null,"ΜΠΕΝΙΟΥΔΑΚΗΣ","ΛΕΥΤΕΡΗΣ",null,{"$f":"IF($D128=\"\",\"\",VLOOKUP($D128,'Girls Si Main Draw Prep'!$A$7:$P$134,4))","v":""},null,"4/1 - 4/0",null,"ΒΟΛΤΥΡΑΚΗΣ"]
["111",{"$f":"IF($D129=\"\",\"\",VLOOKUP($D129,'Girls Si Main Draw Prep'!$A$7:$P$134,15))","v":""},{"$f":"IF($D129=\"\",\"\",VLOOKUP($D129,'Girls Si Main Draw Prep'!$A$7:$P$134,16))","v":""},null,"bye",{"$f":"IF($D129=\"\",\"\",VLOOKUP($D129,'Girls Si Main Draw Prep'!$A$7:$P$134,3))","v":""},null,{"$f":"IF($D129=\"\",\"\",VLOOKUP($D129,'Girls Si Main Draw Prep'!$A$7:$P$134,4))","v":""},null,"ΒΟΛΤΥΡΑΚΗΣ Β",null,"4/0 - 4/1"]
["112",{"$f":"IF($D130=\"\",\"\",VLOOKUP($D130,'Girls Si Main Draw Prep'!$A$7:$P$134,15))","v":""},{"$f":"IF($D130=\"\",\"\",VLOOKUP($D130,'Girls Si Main Draw Prep'!$A$7:$P$134,16))","v":""},null,"ΒΟΛΤΥΡΑΚΗΣ ",{"$f":"IF($D130=\"\",\"\",VLOOKUP($D130,'Girls Si Main Draw Prep'!$A$7:$P$134,3))","v":""},"ΒΑΣΙΛΗΣ",{"$f":"IF($D130=\"\",\"\",VLOOKUP($D130,'Girls Si Main Draw Prep'!$A$7:$P$134,4))","v":""}]
["113",{"$f":"IF($D131=\"\",\"\",VLOOKUP($D131,'Girls Si Main Draw Prep'!$A$7:$P$134,15))","v":""},{"$f":"IF($D131=\"\",\"\",VLOOKUP($D131,'Girls Si Main Draw Prep'!$A$7:$P$134,16))","v":""},null,"ΣΧΟΙΝΟΠΛΟΚΑΚΗΣ ","ΔΗΜΗΤΡΗΣ",null,{"$f":"IF($D131=\"\",\"\",VLOOKUP($D131,'Girls Si Main Draw Prep'!$A$7:$P$134,4))","v":""},null,"ΣΧΟΙΝΟΠΛΟΚΑΚΗΣ"]
["114",{"$f":"IF($D132=\"\",\"\",VLOOKUP($D132,'Girls Si Main Draw Prep'!$A$7:$P$134,15))","v":""},{"$f":"IF($D132=\"\",\"\",VLOOKUP($D132,'Girls Si Main Draw Prep'!$A$7:$P$134,16))","v":""},null,"bye",{"$f":"IF($D132=\"\",\"\",VLOOKUP($D132,'Girls Si Main Draw Prep'!$A$7:$P$134,3))","v":""},null,{"$f":"IF($D132=\"\",\"\",VLOOKUP($D132,'Girls Si Main Draw Prep'!$A$7:$P$134,4))","v":""},null,null,null,"ΣΧΟΙΝΟΠΛΟΚΑΚΗΣ"]
["115",{"$f":"IF($D133=\"\",\"\",VLOOKUP($D133,'Girls Si Main Draw Prep'!$A$7:$P$134,15))","v":""},{"$f":"IF($D133=\"\",\"\",VLOOKUP($D133,'Girls Si Main Draw Prep'!$A$7:$P$134,16))","v":""},null,"bye",{"$f":"IF($D133=\"\",\"\",VLOOKUP($D133,'Girls Si Main Draw Prep'!$A$7:$P$134,3))","v":""},null,{"$f":"IF($D133=\"\",\"\",VLOOKUP($D133,'Girls Si Main Draw Prep'!$A$7:$P$134,4))","v":""},null,"ΚΑΤΣΟΥΛΑΚΗΣ",null,"4/1 - 4/2"]
["116",{"$f":"IF($D134=\"\",\"\",VLOOKUP($D134,'Girls Si Main Draw Prep'!$A$7:$P$134,15))","v":""},{"$f":"IF($D134=\"\",\"\",VLOOKUP($D134,'Girls Si Main Draw Prep'!$A$7:$P$134,16))","v":""},null,"ΚΑΤΣΟΥΛΑΚΗΣ","ΜΑΝΟΣ",null,{"$f":"IF($D134=\"\",\"\",VLOOKUP($D134,'Girls Si Main Draw Prep'!$A$7:$P$134,4))","v":""},null,null,null,"Umpire",null,"ΣΧΟΙΝΟΠΛΟΚΑΚΗΣ"]
["117",{"$f":"IF($D135=\"\",\"\",VLOOKUP($D135,'Girls Si Main Draw Prep'!$A$7:$P$134,15))","v":""},{"$f":"IF($D135=\"\",\"\",VLOOKUP($D135,'Girls Si Main Draw Prep'!$A$7:$P$134,16))","v":""},null,"ΧΑΤΖΗΝΙΚΟΛΑΟΥ ","ΔΙΟΝΥΣΗΣ",null,{"$f":"IF($D135=\"\",\"\",VLOOKUP($D135,'Girls Si Main Draw Prep'!$A$7:$P$134,4))","v":""},null,"ΧΑΤΖΗΝΙΚΟΛΑΟΥ",null,null,null,"4/0 - 4/1"]
["118",{"$f":"IF($D136=\"\",\"\",VLOOKUP($D136,'Girls Si Main Draw Prep'!$A$7:$P$134,15))","v":""},{"$f":"IF($D136=\"\",\"\",VLOOKUP($D136,'Girls Si Main Draw Prep'!$A$7:$P$134,16))","v":""},null,"bye",{"$f":"IF($D136=\"\",\"\",VLOOKUP($D136,'Girls Si Main Draw Prep'!$A$7:$P$134,3))","v":""},null,{"$f":"IF($D136=\"\",\"\",VLOOKUP($D136,'Girls Si Main Draw Prep'!$A$7:$P$134,4))","v":""},null,null,null,"ΧΑΤΖΗΝΙΚΟΛΑΟΥ"]
["119",{"$f":"IF($D137=\"\",\"\",VLOOKUP($D137,'Girls Si Main Draw Prep'!$A$7:$P$134,15))","v":""},{"$f":"IF($D137=\"\",\"\",VLOOKUP($D137,'Girls Si Main Draw Prep'!$A$7:$P$134,16))","v":""},null,"ΜΠΑΛΑΣΚΑ","ΒΑΣΙΛΙΚΗ",null,{"$f":"IF($D137=\"\",\"\",VLOOKUP($D137,'Girls Si Main Draw Prep'!$A$7:$P$134,4))","v":""},null,"ΜΠΑΛΑΣΚΑ",null,"1/4 - 4/2 - 10/6"]
["120",{"$f":"IF($D138=\"\",\"\",VLOOKUP($D138,'Girls Si Main Draw Prep'!$A$7:$P$134,15))","v":""},{"$f":"IF($D138=\"\",\"\",VLOOKUP($D138,'Girls Si Main Draw Prep'!$A$7:$P$134,16))","v":""},null,"bye",null,null,{"$f":"IF($D138=\"\",\"\",VLOOKUP($D138,'Girls Si Main Draw Prep'!$A$7:$P$134,4))","v":""},null,null,null,null,null,"Umpire",null,"ΝΑΟΥΜ"]
["121",{"$f":"IF($D139=\"\",\"\",VLOOKUP($D139,'Girls Si Main Draw Prep'!$A$7:$P$134,15))","v":""},{"$f":"IF($D139=\"\",\"\",VLOOKUP($D139,'Girls Si Main Draw Prep'!$A$7:$P$134,16))","v":""},null,"ΜΠΑΝΤΟΥΡΑΚΗΣ","ΓΙΩΡΓΟΣ",null,{"$f":"IF($D139=\"\",\"\",VLOOKUP($D139,'Girls Si Main Draw Prep'!$A$7:$P$134,4))","v":""},null,"ΜΠΑΝΤΟΥΡΑΚΗΣ",null,null,null,null,null,"4/0 - 4/0"]
["122",{"$f":"IF($D140=\"\",\"\",VLOOKUP($D140,'Girls Si Main Draw Prep'!$A$7:$P$134,15))","v":""},{"$f":"IF($D140=\"\",\"\",VLOOKUP($D140,'Girls Si Main Draw Prep'!$A$7:$P$134,16))","v":""},null,"bye",{"$f":"IF($D140=\"\",\"\",VLOOKUP($D140,'Girls Si Main Draw Prep'!$A$7:$P$134,3))","v":""},null,{"$f":"IF($D140=\"\",\"\",VLOOKUP($D140,'Girls Si Main Draw Prep'!$A$7:$P$134,4))","v":""},null,null,null,"ΔΙΓΕΝΑΚΗΣ"]
["123",{"$f":"IF($D141=\"\",\"\",VLOOKUP($D141,'Girls Si Main Draw Prep'!$A$7:$P$134,15))","v":""},{"$f":"IF($D141=\"\",\"\",VLOOKUP($D141,'Girls Si Main Draw Prep'!$A$7:$P$134,16))","v":""},null,"ΦΡΑΓΚΟΝΙΚΟΛΑΚΗΣ",{"$f":"IF($D141=\"\",\"\",VLOOKUP($D141,'Girls Si Main Draw Prep'!$A$7:$P$134,3))","v":""},null,{"$f":"IF($D141=\"\",\"\",VLOOKUP($D141,'Girls Si Main Draw Prep'!$A$7:$P$134,4))","v":""},null,"ΔΙΓΕΝΑΚΗΣ",null,"4/1 - 4/2"]
["124",{"$f":"IF($D142=\"\",\"\",VLOOKUP($D142,'Girls Si Main Draw Prep'!$A$7:$P$134,15))","v":""},{"$f":"IF($D142=\"\",\"\",VLOOKUP($D142,'Girls Si Main Draw Prep'!$A$7:$P$134,16))","v":""},null,"ΔΙΓΕΝΑΚΗΣ ","ΑΛΕΞΑΝΔΡΟΣ",null,{"$f":"IF($D142=\"\",\"\",VLOOKUP($D142,'Girls Si Main Draw Prep'!$A$7:$P$134,4))","v":""},null,"4/0 - 4/0",null,"Umpire",null,"ΝΑΟΥΜ"]
["125",{"$f":"IF($D143=\"\",\"\",VLOOKUP($D143,'Girls Si Main Draw Prep'!$A$7:$P$134,15))","v":""},{"$f":"IF($D143=\"\",\"\",VLOOKUP($D143,'Girls Si Main Draw Prep'!$A$7:$P$134,16))","v":""},null,"ΤΖΙΝΕΥΡΑΚΗΣ","ΠΑΝΑΓΙΩΤΗΣ",null,{"$f":"IF($D143=\"\",\"\",VLOOKUP($D143,'Girls Si Main Draw Prep'!$A$7:$P$134,4))","v":""},null,"ΤΖΙΝΕΥΡΑΚΗΣ",null,null,null,"4/0 - 4/1"]
["126",{"$f":"IF($D144=\"\",\"\",VLOOKUP($D144,'Girls Si Main Draw Prep'!$A$7:$P$134,15))","v":""},{"$f":"IF($D144=\"\",\"\",VLOOKUP($D144,'Girls Si Main Draw Prep'!$A$7:$P$134,16))","v":""},null,"bye",{"$f":"IF($D144=\"\",\"\",VLOOKUP($D144,'Girls Si Main Draw Prep'!$A$7:$P$134,3))","v":""},null,{"$f":"IF($D144=\"\",\"\",VLOOKUP($D144,'Girls Si Main Draw Prep'!$A$7:$P$134,4))","v":""},null,null,null,"ΝΑΟΥΜ"]
["127",{"$f":"IF($D145=\"\",\"\",VLOOKUP($D145,'Girls Si Main Draw Prep'!$A$7:$P$134,15))","v":""},{"$f":"IF($D145=\"\",\"\",VLOOKUP($D145,'Girls Si Main Draw Prep'!$A$7:$P$134,16))","v":""},null,"bye",{"$f":"IF($D145=\"\",\"\",VLOOKUP($D145,'Girls Si Main Draw Prep'!$A$7:$P$134,3))","v":""},null,{"$f":"IF($D145=\"\",\"\",VLOOKUP($D145,'Girls Si Main Draw Prep'!$A$7:$P$134,4))","v":""},null,"ΝΑΟΥΜ",null,"4/0 - 4/1"]
["128",{"$f":"IF($D146=\"\",\"\",VLOOKUP($D146,'Girls Si Main Draw Prep'!$A$7:$P$134,15))","v":""},{"$f":"IF($D146=\"\",\"\",VLOOKUP($D146,'Girls Si Main Draw Prep'!$A$7:$P$134,16))","v":""},null,"ΝΑΟΥΜ ","ΣΠΥΡΟΣ",null,{"$f":"IF($D146=\"\",\"\",VLOOKUP($D146,'Girls Si Main Draw Prep'!$A$7:$P$134,4))","v":""}]
[]
["Acc. Ranking",null,null,"#","Seeded players","#","Seeded players",null,"#","Lucky Losers",null,"Replacing",null,"Draw date/time:",null,{"$f":"$P$72","v":0}]
["Rkg Date",null,{"$f":"C73","v":0},{"$f":"'Girls Si Main 96&128'!D73","v":1},{"$f":"E73","v":"ΠΡΟΚΟΠΑΚΗΣ Χ"},{"$f":"'Girls Si Main 96&128'!F73","v":9},{"$f":"G73","v":"ΚΟΚΚΙΝΑΚΗΣ Γ"},{"$f":"'Girls Si Main 96&128'!H73","v":0},"1",null,null,null,null,"Last Accepted player"]
["Top DA",null,0,{"$f":"'Girls Si Main 96&128'!D74","v":2},"ΝΑΟΥΜ ΣΠ",{"$f":"'Girls Si Main 96&128'!F74","v":10},"ΚΗΠΟΥΡΟΣ Σ",{"$f":"'Girls Si Main 96&128'!H74","v":0},"2",null,null,null,null,{"$f":"'Girls Si Main 96&128'!$N$74","v":0}]
["Last DA",null,0,{"$f":"'Girls Si Main 96&128'!D75","v":3},"ΣΚΑΛΙΔΑΚΗΣ Δ",{"$f":"'Girls Si Main 96&128'!F75","v":11},"ΛΑΖΟΣ Β",{"$f":"'Girls Si Main 96&128'!H75","v":0},"3",null,null,null,null,"Player representatives"]
[null,null,0,{"$f":"'Girls Si Main 96&128'!D76","v":4},"ΚΑΡΑΧΑΛΙΟΣ Α",{"$f":"'Girls Si Main 96&128'!F76","v":12},"ΒΟΛΤΥΡΑΚΗΣ Β",{"$f":"'Girls Si Main 96&128'!H76","v":0},"4"]
["Seed ranking",null,0,{"$f":"'Girls Si Main 96&128'!D77","v":5},"ΜΑΤΣΑΜΑΚΗΣ ΑΝ",{"$f":"'Girls Si Main 96&128'!F77","v":13},"ΒΑΡΒΕΡΑΚΗΣ Γ",{"$f":"'Girls Si Main 96&128'!H77","v":0},"5",null,null,null,null,{"$f":"N77","v":0}]
["Rkg Date",null,0,{"$f":"'Girls Si Main 96&128'!D78","v":6},"ΚΟΝΤΑΡΑΚΗΣ Α",{"$f":"'Girls Si Main 96&128'!F78","v":14},"ΣΟΚΟΡΕΛΗΣ Α",{"$f":"'Girls Si Main 96&128'!H78","v":0},"6",null,null,null,null,"ITF Referee's Signature"]
["Top seed",null,0,{"$f":"'Girls Si Main 96&128'!D79","v":7},"ΤΣΙΒΟΥΡΑΚΗΣ Α",{"$f":"'Girls Si Main 96&128'!F79","v":15},"ΓΥΠΑ,ΚΗΣ Ν",{"$f":"'Girls Si Main 96&128'!H79","v":0},"7",null,null,null,null,{"$f":"N79","v":0}]
["Last seed",null,0,{"$f":"'Girls Si Main 96&128'!D80","v":8},"ΑΡΕΤΑΚΗΣ Γ",{"$f":"'Girls Si Main 96&128'!F80","v":16},"ΣΧΟΙΝΟΠΛΟΚΑΚΗΣ",{"$f":"'Girls Si Main 96&128'!H80","v":0},"8",null,null,null,null,{"$f":"N80","v":0}]
[null,null,null,null,null,null,null,null,null,"Quarterfinals",null,"Semifinals",null,"Final",null,"Winner"]
[]
[null,null,null,null,null,null,null,null,null,null,null,null,null,null,null,null,"Page 3(3)",null,null,{"$f":"'SetUp Officials'!P136","v":0}]
[null,null,null,null,null,null,null,"Quarterfinalist 1:",null,{"$f":"UPPER(IF(OR(O4=\"a\",O4=\"as\"),N10,IF(OR(O4=\"b\",O4=\"bs\"),N18,)))","v":""},null,null,null,null,null,null,null,null,null,{"$f":"'SetUp Officials'!P137","v":0}]
[null,null,null,null,null,null,null,null,null,null,null,null,null,null,null,null,null,null,null,{"$f":"'SetUp Officials'!P138","v":0}]
[null,null,null,null,null,null,null,null,null,"Umpire",null,{"$f":"UPPER(IF(OR(K162=\"a\",K162=\"as\"),J160,IF(OR(K162=\"b\",K162=\"bs\"),J164,)))","v":""},null,null,null,null,null,null,null,{"$f":"'SetUp Officials'!P139","v":0}]
[null,null,null,null,null,null,null,null,null,null,null,null,null,null,null,null,null,null,null,{"$f":"'SetUp Officials'!P140","v":0}]
[null,null,null,null,null,null,null,"Quarterfinalist 2:",null,{"$f":"UPPER(IF(OR(O30=\"a\",O30=\"as\"),N26,IF(OR(O30=\"b\",O30=\"bs\"),N34,)))","v":""},null,null,null,null,null,null,null,null,null,{"$f":"'SetUp Officials'!P141","v":0}]
[null,null,null,null,null,null,null,null,null,null,null,null,null,null,null,null,null,null,null,{"$f":"'SetUp Officials'!P142","v":0}]
[null,null,null,null,null,null,null,null,null,null,null,"Umpire",null,{"$f":"UPPER(IF(OR(M166=\"a\",M166=\"as\"),L162,IF(OR(M166=\"b\",M166=\"bs\"),L170,)))","v":""},null,null,null,null,null,{"$f":"'SetUp Officials'!P143","v":0}]
[null,null,null,null,null,null,null,null,null,null,null,null,null,null,null,null,null,null,null,{"$f":"'SetUp Officials'!P144","v":0}]
[null,null,null,null,null,null,null,"Quarterfinalist 3:",null,{"$f":"UPPER(IF(OR(O46=\"a\",O46=\"as\"),N42,IF(OR(O46=\"b\",O46=\"bs\"),N50,)))","v":""},null,null,null,null,null,null,null,null,null,{"$f":"'SetUp Officials'!P145","v":0}]
[]
[null,null,null,null,null,null,null,null,null,"Umpire",null,{"$f":"UPPER(IF(OR(K170=\"a\",K170=\"as\"),J168,IF(OR(K170=\"b\",K170=\"bs\"),J172,)))","v":""}]
[]
[null,null,null,null,null,null,null,"Quarterfinalist 4:",null,{"$f":"UPPER(IF(OR(O62=\"a\",O62=\"as\"),N58,IF(OR(O62=\"b\",O62=\"bs\"),N66,)))","v":""}]
[]
[null,"LATER ROUNDS",null,null,null,null,null,null,null,null,null,null,null,"Umpire",null,{"$f":"UPPER(IF(OR(O174=\"a\",O174=\"as\"),N166,IF(OR(O174=\"b\",O174=\"bs\"),N182,)))","v":""}]
[]
[null,null,null,null,null,null,null,"Quarterfinalist 5:",null,{"$f":"UPPER(IF(OR(O90=\"a\",O90=\"as\"),N86,IF(OR(O90=\"b\",O90=\"bs\"),N94,)))","v":""}]
[]
[null,null,null,null,null,null,null,null,null,"Umpire",null,{"$f":"UPPER(IF(OR(K178=\"a\",K178=\"as\"),J176,IF(OR(K178=\"b\",K178=\"bs\"),J180,)))","v":""}]
[]
[null,null,null,null,null,null,null,"Quarterfinalist 6:",null,{"$f":"UPPER(IF(OR(O106=\"a\",O106=\"as\"),N102,IF(OR(O106=\"b\",O106=\"bs\"),N110,)))","v":""}]
[]
[null,null,null,null,null,null,null,null,null,null,null,"Umpire",null,{"$f":"UPPER(IF(OR(M182=\"a\",M182=\"as\"),L178,IF(OR(M182=\"b\",M182=\"bs\"),L186,)))","v":""}]
[]
[null,null,null,null,null,null,null,"Quarterfinalist 7:",null,{"$f":"UPPER(IF(OR(O122=\"a\",O122=\"as\"),N118,IF(OR(O122=\"b\",O122=\"bs\"),N126,)))","v":""}]
[]
[null,null,null,null,null,null,null,null,null,"Umpire",null,{"$f":"UPPER(IF(OR(K186=\"a\",K186=\"as\"),J184,IF(OR(K186=\"b\",K186=\"bs\"),J188,)))","v":""}]
[]
[null,null,null,null,null,null,null,"Quarterfinalist 8:",null,{"$f":"UPPER(IF(OR(O138=\"a\",O138=\"as\"),N134,IF(OR(O138=\"b\",O138=\"bs\"),N142,)))","v":""}]
[]
[]
[]
[]
[]
[]
[]
[]
[]
[]
[]
[]
[]
[]
[]
[]
[]
[]
[]
[]
[]
[]
[]
[]
[]
[]
[]
[]
["Acc. Ranking",null,null,"#","Seeded players","#","Seeded players",null,"#","Lucky Losers",null,"Replacing",null,"Draw date/time:",null,{"$f":"$P$72","v":0}]
["Rkg Date",null,{"$f":"C73","v":0},1,{"$f":"E73","v":"ΠΡΟΚΟΠΑΚΗΣ Χ"},9,{"$f":"G73","v":"ΚΟΚΚΙΝΑΚΗΣ Γ"},null,"1",null,null,null,null,"Last Accepted player"]
["Top DA",null,0,2,"ΝΑΟΥΜ ΣΠ",10,"ΚΗΠΟΥΡΟΣ Σ",null,"2"]
["Last DA",null,0,3,"ΣΚΑΛΙΔΑΚΗΣ Δ",11,"ΛΑΖΟΣ Β",null,"3",null,null,null,null,"Player representatives"]
[null,null,0,4,"ΚΑΡΑΧΑΛΙΟΣ Α",12,"ΒΟΛΤΥΡΑΚΗΣ Β",null,"4"]
["Seed ranking",null,0,5,"ΜΑΤΣΑΜΑΚΗΣ ΑΝ",13,"ΒΑΡΒΕΡΑΚΗΣ Γ",null,"5",null,null,null,null,{"$f":"N77","v":0}]
["Rkg Date",null,0,6,"ΚΟΝΤΑΡΑΚΗΣ Α",14,"ΣΟΚΟΡΕΛΗΣ Α",null,"6",null,null,null,null,"ITF Referee's Signature"]
["Top seed",null,0,7,"ΤΣΙΒΟΥΡΑΚΗΣ Α",15,"ΓΥΠΑ,ΚΗΣ Ν",null,"7",null,null,null,null,{"$f":"N79","v":0}]
["Last seed",null,0,8,"ΑΡΕΤΑΚΗΣ Γ",16,"ΣΧΟΙΝΟΠΛΟΚΑΚΗΣ",null,"8",null,null,null,null,{"$f":"N80","v":0}]

{"sheet":"Boys Si Qual Sign-in sheet","index":23,"n_rows":207,"n_cols":18,"rows_kept":207,"cut":false,"hidden":false,"merged":[[3,0,3,1]]}
[{"$f":"'Week SetUp'!$A$6","v":0},null,null,null,null,"BOYS SINGLES QUALIFYING SIGN-IN"]
[{"$f":"'Week SetUp'!$A$8","v":"ITF Junior Circuit"}]
["Week of",null,"City, Country",null,null,"Group","Tourn. ID",null,null,"ITF Referee","ITF Referee's signature"]
[{"$f":"'Week SetUp'!$A$10","v":"00:00:00"},null,{"$f":"'Week SetUp'!$C$10","v":0},null,null,{"$f":"'Week SetUp'!$D$10","v":0},{"$f":"'Week SetUp'!$A$12","v":0},null,null,{"$f":"'Week SetUp'!$E$10","v":0}]
[null,null,"Day","Date",null,"Time","Place"]
["Sign-in deadline:"]
["Line","Family name","First name","Nat.","Date of birth Day/Mth/Yr","Player signature","Player hotel or\nContact number","On\nAcc.List\nYes","ITF18\nRank","Pro-\nRank","Other",null,null,null,null,"Accept status","Seed\nPos","Draw chip number"]
[1]
[2]
[3]
[4]
[5]
[6]
[7]
[8]
[9]
[10]
[11]
[12]
[13]
[14]
[15]
[16]
[17]
[18]
[19]
[20]
[21]
[22]
[23]
[24]
[25]
[26]
[27]
[28]
[29]
[30]
[31]
[32]
[33]
[34]
[35]
[36]
[37]
[38]
[39]
[40]
[41]
[42]
[43]
[44]
[45]
[46]
[47]
[48]
[49]
[50]
[51]
[52]
[53]
[54]
[55]
[56]
[57]
[58]
[59]
[60]
[61]
[62]
[63]
[64]
[65]
[66]
[67]
[68]
[69]
[70]
[71]
[72]
[73]
[74]
[75]
[76]
[77]
[78]
[79]
[80]
[81]
[82]
[83]
[84]
[85]
[86]
[87]
[88]
[89]
[90]
[91]
[92]
[93]
[94]
[95]
[96]
[97]
[98]
[99]
[100]
[101]
[102]
[103]
[104]
[105]
[106]
[107]
[108]
[109]
[110]
[111]
[112]
[113]
[114]
[115]
[116]
[117]
[118]
[119]
[120]
[121]
[122]
[123]
[124]
[125]
[126]
[127]
[128]
[129]
[130]
[131]
[132]
[133]
[134]
[135]
[136]
[137]
[138]
[139]
[140]
[141]
[142]
[143]
[144]
[145]
[146]
[147]
[148]
[149]
[150]
[151]
[152]
[153]
[154]
[155]
[156]
[157]
[158]
[159]
[160]
[161]
[162]
[163]
[164]
[165]
[166]
[167]
[168]
[169]
[170]
[171]
[172]
[173]
[174]
[175]
[176]
[177]
[178]
[179]
[180]
[181]
[182]
[183]
[184]
[185]
[186]
[187]
[188]
[189]
[190]
[191]
[192]
[193]
[194]
[195]
[196]
[197]
[198]
[199]
[200]

{"sheet":"Boys Si Qual Draw Prep","index":24,"n_rows":206,"n_cols":21,"rows_kept":206,"cut":false,"hidden":false,"merged":[[4,0,4,1]]}
[{"$f":"'Week SetUp'!$A$6","v":0},null,null,"BOYS SINGLES QUALIFYING"]
[{"$f":"'Week SetUp'!$A$8","v":"ITF Junior Circuit"},null,null,"PREPARATION LIST"]
["DO NO DELETE THIS PAGE IF YOU ARE USING LINK-IN'S TO THE DRAW",null,null,null,null,null,null,null,null,null,null,null,null,null,"ITF Referee's signature",null,null,null,null,"Over 18",{"$f":"YEAR($A$5)-18","v":1882}]
["Week of",null,"City, Country","Group",null,null,"Tourn. ID",null,null,"ITF Referee",null,null,null,null,null,null,null,null,null,"Under 13",{"$f":"YEAR($A$5)-13","v":1887}]
[{"$f":"'Week SetUp'!$A$10","v":"00:00:00"},null,{"$f":"'Week SetUp'!$C$10","v":0},{"$f":"'Week SetUp'!$D$10","v":0},null,null,{"$f":"'Week SetUp'!$A$12","v":0},null,null,{"$f":"'Week SetUp'!$E$10","v":0},null,null,null,null,null,null,null,{"$f":"COUNTA(R7:R206)","v":0}]
["Line","Family name","First name","Nat.","Date of Birth\nyy/mm/dd(US)","On\nAccept.List\nYes","Signed-in\nYes","ITF 18\nRanking","Pro-\nRanking","Other ordering",null,null,"Seed Sort",null,"Accept status","Display\nranking\nITF 18","AccSort","Seed\nPosition"]
[1,null,null,null,null,null,null,null,null,null,null,null,{"$f":"IF(R7=\"\",999,R7)","v":999},null,null,{"$f":"IF(AND(H7>0,OR(O7=\"QA\",O7=\"DA\",O7=\"WC\")),H7,)","v":0},{"$f":"IF(O7=\"QA\",1,IF(O7=\"DA\",1,IF(O7=\"WC\",2,IF(O7=\"MD\",3,999))))","v":999}]
[2,null,null,null,null,null,null,null,null,null,null,null,999,null,null,0,999]
[3,null,null,null,null,null,null,null,null,null,null,null,999,null,null,0,999]
[4,null,null,null,null,null,null,null,null,null,null,null,999,null,null,0,999]
[5,null,null,null,null,null,null,null,null,null,null,null,999,null,null,0,999]
[6,null,null,null,null,null,null,null,null,null,null,null,999,null,null,0,999]
[7,null,null,null,null,null,null,null,null,null,null,null,999,null,null,0,999]
[8,null,null,null,null,null,null,null,null,null,null,null,999,null,null,0,999]
[9,null,null,null,null,null,null,null,null,null,null,null,999,null,null,0,999]
[10,null,null,null,null,null,null,null,null,null,null,null,999,null,null,0,999]
[11,null,null,null,null,null,null,null,null,null,null,null,999,null,null,0,999]
[12,null,null,null,null,null,null,null,null,null,null,null,999,null,null,0,999]
[13,null,null,null,null,null,null,null,null,null,null,null,999,null,null,0,999]
[14,null,null,null,null,null,null,null,null,null,null,null,999,null,null,0,999]
[15,null,null,null,null,null,null,null,null,null,null,null,999,null,null,0,999]
[16,null,null,null,null,null,null,null,null,null,null,null,999,null,null,0,999]
[17,null,null,null,null,null,null,null,null,null,null,null,999,null,null,0,999]
[18,null,null,null,null,null,null,null,null,null,null,null,999,null,null,0,999]
[19,null,null,null,null,null,null,null,null,null,null,null,999,null,null,0,999]
[20,null,null,null,null,null,null,null,null,null,null,null,999,null,null,0,999]
[21,null,null,null,null,null,null,null,null,null,null,null,999,null,null,0,999]
[22,null,null,null,null,null,null,null,null,null,null,null,999,null,null,0,999]
[23,null,null,null,null,null,null,null,null,null,null,null,999,null,null,0,999]
[24,null,null,null,null,null,null,null,null,null,null,null,999,null,null,0,999]
[25,null,null,null,null,null,null,null,null,null,null,null,999,null,null,0,999]
[26,null,null,null,null,null,null,null,null,null,null,null,999,null,null,0,999]
[27,null,null,null,null,null,null,null,null,null,null,null,999,null,null,0,999]
[28,null,null,null,null,null,null,null,null,null,null,null,999,null,null,0,999]
[29,null,null,null,null,null,null,null,null,null,null,null,999,null,null,0,999]
[30,null,null,null,null,null,null,null,null,null,null,null,999,null,null,0,999]
[31,null,null,null,null,null,null,null,null,null,null,null,999,null,null,0,999]
[32,null,null,null,null,null,null,null,null,null,null,null,999,null,null,0,999]
[33,null,null,null,null,null,null,null,null,null,null,null,{"$f":"IF(R39=\"\",999,R39)","v":999},null,null,{"$f":"IF(AND(H39>0,OR(O39=\"QA\",O39=\"DA\",O39=\"WC\")),H39,)","v":0},{"$f":"IF(O39=\"QA\",1,IF(O39=\"DA\",1,IF(O39=\"WC\",2,IF(O39=\"MD\",3,999))))","v":999}]
[34,null,null,null,null,null,null,null,null,null,null,null,999,null,null,0,999]
[35,null,null,null,null,null,null,null,null,null,null,null,999,null,null,0,999]
[36,null,null,null,null,null,null,null,null,null,null,null,999,null,null,0,999]
[37,null,null,null,null,null,null,null,null,null,null,null,999,null,null,0,999]
[38,null,null,null,null,null,null,null,null,null,null,null,999,null,null,0,999]
[39,null,null,null,null,null,null,null,null,null,null,null,999,null,null,0,999]
[40,null,null,null,null,null,null,null,null,null,null,null,999,null,null,0,999]
[41,null,null,null,null,null,null,null,null,null,null,null,999,null,null,0,999]
[42,null,null,null,null,null,null,null,null,null,null,null,999,null,null,0,999]
[43,null,null,null,null,null,null,null,null,null,null,null,999,null,null,0,999]
[44,null,null,null,null,null,null,null,null,null,null,null,999,null,null,0,999]
[45,null,null,null,null,null,null,null,null,null,null,null,999,null,null,0,999]
[46,null,null,null,null,null,null,null,null,null,null,null,999,null,null,0,999]
[47,null,null,null,null,null,null,null,null,null,null,null,999,null,null,0,999]
[48,null,null,null,null,null,null,null,null,null,null,null,999,null,null,0,999]
[49,null,null,null,null,null,null,null,null,null,null,null,999,null,null,0,999]
[50,null,null,null,null,null,null,null,null,null,null,null,999,null,null,0,999]
[51,null,null,null,null,null,null,null,null,null,null,null,999,null,null,0,999]
[52,null,null,null,null,null,null,null,null,null,null,null,999,null,null,0,999]
[53,null,null,null,null,null,null,null,null,null,null,null,999,null,null,0,999]
[54,null,null,null,null,null,null,null,null,null,null,null,999,null,null,0,999]
[55,null,null,null,null,null,null,null,null,null,null,null,999,null,null,0,999]
[56,null,null,null,null,null,null,null,null,null,null,null,999,null,null,0,999]
[57,null,null,null,null,null,null,null,null,null,null,null,999,null,null,0,999]
[58,null,null,null,null,null,null,null,null,null,null,null,999,null,null,0,999]
[59,null,null,null,null,null,null,null,null,null,null,null,999,null,null,0,999]
[60,null,null,null,null,null,null,null,null,null,null,null,999,null,null,0,999]
[61,null,null,null,null,null,null,null,null,null,null,null,999,null,null,0,999]
[62,null,null,null,null,null,null,null,null,null,null,null,999,null,null,0,999]
[63,null,null,null,null,null,null,null,null,null,null,null,999,null,null,0,999]
[64,null,null,null,null,null,null,null,null,null,null,null,999,null,null,0,999]
[65,null,null,null,null,null,null,null,null,null,null,null,{"$f":"IF(R71=\"\",999,R71)","v":999},null,null,{"$f":"IF(AND(H71>0,OR(O71=\"QA\",O71=\"DA\",O71=\"WC\")),H71,)","v":0},{"$f":"IF(O71=\"QA\",1,IF(O71=\"DA\",1,IF(O71=\"WC\",2,IF(O71=\"MD\",3,999))))","v":999}]
[66,null,null,null,null,null,null,null,null,null,null,null,999,null,null,0,999]
[67,null,null,null,null,null,null,null,null,null,null,null,999,null,null,0,999]
[68,null,null,null,null,null,null,null,null,null,null,null,999,null,null,0,999]
[69,null,null,null,null,null,null,null,null,null,null,null,999,null,null,0,999]
[70,null,null,null,null,null,null,null,null,null,null,null,999,null,null,0,999]
[71,null,null,null,null,null,null,null,null,null,null,null,999,null,null,0,999]
[72,null,null,null,null,null,null,null,null,null,null,null,999,null,null,0,999]
[73,null,null,null,null,null,null,null,null,null,null,null,999,null,null,0,999]
[74,null,null,null,null,null,null,null,null,null,null,null,999,null,null,0,999]
[75,null,null,null,null,null,null,null,null,null,null,null,999,null,null,0,999]
[76,null,null,null,null,null,null,null,null,null,null,null,999,null,null,0,999]
[77,null,null,null,null,null,null,null,null,null,null,null,999,null,null,0,999]
[78,null,null,null,null,null,null,null,null,null,null,null,999,null,null,0,999]
[79,null,null,null,null,null,null,null,null,null,null,null,999,null,null,0,999]
[80,null,null,null,null,null,null,null,null,null,null,null,999,null,null,0,999]
[81,null,null,null,null,null,null,null,null,null,null,null,999,null,null,0,999]
[82,null,null,null,null,null,null,null,null,null,null,null,999,null,null,0,999]
[83,null,null,null,null,null,null,null,null,null,null,null,999,null,null,0,999]
[84,null,null,null,null,null,null,null,null,null,null,null,999,null,null,0,999]
[85,null,null,null,null,null,null,null,null,null,null,null,999,null,null,0,999]
[86,null,null,null,null,null,null,null,null,null,null,null,999,null,null,0,999]
[87,null,null,null,null,null,null,null,null,null,null,null,999,null,null,0,999]
[88,null,null,null,null,null,null,null,null,null,null,null,999,null,null,0,999]
[89,null,null,null,null,null,null,null,null,null,null,null,999,null,null,0,999]
[90,null,null,null,null,null,null,null,null,null,null,null,999,null,null,0,999]
[91,null,null,null,null,null,null,null,null,null,null,null,999,null,null,0,999]
[92,null,null,null,null,null,null,null,null,null,null,null,999,null,null,0,999]
[93,null,null,null,null,null,null,null,null,null,null,null,999,null,null,0,999]
[94,null,null,null,null,null,null,null,null,null,null,null,999,null,null,0,999]
[95,null,null,null,null,null,null,null,null,null,null,null,999,null,null,0,999]
[96,null,null,null,null,null,null,null,null,null,null,null,999,null,null,0,999]
[97,null,null,null,null,null,null,null,null,null,null,null,{"$f":"IF(R103=\"\",999,R103)","v":999},null,null,{"$f":"IF(AND(H103>0,OR(O103=\"QA\",O103=\"DA\",O103=\"WC\")),H103,)","v":0},{"$f":"IF(O103=\"QA\",1,IF(O103=\"DA\",1,IF(O103=\"WC\",2,IF(O103=\"MD\",3,999))))","v":999}]
[98,null,null,null,null,null,null,null,null,null,null,null,999,null,null,0,999]
[99,null,null,null,null,null,null,null,null,null,null,null,999,null,null,0,999]
[100,null,null,null,null,null,null,null,null,null,null,null,999,null,null,0,999]
[101,null,null,null,null,null,null,null,null,null,null,null,999,null,null,0,999]
[102,null,null,null,null,null,null,null,null,null,null,null,999,null,null,0,999]
[103,null,null,null,null,null,null,null,null,null,null,null,999,null,null,0,999]
[104,null,null,null,null,null,null,null,null,null,null,null,999,null,null,0,999]
[105,null,null,null,null,null,null,null,null,null,null,null,999,null,null,0,999]
[106,null,null,null,null,null,null,null,null,null,null,null,999,null,null,0,999]
[107,null,null,null,null,null,null,null,null,null,null,null,999,null,null,0,999]
[108,null,null,null,null,null,null,null,null,null,null,null,999,null,null,0,999]
[109,null,null,null,null,null,null,null,null,null,null,null,999,null,null,0,999]
[110,null,null,null,null,null,null,null,null,null,null,null,999,null,null,0,999]
[111,null,null,null,null,null,null,null,null,null,null,null,999,null,null,0,999]
[112,null,null,null,null,null,null,null,null,null,null,null,999,null,null,0,999]
[113,null,null,null,null,null,null,null,null,null,null,null,999,null,null,0,999]
[114,null,null,null,null,null,null,null,null,null,null,null,999,null,null,0,999]
[115,null,null,null,null,null,null,null,null,null,null,null,999,null,null,0,999]
[116,null,null,null,null,null,null,null,null,null,null,null,999,null,null,0,999]
[117,null,null,null,null,null,null,null,null,null,null,null,999,null,null,0,999]
[118,null,null,null,null,null,null,null,null,null,null,null,999,null,null,0,999]
[119,null,null,null,null,null,null,null,null,null,null,null,999,null,null,0,999]
[120,null,null,null,null,null,null,null,null,null,null,null,999,null,null,0,999]
[121,null,null,null,null,null,null,null,null,null,null,null,999,null,null,0,999]
[122,null,null,null,null,null,null,null,null,null,null,null,999,null,null,0,999]
[123,null,null,null,null,null,null,null,null,null,null,null,999,null,null,0,999]
[124,null,null,null,null,null,null,null,null,null,null,null,999,null,null,0,999]
[125,null,null,null,null,null,null,null,null,null,null,null,999,null,null,0,999]
[126,null,null,null,null,null,null,null,null,null,null,null,999,null,null,0,999]
[127,null,null,null,null,null,null,null,null,null,null,null,999,null,null,0,999]
[128,null,null,null,null,null,null,null,null,null,null,null,999,null,null,0,999]
[129,null,null,null,null,null,null,null,null,null,null,null,{"$f":"IF(R135=\"\",999,R135)","v":999},null,null,{"$f":"IF(AND(H135>0,OR(O135=\"QA\",O135=\"DA\",O135=\"WC\")),H135,)","v":0},{"$f":"IF(O135=\"QA\",1,IF(O135=\"DA\",1,IF(O135=\"WC\",2,IF(O135=\"MD\",3,999))))","v":999}]
[130,null,null,null,null,null,null,null,null,null,null,null,999,null,null,0,999]
[131,null,null,null,null,null,null,null,null,null,null,null,999,null,null,0,999]
[132,null,null,null,null,null,null,null,null,null,null,null,999,null,null,0,999]
[133,null,null,null,null,null,null,null,null,null,null,null,999,null,null,0,999]
[134,null,null,null,null,null,null,null,null,null,null,null,999,null,null,0,999]
[135,null,null,null,null,null,null,null,null,null,null,null,999,null,null,0,999]
[136,null,null,null,null,null,null,null,null,null,null,null,999,null,null,0,999]
[137,null,null,null,null,null,null,null,null,null,null,null,999,null,null,0,999]
[138,null,null,null,null,null,null,null,null,null,null,null,999,null,null,0,999]
[139,null,null,null,null,null,null,null,null,null,null,null,999,null,null,0,999]
[140,null,null,null,null,null,null,null,null,null,null,null,999,null,null,0,999]
[141,null,null,null,null,null,null,null,null,null,null,null,999,null,null,0,999]
[142,null,null,null,null,null,null,null,null,null,null,null,999,null,null,0,999]
[143,null,null,null,null,null,null,null,null,null,null,null,999,null,null,0,999]
[144,null,null,null,null,null,null,null,null,null,null,null,999,null,null,0,999]
[145,null,null,null,null,null,null,null,null,null,null,null,999,null,null,0,999]
[146,null,null,null,null,null,null,null,null,null,null,null,999,null,null,0,999]
[147,null,null,null,null,null,null,null,null,null,null,null,999,null,null,0,999]
[148,null,null,null,null,null,null,null,null,null,null,null,999,null,null,0,999]
[149,null,null,null,null,null,null,null,null,null,null,null,999,null,null,0,999]
[150,null,null,null,null,null,null,null,null,null,null,null,999,null,null,0,999]
[151,null,null,null,null,null,null,null,null,null,null,null,999,null,null,0,999]
[152,null,null,null,null,null,null,null,null,null,null,null,999,null,null,0,999]
[153,null,null,null,null,null,null,null,null,null,null,null,999,null,null,0,999]
[154,null,null,null,null,null,null,null,null,null,null,null,999,null,null,0,999]
[155,null,null,null,null,null,null,null,null,null,null,null,999,null,null,0,999]
[156,null,null,null,null,null,null,null,null,null,null,null,999,null,null,0,999]
[157,null,null,null,null,null,null,null,null,null,null,null,999,null,null,0,999]
[158,null,null,null,null,null,null,null,null,null,null,null,999,null,null,0,999]
[159,null,null,null,null,null,null,null,null,null,null,null,999,null,null,0,999]
[160,null,null,null,null,null,null,null,null,null,null,null,999,null,null,0,999]
[161,null,null,null,null,null,null,null,null,null,null,null,{"$f":"IF(R167=\"\",999,R167)","v":999},null,null,{"$f":"IF(AND(H167>0,OR(O167=\"QA\",O167=\"DA\",O167=\"WC\")),H167,)","v":0},{"$f":"IF(O167=\"QA\",1,IF(O167=\"DA\",1,IF(O167=\"WC\",2,IF(O167=\"MD\",3,999))))","v":999}]
[162,null,null,null,null,null,null,null,null,null,null,null,999,null,null,0,999]
[163,null,null,null,null,null,null,null,null,null,null,null,999,null,null,0,999]
[164,null,null,null,null,null,null,null,null,null,null,null,999,null,null,0,999]
[165,null,null,null,null,null,null,null,null,null,null,null,999,null,null,0,999]
[166,null,null,null,null,null,null,null,null,null,null,null,999,null,null,0,999]
[167,null,null,null,null,null,null,null,null,null,null,null,999,null,null,0,999]
[168,null,null,null,null,null,null,null,null,null,null,null,999,null,null,0,999]
[169,null,null,null,null,null,null,null,null,null,null,null,999,null,null,0,999]
[170,null,null,null,null,null,null,null,null,null,null,null,999,null,null,0,999]
[171,null,null,null,null,null,null,null,null,null,null,null,999,null,null,0,999]
[172,null,null,null,null,null,null,null,null,null,null,null,999,null,null,0,999]
[173,null,null,null,null,null,null,null,null,null,null,null,999,null,null,0,999]
[174,null,null,null,null,null,null,null,null,null,null,null,999,null,null,0,999]
[175,null,null,null,null,null,null,null,null,null,null,null,999,null,null,0,999]
[176,null,null,null,null,null,null,null,null,null,null,null,999,null,null,0,999]
[177,null,null,null,null,null,null,null,null,null,null,null,999,null,null,0,999]
[178,null,null,null,null,null,null,null,null,null,null,null,999,null,null,0,999]
[179,null,null,null,null,null,null,null,null,null,null,null,999,null,null,0,999]
[180,null,null,null,null,null,null,null,null,null,null,null,999,null,null,0,999]
[181,null,null,null,null,null,null,null,null,null,null,null,999,null,null,0,999]
[182,null,null,null,null,null,null,null,null,null,null,null,999,null,null,0,999]
[183,null,null,null,null,null,null,null,null,null,null,null,999,null,null,0,999]
[184,null,null,null,null,null,null,null,null,null,null,null,999,null,null,0,999]
[185,null,null,null,null,null,null,null,null,null,null,null,999,null,null,0,999]
[186,null,null,null,null,null,null,null,null,null,null,null,999,null,null,0,999]
[187,null,null,null,null,null,null,null,null,null,null,null,999,null,null,0,999]
[188,null,null,null,null,null,null,null,null,null,null,null,999,null,null,0,999]
[189,null,null,null,null,null,null,null,null,null,null,null,999,null,null,0,999]
[190,null,null,null,null,null,null,null,null,null,null,null,999,null,null,0,999]
[191,null,null,null,null,null,null,null,null,null,null,null,999,null,null,0,999]
[192,null,null,null,null,null,null,null,null,null,null,null,999,null,null,0,999]
[193,null,null,null,null,null,null,null,null,null,null,null,{"$f":"IF(R199=\"\",999,R199)","v":999},null,null,{"$f":"IF(AND(H199>0,OR(O199=\"QA\",O199=\"DA\",O199=\"WC\")),H199,)","v":0},{"$f":"IF(O199=\"QA\",1,IF(O199=\"DA\",1,IF(O199=\"WC\",2,IF(O199=\"MD\",3,999))))","v":999}]
[194,null,null,null,null,null,null,null,null,null,null,null,999,null,null,0,999]
[195,null,null,null,null,null,null,null,null,null,null,null,999,null,null,0,999]
[196,null,null,null,null,null,null,null,null,null,null,null,999,null,null,0,999]
[197,null,null,null,null,null,null,null,null,null,null,null,999,null,null,0,999]
[198,null,null,null,null,null,null,null,null,null,null,null,999,null,null,0,999]
[199,null,null,null,null,null,null,null,null,null,null,null,999,null,null,0,999]
[200,null,null,null,null,null,null,null,null,null,null,null,999,null,null,0,999]

{"sheet":"Boys Si Qual 16>2","index":25,"n_rows":79,"n_cols":20,"rows_kept":79,"cut":false,"hidden":false,"merged":[[3,0,3,2]]}
[{"$f":"'Week SetUp'!$A$6","v":0},null,null,null,null,null,null,null,null,"BOYS SINGLES",null,null,null,"CU"]
[{"$f":"'Week SetUp'!$A$8","v":"ITF Junior Circuit"},null,null,null,null,null,null,null,null,"QUALIFYING DRAW (16)"]
["Week of",null,null,null,null,"City, Country",null,null,null,"Group",null,"Tourn. ID",null,null,null,null,"ITF Referee"]
[{"$f":"'Week SetUp'!$A$10","v":"00:00:00"},null,null,null,null,{"$f":"'Week SetUp'!$C$10","v":0},null,null,null,{"$f":"'Week SetUp'!$D$10","v":0},null,{"$f":"'Week SetUp'!$A$12","v":0},null,null,null,null,{"$f":"'Week SetUp'!$E$10","v":0}]
[null,"St.","Rank","Seed","Family Name","First name",null,"Nationality",null,"2nd Round",null,"Finals",null,"Qualifiers"]
[]
[1,{"$f":"IF($D7=\"\",\"\",VLOOKUP($D7,'Boys Si Qual Draw Prep'!$A$7:$P$22,15))","v":""},{"$f":"IF($D7=\"\",\"\",VLOOKUP($D7,'Boys Si Qual Draw Prep'!$A$7:$P$22,16))","v":""},null,{"$f":"UPPER(IF($D7=\"\",\"\",VLOOKUP($D7,'Boys Si Qual Draw Prep'!$A$7:$P$22,2)))","v":""},{"$f":"IF($D7=\"\",\"\",VLOOKUP($D7,'Boys Si Qual Draw Prep'!$A$7:$P$22,3))","v":""},null,{"$f":"IF($D7=\"\",\"\",VLOOKUP($D7,'Boys Si Qual Draw Prep'!$A$7:$P$22,4))","v":""},null,null,null,null,null,null,null,null,null,null,null,{"$f":"'SetUp Officials'!P21","v":"Umpire"}]
[null,null,null,null,null,null,null,"Umpire",null,{"$f":"UPPER(IF(OR(I8=\"a\",I8=\"as\"),E7,IF(OR(I8=\"b\",I8=\"bs\"),E9,)))","v":""},null,null,null,null,null,null,null,null,null,{"$f":"'SetUp Officials'!P22","v":" "}]
[2,{"$f":"IF($D9=\"\",\"\",VLOOKUP($D9,'Boys Si Qual Draw Prep'!$A$7:$P$22,15))","v":""},{"$f":"IF($D9=\"\",\"\",VLOOKUP($D9,'Boys Si Qual Draw Prep'!$A$7:$P$22,16))","v":""},null,{"$f":"UPPER(IF($D9=\"\",\"\",VLOOKUP($D9,'Boys Si Qual Draw Prep'!$A$7:$P$22,2)))","v":""},{"$f":"IF($D9=\"\",\"\",VLOOKUP($D9,'Boys Si Qual Draw Prep'!$A$7:$P$22,3))","v":""},null,{"$f":"IF($D9=\"\",\"\",VLOOKUP($D9,'Boys Si Qual Draw Prep'!$A$7:$P$22,4))","v":""},null,null,null,null,null,null,null,null,null,null,null,{"$f":"'SetUp Officials'!P23","v":" "}]
[null,null,null,null,null,null,null,null,null,"Umpire",null,{"$f":"UPPER(IF(OR(K10=\"a\",K10=\"as\"),J8,IF(OR(K10=\"b\",K10=\"bs\"),J12,)))","v":""},null,null,null,null,null,null,null,{"$f":"'SetUp Officials'!P24","v":" "}]
[3,{"$f":"IF($D11=\"\",\"\",VLOOKUP($D11,'Boys Si Qual Draw Prep'!$A$7:$P$22,15))","v":""},{"$f":"IF($D11=\"\",\"\",VLOOKUP($D11,'Boys Si Qual Draw Prep'!$A$7:$P$22,16))","v":""},null,{"$f":"UPPER(IF($D11=\"\",\"\",VLOOKUP($D11,'Boys Si Qual Draw Prep'!$A$7:$P$22,2)))","v":""},{"$f":"IF($D11=\"\",\"\",VLOOKUP($D11,'Boys Si Qual Draw Prep'!$A$7:$P$22,3))","v":""},null,{"$f":"IF($D11=\"\",\"\",VLOOKUP($D11,'Boys Si Qual Draw Prep'!$A$7:$P$22,4))","v":""},null,null,null,null,null,null,null,null,null,null,null,{"$f":"'SetUp Officials'!P25","v":" "}]
[null,null,null,null,null,null,null,"Umpire",null,{"$f":"UPPER(IF(OR(I12=\"a\",I12=\"as\"),E11,IF(OR(I12=\"b\",I12=\"bs\"),E13,)))","v":""},null,null,null,null,null,null,null,null,null,{"$f":"'SetUp Officials'!P26","v":" "}]
[4,{"$f":"IF($D13=\"\",\"\",VLOOKUP($D13,'Boys Si Qual Draw Prep'!$A$7:$P$22,15))","v":""},{"$f":"IF($D13=\"\",\"\",VLOOKUP($D13,'Boys Si Qual Draw Prep'!$A$7:$P$22,16))","v":""},null,{"$f":"UPPER(IF($D13=\"\",\"\",VLOOKUP($D13,'Boys Si Qual Draw Prep'!$A$7:$P$22,2)))","v":""},{"$f":"IF($D13=\"\",\"\",VLOOKUP($D13,'Boys Si Qual Draw Prep'!$A$7:$P$22,3))","v":""},null,{"$f":"IF($D13=\"\",\"\",VLOOKUP($D13,'Boys Si Qual Draw Prep'!$A$7:$P$22,4))","v":""},null,null,null,null,null,null,null,null,null,null,null,{"$f":"'SetUp Officials'!P27","v":" "}]
[null,null,null,null,null,null,null,null,null,null,null,"Umpire",null,{"$f":"UPPER(IF(OR(M14=\"a\",M14=\"as\"),L10,IF(OR(M14=\"b\",M14=\"bs\"),L18,)))","v":""},null,null,null,null,null,{"$f":"'SetUp Officials'!P28","v":" "}]
[5,{"$f":"IF($D15=\"\",\"\",VLOOKUP($D15,'Boys Si Qual Draw Prep'!$A$7:$P$22,15))","v":""},{"$f":"IF($D15=\"\",\"\",VLOOKUP($D15,'Boys Si Qual Draw Prep'!$A$7:$P$22,16))","v":""},null,{"$f":"UPPER(IF($D15=\"\",\"\",VLOOKUP($D15,'Boys Si Qual Draw Prep'!$A$7:$P$22,2)))","v":""},{"$f":"IF($D15=\"\",\"\",VLOOKUP($D15,'Boys Si Qual Draw Prep'!$A$7:$P$22,3))","v":""},null,{"$f":"IF($D15=\"\",\"\",VLOOKUP($D15,'Boys Si Qual Draw Prep'!$A$7:$P$22,4))","v":""},null,null,null,null,null,null,null,null,null,null,null,{"$f":"'SetUp Officials'!P29","v":" "}]
[null,null,null,null,null,null,null,"Umpire",null,{"$f":"UPPER(IF(OR(I16=\"a\",I16=\"as\"),E15,IF(OR(I16=\"b\",I16=\"bs\"),E17,)))","v":""},null,null,null,null,null,null,null,null,null,{"$f":"'SetUp Officials'!P30","v":"None"}]
[6,{"$f":"IF($D17=\"\",\"\",VLOOKUP($D17,'Boys Si Qual Draw Prep'!$A$7:$P$22,15))","v":""},{"$f":"IF($D17=\"\",\"\",VLOOKUP($D17,'Boys Si Qual Draw Prep'!$A$7:$P$22,16))","v":""},null,{"$f":"UPPER(IF($D17=\"\",\"\",VLOOKUP($D17,'Boys Si Qual Draw Prep'!$A$7:$P$22,2)))","v":""},{"$f":"IF($D17=\"\",\"\",VLOOKUP($D17,'Boys Si Qual Draw Prep'!$A$7:$P$22,3))","v":""},null,{"$f":"IF($D17=\"\",\"\",VLOOKUP($D17,'Boys Si Qual Draw Prep'!$A$7:$P$22,4))","v":""}]
[null,null,null,null,null,null,null,null,null,"Umpire",null,{"$f":"UPPER(IF(OR(K18=\"a\",K18=\"as\"),J16,IF(OR(K18=\"b\",K18=\"bs\"),J20,)))","v":""}]
[7,{"$f":"IF($D19=\"\",\"\",VLOOKUP($D19,'Boys Si Qual Draw Prep'!$A$7:$P$22,15))","v":""},{"$f":"IF($D19=\"\",\"\",VLOOKUP($D19,'Boys Si Qual Draw Prep'!$A$7:$P$22,16))","v":""},null,{"$f":"UPPER(IF($D19=\"\",\"\",VLOOKUP($D19,'Boys Si Qual Draw Prep'!$A$7:$P$22,2)))","v":""},{"$f":"IF($D19=\"\",\"\",VLOOKUP($D19,'Boys Si Qual Draw Prep'!$A$7:$P$22,3))","v":""},null,{"$f":"IF($D19=\"\",\"\",VLOOKUP($D19,'Boys Si Qual Draw Prep'!$A$7:$P$22,4))","v":""}]
[null,null,null,null,null,null,null,"Umpire",null,{"$f":"UPPER(IF(OR(I20=\"a\",I20=\"as\"),E19,IF(OR(I20=\"b\",I20=\"bs\"),E21,)))","v":""}]
[8,{"$f":"IF($D21=\"\",\"\",VLOOKUP($D21,'Boys Si Qual Draw Prep'!$A$7:$P$22,15))","v":""},{"$f":"IF($D21=\"\",\"\",VLOOKUP($D21,'Boys Si Qual Draw Prep'!$A$7:$P$22,16))","v":""},null,{"$f":"UPPER(IF($D21=\"\",\"\",VLOOKUP($D21,'Boys Si Qual Draw Prep'!$A$7:$P$22,2)))","v":""},{"$f":"IF($D21=\"\",\"\",VLOOKUP($D21,'Boys Si Qual Draw Prep'!$A$7:$P$22,3))","v":""},null,{"$f":"IF($D21=\"\",\"\",VLOOKUP($D21,'Boys Si Qual Draw Prep'!$A$7:$P$22,4))","v":""}]
[]
[9,{"$f":"IF($D23=\"\",\"\",VLOOKUP($D23,'Boys Si Qual Draw Prep'!$A$7:$P$22,15))","v":""},{"$f":"IF($D23=\"\",\"\",VLOOKUP($D23,'Boys Si Qual Draw Prep'!$A$7:$P$22,16))","v":""},null,{"$f":"UPPER(IF($D23=\"\",\"\",VLOOKUP($D23,'Boys Si Qual Draw Prep'!$A$7:$P$22,2)))","v":""},{"$f":"IF($D23=\"\",\"\",VLOOKUP($D23,'Boys Si Qual Draw Prep'!$A$7:$P$22,3))","v":""},null,{"$f":"IF($D23=\"\",\"\",VLOOKUP($D23,'Boys Si Qual Draw Prep'!$A$7:$P$22,4))","v":""}]
[null,null,null,null,null,null,null,"Umpire",null,{"$f":"UPPER(IF(OR(I24=\"a\",I24=\"as\"),E23,IF(OR(I24=\"b\",I24=\"bs\"),E25,)))","v":""}]
[10,{"$f":"IF($D25=\"\",\"\",VLOOKUP($D25,'Boys Si Qual Draw Prep'!$A$7:$P$22,15))","v":""},{"$f":"IF($D25=\"\",\"\",VLOOKUP($D25,'Boys Si Qual Draw Prep'!$A$7:$P$22,16))","v":""},null,{"$f":"UPPER(IF($D25=\"\",\"\",VLOOKUP($D25,'Boys Si Qual Draw Prep'!$A$7:$P$22,2)))","v":""},{"$f":"IF($D25=\"\",\"\",VLOOKUP($D25,'Boys Si Qual Draw Prep'!$A$7:$P$22,3))","v":""},null,{"$f":"IF($D25=\"\",\"\",VLOOKUP($D25,'Boys Si Qual Draw Prep'!$A$7:$P$22,4))","v":""}]
[null,null,null,null,null,null,null,null,null,"Umpire",null,{"$f":"UPPER(IF(OR(K26=\"a\",K26=\"as\"),J24,IF(OR(K26=\"b\",K26=\"bs\"),J28,)))","v":""}]
[11,{"$f":"IF($D27=\"\",\"\",VLOOKUP($D27,'Boys Si Qual Draw Prep'!$A$7:$P$22,15))","v":""},{"$f":"IF($D27=\"\",\"\",VLOOKUP($D27,'Boys Si Qual Draw Prep'!$A$7:$P$22,16))","v":""},null,{"$f":"UPPER(IF($D27=\"\",\"\",VLOOKUP($D27,'Boys Si Qual Draw Prep'!$A$7:$P$22,2)))","v":""},{"$f":"IF($D27=\"\",\"\",VLOOKUP($D27,'Boys Si Qual Draw Prep'!$A$7:$P$22,3))","v":""},null,{"$f":"IF($D27=\"\",\"\",VLOOKUP($D27,'Boys Si Qual Draw Prep'!$A$7:$P$22,4))","v":""}]
[null,null,null,null,null,null,null,"Umpire",null,{"$f":"UPPER(IF(OR(I28=\"a\",I28=\"as\"),E27,IF(OR(I28=\"b\",I28=\"bs\"),E29,)))","v":""}]
[12,{"$f":"IF($D29=\"\",\"\",VLOOKUP($D29,'Boys Si Qual Draw Prep'!$A$7:$P$22,15))","v":""},{"$f":"IF($D29=\"\",\"\",VLOOKUP($D29,'Boys Si Qual Draw Prep'!$A$7:$P$22,16))","v":""},null,{"$f":"UPPER(IF($D29=\"\",\"\",VLOOKUP($D29,'Boys Si Qual Draw Prep'!$A$7:$P$22,2)))","v":""},{"$f":"IF($D29=\"\",\"\",VLOOKUP($D29,'Boys Si Qual Draw Prep'!$A$7:$P$22,3))","v":""},null,{"$f":"IF($D29=\"\",\"\",VLOOKUP($D29,'Boys Si Qual Draw Prep'!$A$7:$P$22,4))","v":""}]
[null,null,null,null,null,null,null,null,null,null,null,"Umpire",null,{"$f":"UPPER(IF(OR(M30=\"a\",M30=\"as\"),L26,IF(OR(M30=\"b\",M30=\"bs\"),L34,)))","v":""}]
[13,{"$f":"IF($D31=\"\",\"\",VLOOKUP($D31,'Boys Si Qual Draw Prep'!$A$7:$P$22,15))","v":""},{"$f":"IF($D31=\"\",\"\",VLOOKUP($D31,'Boys Si Qual Draw Prep'!$A$7:$P$22,16))","v":""},null,{"$f":"UPPER(IF($D31=\"\",\"\",VLOOKUP($D31,'Boys Si Qual Draw Prep'!$A$7:$P$22,2)))","v":""},{"$f":"IF($D31=\"\",\"\",VLOOKUP($D31,'Boys Si Qual Draw Prep'!$A$7:$P$22,3))","v":""},null,{"$f":"IF($D31=\"\",\"\",VLOOKUP($D31,'Boys Si Qual Draw Prep'!$A$7:$P$22,4))","v":""}]
[null,null,null,null,null,null,null,"Umpire",null,{"$f":"UPPER(IF(OR(I32=\"a\",I32=\"as\"),E31,IF(OR(I32=\"b\",I32=\"bs\"),E33,)))","v":""}]
[14,{"$f":"IF($D33=\"\",\"\",VLOOKUP($D33,'Boys Si Qual Draw Prep'!$A$7:$P$22,15))","v":""},{"$f":"IF($D33=\"\",\"\",VLOOKUP($D33,'Boys Si Qual Draw Prep'!$A$7:$P$22,16))","v":""},null,{"$f":"UPPER(IF($D33=\"\",\"\",VLOOKUP($D33,'Boys Si Qual Draw Prep'!$A$7:$P$22,2)))","v":""},{"$f":"IF($D33=\"\",\"\",VLOOKUP($D33,'Boys Si Qual Draw Prep'!$A$7:$P$22,3))","v":""},null,{"$f":"IF($D33=\"\",\"\",VLOOKUP($D33,'Boys Si Qual Draw Prep'!$A$7:$P$22,4))","v":""}]
[null,null,null,null,null,null,null,null,null,"Umpire",null,{"$f":"UPPER(IF(OR(K34=\"a\",K34=\"as\"),J32,IF(OR(K34=\"b\",K34=\"bs\"),J36,)))","v":""}]
[15,{"$f":"IF($D35=\"\",\"\",VLOOKUP($D35,'Boys Si Qual Draw Prep'!$A$7:$P$22,15))","v":""},{"$f":"IF($D35=\"\",\"\",VLOOKUP($D35,'Boys Si Qual Draw Prep'!$A$7:$P$22,16))","v":""},null,{"$f":"UPPER(IF($D35=\"\",\"\",VLOOKUP($D35,'Boys Si Qual Draw Prep'!$A$7:$P$22,2)))","v":""},{"$f":"IF($D35=\"\",\"\",VLOOKUP($D35,'Boys Si Qual Draw Prep'!$A$7:$P$22,3))","v":""},null,{"$f":"IF($D35=\"\",\"\",VLOOKUP($D35,'Boys Si Qual Draw Prep'!$A$7:$P$22,4))","v":""}]
[null,null,null,null,null,null,null,"Umpire",null,{"$f":"UPPER(IF(OR(I36=\"a\",I36=\"as\"),E35,IF(OR(I36=\"b\",I36=\"bs\"),E37,)))","v":""}]
[16,{"$f":"IF($D37=\"\",\"\",VLOOKUP($D37,'Boys Si Qual Draw Prep'!$A$7:$P$22,15))","v":""},{"$f":"IF($D37=\"\",\"\",VLOOKUP($D37,'Boys Si Qual Draw Prep'!$A$7:$P$22,16))","v":""},null,{"$f":"UPPER(IF($D37=\"\",\"\",VLOOKUP($D37,'Boys Si Qual Draw Prep'!$A$7:$P$22,2)))","v":""},{"$f":"IF($D37=\"\",\"\",VLOOKUP($D37,'Boys Si Qual Draw Prep'!$A$7:$P$22,3))","v":""},null,{"$f":"IF($D37=\"\",\"\",VLOOKUP($D37,'Boys Si Qual Draw Prep'!$A$7:$P$22,4))","v":""}]
[]
[]
[]
[]
[]
[]
[]
[]
[]
[]
[]
[]
[]
[]
[]
[]
[]
[]
[]
[]
[]
[]
[]
[]
[]
[]
[]
[]
[]
[]
[]
[]
[]
["Acc. Ranking",null,null,"#","Seeded players",null,null,null,"#","Alternates",null,"Replacing",null,"Draw date/time:"]
["Rkg Date",null,null,1,{"$f":"IF(D72>$Q$79,,UPPER(VLOOKUP(D72,'Boys Si Qual Draw Prep'!$A$7:$R$134,2)))","v":0},null,null,null,"1",null,null,null,null,"Last Accepted player"]
["Top DA",null,null,2,{"$f":"IF(D73>$Q$79,,UPPER(VLOOKUP(D73,'Boys Si Qual Draw Prep'!$A$7:$R$134,2)))","v":0},null,null,null,"2"]
["Last DA",null,null,3,{"$f":"IF(D74>$Q$79,,UPPER(VLOOKUP(D74,'Boys Si Qual Draw Prep'!$A$7:$R$134,2)))","v":0},null,null,null,"3",null,null,null,null,"Player representatives"]
[null,null,null,4,{"$f":"IF(D75>$Q$79,,UPPER(VLOOKUP(D75,'Boys Si Qual Draw Prep'!$A$7:$R$134,2)))","v":0},null,null,null,"4"]
["Seed ranking",null,null,null,null,null,null,null,"5"]
["Rkg Date",null,null,null,null,null,null,null,"6",null,null,null,null,"ITF Referee's signature"]
["Top seed",null,null,null,null,null,null,null,"7"]
["Last seed",null,null,null,null,null,null,null,"8",null,null,null,null,{"$f":"Q4","v":0},null,null,{"$f":"MIN(4,'Boys Si Qual Draw Prep'!R5)","v":0}]

{"sheet":"Boys Si Qual 24>2","index":26,"n_rows":79,"n_cols":20,"rows_kept":79,"cut":false,"hidden":false,"merged":[[3,0,3,2]]}
[{"$f":"'Week SetUp'!$A$6","v":0},null,null,null,null,null,null,null,null,"BOYS SINGLES",null,null,null,"CU"]
[{"$f":"'Week SetUp'!$A$8","v":"ITF Junior Circuit"},null,null,null,null,null,null,null,null,"QUALIFYING DRAW (24)"]
["Week of",null,null,null,null,"City, Country",null,null,null,"Group",null,"Tourn. ID",null,null,null,null,"ITF Referee"]
[{"$f":"'Week SetUp'!$A$10","v":"00:00:00"},null,null,null,null,{"$f":"'Week SetUp'!$C$10","v":0},null,null,null,{"$f":"'Week SetUp'!$D$10","v":0},null,{"$f":"'Week SetUp'!$A$12","v":0},null,null,null,null,{"$f":"'Week SetUp'!$E$10","v":0}]
[null,"St.","Rank","Seed","Family Name","First name",null,"Nationality",null,"2nd Round",null,"3rd Round",null,"Finals",null,"Qualifiers"]
[]
[1,{"$f":"IF($D7=\"\",\"\",VLOOKUP($D7,'Boys Si Qual Draw Prep'!$A$7:$P$30,15))","v":""},{"$f":"IF($D7=\"\",\"\",VLOOKUP($D7,'Boys Si Qual Draw Prep'!$A$7:$P$30,16))","v":""},null,{"$f":"UPPER(IF($D7=\"\",\"\",VLOOKUP($D7,'Boys Si Qual Draw Prep'!$A$7:$P$30,2)))","v":""},{"$f":"IF($D7=\"\",\"\",VLOOKUP($D7,'Boys Si Qual Draw Prep'!$A$7:$P$30,3))","v":""},null,{"$f":"IF($D7=\"\",\"\",VLOOKUP($D7,'Boys Si Qual Draw Prep'!$A$7:$P$30,4))","v":""},null,null,null,null,null,null,null,null,null,null,null,{"$f":"'SetUp Officials'!P21","v":"Umpire"}]
[null,null,null,null,null,null,null,null,"as",{"$f":"UPPER(IF(OR(I8=\"a\",I8=\"as\"),E7,IF(OR(I8=\"b\",I8=\"bs\"),E9,)))","v":""},null,null,null,null,null,null,null,null,null,{"$f":"'SetUp Officials'!P22","v":" "}]
[2,{"$f":"IF($D9=\"\",\"\",VLOOKUP($D9,'Boys Si Qual Draw Prep'!$A$7:$P$30,15))","v":""},{"$f":"IF($D9=\"\",\"\",VLOOKUP($D9,'Boys Si Qual Draw Prep'!$A$7:$P$30,16))","v":""},null,"Bye",{"$f":"IF($D9=\"\",\"\",VLOOKUP($D9,'Boys Si Qual Draw Prep'!$A$7:$P$30,3))","v":""},null,{"$f":"IF($D9=\"\",\"\",VLOOKUP($D9,'Boys Si Qual Draw Prep'!$A$7:$P$30,4))","v":""},null,null,null,null,null,null,null,null,null,null,null,{"$f":"'SetUp Officials'!P23","v":" "}]
[null,null,null,null,null,null,null,null,null,"Umpire",null,{"$f":"UPPER(IF(OR(K10=\"a\",K10=\"as\"),J8,IF(OR(K10=\"b\",K10=\"bs\"),J12,)))","v":""},null,null,null,null,null,null,null,{"$f":"'SetUp Officials'!P24","v":" "}]
[3,{"$f":"IF($D11=\"\",\"\",VLOOKUP($D11,'Boys Si Qual Draw Prep'!$A$7:$P$30,15))","v":""},{"$f":"IF($D11=\"\",\"\",VLOOKUP($D11,'Boys Si Qual Draw Prep'!$A$7:$P$30,16))","v":""},null,{"$f":"UPPER(IF($D11=\"\",\"\",VLOOKUP($D11,'Boys Si Qual Draw Prep'!$A$7:$P$30,2)))","v":""},{"$f":"IF($D11=\"\",\"\",VLOOKUP($D11,'Boys Si Qual Draw Prep'!$A$7:$P$30,3))","v":""},null,{"$f":"IF($D11=\"\",\"\",VLOOKUP($D11,'Boys Si Qual Draw Prep'!$A$7:$P$30,4))","v":""},null,null,null,null,null,null,null,null,null,null,null,{"$f":"'SetUp Officials'!P25","v":" "}]
[null,null,null,null,null,null,null,"Umpire",null,{"$f":"UPPER(IF(OR(I12=\"a\",I12=\"as\"),E11,IF(OR(I12=\"b\",I12=\"bs\"),E13,)))","v":""},null,null,null,null,null,null,null,null,null,{"$f":"'SetUp Officials'!P26","v":" "}]
[4,{"$f":"IF($D13=\"\",\"\",VLOOKUP($D13,'Boys Si Qual Draw Prep'!$A$7:$P$30,15))","v":""},{"$f":"IF($D13=\"\",\"\",VLOOKUP($D13,'Boys Si Qual Draw Prep'!$A$7:$P$30,16))","v":""},null,{"$f":"UPPER(IF($D13=\"\",\"\",VLOOKUP($D13,'Boys Si Qual Draw Prep'!$A$7:$P$30,2)))","v":""},{"$f":"IF($D13=\"\",\"\",VLOOKUP($D13,'Boys Si Qual Draw Prep'!$A$7:$P$30,3))","v":""},null,{"$f":"IF($D13=\"\",\"\",VLOOKUP($D13,'Boys Si Qual Draw Prep'!$A$7:$P$30,4))","v":""},null,null,null,null,null,null,null,null,null,null,null,{"$f":"'SetUp Officials'!P27","v":" "}]
[null,null,null,null,null,null,null,null,null,null,null,"Umpire",null,{"$f":"UPPER(IF(OR(M14=\"a\",M14=\"as\"),L10,IF(OR(M14=\"b\",M14=\"bs\"),L18,)))","v":""},null,null,null,null,null,{"$f":"'SetUp Officials'!P28","v":" "}]
[5,{"$f":"IF($D15=\"\",\"\",VLOOKUP($D15,'Boys Si Qual Draw Prep'!$A$7:$P$30,15))","v":""},{"$f":"IF($D15=\"\",\"\",VLOOKUP($D15,'Boys Si Qual Draw Prep'!$A$7:$P$30,16))","v":""},null,{"$f":"UPPER(IF($D15=\"\",\"\",VLOOKUP($D15,'Boys Si Qual Draw Prep'!$A$7:$P$30,2)))","v":""},{"$f":"IF($D15=\"\",\"\",VLOOKUP($D15,'Boys Si Qual Draw Prep'!$A$7:$P$30,3))","v":""},null,{"$f":"IF($D15=\"\",\"\",VLOOKUP($D15,'Boys Si Qual Draw Prep'!$A$7:$P$30,4))","v":""},null,null,null,null,null,null,null,null,null,null,null,{"$f":"'SetUp Officials'!P29","v":" "}]
[null,null,null,null,null,null,null,"Umpire",null,{"$f":"UPPER(IF(OR(I16=\"a\",I16=\"as\"),E15,IF(OR(I16=\"b\",I16=\"bs\"),E17,)))","v":""},null,null,null,null,null,null,null,null,null,{"$f":"'SetUp Officials'!P30","v":"None"}]
[6,{"$f":"IF($D17=\"\",\"\",VLOOKUP($D17,'Boys Si Qual Draw Prep'!$A$7:$P$30,15))","v":""},{"$f":"IF($D17=\"\",\"\",VLOOKUP($D17,'Boys Si Qual Draw Prep'!$A$7:$P$30,16))","v":""},null,{"$f":"UPPER(IF($D17=\"\",\"\",VLOOKUP($D17,'Boys Si Qual Draw Prep'!$A$7:$P$30,2)))","v":""},{"$f":"IF($D17=\"\",\"\",VLOOKUP($D17,'Boys Si Qual Draw Prep'!$A$7:$P$30,3))","v":""},null,{"$f":"IF($D17=\"\",\"\",VLOOKUP($D17,'Boys Si Qual Draw Prep'!$A$7:$P$30,4))","v":""}]
[null,null,null,null,null,null,null,null,null,"Umpire",null,{"$f":"UPPER(IF(OR(K18=\"a\",K18=\"as\"),J16,IF(OR(K18=\"b\",K18=\"bs\"),J20,)))","v":""}]
[7,{"$f":"IF($D19=\"\",\"\",VLOOKUP($D19,'Boys Si Qual Draw Prep'!$A$7:$P$30,15))","v":""},{"$f":"IF($D19=\"\",\"\",VLOOKUP($D19,'Boys Si Qual Draw Prep'!$A$7:$P$30,16))","v":""},null,"Bye",{"$f":"IF($D19=\"\",\"\",VLOOKUP($D19,'Boys Si Qual Draw Prep'!$A$7:$P$30,3))","v":""},null,{"$f":"IF($D19=\"\",\"\",VLOOKUP($D19,'Boys Si Qual Draw Prep'!$A$7:$P$30,4))","v":""}]
[null,null,null,null,null,null,null,null,"bs",{"$f":"UPPER(IF(OR(I20=\"a\",I20=\"as\"),E19,IF(OR(I20=\"b\",I20=\"bs\"),E21,)))","v":""}]
[8,{"$f":"IF($D21=\"\",\"\",VLOOKUP($D21,'Boys Si Qual Draw Prep'!$A$7:$P$30,15))","v":""},{"$f":"IF($D21=\"\",\"\",VLOOKUP($D21,'Boys Si Qual Draw Prep'!$A$7:$P$30,16))","v":""},null,{"$f":"UPPER(IF($D21=\"\",\"\",VLOOKUP($D21,'Boys Si Qual Draw Prep'!$A$7:$P$30,2)))","v":""},{"$f":"IF($D21=\"\",\"\",VLOOKUP($D21,'Boys Si Qual Draw Prep'!$A$7:$P$30,3))","v":""},null,{"$f":"IF($D21=\"\",\"\",VLOOKUP($D21,'Boys Si Qual Draw Prep'!$A$7:$P$30,4))","v":""}]
[null,null,null,null,null,null,null,null,null,null,null,null,null,"Umpire",null,{"$f":"UPPER(IF(OR(O22=\"a\",O22=\"as\"),N14,IF(OR(O22=\"b\",O22=\"bs\"),N30,)))","v":""}]
[9,{"$f":"IF($D23=\"\",\"\",VLOOKUP($D23,'Boys Si Qual Draw Prep'!$A$7:$P$30,15))","v":""},{"$f":"IF($D23=\"\",\"\",VLOOKUP($D23,'Boys Si Qual Draw Prep'!$A$7:$P$30,16))","v":""},null,{"$f":"UPPER(IF($D23=\"\",\"\",VLOOKUP($D23,'Boys Si Qual Draw Prep'!$A$7:$P$30,2)))","v":""},{"$f":"IF($D23=\"\",\"\",VLOOKUP($D23,'Boys Si Qual Draw Prep'!$A$7:$P$30,3))","v":""},null,{"$f":"IF($D23=\"\",\"\",VLOOKUP($D23,'Boys Si Qual Draw Prep'!$A$7:$P$30,4))","v":""}]
[null,null,null,null,null,null,null,null,"as",{"$f":"UPPER(IF(OR(I24=\"a\",I24=\"as\"),E23,IF(OR(I24=\"b\",I24=\"bs\"),E25,)))","v":""}]
[10,{"$f":"IF($D25=\"\",\"\",VLOOKUP($D25,'Boys Si Qual Draw Prep'!$A$7:$P$30,15))","v":""},{"$f":"IF($D25=\"\",\"\",VLOOKUP($D25,'Boys Si Qual Draw Prep'!$A$7:$P$30,16))","v":""},null,"Bye",{"$f":"IF($D25=\"\",\"\",VLOOKUP($D25,'Boys Si Qual Draw Prep'!$A$7:$P$30,3))","v":""},null,{"$f":"IF($D25=\"\",\"\",VLOOKUP($D25,'Boys Si Qual Draw Prep'!$A$7:$P$30,4))","v":""}]
[null,null,null,null,null,null,null,null,null,"Umpire",null,{"$f":"UPPER(IF(OR(K26=\"a\",K26=\"as\"),J24,IF(OR(K26=\"b\",K26=\"bs\"),J28,)))","v":""}]
[11,{"$f":"IF($D27=\"\",\"\",VLOOKUP($D27,'Boys Si Qual Draw Prep'!$A$7:$P$30,15))","v":""},{"$f":"IF($D27=\"\",\"\",VLOOKUP($D27,'Boys Si Qual Draw Prep'!$A$7:$P$30,16))","v":""},null,{"$f":"UPPER(IF($D27=\"\",\"\",VLOOKUP($D27,'Boys Si Qual Draw Prep'!$A$7:$P$30,2)))","v":""},{"$f":"IF($D27=\"\",\"\",VLOOKUP($D27,'Boys Si Qual Draw Prep'!$A$7:$P$30,3))","v":""},null,{"$f":"IF($D27=\"\",\"\",VLOOKUP($D27,'Boys Si Qual Draw Prep'!$A$7:$P$30,4))","v":""}]
[null,null,null,null,null,null,null,"Umpire",null,{"$f":"UPPER(IF(OR(I28=\"a\",I28=\"as\"),E27,IF(OR(I28=\"b\",I28=\"bs\"),E29,)))","v":""}]
[12,{"$f":"IF($D29=\"\",\"\",VLOOKUP($D29,'Boys Si Qual Draw Prep'!$A$7:$P$30,15))","v":""},{"$f":"IF($D29=\"\",\"\",VLOOKUP($D29,'Boys Si Qual Draw Prep'!$A$7:$P$30,16))","v":""},null,{"$f":"UPPER(IF($D29=\"\",\"\",VLOOKUP($D29,'Boys Si Qual Draw Prep'!$A$7:$P$30,2)))","v":""},{"$f":"IF($D29=\"\",\"\",VLOOKUP($D29,'Boys Si Qual Draw Prep'!$A$7:$P$30,3))","v":""},null,{"$f":"IF($D29=\"\",\"\",VLOOKUP($D29,'Boys Si Qual Draw Prep'!$A$7:$P$30,4))","v":""}]
[null,null,null,null,null,null,null,null,null,null,null,"Umpire",null,{"$f":"UPPER(IF(OR(M30=\"a\",M30=\"as\"),L26,IF(OR(M30=\"b\",M30=\"bs\"),L34,)))","v":""}]
[13,{"$f":"IF($D31=\"\",\"\",VLOOKUP($D31,'Boys Si Qual Draw Prep'!$A$7:$P$30,15))","v":""},{"$f":"IF($D31=\"\",\"\",VLOOKUP($D31,'Boys Si Qual Draw Prep'!$A$7:$P$30,16))","v":""},null,{"$f":"UPPER(IF($D31=\"\",\"\",VLOOKUP($D31,'Boys Si Qual Draw Prep'!$A$7:$P$30,2)))","v":""},{"$f":"IF($D31=\"\",\"\",VLOOKUP($D31,'Boys Si Qual Draw Prep'!$A$7:$P$30,3))","v":""},null,{"$f":"IF($D31=\"\",\"\",VLOOKUP($D31,'Boys Si Qual Draw Prep'!$A$7:$P$30,4))","v":""}]
[null,null,null,null,null,null,null,"Umpire",null,{"$f":"UPPER(IF(OR(I32=\"a\",I32=\"as\"),E31,IF(OR(I32=\"b\",I32=\"bs\"),E33,)))","v":""}]
[14,{"$f":"IF($D33=\"\",\"\",VLOOKUP($D33,'Boys Si Qual Draw Prep'!$A$7:$P$30,15))","v":""},{"$f":"IF($D33=\"\",\"\",VLOOKUP($D33,'Boys Si Qual Draw Prep'!$A$7:$P$30,16))","v":""},null,{"$f":"UPPER(IF($D33=\"\",\"\",VLOOKUP($D33,'Boys Si Qual Draw Prep'!$A$7:$P$30,2)))","v":""},{"$f":"IF($D33=\"\",\"\",VLOOKUP($D33,'Boys Si Qual Draw Prep'!$A$7:$P$30,3))","v":""},null,{"$f":"IF($D33=\"\",\"\",VLOOKUP($D33,'Boys Si Qual Draw Prep'!$A$7:$P$30,4))","v":""}]
[null,null,null,null,null,null,null,null,null,"Umpire",null,{"$f":"UPPER(IF(OR(K34=\"a\",K34=\"as\"),J32,IF(OR(K34=\"b\",K34=\"bs\"),J36,)))","v":""}]
[15,{"$f":"IF($D35=\"\",\"\",VLOOKUP($D35,'Boys Si Qual Draw Prep'!$A$7:$P$30,15))","v":""},{"$f":"IF($D35=\"\",\"\",VLOOKUP($D35,'Boys Si Qual Draw Prep'!$A$7:$P$30,16))","v":""},null,"Bye",{"$f":"IF($D35=\"\",\"\",VLOOKUP($D35,'Boys Si Qual Draw Prep'!$A$7:$P$30,3))","v":""},null,{"$f":"IF($D35=\"\",\"\",VLOOKUP($D35,'Boys Si Qual Draw Prep'!$A$7:$P$30,4))","v":""}]
[null,null,null,null,null,null,null,null,"bs",{"$f":"UPPER(IF(OR(I36=\"a\",I36=\"as\"),E35,IF(OR(I36=\"b\",I36=\"bs\"),E37,)))","v":""}]
[16,{"$f":"IF($D37=\"\",\"\",VLOOKUP($D37,'Boys Si Qual Draw Prep'!$A$7:$P$30,15))","v":""},{"$f":"IF($D37=\"\",\"\",VLOOKUP($D37,'Boys Si Qual Draw Prep'!$A$7:$P$30,16))","v":""},null,{"$f":"UPPER(IF($D37=\"\",\"\",VLOOKUP($D37,'Boys Si Qual Draw Prep'!$A$7:$P$30,2)))","v":""},{"$f":"IF($D37=\"\",\"\",VLOOKUP($D37,'Boys Si Qual Draw Prep'!$A$7:$P$30,3))","v":""},null,{"$f":"IF($D37=\"\",\"\",VLOOKUP($D37,'Boys Si Qual Draw Prep'!$A$7:$P$30,4))","v":""}]
[]
[17,{"$f":"IF($D39=\"\",\"\",VLOOKUP($D39,'Boys Si Qual Draw Prep'!$A$7:$P$30,15))","v":""},{"$f":"IF($D39=\"\",\"\",VLOOKUP($D39,'Boys Si Qual Draw Prep'!$A$7:$P$30,16))","v":""},null,{"$f":"UPPER(IF($D39=\"\",\"\",VLOOKUP($D39,'Boys Si Qual Draw Prep'!$A$7:$P$30,2)))","v":""},{"$f":"IF($D39=\"\",\"\",VLOOKUP($D39,'Boys Si Qual Draw Prep'!$A$7:$P$30,3))","v":""},null,{"$f":"IF($D39=\"\",\"\",VLOOKUP($D39,'Boys Si Qual Draw Prep'!$A$7:$P$30,4))","v":""}]
[null,null,null,null,null,null,null,null,"as",{"$f":"UPPER(IF(OR(I40=\"a\",I40=\"as\"),E39,IF(OR(I40=\"b\",I40=\"bs\"),E41,)))","v":""}]
[18,{"$f":"IF($D41=\"\",\"\",VLOOKUP($D41,'Boys Si Qual Draw Prep'!$A$7:$P$30,15))","v":""},{"$f":"IF($D41=\"\",\"\",VLOOKUP($D41,'Boys Si Qual Draw Prep'!$A$7:$P$30,16))","v":""},null,"Bye",{"$f":"IF($D41=\"\",\"\",VLOOKUP($D41,'Boys Si Qual Draw Prep'!$A$7:$P$30,3))","v":""},null,{"$f":"IF($D41=\"\",\"\",VLOOKUP($D41,'Boys Si Qual Draw Prep'!$A$7:$P$30,4))","v":""}]
[null,null,null,null,null,null,null,null,null,"Umpire",null,{"$f":"UPPER(IF(OR(K42=\"a\",K42=\"as\"),J40,IF(OR(K42=\"b\",K42=\"bs\"),J44,)))","v":""}]
[19,{"$f":"IF($D43=\"\",\"\",VLOOKUP($D43,'Boys Si Qual Draw Prep'!$A$7:$P$30,15))","v":""},{"$f":"IF($D43=\"\",\"\",VLOOKUP($D43,'Boys Si Qual Draw Prep'!$A$7:$P$30,16))","v":""},null,{"$f":"UPPER(IF($D43=\"\",\"\",VLOOKUP($D43,'Boys Si Qual Draw Prep'!$A$7:$P$30,2)))","v":""},{"$f":"IF($D43=\"\",\"\",VLOOKUP($D43,'Boys Si Qual Draw Prep'!$A$7:$P$30,3))","v":""},null,{"$f":"IF($D43=\"\",\"\",VLOOKUP($D43,'Boys Si Qual Draw Prep'!$A$7:$P$30,4))","v":""}]
[null,null,null,null,null,null,null,"Umpire",null,{"$f":"UPPER(IF(OR(I44=\"a\",I44=\"as\"),E43,IF(OR(I44=\"b\",I44=\"bs\"),E45,)))","v":""}]
[20,{"$f":"IF($D45=\"\",\"\",VLOOKUP($D45,'Boys Si Qual Draw Prep'!$A$7:$P$30,15))","v":""},{"$f":"IF($D45=\"\",\"\",VLOOKUP($D45,'Boys Si Qual Draw Prep'!$A$7:$P$30,16))","v":""},null,{"$f":"UPPER(IF($D45=\"\",\"\",VLOOKUP($D45,'Boys Si Qual Draw Prep'!$A$7:$P$30,2)))","v":""},{"$f":"IF($D45=\"\",\"\",VLOOKUP($D45,'Boys Si Qual Draw Prep'!$A$7:$P$30,3))","v":""},null,{"$f":"IF($D45=\"\",\"\",VLOOKUP($D45,'Boys Si Qual Draw Prep'!$A$7:$P$30,4))","v":""}]
[null,null,null,null,null,null,null,null,null,null,null,"Umpire",null,{"$f":"UPPER(IF(OR(M46=\"a\",M46=\"as\"),L42,IF(OR(M46=\"b\",M46=\"bs\"),L50,)))","v":""}]
[21,{"$f":"IF($D47=\"\",\"\",VLOOKUP($D47,'Boys Si Qual Draw Prep'!$A$7:$P$30,15))","v":""},{"$f":"IF($D47=\"\",\"\",VLOOKUP($D47,'Boys Si Qual Draw Prep'!$A$7:$P$30,16))","v":""},null,{"$f":"UPPER(IF($D47=\"\",\"\",VLOOKUP($D47,'Boys Si Qual Draw Prep'!$A$7:$P$30,2)))","v":""},{"$f":"IF($D47=\"\",\"\",VLOOKUP($D47,'Boys Si Qual Draw Prep'!$A$7:$P$30,3))","v":""},null,{"$f":"IF($D47=\"\",\"\",VLOOKUP($D47,'Boys Si Qual Draw Prep'!$A$7:$P$30,4))","v":""}]
[null,null,null,null,null,null,null,"Umpire",null,{"$f":"UPPER(IF(OR(I48=\"a\",I48=\"as\"),E47,IF(OR(I48=\"b\",I48=\"bs\"),E49,)))","v":""}]
[22,{"$f":"IF($D49=\"\",\"\",VLOOKUP($D49,'Boys Si Qual Draw Prep'!$A$7:$P$30,15))","v":""},{"$f":"IF($D49=\"\",\"\",VLOOKUP($D49,'Boys Si Qual Draw Prep'!$A$7:$P$30,16))","v":""},null,{"$f":"UPPER(IF($D49=\"\",\"\",VLOOKUP($D49,'Boys Si Qual Draw Prep'!$A$7:$P$30,2)))","v":""},{"$f":"IF($D49=\"\",\"\",VLOOKUP($D49,'Boys Si Qual Draw Prep'!$A$7:$P$30,3))","v":""},null,{"$f":"IF($D49=\"\",\"\",VLOOKUP($D49,'Boys Si Qual Draw Prep'!$A$7:$P$30,4))","v":""}]
[null,null,null,null,null,null,null,null,null,"Umpire",null,{"$f":"UPPER(IF(OR(K50=\"a\",K50=\"as\"),J48,IF(OR(K50=\"b\",K50=\"bs\"),J52,)))","v":""}]
[23,{"$f":"IF($D51=\"\",\"\",VLOOKUP($D51,'Boys Si Qual Draw Prep'!$A$7:$P$30,15))","v":""},{"$f":"IF($D51=\"\",\"\",VLOOKUP($D51,'Boys Si Qual Draw Prep'!$A$7:$P$30,16))","v":""},null,"Bye",{"$f":"IF($D51=\"\",\"\",VLOOKUP($D51,'Boys Si Qual Draw Prep'!$A$7:$P$30,3))","v":""},null,{"$f":"IF($D51=\"\",\"\",VLOOKUP($D51,'Boys Si Qual Draw Prep'!$A$7:$P$30,4))","v":""}]
[null,null,null,null,null,null,null,null,"bs",{"$f":"UPPER(IF(OR(I52=\"a\",I52=\"as\"),E51,IF(OR(I52=\"b\",I52=\"bs\"),E53,)))","v":""}]
[24,{"$f":"IF($D53=\"\",\"\",VLOOKUP($D53,'Boys Si Qual Draw Prep'!$A$7:$P$30,15))","v":""},{"$f":"IF($D53=\"\",\"\",VLOOKUP($D53,'Boys Si Qual Draw Prep'!$A$7:$P$30,16))","v":""},null,{"$f":"UPPER(IF($D53=\"\",\"\",VLOOKUP($D53,'Boys Si Qual Draw Prep'!$A$7:$P$30,2)))","v":""},{"$f":"IF($D53=\"\",\"\",VLOOKUP($D53,'Boys Si Qual Draw Prep'!$A$7:$P$30,3))","v":""},null,{"$f":"IF($D53=\"\",\"\",VLOOKUP($D53,'Boys Si Qual Draw Prep'!$A$7:$P$30,4))","v":""}]
[null,null,null,null,null,null,null,null,null,null,null,null,null,"Umpire",null,{"$f":"UPPER(IF(OR(O54=\"a\",O54=\"as\"),N46,IF(OR(O54=\"b\",O54=\"bs\"),N62,)))","v":""}]
[25,{"$f":"IF($D55=\"\",\"\",VLOOKUP($D55,'Boys Si Qual Draw Prep'!$A$7:$P$30,15))","v":""},{"$f":"IF($D55=\"\",\"\",VLOOKUP($D55,'Boys Si Qual Draw Prep'!$A$7:$P$30,16))","v":""},null,{"$f":"UPPER(IF($D55=\"\",\"\",VLOOKUP($D55,'Boys Si Qual Draw Prep'!$A$7:$P$30,2)))","v":""},{"$f":"IF($D55=\"\",\"\",VLOOKUP($D55,'Boys Si Qual Draw Prep'!$A$7:$P$30,3))","v":""},null,{"$f":"IF($D55=\"\",\"\",VLOOKUP($D55,'Boys Si Qual Draw Prep'!$A$7:$P$30,4))","v":""}]
[null,null,null,null,null,null,null,null,"as",{"$f":"UPPER(IF(OR(I56=\"a\",I56=\"as\"),E55,IF(OR(I56=\"b\",I56=\"bs\"),E57,)))","v":""}]
[26,{"$f":"IF($D57=\"\",\"\",VLOOKUP($D57,'Boys Si Qual Draw Prep'!$A$7:$P$30,15))","v":""},{"$f":"IF($D57=\"\",\"\",VLOOKUP($D57,'Boys Si Qual Draw Prep'!$A$7:$P$30,16))","v":""},null,"Bye",{"$f":"IF($D57=\"\",\"\",VLOOKUP($D57,'Boys Si Qual Draw Prep'!$A$7:$P$30,3))","v":""},null,{"$f":"IF($D57=\"\",\"\",VLOOKUP($D57,'Boys Si Qual Draw Prep'!$A$7:$P$30,4))","v":""}]
[null,null,null,null,null,null,null,null,null,"Umpire",null,{"$f":"UPPER(IF(OR(K58=\"a\",K58=\"as\"),J56,IF(OR(K58=\"b\",K58=\"bs\"),J60,)))","v":""}]
[27,{"$f":"IF($D59=\"\",\"\",VLOOKUP($D59,'Boys Si Qual Draw Prep'!$A$7:$P$30,15))","v":""},{"$f":"IF($D59=\"\",\"\",VLOOKUP($D59,'Boys Si Qual Draw Prep'!$A$7:$P$30,16))","v":""},null,{"$f":"UPPER(IF($D59=\"\",\"\",VLOOKUP($D59,'Boys Si Qual Draw Prep'!$A$7:$P$30,2)))","v":""},{"$f":"IF($D59=\"\",\"\",VLOOKUP($D59,'Boys Si Qual Draw Prep'!$A$7:$P$30,3))","v":""},null,{"$f":"IF($D59=\"\",\"\",VLOOKUP($D59,'Boys Si Qual Draw Prep'!$A$7:$P$30,4))","v":""}]
[null,null,null,null,null,null,null,"Umpire",null,{"$f":"UPPER(IF(OR(I60=\"a\",I60=\"as\"),E59,IF(OR(I60=\"b\",I60=\"bs\"),E61,)))","v":""}]
[28,{"$f":"IF($D61=\"\",\"\",VLOOKUP($D61,'Boys Si Qual Draw Prep'!$A$7:$P$30,15))","v":""},{"$f":"IF($D61=\"\",\"\",VLOOKUP($D61,'Boys Si Qual Draw Prep'!$A$7:$P$30,16))","v":""},null,{"$f":"UPPER(IF($D61=\"\",\"\",VLOOKUP($D61,'Boys Si Qual Draw Prep'!$A$7:$P$30,2)))","v":""},{"$f":"IF($D61=\"\",\"\",VLOOKUP($D61,'Boys Si Qual Draw Prep'!$A$7:$P$30,3))","v":""},null,{"$f":"IF($D61=\"\",\"\",VLOOKUP($D61,'Boys Si Qual Draw Prep'!$A$7:$P$30,4))","v":""}]
[null,null,null,null,null,null,null,null,null,null,null,"Umpire",null,{"$f":"UPPER(IF(OR(M62=\"a\",M62=\"as\"),L58,IF(OR(M62=\"b\",M62=\"bs\"),L66,)))","v":""}]
[29,{"$f":"IF($D63=\"\",\"\",VLOOKUP($D63,'Boys Si Qual Draw Prep'!$A$7:$P$30,15))","v":""},{"$f":"IF($D63=\"\",\"\",VLOOKUP($D63,'Boys Si Qual Draw Prep'!$A$7:$P$30,16))","v":""},null,{"$f":"UPPER(IF($D63=\"\",\"\",VLOOKUP($D63,'Boys Si Qual Draw Prep'!$A$7:$P$30,2)))","v":""},{"$f":"IF($D63=\"\",\"\",VLOOKUP($D63,'Boys Si Qual Draw Prep'!$A$7:$P$30,3))","v":""},null,{"$f":"IF($D63=\"\",\"\",VLOOKUP($D63,'Boys Si Qual Draw Prep'!$A$7:$P$30,4))","v":""}]
[null,null,null,null,null,null,null,"Umpire",null,{"$f":"UPPER(IF(OR(I64=\"a\",I64=\"as\"),E63,IF(OR(I64=\"b\",I64=\"bs\"),E65,)))","v":""}]
[30,{"$f":"IF($D65=\"\",\"\",VLOOKUP($D65,'Boys Si Qual Draw Prep'!$A$7:$P$30,15))","v":""},{"$f":"IF($D65=\"\",\"\",VLOOKUP($D65,'Boys Si Qual Draw Prep'!$A$7:$P$30,16))","v":""},null,{"$f":"UPPER(IF($D65=\"\",\"\",VLOOKUP($D65,'Boys Si Qual Draw Prep'!$A$7:$P$30,2)))","v":""},{"$f":"IF($D65=\"\",\"\",VLOOKUP($D65,'Boys Si Qual Draw Prep'!$A$7:$P$30,3))","v":""},null,{"$f":"IF($D65=\"\",\"\",VLOOKUP($D65,'Boys Si Qual Draw Prep'!$A$7:$P$30,4))","v":""}]
[null,null,null,null,null,null,null,null,null,"Umpire",null,{"$f":"UPPER(IF(OR(K66=\"a\",K66=\"as\"),J64,IF(OR(K66=\"b\",K66=\"bs\"),J68,)))","v":""}]
[31,{"$f":"IF($D67=\"\",\"\",VLOOKUP($D67,'Boys Si Qual Draw Prep'!$A$7:$P$30,15))","v":""},{"$f":"IF($D67=\"\",\"\",VLOOKUP($D67,'Boys Si Qual Draw Prep'!$A$7:$P$30,16))","v":""},null,"Bye",{"$f":"IF($D67=\"\",\"\",VLOOKUP($D67,'Boys Si Qual Draw Prep'!$A$7:$P$30,3))","v":""},null,{"$f":"IF($D67=\"\",\"\",VLOOKUP($D67,'Boys Si Qual Draw Prep'!$A$7:$P$30,4))","v":""}]
[null,null,null,null,null,null,null,null,"bs",{"$f":"UPPER(IF(OR(I68=\"a\",I68=\"as\"),E67,IF(OR(I68=\"b\",I68=\"bs\"),E69,)))","v":""}]
[32,{"$f":"IF($D69=\"\",\"\",VLOOKUP($D69,'Boys Si Qual Draw Prep'!$A$7:$P$30,15))","v":""},{"$f":"IF($D69=\"\",\"\",VLOOKUP($D69,'Boys Si Qual Draw Prep'!$A$7:$P$30,16))","v":""},null,{"$f":"UPPER(IF($D69=\"\",\"\",VLOOKUP($D69,'Boys Si Qual Draw Prep'!$A$7:$P$30,2)))","v":""},{"$f":"IF($D69=\"\",\"\",VLOOKUP($D69,'Boys Si Qual Draw Prep'!$A$7:$P$30,3))","v":""},null,{"$f":"IF($D69=\"\",\"\",VLOOKUP($D69,'Boys Si Qual Draw Prep'!$A$7:$P$30,4))","v":""}]
[]
["Acc. Ranking",null,null,"#","Seeded players",null,null,null,"#","Alternates",null,"Replacing",null,"Draw date/time:"]
["Rkg Date",null,null,1,{"$f":"IF(D72>$Q$79,,UPPER(VLOOKUP(D72,'Boys Si Qual Draw Prep'!$A$7:$R$134,2)))","v":0},null,null,null,"1",null,null,null,null,"Last Accepted player"]
["Top DA",null,null,2,{"$f":"IF(D73>$Q$79,,UPPER(VLOOKUP(D73,'Boys Si Qual Draw Prep'!$A$7:$R$134,2)))","v":0},null,null,null,"2"]
["Last DA",null,null,3,{"$f":"IF(D74>$Q$79,,UPPER(VLOOKUP(D74,'Boys Si Qual Draw Prep'!$A$7:$R$134,2)))","v":0},null,null,null,"3",null,null,null,null,"Player representatives"]
[null,null,null,4,{"$f":"IF(D75>$Q$79,,UPPER(VLOOKUP(D75,'Boys Si Qual Draw Prep'!$A$7:$R$134,2)))","v":0},null,null,null,"4"]
["Seed ranking",null,null,null,null,null,null,null,"5"]
["Rkg Date",null,null,null,null,null,null,null,"6",null,null,null,null,"ITF Referee's signature"]
["Top seed",null,null,null,null,null,null,null,"7"]
["Last seed",null,null,null,null,null,null,null,"8",null,null,null,null,{"$f":"Q4","v":0},null,null,{"$f":"MIN(6,'Boys Si Qual Draw Prep'!R5)","v":0}]

{"sheet":"Boys Si Qual 32>4","index":27,"n_rows":79,"n_cols":20,"rows_kept":79,"cut":false,"hidden":false,"merged":[[3,0,3,2]]}
[{"$f":"'Week SetUp'!$A$6","v":0},null,null,null,null,null,null,null,null,"BOYS SINGLES",null,null,null,"CU"]
[{"$f":"'Week SetUp'!$A$8","v":"ITF Junior Circuit"},null,null,null,null,null,null,null,null,"QUALIFYING DRAW (32)"]
["Week of",null,null,null,null,"City, Country",null,null,null,"Group",null,"Tourn. ID",null,null,null,null,"ITF Referee"]
[{"$f":"'Week SetUp'!$A$10","v":"00:00:00"},null,null,null,null,{"$f":"'Week SetUp'!$C$10","v":0},null,null,null,{"$f":"'Week SetUp'!$D$10","v":0},null,{"$f":"'Week SetUp'!$A$12","v":0},null,null,null,null,{"$f":"'Week SetUp'!$E$10","v":0}]
[null,"St.","Rank","Seed","Family Name","First name",null,"Nationality",null,"2nd Round",null,"Finals",null,"Qualifiers"]
[]
[1,{"$f":"IF($D7=\"\",\"\",VLOOKUP($D7,'Boys Si Qual Draw Prep'!$A$7:$P$38,15))","v":""},{"$f":"IF($D7=\"\",\"\",VLOOKUP($D7,'Boys Si Qual Draw Prep'!$A$7:$P$38,16))","v":""},null,{"$f":"UPPER(IF($D7=\"\",\"\",VLOOKUP($D7,'Boys Si Qual Draw Prep'!$A$7:$P$38,2)))","v":""},{"$f":"IF($D7=\"\",\"\",VLOOKUP($D7,'Boys Si Qual Draw Prep'!$A$7:$P$38,3))","v":""},null,{"$f":"IF($D7=\"\",\"\",VLOOKUP($D7,'Boys Si Qual Draw Prep'!$A$7:$P$38,4))","v":""},null,null,null,null,null,null,null,null,null,null,null,{"$f":"'SetUp Officials'!P21","v":"Umpire"}]
[null,null,null,null,null,null,null,"Umpire",null,{"$f":"UPPER(IF(OR(I8=\"a\",I8=\"as\"),E7,IF(OR(I8=\"b\",I8=\"bs\"),E9,)))","v":""},null,null,null,null,null,null,null,null,null,{"$f":"'SetUp Officials'!P22","v":" "}]
[2,{"$f":"IF($D9=\"\",\"\",VLOOKUP($D9,'Boys Si Qual Draw Prep'!$A$7:$P$38,15))","v":""},{"$f":"IF($D9=\"\",\"\",VLOOKUP($D9,'Boys Si Qual Draw Prep'!$A$7:$P$38,16))","v":""},null,{"$f":"UPPER(IF($D9=\"\",\"\",VLOOKUP($D9,'Boys Si Qual Draw Prep'!$A$7:$P$38,2)))","v":""},{"$f":"IF($D9=\"\",\"\",VLOOKUP($D9,'Boys Si Qual Draw Prep'!$A$7:$P$38,3))","v":""},null,{"$f":"IF($D9=\"\",\"\",VLOOKUP($D9,'Boys Si Qual Draw Prep'!$A$7:$P$38,4))","v":""},null,null,null,null,null,null,null,null,null,null,null,{"$f":"'SetUp Officials'!P23","v":" "}]
[null,null,null,null,null,null,null,null,null,"Umpire",null,{"$f":"UPPER(IF(OR(K10=\"a\",K10=\"as\"),J8,IF(OR(K10=\"b\",K10=\"bs\"),J12,)))","v":""},null,null,null,null,null,null,null,{"$f":"'SetUp Officials'!P24","v":" "}]
[3,{"$f":"IF($D11=\"\",\"\",VLOOKUP($D11,'Boys Si Qual Draw Prep'!$A$7:$P$38,15))","v":""},{"$f":"IF($D11=\"\",\"\",VLOOKUP($D11,'Boys Si Qual Draw Prep'!$A$7:$P$38,16))","v":""},null,{"$f":"UPPER(IF($D11=\"\",\"\",VLOOKUP($D11,'Boys Si Qual Draw Prep'!$A$7:$P$38,2)))","v":""},{"$f":"IF($D11=\"\",\"\",VLOOKUP($D11,'Boys Si Qual Draw Prep'!$A$7:$P$38,3))","v":""},null,{"$f":"IF($D11=\"\",\"\",VLOOKUP($D11,'Boys Si Qual Draw Prep'!$A$7:$P$38,4))","v":""},null,null,null,null,null,null,null,null,null,null,null,{"$f":"'SetUp Officials'!P25","v":" "}]
[null,null,null,null,null,null,null,"Umpire",null,{"$f":"UPPER(IF(OR(I12=\"a\",I12=\"as\"),E11,IF(OR(I12=\"b\",I12=\"bs\"),E13,)))","v":""},null,null,null,null,null,null,null,null,null,{"$f":"'SetUp Officials'!P26","v":" "}]
[4,{"$f":"IF($D13=\"\",\"\",VLOOKUP($D13,'Boys Si Qual Draw Prep'!$A$7:$P$38,15))","v":""},{"$f":"IF($D13=\"\",\"\",VLOOKUP($D13,'Boys Si Qual Draw Prep'!$A$7:$P$38,16))","v":""},null,{"$f":"UPPER(IF($D13=\"\",\"\",VLOOKUP($D13,'Boys Si Qual Draw Prep'!$A$7:$P$38,2)))","v":""},{"$f":"IF($D13=\"\",\"\",VLOOKUP($D13,'Boys Si Qual Draw Prep'!$A$7:$P$38,3))","v":""},null,{"$f":"IF($D13=\"\",\"\",VLOOKUP($D13,'Boys Si Qual Draw Prep'!$A$7:$P$38,4))","v":""},null,null,null,null,null,null,null,null,null,null,null,{"$f":"'SetUp Officials'!P27","v":" "}]
[null,null,null,null,null,null,null,null,null,null,null,"Umpire",null,{"$f":"UPPER(IF(OR(M14=\"a\",M14=\"as\"),L10,IF(OR(M14=\"b\",M14=\"bs\"),L18,)))","v":""},null,null,null,null,null,{"$f":"'SetUp Officials'!P28","v":" "}]
[5,{"$f":"IF($D15=\"\",\"\",VLOOKUP($D15,'Boys Si Qual Draw Prep'!$A$7:$P$38,15))","v":""},{"$f":"IF($D15=\"\",\"\",VLOOKUP($D15,'Boys Si Qual Draw Prep'!$A$7:$P$38,16))","v":""},null,{"$f":"UPPER(IF($D15=\"\",\"\",VLOOKUP($D15,'Boys Si Qual Draw Prep'!$A$7:$P$38,2)))","v":""},{"$f":"IF($D15=\"\",\"\",VLOOKUP($D15,'Boys Si Qual Draw Prep'!$A$7:$P$38,3))","v":""},null,{"$f":"IF($D15=\"\",\"\",VLOOKUP($D15,'Boys Si Qual Draw Prep'!$A$7:$P$38,4))","v":""},null,null,null,null,null,null,null,null,null,null,null,{"$f":"'SetUp Officials'!P29","v":" "}]
[null,null,null,null,null,null,null,"Umpire",null,{"$f":"UPPER(IF(OR(I16=\"a\",I16=\"as\"),E15,IF(OR(I16=\"b\",I16=\"bs\"),E17,)))","v":""},null,null,null,null,null,null,null,null,null,{"$f":"'SetUp Officials'!P30","v":"None"}]
[6,{"$f":"IF($D17=\"\",\"\",VLOOKUP($D17,'Boys Si Qual Draw Prep'!$A$7:$P$38,15))","v":""},{"$f":"IF($D17=\"\",\"\",VLOOKUP($D17,'Boys Si Qual Draw Prep'!$A$7:$P$38,16))","v":""},null,{"$f":"UPPER(IF($D17=\"\",\"\",VLOOKUP($D17,'Boys Si Qual Draw Prep'!$A$7:$P$38,2)))","v":""},{"$f":"IF($D17=\"\",\"\",VLOOKUP($D17,'Boys Si Qual Draw Prep'!$A$7:$P$38,3))","v":""},null,{"$f":"IF($D17=\"\",\"\",VLOOKUP($D17,'Boys Si Qual Draw Prep'!$A$7:$P$38,4))","v":""}]
[null,null,null,null,null,null,null,null,null,"Umpire",null,{"$f":"UPPER(IF(OR(K18=\"a\",K18=\"as\"),J16,IF(OR(K18=\"b\",K18=\"bs\"),J20,)))","v":""}]
[7,{"$f":"IF($D19=\"\",\"\",VLOOKUP($D19,'Boys Si Qual Draw Prep'!$A$7:$P$38,15))","v":""},{"$f":"IF($D19=\"\",\"\",VLOOKUP($D19,'Boys Si Qual Draw Prep'!$A$7:$P$38,16))","v":""},null,{"$f":"UPPER(IF($D19=\"\",\"\",VLOOKUP($D19,'Boys Si Qual Draw Prep'!$A$7:$P$38,2)))","v":""},{"$f":"IF($D19=\"\",\"\",VLOOKUP($D19,'Boys Si Qual Draw Prep'!$A$7:$P$38,3))","v":""},null,{"$f":"IF($D19=\"\",\"\",VLOOKUP($D19,'Boys Si Qual Draw Prep'!$A$7:$P$38,4))","v":""}]
[null,null,null,null,null,null,null,"Umpire",null,{"$f":"UPPER(IF(OR(I20=\"a\",I20=\"as\"),E19,IF(OR(I20=\"b\",I20=\"bs\"),E21,)))","v":""}]
[8,{"$f":"IF($D21=\"\",\"\",VLOOKUP($D21,'Boys Si Qual Draw Prep'!$A$7:$P$38,15))","v":""},{"$f":"IF($D21=\"\",\"\",VLOOKUP($D21,'Boys Si Qual Draw Prep'!$A$7:$P$38,16))","v":""},null,{"$f":"UPPER(IF($D21=\"\",\"\",VLOOKUP($D21,'Boys Si Qual Draw Prep'!$A$7:$P$38,2)))","v":""},{"$f":"IF($D21=\"\",\"\",VLOOKUP($D21,'Boys Si Qual Draw Prep'!$A$7:$P$38,3))","v":""},null,{"$f":"IF($D21=\"\",\"\",VLOOKUP($D21,'Boys Si Qual Draw Prep'!$A$7:$P$38,4))","v":""}]
[]
[9,{"$f":"IF($D23=\"\",\"\",VLOOKUP($D23,'Boys Si Qual Draw Prep'!$A$7:$P$38,15))","v":""},{"$f":"IF($D23=\"\",\"\",VLOOKUP($D23,'Boys Si Qual Draw Prep'!$A$7:$P$38,16))","v":""},null,{"$f":"UPPER(IF($D23=\"\",\"\",VLOOKUP($D23,'Boys Si Qual Draw Prep'!$A$7:$P$38,2)))","v":""},{"$f":"IF($D23=\"\",\"\",VLOOKUP($D23,'Boys Si Qual Draw Prep'!$A$7:$P$38,3))","v":""},null,{"$f":"IF($D23=\"\",\"\",VLOOKUP($D23,'Boys Si Qual Draw Prep'!$A$7:$P$38,4))","v":""}]
[null,null,null,null,null,null,null,"Umpire",null,{"$f":"UPPER(IF(OR(I24=\"a\",I24=\"as\"),E23,IF(OR(I24=\"b\",I24=\"bs\"),E25,)))","v":""}]
[10,{"$f":"IF($D25=\"\",\"\",VLOOKUP($D25,'Boys Si Qual Draw Prep'!$A$7:$P$38,15))","v":""},{"$f":"IF($D25=\"\",\"\",VLOOKUP($D25,'Boys Si Qual Draw Prep'!$A$7:$P$38,16))","v":""},null,{"$f":"UPPER(IF($D25=\"\",\"\",VLOOKUP($D25,'Boys Si Qual Draw Prep'!$A$7:$P$38,2)))","v":""},{"$f":"IF($D25=\"\",\"\",VLOOKUP($D25,'Boys Si Qual Draw Prep'!$A$7:$P$38,3))","v":""},null,{"$f":"IF($D25=\"\",\"\",VLOOKUP($D25,'Boys Si Qual Draw Prep'!$A$7:$P$38,4))","v":""}]
[null,null,null,null,null,null,null,null,null,"Umpire",null,{"$f":"UPPER(IF(OR(K26=\"a\",K26=\"as\"),J24,IF(OR(K26=\"b\",K26=\"bs\"),J28,)))","v":""}]
[11,{"$f":"IF($D27=\"\",\"\",VLOOKUP($D27,'Boys Si Qual Draw Prep'!$A$7:$P$38,15))","v":""},{"$f":"IF($D27=\"\",\"\",VLOOKUP($D27,'Boys Si Qual Draw Prep'!$A$7:$P$38,16))","v":""},null,{"$f":"UPPER(IF($D27=\"\",\"\",VLOOKUP($D27,'Boys Si Qual Draw Prep'!$A$7:$P$38,2)))","v":""},{"$f":"IF($D27=\"\",\"\",VLOOKUP($D27,'Boys Si Qual Draw Prep'!$A$7:$P$38,3))","v":""},null,{"$f":"IF($D27=\"\",\"\",VLOOKUP($D27,'Boys Si Qual Draw Prep'!$A$7:$P$38,4))","v":""}]
[null,null,null,null,null,null,null,"Umpire",null,{"$f":"UPPER(IF(OR(I28=\"a\",I28=\"as\"),E27,IF(OR(I28=\"b\",I28=\"bs\"),E29,)))","v":""}]
[12,{"$f":"IF($D29=\"\",\"\",VLOOKUP($D29,'Boys Si Qual Draw Prep'!$A$7:$P$38,15))","v":""},{"$f":"IF($D29=\"\",\"\",VLOOKUP($D29,'Boys Si Qual Draw Prep'!$A$7:$P$38,16))","v":""},null,{"$f":"UPPER(IF($D29=\"\",\"\",VLOOKUP($D29,'Boys Si Qual Draw Prep'!$A$7:$P$38,2)))","v":""},{"$f":"IF($D29=\"\",\"\",VLOOKUP($D29,'Boys Si Qual Draw Prep'!$A$7:$P$38,3))","v":""},null,{"$f":"IF($D29=\"\",\"\",VLOOKUP($D29,'Boys Si Qual Draw Prep'!$A$7:$P$38,4))","v":""}]
[null,null,null,null,null,null,null,null,null,null,null,"Umpire",null,{"$f":"UPPER(IF(OR(M30=\"a\",M30=\"as\"),L26,IF(OR(M30=\"b\",M30=\"bs\"),L34,)))","v":""}]
[13,{"$f":"IF($D31=\"\",\"\",VLOOKUP($D31,'Boys Si Qual Draw Prep'!$A$7:$P$38,15))","v":""},{"$f":"IF($D31=\"\",\"\",VLOOKUP($D31,'Boys Si Qual Draw Prep'!$A$7:$P$38,16))","v":""},null,{"$f":"UPPER(IF($D31=\"\",\"\",VLOOKUP($D31,'Boys Si Qual Draw Prep'!$A$7:$P$38,2)))","v":""},{"$f":"IF($D31=\"\",\"\",VLOOKUP($D31,'Boys Si Qual Draw Prep'!$A$7:$P$38,3))","v":""},null,{"$f":"IF($D31=\"\",\"\",VLOOKUP($D31,'Boys Si Qual Draw Prep'!$A$7:$P$38,4))","v":""}]
[null,null,null,null,null,null,null,"Umpire",null,{"$f":"UPPER(IF(OR(I32=\"a\",I32=\"as\"),E31,IF(OR(I32=\"b\",I32=\"bs\"),E33,)))","v":""}]
[14,{"$f":"IF($D33=\"\",\"\",VLOOKUP($D33,'Boys Si Qual Draw Prep'!$A$7:$P$38,15))","v":""},{"$f":"IF($D33=\"\",\"\",VLOOKUP($D33,'Boys Si Qual Draw Prep'!$A$7:$P$38,16))","v":""},null,{"$f":"UPPER(IF($D33=\"\",\"\",VLOOKUP($D33,'Boys Si Qual Draw Prep'!$A$7:$P$38,2)))","v":""},{"$f":"IF($D33=\"\",\"\",VLOOKUP($D33,'Boys Si Qual Draw Prep'!$A$7:$P$38,3))","v":""},null,{"$f":"IF($D33=\"\",\"\",VLOOKUP($D33,'Boys Si Qual Draw Prep'!$A$7:$P$38,4))","v":""}]
[null,null,null,null,null,null,null,null,null,"Umpire",null,{"$f":"UPPER(IF(OR(K34=\"a\",K34=\"as\"),J32,IF(OR(K34=\"b\",K34=\"bs\"),J36,)))","v":""}]
[15,{"$f":"IF($D35=\"\",\"\",VLOOKUP($D35,'Boys Si Qual Draw Prep'!$A$7:$P$38,15))","v":""},{"$f":"IF($D35=\"\",\"\",VLOOKUP($D35,'Boys Si Qual Draw Prep'!$A$7:$P$38,16))","v":""},null,{"$f":"UPPER(IF($D35=\"\",\"\",VLOOKUP($D35,'Boys Si Qual Draw Prep'!$A$7:$P$38,2)))","v":""},{"$f":"IF($D35=\"\",\"\",VLOOKUP($D35,'Boys Si Qual Draw Prep'!$A$7:$P$38,3))","v":""},null,{"$f":"IF($D35=\"\",\"\",VLOOKUP($D35,'Boys Si Qual Draw Prep'!$A$7:$P$38,4))","v":""}]
[null,null,null,null,null,null,null,"Umpire",null,{"$f":"UPPER(IF(OR(I36=\"a\",I36=\"as\"),E35,IF(OR(I36=\"b\",I36=\"bs\"),E37,)))","v":""}]
[16,{"$f":"IF($D37=\"\",\"\",VLOOKUP($D37,'Boys Si Qual Draw Prep'!$A$7:$P$38,15))","v":""},{"$f":"IF($D37=\"\",\"\",VLOOKUP($D37,'Boys Si Qual Draw Prep'!$A$7:$P$38,16))","v":""},null,{"$f":"UPPER(IF($D37=\"\",\"\",VLOOKUP($D37,'Boys Si Qual Draw Prep'!$A$7:$P$38,2)))","v":""},{"$f":"IF($D37=\"\",\"\",VLOOKUP($D37,'Boys Si Qual Draw Prep'!$A$7:$P$38,3))","v":""},null,{"$f":"IF($D37=\"\",\"\",VLOOKUP($D37,'Boys Si Qual Draw Prep'!$A$7:$P$38,4))","v":""}]
[]
[17,{"$f":"IF($D39=\"\",\"\",VLOOKUP($D39,'Boys Si Qual Draw Prep'!$A$7:$P$38,15))","v":""},{"$f":"IF($D39=\"\",\"\",VLOOKUP($D39,'Boys Si Qual Draw Prep'!$A$7:$P$38,16))","v":""},null,{"$f":"UPPER(IF($D39=\"\",\"\",VLOOKUP($D39,'Boys Si Qual Draw Prep'!$A$7:$P$38,2)))","v":""},{"$f":"IF($D39=\"\",\"\",VLOOKUP($D39,'Boys Si Qual Draw Prep'!$A$7:$P$38,3))","v":""},null,{"$f":"IF($D39=\"\",\"\",VLOOKUP($D39,'Boys Si Qual Draw Prep'!$A$7:$P$38,4))","v":""}]
[null,null,null,null,null,null,null,"Umpire",null,{"$f":"UPPER(IF(OR(I40=\"a\",I40=\"as\"),E39,IF(OR(I40=\"b\",I40=\"bs\"),E41,)))","v":""}]
[18,{"$f":"IF($D41=\"\",\"\",VLOOKUP($D41,'Boys Si Qual Draw Prep'!$A$7:$P$38,15))","v":""},{"$f":"IF($D41=\"\",\"\",VLOOKUP($D41,'Boys Si Qual Draw Prep'!$A$7:$P$38,16))","v":""},null,{"$f":"UPPER(IF($D41=\"\",\"\",VLOOKUP($D41,'Boys Si Qual Draw Prep'!$A$7:$P$38,2)))","v":""},{"$f":"IF($D41=\"\",\"\",VLOOKUP($D41,'Boys Si Qual Draw Prep'!$A$7:$P$38,3))","v":""},null,{"$f":"IF($D41=\"\",\"\",VLOOKUP($D41,'Boys Si Qual Draw Prep'!$A$7:$P$38,4))","v":""}]
[null,null,null,null,null,null,null,null,null,"Umpire",null,{"$f":"UPPER(IF(OR(K42=\"a\",K42=\"as\"),J40,IF(OR(K42=\"b\",K42=\"bs\"),J44,)))","v":""}]
[19,{"$f":"IF($D43=\"\",\"\",VLOOKUP($D43,'Boys Si Qual Draw Prep'!$A$7:$P$38,15))","v":""},{"$f":"IF($D43=\"\",\"\",VLOOKUP($D43,'Boys Si Qual Draw Prep'!$A$7:$P$38,16))","v":""},null,{"$f":"UPPER(IF($D43=\"\",\"\",VLOOKUP($D43,'Boys Si Qual Draw Prep'!$A$7:$P$38,2)))","v":""},{"$f":"IF($D43=\"\",\"\",VLOOKUP($D43,'Boys Si Qual Draw Prep'!$A$7:$P$38,3))","v":""},null,{"$f":"IF($D43=\"\",\"\",VLOOKUP($D43,'Boys Si Qual Draw Prep'!$A$7:$P$38,4))","v":""}]
[null,null,null,null,null,null,null,"Umpire",null,{"$f":"UPPER(IF(OR(I44=\"a\",I44=\"as\"),E43,IF(OR(I44=\"b\",I44=\"bs\"),E45,)))","v":""}]
[20,{"$f":"IF($D45=\"\",\"\",VLOOKUP($D45,'Boys Si Qual Draw Prep'!$A$7:$P$38,15))","v":""},{"$f":"IF($D45=\"\",\"\",VLOOKUP($D45,'Boys Si Qual Draw Prep'!$A$7:$P$38,16))","v":""},null,{"$f":"UPPER(IF($D45=\"\",\"\",VLOOKUP($D45,'Boys Si Qual Draw Prep'!$A$7:$P$38,2)))","v":""},{"$f":"IF($D45=\"\",\"\",VLOOKUP($D45,'Boys Si Qual Draw Prep'!$A$7:$P$38,3))","v":""},null,{"$f":"IF($D45=\"\",\"\",VLOOKUP($D45,'Boys Si Qual Draw Prep'!$A$7:$P$38,4))","v":""}]
[null,null,null,null,null,null,null,null,null,null,null,"Umpire",null,{"$f":"UPPER(IF(OR(M46=\"a\",M46=\"as\"),L42,IF(OR(M46=\"b\",M46=\"bs\"),L50,)))","v":""}]
[21,{"$f":"IF($D47=\"\",\"\",VLOOKUP($D47,'Boys Si Qual Draw Prep'!$A$7:$P$38,15))","v":""},{"$f":"IF($D47=\"\",\"\",VLOOKUP($D47,'Boys Si Qual Draw Prep'!$A$7:$P$38,16))","v":""},null,{"$f":"UPPER(IF($D47=\"\",\"\",VLOOKUP($D47,'Boys Si Qual Draw Prep'!$A$7:$P$38,2)))","v":""},{"$f":"IF($D47=\"\",\"\",VLOOKUP($D47,'Boys Si Qual Draw Prep'!$A$7:$P$38,3))","v":""},null,{"$f":"IF($D47=\"\",\"\",VLOOKUP($D47,'Boys Si Qual Draw Prep'!$A$7:$P$38,4))","v":""}]
[null,null,null,null,null,null,null,"Umpire",null,{"$f":"UPPER(IF(OR(I48=\"a\",I48=\"as\"),E47,IF(OR(I48=\"b\",I48=\"bs\"),E49,)))","v":""}]
[22,{"$f":"IF($D49=\"\",\"\",VLOOKUP($D49,'Boys Si Qual Draw Prep'!$A$7:$P$38,15))","v":""},{"$f":"IF($D49=\"\",\"\",VLOOKUP($D49,'Boys Si Qual Draw Prep'!$A$7:$P$38,16))","v":""},null,{"$f":"UPPER(IF($D49=\"\",\"\",VLOOKUP($D49,'Boys Si Qual Draw Prep'!$A$7:$P$38,2)))","v":""},{"$f":"IF($D49=\"\",\"\",VLOOKUP($D49,'Boys Si Qual Draw Prep'!$A$7:$P$38,3))","v":""},null,{"$f":"IF($D49=\"\",\"\",VLOOKUP($D49,'Boys Si Qual Draw Prep'!$A$7:$P$38,4))","v":""}]
[null,null,null,null,null,null,null,null,null,"Umpire",null,{"$f":"UPPER(IF(OR(K50=\"a\",K50=\"as\"),J48,IF(OR(K50=\"b\",K50=\"bs\"),J52,)))","v":""}]
[23,{"$f":"IF($D51=\"\",\"\",VLOOKUP($D51,'Boys Si Qual Draw Prep'!$A$7:$P$38,15))","v":""},{"$f":"IF($D51=\"\",\"\",VLOOKUP($D51,'Boys Si Qual Draw Prep'!$A$7:$P$38,16))","v":""},null,{"$f":"UPPER(IF($D51=\"\",\"\",VLOOKUP($D51,'Boys Si Qual Draw Prep'!$A$7:$P$38,2)))","v":""},{"$f":"IF($D51=\"\",\"\",VLOOKUP($D51,'Boys Si Qual Draw Prep'!$A$7:$P$38,3))","v":""},null,{"$f":"IF($D51=\"\",\"\",VLOOKUP($D51,'Boys Si Qual Draw Prep'!$A$7:$P$38,4))","v":""}]
[null,null,null,null,null,null,null,"Umpire",null,{"$f":"UPPER(IF(OR(I52=\"a\",I52=\"as\"),E51,IF(OR(I52=\"b\",I52=\"bs\"),E53,)))","v":""}]
[24,{"$f":"IF($D53=\"\",\"\",VLOOKUP($D53,'Boys Si Qual Draw Prep'!$A$7:$P$38,15))","v":""},{"$f":"IF($D53=\"\",\"\",VLOOKUP($D53,'Boys Si Qual Draw Prep'!$A$7:$P$38,16))","v":""},null,{"$f":"UPPER(IF($D53=\"\",\"\",VLOOKUP($D53,'Boys Si Qual Draw Prep'!$A$7:$P$38,2)))","v":""},{"$f":"IF($D53=\"\",\"\",VLOOKUP($D53,'Boys Si Qual Draw Prep'!$A$7:$P$38,3))","v":""},null,{"$f":"IF($D53=\"\",\"\",VLOOKUP($D53,'Boys Si Qual Draw Prep'!$A$7:$P$38,4))","v":""}]
[]
[25,{"$f":"IF($D55=\"\",\"\",VLOOKUP($D55,'Boys Si Qual Draw Prep'!$A$7:$P$38,15))","v":""},{"$f":"IF($D55=\"\",\"\",VLOOKUP($D55,'Boys Si Qual Draw Prep'!$A$7:$P$38,16))","v":""},null,{"$f":"UPPER(IF($D55=\"\",\"\",VLOOKUP($D55,'Boys Si Qual Draw Prep'!$A$7:$P$38,2)))","v":""},{"$f":"IF($D55=\"\",\"\",VLOOKUP($D55,'Boys Si Qual Draw Prep'!$A$7:$P$38,3))","v":""},null,{"$f":"IF($D55=\"\",\"\",VLOOKUP($D55,'Boys Si Qual Draw Prep'!$A$7:$P$38,4))","v":""}]
[null,null,null,null,null,null,null,"Umpire",null,{"$f":"UPPER(IF(OR(I56=\"a\",I56=\"as\"),E55,IF(OR(I56=\"b\",I56=\"bs\"),E57,)))","v":""}]
[26,{"$f":"IF($D57=\"\",\"\",VLOOKUP($D57,'Boys Si Qual Draw Prep'!$A$7:$P$38,15))","v":""},{"$f":"IF($D57=\"\",\"\",VLOOKUP($D57,'Boys Si Qual Draw Prep'!$A$7:$P$38,16))","v":""},null,{"$f":"UPPER(IF($D57=\"\",\"\",VLOOKUP($D57,'Boys Si Qual Draw Prep'!$A$7:$P$38,2)))","v":""},{"$f":"IF($D57=\"\",\"\",VLOOKUP($D57,'Boys Si Qual Draw Prep'!$A$7:$P$38,3))","v":""},null,{"$f":"IF($D57=\"\",\"\",VLOOKUP($D57,'Boys Si Qual Draw Prep'!$A$7:$P$38,4))","v":""}]
[null,null,null,null,null,null,null,null,null,"Umpire",null,{"$f":"UPPER(IF(OR(K58=\"a\",K58=\"as\"),J56,IF(OR(K58=\"b\",K58=\"bs\"),J60,)))","v":""}]
[27,{"$f":"IF($D59=\"\",\"\",VLOOKUP($D59,'Boys Si Qual Draw Prep'!$A$7:$P$38,15))","v":""},{"$f":"IF($D59=\"\",\"\",VLOOKUP($D59,'Boys Si Qual Draw Prep'!$A$7:$P$38,16))","v":""},null,{"$f":"UPPER(IF($D59=\"\",\"\",VLOOKUP($D59,'Boys Si Qual Draw Prep'!$A$7:$P$38,2)))","v":""},{"$f":"IF($D59=\"\",\"\",VLOOKUP($D59,'Boys Si Qual Draw Prep'!$A$7:$P$38,3))","v":""},null,{"$f":"IF($D59=\"\",\"\",VLOOKUP($D59,'Boys Si Qual Draw Prep'!$A$7:$P$38,4))","v":""}]
[null,null,null,null,null,null,null,"Umpire",null,{"$f":"UPPER(IF(OR(I60=\"a\",I60=\"as\"),E59,IF(OR(I60=\"b\",I60=\"bs\"),E61,)))","v":""}]
[28,{"$f":"IF($D61=\"\",\"\",VLOOKUP($D61,'Boys Si Qual Draw Prep'!$A$7:$P$38,15))","v":""},{"$f":"IF($D61=\"\",\"\",VLOOKUP($D61,'Boys Si Qual Draw Prep'!$A$7:$P$38,16))","v":""},null,{"$f":"UPPER(IF($D61=\"\",\"\",VLOOKUP($D61,'Boys Si Qual Draw Prep'!$A$7:$P$38,2)))","v":""},{"$f":"IF($D61=\"\",\"\",VLOOKUP($D61,'Boys Si Qual Draw Prep'!$A$7:$P$38,3))","v":""},null,{"$f":"IF($D61=\"\",\"\",VLOOKUP($D61,'Boys Si Qual Draw Prep'!$A$7:$P$38,4))","v":""}]
[null,null,null,null,null,null,null,null,null,null,null,"Umpire",null,{"$f":"UPPER(IF(OR(M62=\"a\",M62=\"as\"),L58,IF(OR(M62=\"b\",M62=\"bs\"),L66,)))","v":""}]
[29,{"$f":"IF($D63=\"\",\"\",VLOOKUP($D63,'Boys Si Qual Draw Prep'!$A$7:$P$38,15))","v":""},{"$f":"IF($D63=\"\",\"\",VLOOKUP($D63,'Boys Si Qual Draw Prep'!$A$7:$P$38,16))","v":""},null,{"$f":"UPPER(IF($D63=\"\",\"\",VLOOKUP($D63,'Boys Si Qual Draw Prep'!$A$7:$P$38,2)))","v":""},{"$f":"IF($D63=\"\",\"\",VLOOKUP($D63,'Boys Si Qual Draw Prep'!$A$7:$P$38,3))","v":""},null,{"$f":"IF($D63=\"\",\"\",VLOOKUP($D63,'Boys Si Qual Draw Prep'!$A$7:$P$38,4))","v":""}]
[null,null,null,null,null,null,null,"Umpire",null,{"$f":"UPPER(IF(OR(I64=\"a\",I64=\"as\"),E63,IF(OR(I64=\"b\",I64=\"bs\"),E65,)))","v":""}]
[30,{"$f":"IF($D65=\"\",\"\",VLOOKUP($D65,'Boys Si Qual Draw Prep'!$A$7:$P$38,15))","v":""},{"$f":"IF($D65=\"\",\"\",VLOOKUP($D65,'Boys Si Qual Draw Prep'!$A$7:$P$38,16))","v":""},null,{"$f":"UPPER(IF($D65=\"\",\"\",VLOOKUP($D65,'Boys Si Qual Draw Prep'!$A$7:$P$38,2)))","v":""},{"$f":"IF($D65=\"\",\"\",VLOOKUP($D65,'Boys Si Qual Draw Prep'!$A$7:$P$38,3))","v":""},null,{"$f":"IF($D65=\"\",\"\",VLOOKUP($D65,'Boys Si Qual Draw Prep'!$A$7:$P$38,4))","v":""}]
[null,null,null,null,null,null,null,null,null,"Umpire",null,{"$f":"UPPER(IF(OR(K66=\"a\",K66=\"as\"),J64,IF(OR(K66=\"b\",K66=\"bs\"),J68,)))","v":""}]
[31,{"$f":"IF($D67=\"\",\"\",VLOOKUP($D67,'Boys Si Qual Draw Prep'!$A$7:$P$38,15))","v":""},{"$f":"IF($D67=\"\",\"\",VLOOKUP($D67,'Boys Si Qual Draw Prep'!$A$7:$P$38,16))","v":""},null,{"$f":"UPPER(IF($D67=\"\",\"\",VLOOKUP($D67,'Boys Si Qual Draw Prep'!$A$7:$P$38,2)))","v":""},{"$f":"IF($D67=\"\",\"\",VLOOKUP($D67,'Boys Si Qual Draw Prep'!$A$7:$P$38,3))","v":""},null,{"$f":"IF($D67=\"\",\"\",VLOOKUP($D67,'Boys Si Qual Draw Prep'!$A$7:$P$38,4))","v":""}]
[null,null,null,null,null,null,null,"Umpire",null,{"$f":"UPPER(IF(OR(I68=\"a\",I68=\"as\"),E67,IF(OR(I68=\"b\",I68=\"bs\"),E69,)))","v":""}]
[32,{"$f":"IF($D69=\"\",\"\",VLOOKUP($D69,'Boys Si Qual Draw Prep'!$A$7:$P$38,15))","v":""},{"$f":"IF($D69=\"\",\"\",VLOOKUP($D69,'Boys Si Qual Draw Prep'!$A$7:$P$38,16))","v":""},null,{"$f":"UPPER(IF($D69=\"\",\"\",VLOOKUP($D69,'Boys Si Qual Draw Prep'!$A$7:$P$38,2)))","v":""},{"$f":"IF($D69=\"\",\"\",VLOOKUP($D69,'Boys Si Qual Draw Prep'!$A$7:$P$38,3))","v":""},null,{"$f":"IF($D69=\"\",\"\",VLOOKUP($D69,'Boys Si Qual Draw Prep'!$A$7:$P$38,4))","v":""}]
[]
["Acc. Ranking",null,null,"#","Seeded players",null,null,null,"#","Alternates",null,"Replacing",null,"Draw date/time:"]
["Rkg Date",null,null,1,{"$f":"IF(D72>$Q$79,,UPPER(VLOOKUP(D72,'Boys Si Qual Draw Prep'!$A$7:$R$134,2)))","v":0},null,null,null,"1",null,null,null,null,"Last Accepted player"]
["Top DA",null,null,2,{"$f":"IF(D73>$Q$79,,UPPER(VLOOKUP(D73,'Boys Si Qual Draw Prep'!$A$7:$R$134,2)))","v":0},null,null,null,"2"]
["Last DA",null,null,3,{"$f":"IF(D74>$Q$79,,UPPER(VLOOKUP(D74,'Boys Si Qual Draw Prep'!$A$7:$R$134,2)))","v":0},null,null,null,"3",null,null,null,null,"Player representatives"]
[null,null,null,4,{"$f":"IF(D75>$Q$79,,UPPER(VLOOKUP(D75,'Boys Si Qual Draw Prep'!$A$7:$R$134,2)))","v":0},null,null,null,"4"]
["Seed ranking",null,null,5,{"$f":"IF(D76>$Q$79,,UPPER(VLOOKUP(D76,'Boys Si Qual Draw Prep'!$A$7:$R$134,2)))","v":0},null,null,null,"5"]
["Rkg Date",null,null,6,{"$f":"IF(D77>$Q$79,,UPPER(VLOOKUP(D77,'Boys Si Qual Draw Prep'!$A$7:$R$134,2)))","v":0},null,null,null,"6",null,null,null,null,"ITF Referee's signature"]
["Top seed",null,null,7,{"$f":"IF(D78>$Q$79,,UPPER(VLOOKUP(D78,'Boys Si Qual Draw Prep'!$A$7:$R$134,2)))","v":0},null,null,null,"7"]
["Last seed",null,null,8,{"$f":"IF(D79>$Q$79,,UPPER(VLOOKUP(D79,'Boys Si Qual Draw Prep'!$A$7:$R$134,2)))","v":0},null,null,null,"8",null,null,null,null,{"$f":"Q4","v":0},null,null,{"$f":"MIN(8,'Boys Si Qual Draw Prep'!R5)","v":0}]

{"sheet":"Boys Si Qual 32>8","index":28,"n_rows":79,"n_cols":20,"rows_kept":79,"cut":false,"hidden":false,"merged":[[3,0,3,2]]}
[{"$f":"'Week SetUp'!$A$6","v":0},null,null,null,null,null,null,null,null,"BOYS SINGLES",null,null,null,"CU"]
[{"$f":"'Week SetUp'!$A$8","v":"ITF Junior Circuit"},null,null,null,null,null,null,null,null,"QUALIFYING DRAW (32)"]
["Week of",null,null,null,null,"City, Country",null,null,null,"Group",null,"Tourn. ID",null,null,null,null,"ITF Referee"]
[{"$f":"'Week SetUp'!$A$10","v":"00:00:00"},null,null,null,null,{"$f":"'Week SetUp'!$C$10","v":0},null,null,null,{"$f":"'Week SetUp'!$D$10","v":0},null,{"$f":"'Week SetUp'!$A$12","v":0},null,null,null,null,{"$f":"'Week SetUp'!$E$10","v":0}]
[null,"St.","Rank","Seed","Family Name","First name",null,"Nationality",null,"2nd Round",null,"Finals",null,"Qualifiers"]
[]
[1,{"$f":"IF($D7=\"\",\"\",VLOOKUP($D7,'Boys Si Qual Draw Prep'!$A$7:$P$38,15))","v":""},{"$f":"IF($D7=\"\",\"\",VLOOKUP($D7,'Boys Si Qual Draw Prep'!$A$7:$P$38,16))","v":""},null,{"$f":"UPPER(IF($D7=\"\",\"\",VLOOKUP($D7,'Boys Si Qual Draw Prep'!$A$7:$P$38,2)))","v":""},{"$f":"IF($D7=\"\",\"\",VLOOKUP($D7,'Boys Si Qual Draw Prep'!$A$7:$P$38,3))","v":""},null,{"$f":"IF($D7=\"\",\"\",VLOOKUP($D7,'Boys Si Qual Draw Prep'!$A$7:$P$38,4))","v":""},null,null,null,null,null,null,null,null,null,null,null,{"$f":"'SetUp Officials'!P21","v":"Umpire"}]
[null,null,null,null,null,null,null,"Umpire",null,{"$f":"UPPER(IF(OR(I8=\"a\",I8=\"as\"),E7,IF(OR(I8=\"b\",I8=\"bs\"),E9,)))","v":""},null,null,null,null,null,null,null,null,null,{"$f":"'SetUp Officials'!P22","v":" "}]
[2,{"$f":"IF($D9=\"\",\"\",VLOOKUP($D9,'Boys Si Qual Draw Prep'!$A$7:$P$38,15))","v":""},{"$f":"IF($D9=\"\",\"\",VLOOKUP($D9,'Boys Si Qual Draw Prep'!$A$7:$P$38,16))","v":""},null,{"$f":"UPPER(IF($D9=\"\",\"\",VLOOKUP($D9,'Boys Si Qual Draw Prep'!$A$7:$P$38,2)))","v":""},{"$f":"IF($D9=\"\",\"\",VLOOKUP($D9,'Boys Si Qual Draw Prep'!$A$7:$P$38,3))","v":""},null,{"$f":"IF($D9=\"\",\"\",VLOOKUP($D9,'Boys Si Qual Draw Prep'!$A$7:$P$38,4))","v":""},null,null,null,null,null,null,null,null,null,null,null,{"$f":"'SetUp Officials'!P23","v":" "}]
[null,null,null,null,null,null,null,null,null,"Umpire",null,{"$f":"UPPER(IF(OR(K10=\"a\",K10=\"as\"),J8,IF(OR(K10=\"b\",K10=\"bs\"),J12,)))","v":""},null,null,null,null,null,null,null,{"$f":"'SetUp Officials'!P24","v":" "}]
[3,{"$f":"IF($D11=\"\",\"\",VLOOKUP($D11,'Boys Si Qual Draw Prep'!$A$7:$P$38,15))","v":""},{"$f":"IF($D11=\"\",\"\",VLOOKUP($D11,'Boys Si Qual Draw Prep'!$A$7:$P$38,16))","v":""},null,{"$f":"UPPER(IF($D11=\"\",\"\",VLOOKUP($D11,'Boys Si Qual Draw Prep'!$A$7:$P$38,2)))","v":""},{"$f":"IF($D11=\"\",\"\",VLOOKUP($D11,'Boys Si Qual Draw Prep'!$A$7:$P$38,3))","v":""},null,{"$f":"IF($D11=\"\",\"\",VLOOKUP($D11,'Boys Si Qual Draw Prep'!$A$7:$P$38,4))","v":""},null,null,null,null,null,null,null,null,null,null,null,{"$f":"'SetUp Officials'!P25","v":" "}]
[null,null,null,null,null,null,null,"Umpire",null,{"$f":"UPPER(IF(OR(I12=\"a\",I12=\"as\"),E11,IF(OR(I12=\"b\",I12=\"bs\"),E13,)))","v":""},null,null,null,null,null,null,null,null,null,{"$f":"'SetUp Officials'!P26","v":" "}]
[4,{"$f":"IF($D13=\"\",\"\",VLOOKUP($D13,'Boys Si Qual Draw Prep'!$A$7:$P$38,15))","v":""},{"$f":"IF($D13=\"\",\"\",VLOOKUP($D13,'Boys Si Qual Draw Prep'!$A$7:$P$38,16))","v":""},null,{"$f":"UPPER(IF($D13=\"\",\"\",VLOOKUP($D13,'Boys Si Qual Draw Prep'!$A$7:$P$38,2)))","v":""},{"$f":"IF($D13=\"\",\"\",VLOOKUP($D13,'Boys Si Qual Draw Prep'!$A$7:$P$38,3))","v":""},null,{"$f":"IF($D13=\"\",\"\",VLOOKUP($D13,'Boys Si Qual Draw Prep'!$A$7:$P$38,4))","v":""},null,null,null,null,null,null,null,null,null,null,null,{"$f":"'SetUp Officials'!P27","v":" "}]
[null,null,null,null,null,null,null,null,null,null,null,null,null,{"$f":"UPPER(IF(OR(M14=\"a\",M14=\"as\"),L10,IF(OR(M14=\"b\",M14=\"bs\"),L18,)))","v":""},null,null,null,null,null,{"$f":"'SetUp Officials'!P28","v":" "}]
[5,{"$f":"IF($D15=\"\",\"\",VLOOKUP($D15,'Boys Si Qual Draw Prep'!$A$7:$P$38,15))","v":""},{"$f":"IF($D15=\"\",\"\",VLOOKUP($D15,'Boys Si Qual Draw Prep'!$A$7:$P$38,16))","v":""},null,{"$f":"UPPER(IF($D15=\"\",\"\",VLOOKUP($D15,'Boys Si Qual Draw Prep'!$A$7:$P$38,2)))","v":""},{"$f":"IF($D15=\"\",\"\",VLOOKUP($D15,'Boys Si Qual Draw Prep'!$A$7:$P$38,3))","v":""},null,{"$f":"IF($D15=\"\",\"\",VLOOKUP($D15,'Boys Si Qual Draw Prep'!$A$7:$P$38,4))","v":""},null,null,null,null,null,null,null,null,null,null,null,{"$f":"'SetUp Officials'!P29","v":" "}]
[null,null,null,null,null,null,null,"Umpire",null,{"$f":"UPPER(IF(OR(I16=\"a\",I16=\"as\"),E15,IF(OR(I16=\"b\",I16=\"bs\"),E17,)))","v":""},null,null,null,null,null,null,null,null,null,{"$f":"'SetUp Officials'!P30","v":"None"}]
[6,{"$f":"IF($D17=\"\",\"\",VLOOKUP($D17,'Boys Si Qual Draw Prep'!$A$7:$P$38,15))","v":""},{"$f":"IF($D17=\"\",\"\",VLOOKUP($D17,'Boys Si Qual Draw Prep'!$A$7:$P$38,16))","v":""},null,{"$f":"UPPER(IF($D17=\"\",\"\",VLOOKUP($D17,'Boys Si Qual Draw Prep'!$A$7:$P$38,2)))","v":""},{"$f":"IF($D17=\"\",\"\",VLOOKUP($D17,'Boys Si Qual Draw Prep'!$A$7:$P$38,3))","v":""},null,{"$f":"IF($D17=\"\",\"\",VLOOKUP($D17,'Boys Si Qual Draw Prep'!$A$7:$P$38,4))","v":""}]
[null,null,null,null,null,null,null,null,null,"Umpire",null,{"$f":"UPPER(IF(OR(K18=\"a\",K18=\"as\"),J16,IF(OR(K18=\"b\",K18=\"bs\"),J20,)))","v":""}]
[7,{"$f":"IF($D19=\"\",\"\",VLOOKUP($D19,'Boys Si Qual Draw Prep'!$A$7:$P$38,15))","v":""},{"$f":"IF($D19=\"\",\"\",VLOOKUP($D19,'Boys Si Qual Draw Prep'!$A$7:$P$38,16))","v":""},null,{"$f":"UPPER(IF($D19=\"\",\"\",VLOOKUP($D19,'Boys Si Qual Draw Prep'!$A$7:$P$38,2)))","v":""},{"$f":"IF($D19=\"\",\"\",VLOOKUP($D19,'Boys Si Qual Draw Prep'!$A$7:$P$38,3))","v":""},null,{"$f":"IF($D19=\"\",\"\",VLOOKUP($D19,'Boys Si Qual Draw Prep'!$A$7:$P$38,4))","v":""}]
[null,null,null,null,null,null,null,"Umpire",null,{"$f":"UPPER(IF(OR(I20=\"a\",I20=\"as\"),E19,IF(OR(I20=\"b\",I20=\"bs\"),E21,)))","v":""}]
[8,{"$f":"IF($D21=\"\",\"\",VLOOKUP($D21,'Boys Si Qual Draw Prep'!$A$7:$P$38,15))","v":""},{"$f":"IF($D21=\"\",\"\",VLOOKUP($D21,'Boys Si Qual Draw Prep'!$A$7:$P$38,16))","v":""},null,{"$f":"UPPER(IF($D21=\"\",\"\",VLOOKUP($D21,'Boys Si Qual Draw Prep'!$A$7:$P$38,2)))","v":""},{"$f":"IF($D21=\"\",\"\",VLOOKUP($D21,'Boys Si Qual Draw Prep'!$A$7:$P$38,3))","v":""},null,{"$f":"IF($D21=\"\",\"\",VLOOKUP($D21,'Boys Si Qual Draw Prep'!$A$7:$P$38,4))","v":""}]
[]
[9,{"$f":"IF($D23=\"\",\"\",VLOOKUP($D23,'Boys Si Qual Draw Prep'!$A$7:$P$38,15))","v":""},{"$f":"IF($D23=\"\",\"\",VLOOKUP($D23,'Boys Si Qual Draw Prep'!$A$7:$P$38,16))","v":""},null,{"$f":"UPPER(IF($D23=\"\",\"\",VLOOKUP($D23,'Boys Si Qual Draw Prep'!$A$7:$P$38,2)))","v":""},{"$f":"IF($D23=\"\",\"\",VLOOKUP($D23,'Boys Si Qual Draw Prep'!$A$7:$P$38,3))","v":""},null,{"$f":"IF($D23=\"\",\"\",VLOOKUP($D23,'Boys Si Qual Draw Prep'!$A$7:$P$38,4))","v":""}]
[null,null,null,null,null,null,null,"Umpire",null,{"$f":"UPPER(IF(OR(I24=\"a\",I24=\"as\"),E23,IF(OR(I24=\"b\",I24=\"bs\"),E25,)))","v":""}]
[10,{"$f":"IF($D25=\"\",\"\",VLOOKUP($D25,'Boys Si Qual Draw Prep'!$A$7:$P$38,15))","v":""},{"$f":"IF($D25=\"\",\"\",VLOOKUP($D25,'Boys Si Qual Draw Prep'!$A$7:$P$38,16))","v":""},null,{"$f":"UPPER(IF($D25=\"\",\"\",VLOOKUP($D25,'Boys Si Qual Draw Prep'!$A$7:$P$38,2)))","v":""},{"$f":"IF($D25=\"\",\"\",VLOOKUP($D25,'Boys Si Qual Draw Prep'!$A$7:$P$38,3))","v":""},null,{"$f":"IF($D25=\"\",\"\",VLOOKUP($D25,'Boys Si Qual Draw Prep'!$A$7:$P$38,4))","v":""}]
[null,null,null,null,null,null,null,null,null,"Umpire",null,{"$f":"UPPER(IF(OR(K26=\"a\",K26=\"as\"),J24,IF(OR(K26=\"b\",K26=\"bs\"),J28,)))","v":""}]
[11,{"$f":"IF($D27=\"\",\"\",VLOOKUP($D27,'Boys Si Qual Draw Prep'!$A$7:$P$38,15))","v":""},{"$f":"IF($D27=\"\",\"\",VLOOKUP($D27,'Boys Si Qual Draw Prep'!$A$7:$P$38,16))","v":""},null,{"$f":"UPPER(IF($D27=\"\",\"\",VLOOKUP($D27,'Boys Si Qual Draw Prep'!$A$7:$P$38,2)))","v":""},{"$f":"IF($D27=\"\",\"\",VLOOKUP($D27,'Boys Si Qual Draw Prep'!$A$7:$P$38,3))","v":""},null,{"$f":"IF($D27=\"\",\"\",VLOOKUP($D27,'Boys Si Qual Draw Prep'!$A$7:$P$38,4))","v":""}]
[null,null,null,null,null,null,null,"Umpire",null,{"$f":"UPPER(IF(OR(I28=\"a\",I28=\"as\"),E27,IF(OR(I28=\"b\",I28=\"bs\"),E29,)))","v":""}]
[12,{"$f":"IF($D29=\"\",\"\",VLOOKUP($D29,'Boys Si Qual Draw Prep'!$A$7:$P$38,15))","v":""},{"$f":"IF($D29=\"\",\"\",VLOOKUP($D29,'Boys Si Qual Draw Prep'!$A$7:$P$38,16))","v":""},null,{"$f":"UPPER(IF($D29=\"\",\"\",VLOOKUP($D29,'Boys Si Qual Draw Prep'!$A$7:$P$38,2)))","v":""},{"$f":"IF($D29=\"\",\"\",VLOOKUP($D29,'Boys Si Qual Draw Prep'!$A$7:$P$38,3))","v":""},null,{"$f":"IF($D29=\"\",\"\",VLOOKUP($D29,'Boys Si Qual Draw Prep'!$A$7:$P$38,4))","v":""}]
[null,null,null,null,null,null,null,null,null,null,null,null,null,{"$f":"UPPER(IF(OR(M30=\"a\",M30=\"as\"),L26,IF(OR(M30=\"b\",M30=\"bs\"),L34,)))","v":""}]
[13,{"$f":"IF($D31=\"\",\"\",VLOOKUP($D31,'Boys Si Qual Draw Prep'!$A$7:$P$38,15))","v":""},{"$f":"IF($D31=\"\",\"\",VLOOKUP($D31,'Boys Si Qual Draw Prep'!$A$7:$P$38,16))","v":""},null,{"$f":"UPPER(IF($D31=\"\",\"\",VLOOKUP($D31,'Boys Si Qual Draw Prep'!$A$7:$P$38,2)))","v":""},{"$f":"IF($D31=\"\",\"\",VLOOKUP($D31,'Boys Si Qual Draw Prep'!$A$7:$P$38,3))","v":""},null,{"$f":"IF($D31=\"\",\"\",VLOOKUP($D31,'Boys Si Qual Draw Prep'!$A$7:$P$38,4))","v":""}]
[null,null,null,null,null,null,null,"Umpire",null,{"$f":"UPPER(IF(OR(I32=\"a\",I32=\"as\"),E31,IF(OR(I32=\"b\",I32=\"bs\"),E33,)))","v":""}]
[14,{"$f":"IF($D33=\"\",\"\",VLOOKUP($D33,'Boys Si Qual Draw Prep'!$A$7:$P$38,15))","v":""},{"$f":"IF($D33=\"\",\"\",VLOOKUP($D33,'Boys Si Qual Draw Prep'!$A$7:$P$38,16))","v":""},null,{"$f":"UPPER(IF($D33=\"\",\"\",VLOOKUP($D33,'Boys Si Qual Draw Prep'!$A$7:$P$38,2)))","v":""},{"$f":"IF($D33=\"\",\"\",VLOOKUP($D33,'Boys Si Qual Draw Prep'!$A$7:$P$38,3))","v":""},null,{"$f":"IF($D33=\"\",\"\",VLOOKUP($D33,'Boys Si Qual Draw Prep'!$A$7:$P$38,4))","v":""}]
[null,null,null,null,null,null,null,null,null,"Umpire",null,{"$f":"UPPER(IF(OR(K34=\"a\",K34=\"as\"),J32,IF(OR(K34=\"b\",K34=\"bs\"),J36,)))","v":""}]
[15,{"$f":"IF($D35=\"\",\"\",VLOOKUP($D35,'Boys Si Qual Draw Prep'!$A$7:$P$38,15))","v":""},{"$f":"IF($D35=\"\",\"\",VLOOKUP($D35,'Boys Si Qual Draw Prep'!$A$7:$P$38,16))","v":""},null,{"$f":"UPPER(IF($D35=\"\",\"\",VLOOKUP($D35,'Boys Si Qual Draw Prep'!$A$7:$P$38,2)))","v":""},{"$f":"IF($D35=\"\",\"\",VLOOKUP($D35,'Boys Si Qual Draw Prep'!$A$7:$P$38,3))","v":""},null,{"$f":"IF($D35=\"\",\"\",VLOOKUP($D35,'Boys Si Qual Draw Prep'!$A$7:$P$38,4))","v":""}]
[null,null,null,null,null,null,null,"Umpire",null,{"$f":"UPPER(IF(OR(I36=\"a\",I36=\"as\"),E35,IF(OR(I36=\"b\",I36=\"bs\"),E37,)))","v":""}]
[16,{"$f":"IF($D37=\"\",\"\",VLOOKUP($D37,'Boys Si Qual Draw Prep'!$A$7:$P$38,15))","v":""},{"$f":"IF($D37=\"\",\"\",VLOOKUP($D37,'Boys Si Qual Draw Prep'!$A$7:$P$38,16))","v":""},null,{"$f":"UPPER(IF($D37=\"\",\"\",VLOOKUP($D37,'Boys Si Qual Draw Prep'!$A$7:$P$38,2)))","v":""},{"$f":"IF($D37=\"\",\"\",VLOOKUP($D37,'Boys Si Qual Draw Prep'!$A$7:$P$38,3))","v":""},null,{"$f":"IF($D37=\"\",\"\",VLOOKUP($D37,'Boys Si Qual Draw Prep'!$A$7:$P$38,4))","v":""}]
[]
[17,{"$f":"IF($D39=\"\",\"\",VLOOKUP($D39,'Boys Si Qual Draw Prep'!$A$7:$P$38,15))","v":""},{"$f":"IF($D39=\"\",\"\",VLOOKUP($D39,'Boys Si Qual Draw Prep'!$A$7:$P$38,16))","v":""},null,{"$f":"UPPER(IF($D39=\"\",\"\",VLOOKUP($D39,'Boys Si Qual Draw Prep'!$A$7:$P$38,2)))","v":""},{"$f":"IF($D39=\"\",\"\",VLOOKUP($D39,'Boys Si Qual Draw Prep'!$A$7:$P$38,3))","v":""},null,{"$f":"IF($D39=\"\",\"\",VLOOKUP($D39,'Boys Si Qual Draw Prep'!$A$7:$P$38,4))","v":""}]
[null,null,null,null,null,null,null,"Umpire",null,{"$f":"UPPER(IF(OR(I40=\"a\",I40=\"as\"),E39,IF(OR(I40=\"b\",I40=\"bs\"),E41,)))","v":""}]
[18,{"$f":"IF($D41=\"\",\"\",VLOOKUP($D41,'Boys Si Qual Draw Prep'!$A$7:$P$38,15))","v":""},{"$f":"IF($D41=\"\",\"\",VLOOKUP($D41,'Boys Si Qual Draw Prep'!$A$7:$P$38,16))","v":""},null,{"$f":"UPPER(IF($D41=\"\",\"\",VLOOKUP($D41,'Boys Si Qual Draw Prep'!$A$7:$P$38,2)))","v":""},{"$f":"IF($D41=\"\",\"\",VLOOKUP($D41,'Boys Si Qual Draw Prep'!$A$7:$P$38,3))","v":""},null,{"$f":"IF($D41=\"\",\"\",VLOOKUP($D41,'Boys Si Qual Draw Prep'!$A$7:$P$38,4))","v":""}]
[null,null,null,null,null,null,null,null,null,"Umpire",null,{"$f":"UPPER(IF(OR(K42=\"a\",K42=\"as\"),J40,IF(OR(K42=\"b\",K42=\"bs\"),J44,)))","v":""}]
[19,{"$f":"IF($D43=\"\",\"\",VLOOKUP($D43,'Boys Si Qual Draw Prep'!$A$7:$P$38,15))","v":""},{"$f":"IF($D43=\"\",\"\",VLOOKUP($D43,'Boys Si Qual Draw Prep'!$A$7:$P$38,16))","v":""},null,{"$f":"UPPER(IF($D43=\"\",\"\",VLOOKUP($D43,'Boys Si Qual Draw Prep'!$A$7:$P$38,2)))","v":""},{"$f":"IF($D43=\"\",\"\",VLOOKUP($D43,'Boys Si Qual Draw Prep'!$A$7:$P$38,3))","v":""},null,{"$f":"IF($D43=\"\",\"\",VLOOKUP($D43,'Boys Si Qual Draw Prep'!$A$7:$P$38,4))","v":""}]
[null,null,null,null,null,null,null,"Umpire",null,{"$f":"UPPER(IF(OR(I44=\"a\",I44=\"as\"),E43,IF(OR(I44=\"b\",I44=\"bs\"),E45,)))","v":""}]
[20,{"$f":"IF($D45=\"\",\"\",VLOOKUP($D45,'Boys Si Qual Draw Prep'!$A$7:$P$38,15))","v":""},{"$f":"IF($D45=\"\",\"\",VLOOKUP($D45,'Boys Si Qual Draw Prep'!$A$7:$P$38,16))","v":""},null,{"$f":"UPPER(IF($D45=\"\",\"\",VLOOKUP($D45,'Boys Si Qual Draw Prep'!$A$7:$P$38,2)))","v":""},{"$f":"IF($D45=\"\",\"\",VLOOKUP($D45,'Boys Si Qual Draw Prep'!$A$7:$P$38,3))","v":""},null,{"$f":"IF($D45=\"\",\"\",VLOOKUP($D45,'Boys Si Qual Draw Prep'!$A$7:$P$38,4))","v":""}]
[null,null,null,null,null,null,null,null,null,null,null,null,null,{"$f":"UPPER(IF(OR(M46=\"a\",M46=\"as\"),L42,IF(OR(M46=\"b\",M46=\"bs\"),L50,)))","v":""}]
[21,{"$f":"IF($D47=\"\",\"\",VLOOKUP($D47,'Boys Si Qual Draw Prep'!$A$7:$P$38,15))","v":""},{"$f":"IF($D47=\"\",\"\",VLOOKUP($D47,'Boys Si Qual Draw Prep'!$A$7:$P$38,16))","v":""},null,{"$f":"UPPER(IF($D47=\"\",\"\",VLOOKUP($D47,'Boys Si Qual Draw Prep'!$A$7:$P$38,2)))","v":""},{"$f":"IF($D47=\"\",\"\",VLOOKUP($D47,'Boys Si Qual Draw Prep'!$A$7:$P$38,3))","v":""},null,{"$f":"IF($D47=\"\",\"\",VLOOKUP($D47,'Boys Si Qual Draw Prep'!$A$7:$P$38,4))","v":""}]
[null,null,null,null,null,null,null,"Umpire",null,{"$f":"UPPER(IF(OR(I48=\"a\",I48=\"as\"),E47,IF(OR(I48=\"b\",I48=\"bs\"),E49,)))","v":""}]
[22,{"$f":"IF($D49=\"\",\"\",VLOOKUP($D49,'Boys Si Qual Draw Prep'!$A$7:$P$38,15))","v":""},{"$f":"IF($D49=\"\",\"\",VLOOKUP($D49,'Boys Si Qual Draw Prep'!$A$7:$P$38,16))","v":""},null,{"$f":"UPPER(IF($D49=\"\",\"\",VLOOKUP($D49,'Boys Si Qual Draw Prep'!$A$7:$P$38,2)))","v":""},{"$f":"IF($D49=\"\",\"\",VLOOKUP($D49,'Boys Si Qual Draw Prep'!$A$7:$P$38,3))","v":""},null,{"$f":"IF($D49=\"\",\"\",VLOOKUP($D49,'Boys Si Qual Draw Prep'!$A$7:$P$38,4))","v":""}]
[null,null,null,null,null,null,null,null,null,"Umpire",null,{"$f":"UPPER(IF(OR(K50=\"a\",K50=\"as\"),J48,IF(OR(K50=\"b\",K50=\"bs\"),J52,)))","v":""}]
[23,{"$f":"IF($D51=\"\",\"\",VLOOKUP($D51,'Boys Si Qual Draw Prep'!$A$7:$P$38,15))","v":""},{"$f":"IF($D51=\"\",\"\",VLOOKUP($D51,'Boys Si Qual Draw Prep'!$A$7:$P$38,16))","v":""},null,{"$f":"UPPER(IF($D51=\"\",\"\",VLOOKUP($D51,'Boys Si Qual Draw Prep'!$A$7:$P$38,2)))","v":""},{"$f":"IF($D51=\"\",\"\",VLOOKUP($D51,'Boys Si Qual Draw Prep'!$A$7:$P$38,3))","v":""},null,{"$f":"IF($D51=\"\",\"\",VLOOKUP($D51,'Boys Si Qual Draw Prep'!$A$7:$P$38,4))","v":""}]
[null,null,null,null,null,null,null,"Umpire",null,{"$f":"UPPER(IF(OR(I52=\"a\",I52=\"as\"),E51,IF(OR(I52=\"b\",I52=\"bs\"),E53,)))","v":""}]
[24,{"$f":"IF($D53=\"\",\"\",VLOOKUP($D53,'Boys Si Qual Draw Prep'!$A$7:$P$38,15))","v":""},{"$f":"IF($D53=\"\",\"\",VLOOKUP($D53,'Boys Si Qual Draw Prep'!$A$7:$P$38,16))","v":""},null,{"$f":"UPPER(IF($D53=\"\",\"\",VLOOKUP($D53,'Boys Si Qual Draw Prep'!$A$7:$P$38,2)))","v":""},{"$f":"IF($D53=\"\",\"\",VLOOKUP($D53,'Boys Si Qual Draw Prep'!$A$7:$P$38,3))","v":""},null,{"$f":"IF($D53=\"\",\"\",VLOOKUP($D53,'Boys Si Qual Draw Prep'!$A$7:$P$38,4))","v":""}]
[]
[25,{"$f":"IF($D55=\"\",\"\",VLOOKUP($D55,'Boys Si Qual Draw Prep'!$A$7:$P$38,15))","v":""},{"$f":"IF($D55=\"\",\"\",VLOOKUP($D55,'Boys Si Qual Draw Prep'!$A$7:$P$38,16))","v":""},null,{"$f":"UPPER(IF($D55=\"\",\"\",VLOOKUP($D55,'Boys Si Qual Draw Prep'!$A$7:$P$38,2)))","v":""},{"$f":"IF($D55=\"\",\"\",VLOOKUP($D55,'Boys Si Qual Draw Prep'!$A$7:$P$38,3))","v":""},null,{"$f":"IF($D55=\"\",\"\",VLOOKUP($D55,'Boys Si Qual Draw Prep'!$A$7:$P$38,4))","v":""}]
[null,null,null,null,null,null,null,"Umpire",null,{"$f":"UPPER(IF(OR(I56=\"a\",I56=\"as\"),E55,IF(OR(I56=\"b\",I56=\"bs\"),E57,)))","v":""}]
[26,{"$f":"IF($D57=\"\",\"\",VLOOKUP($D57,'Boys Si Qual Draw Prep'!$A$7:$P$38,15))","v":""},{"$f":"IF($D57=\"\",\"\",VLOOKUP($D57,'Boys Si Qual Draw Prep'!$A$7:$P$38,16))","v":""},null,{"$f":"UPPER(IF($D57=\"\",\"\",VLOOKUP($D57,'Boys Si Qual Draw Prep'!$A$7:$P$38,2)))","v":""},{"$f":"IF($D57=\"\",\"\",VLOOKUP($D57,'Boys Si Qual Draw Prep'!$A$7:$P$38,3))","v":""},null,{"$f":"IF($D57=\"\",\"\",VLOOKUP($D57,'Boys Si Qual Draw Prep'!$A$7:$P$38,4))","v":""}]
[null,null,null,null,null,null,null,null,null,"Umpire",null,{"$f":"UPPER(IF(OR(K58=\"a\",K58=\"as\"),J56,IF(OR(K58=\"b\",K58=\"bs\"),J60,)))","v":""}]
[27,{"$f":"IF($D59=\"\",\"\",VLOOKUP($D59,'Boys Si Qual Draw Prep'!$A$7:$P$38,15))","v":""},{"$f":"IF($D59=\"\",\"\",VLOOKUP($D59,'Boys Si Qual Draw Prep'!$A$7:$P$38,16))","v":""},null,{"$f":"UPPER(IF($D59=\"\",\"\",VLOOKUP($D59,'Boys Si Qual Draw Prep'!$A$7:$P$38,2)))","v":""},{"$f":"IF($D59=\"\",\"\",VLOOKUP($D59,'Boys Si Qual Draw Prep'!$A$7:$P$38,3))","v":""},null,{"$f":"IF($D59=\"\",\"\",VLOOKUP($D59,'Boys Si Qual Draw Prep'!$A$7:$P$38,4))","v":""}]
[null,null,null,null,null,null,null,"Umpire",null,{"$f":"UPPER(IF(OR(I60=\"a\",I60=\"as\"),E59,IF(OR(I60=\"b\",I60=\"bs\"),E61,)))","v":""}]
[28,{"$f":"IF($D61=\"\",\"\",VLOOKUP($D61,'Boys Si Qual Draw Prep'!$A$7:$P$38,15))","v":""},{"$f":"IF($D61=\"\",\"\",VLOOKUP($D61,'Boys Si Qual Draw Prep'!$A$7:$P$38,16))","v":""},null,{"$f":"UPPER(IF($D61=\"\",\"\",VLOOKUP($D61,'Boys Si Qual Draw Prep'!$A$7:$P$38,2)))","v":""},{"$f":"IF($D61=\"\",\"\",VLOOKUP($D61,'Boys Si Qual Draw Prep'!$A$7:$P$38,3))","v":""},null,{"$f":"IF($D61=\"\",\"\",VLOOKUP($D61,'Boys Si Qual Draw Prep'!$A$7:$P$38,4))","v":""}]
[null,null,null,null,null,null,null,null,null,null,null,null,null,{"$f":"UPPER(IF(OR(M62=\"a\",M62=\"as\"),L58,IF(OR(M62=\"b\",M62=\"bs\"),L66,)))","v":""}]
[29,{"$f":"IF($D63=\"\",\"\",VLOOKUP($D63,'Boys Si Qual Draw Prep'!$A$7:$P$38,15))","v":""},{"$f":"IF($D63=\"\",\"\",VLOOKUP($D63,'Boys Si Qual Draw Prep'!$A$7:$P$38,16))","v":""},null,{"$f":"UPPER(IF($D63=\"\",\"\",VLOOKUP($D63,'Boys Si Qual Draw Prep'!$A$7:$P$38,2)))","v":""},{"$f":"IF($D63=\"\",\"\",VLOOKUP($D63,'Boys Si Qual Draw Prep'!$A$7:$P$38,3))","v":""},null,{"$f":"IF($D63=\"\",\"\",VLOOKUP($D63,'Boys Si Qual Draw Prep'!$A$7:$P$38,4))","v":""}]
[null,null,null,null,null,null,null,"Umpire",null,{"$f":"UPPER(IF(OR(I64=\"a\",I64=\"as\"),E63,IF(OR(I64=\"b\",I64=\"bs\"),E65,)))","v":""}]
[30,{"$f":"IF($D65=\"\",\"\",VLOOKUP($D65,'Boys Si Qual Draw Prep'!$A$7:$P$38,15))","v":""},{"$f":"IF($D65=\"\",\"\",VLOOKUP($D65,'Boys Si Qual Draw Prep'!$A$7:$P$38,16))","v":""},null,{"$f":"UPPER(IF($D65=\"\",\"\",VLOOKUP($D65,'Boys Si Qual Draw Prep'!$A$7:$P$38,2)))","v":""},{"$f":"IF($D65=\"\",\"\",VLOOKUP($D65,'Boys Si Qual Draw Prep'!$A$7:$P$38,3))","v":""},null,{"$f":"IF($D65=\"\",\"\",VLOOKUP($D65,'Boys Si Qual Draw Prep'!$A$7:$P$38,4))","v":""}]
[null,null,null,null,null,null,null,null,null,"Umpire",null,{"$f":"UPPER(IF(OR(K66=\"a\",K66=\"as\"),J64,IF(OR(K66=\"b\",K66=\"bs\"),J68,)))","v":""}]
[31,{"$f":"IF($D67=\"\",\"\",VLOOKUP($D67,'Boys Si Qual Draw Prep'!$A$7:$P$38,15))","v":""},{"$f":"IF($D67=\"\",\"\",VLOOKUP($D67,'Boys Si Qual Draw Prep'!$A$7:$P$38,16))","v":""},null,{"$f":"UPPER(IF($D67=\"\",\"\",VLOOKUP($D67,'Boys Si Qual Draw Prep'!$A$7:$P$38,2)))","v":""},{"$f":"IF($D67=\"\",\"\",VLOOKUP($D67,'Boys Si Qual Draw Prep'!$A$7:$P$38,3))","v":""},null,{"$f":"IF($D67=\"\",\"\",VLOOKUP($D67,'Boys Si Qual Draw Prep'!$A$7:$P$38,4))","v":""}]
[null,null,null,null,null,null,null,"Umpire",null,{"$f":"UPPER(IF(OR(I68=\"a\",I68=\"as\"),E67,IF(OR(I68=\"b\",I68=\"bs\"),E69,)))","v":""}]
[32,{"$f":"IF($D69=\"\",\"\",VLOOKUP($D69,'Boys Si Qual Draw Prep'!$A$7:$P$38,15))","v":""},{"$f":"IF($D69=\"\",\"\",VLOOKUP($D69,'Boys Si Qual Draw Prep'!$A$7:$P$38,16))","v":""},null,{"$f":"UPPER(IF($D69=\"\",\"\",VLOOKUP($D69,'Boys Si Qual Draw Prep'!$A$7:$P$38,2)))","v":""},{"$f":"IF($D69=\"\",\"\",VLOOKUP($D69,'Boys Si Qual Draw Prep'!$A$7:$P$38,3))","v":""},null,{"$f":"IF($D69=\"\",\"\",VLOOKUP($D69,'Boys Si Qual Draw Prep'!$A$7:$P$38,4))","v":""}]
[]
["Acc. Ranking",null,null,"#","Seeded players",null,null,null,"#","Alternates",null,"Replacing",null,"Draw date/time:"]
["Rkg Date",null,null,1,{"$f":"IF(D72>$Q$79,,UPPER(VLOOKUP(D72,'Boys Si Qual Draw Prep'!$A$7:$R$134,2)))","v":0},"9",{"$f":"IF(F72>$Q$79,,UPPER(VLOOKUP(F72,'Boys Si Qual Draw Prep'!$A$7:$R$134,2)))","v":0},null,"1",null,null,null,null,"Last Accepted player"]
["Top DA",null,null,2,{"$f":"IF(D73>$Q$79,,UPPER(VLOOKUP(D73,'Boys Si Qual Draw Prep'!$A$7:$R$134,2)))","v":0},"10",{"$f":"IF(F73>$Q$79,,UPPER(VLOOKUP(F73,'Boys Si Qual Draw Prep'!$A$7:$R$134,2)))","v":0},null,"2"]
["Last DA",null,null,3,{"$f":"IF(D74>$Q$79,,UPPER(VLOOKUP(D74,'Boys Si Qual Draw Prep'!$A$7:$R$134,2)))","v":0},"11",{"$f":"IF(F74>$Q$79,,UPPER(VLOOKUP(F74,'Boys Si Qual Draw Prep'!$A$7:$R$134,2)))","v":0},null,"3",null,null,null,null,"Player representatives"]
[null,null,null,4,{"$f":"IF(D75>$Q$79,,UPPER(VLOOKUP(D75,'Boys Si Qual Draw Prep'!$A$7:$R$134,2)))","v":0},"12",{"$f":"IF(F75>$Q$79,,UPPER(VLOOKUP(F75,'Boys Si Qual Draw Prep'!$A$7:$R$134,2)))","v":0},null,"4"]
["Seed ranking",null,null,5,{"$f":"IF(D76>$Q$79,,UPPER(VLOOKUP(D76,'Boys Si Qual Draw Prep'!$A$7:$R$134,2)))","v":0},"13",{"$f":"IF(F76>$Q$79,,UPPER(VLOOKUP(F76,'Boys Si Qual Draw Prep'!$A$7:$R$134,2)))","v":0},null,"5"]
["Rkg Date",null,null,6,{"$f":"IF(D77>$Q$79,,UPPER(VLOOKUP(D77,'Boys Si Qual Draw Prep'!$A$7:$R$134,2)))","v":0},"14",{"$f":"IF(F77>$Q$79,,UPPER(VLOOKUP(F77,'Boys Si Qual Draw Prep'!$A$7:$R$134,2)))","v":0},null,"6",null,null,null,null,"ITF Referee's signature"]
["Top seed",null,null,7,{"$f":"IF(D78>$Q$79,,UPPER(VLOOKUP(D78,'Boys Si Qual Draw Prep'!$A$7:$R$134,2)))","v":0},"15",{"$f":"IF(F78>$Q$79,,UPPER(VLOOKUP(F78,'Boys Si Qual Draw Prep'!$A$7:$R$134,2)))","v":0},null,"7"]
["Last seed",null,null,8,{"$f":"IF(D79>$Q$79,,UPPER(VLOOKUP(D79,'Boys Si Qual Draw Prep'!$A$7:$R$134,2)))","v":0},"16",{"$f":"IF(F79>$Q$79,,UPPER(VLOOKUP(F79,'Boys Si Qual Draw Prep'!$A$7:$R$134,2)))","v":0},null,"8",null,null,null,null,{"$f":"Q4","v":0},null,null,{"$f":"MIN(8,'Boys Si Qual Draw Prep'!R5)","v":0}]

{"sheet":"Boys Si Qual 48>6","index":29,"n_rows":80,"n_cols":20,"rows_kept":80,"cut":false,"hidden":false,"merged":[[3,0,3,2]]}
[{"$f":"'Week SetUp'!$A$6","v":0},null,null,null,null,null,null,null,null,"BOYS SINGLES",null,null,null,"CU"]
[{"$f":"'Week SetUp'!$A$8","v":"ITF Junior Circuit"},null,null,null,null,null,null,null,null,"QUALIFYING DRAW (48)"]
["Week of",null,null,null,null,"City, Country",null,null,null,"Group",null,"Tourn. ID",null,null,null,null,"ITF Referee"]
[{"$f":"'Week SetUp'!$A$10","v":"00:00:00"},null,null,null,null,{"$f":"'Week SetUp'!$C$10","v":0},null,null,null,{"$f":"'Week SetUp'!$D$10","v":0},null,{"$f":"'Week SetUp'!$A$12","v":0},null,null,null,null,{"$f":"'Week SetUp'!$E$10","v":0}]
[null,"St.","Rank","Seed","Family Name","First name",null,"Nationality",null,"2nd Round",null,"Finals",null,"Qualifiers"]
[]
["1",{"$f":"IF($D7=\"\",\"\",VLOOKUP($D7,'Boys Si Qual Draw Prep'!$A$7:$P$54,15))","v":""},{"$f":"IF($D7=\"\",\"\",VLOOKUP($D7,'Boys Si Qual Draw Prep'!$A$7:$P$54,16))","v":""},null,{"$f":"UPPER(IF($D7=\"\",\"\",VLOOKUP($D7,'Boys Si Qual Draw Prep'!$A$7:$P$54,2)))","v":""},{"$f":"IF($D7=\"\",\"\",VLOOKUP($D7,'Boys Si Qual Draw Prep'!$A$7:$P$54,3))","v":""},null,{"$f":"IF($D7=\"\",\"\",VLOOKUP($D7,'Boys Si Qual Draw Prep'!$A$7:$P$54,4))","v":""},null,{"$f":"UPPER(IF(OR(I8=\"a\",I8=\"as\"),E7,IF(OR(I8=\"b\",I8=\"bs\"),E8,)))","v":""},null,null,null,null,null,null,null,null,null,{"$f":"'SetUp Officials'!P21","v":"Umpire"}]
["2",{"$f":"IF($D8=\"\",\"\",VLOOKUP($D8,'Boys Si Qual Draw Prep'!$A$7:$P$54,15))","v":""},{"$f":"IF($D8=\"\",\"\",VLOOKUP($D8,'Boys Si Qual Draw Prep'!$A$7:$P$54,16))","v":""},null,{"$f":"UPPER(IF($D8=\"\",\"\",VLOOKUP($D8,'Boys Si Qual Draw Prep'!$A$7:$P$54,2)))","v":""},{"$f":"IF($D8=\"\",\"\",VLOOKUP($D8,'Boys Si Qual Draw Prep'!$A$7:$P$54,3))","v":""},null,{"$f":"IF($D8=\"\",\"\",VLOOKUP($D8,'Boys Si Qual Draw Prep'!$A$7:$P$54,4))","v":""},null,null,null,{"$f":"UPPER(IF(OR(K8=\"a\",K8=\"as\"),J7,IF(OR(K8=\"b\",K8=\"bs\"),J9,)))","v":""},null,null,null,null,null,null,null,{"$f":"'SetUp Officials'!P22","v":" "}]
["3",{"$f":"IF($D9=\"\",\"\",VLOOKUP($D9,'Boys Si Qual Draw Prep'!$A$7:$P$54,15))","v":""},{"$f":"IF($D9=\"\",\"\",VLOOKUP($D9,'Boys Si Qual Draw Prep'!$A$7:$P$54,16))","v":""},null,{"$f":"UPPER(IF($D9=\"\",\"\",VLOOKUP($D9,'Boys Si Qual Draw Prep'!$A$7:$P$54,2)))","v":""},{"$f":"IF($D9=\"\",\"\",VLOOKUP($D9,'Boys Si Qual Draw Prep'!$A$7:$P$54,3))","v":""},null,{"$f":"IF($D9=\"\",\"\",VLOOKUP($D9,'Boys Si Qual Draw Prep'!$A$7:$P$54,4))","v":""},null,{"$f":"UPPER(IF(OR(I10=\"a\",I10=\"as\"),E9,IF(OR(I10=\"b\",I10=\"bs\"),E10,)))","v":""},null,null,null,null,null,null,null,null,null,{"$f":"'SetUp Officials'!P23","v":" "}]
["4",{"$f":"IF($D10=\"\",\"\",VLOOKUP($D10,'Boys Si Qual Draw Prep'!$A$7:$P$54,15))","v":""},{"$f":"IF($D10=\"\",\"\",VLOOKUP($D10,'Boys Si Qual Draw Prep'!$A$7:$P$54,16))","v":""},null,{"$f":"UPPER(IF($D10=\"\",\"\",VLOOKUP($D10,'Boys Si Qual Draw Prep'!$A$7:$P$54,2)))","v":""},{"$f":"IF($D10=\"\",\"\",VLOOKUP($D10,'Boys Si Qual Draw Prep'!$A$7:$P$54,3))","v":""},null,{"$f":"IF($D10=\"\",\"\",VLOOKUP($D10,'Boys Si Qual Draw Prep'!$A$7:$P$54,4))","v":""},null,null,null,"Umpire",null,{"$f":"UPPER(IF(OR(M10=\"a\",M10=\"as\"),L8,IF(OR(M10=\"b\",M10=\"bs\"),L12,)))","v":""},null,null,null,null,null,{"$f":"'SetUp Officials'!P24","v":" "}]
["5",{"$f":"IF($D11=\"\",\"\",VLOOKUP($D11,'Boys Si Qual Draw Prep'!$A$7:$P$54,15))","v":""},{"$f":"IF($D11=\"\",\"\",VLOOKUP($D11,'Boys Si Qual Draw Prep'!$A$7:$P$54,16))","v":""},null,{"$f":"UPPER(IF($D11=\"\",\"\",VLOOKUP($D11,'Boys Si Qual Draw Prep'!$A$7:$P$54,2)))","v":""},{"$f":"IF($D11=\"\",\"\",VLOOKUP($D11,'Boys Si Qual Draw Prep'!$A$7:$P$54,3))","v":""},null,{"$f":"IF($D11=\"\",\"\",VLOOKUP($D11,'Boys Si Qual Draw Prep'!$A$7:$P$54,4))","v":""},null,{"$f":"UPPER(IF(OR(I12=\"a\",I12=\"as\"),E11,IF(OR(I12=\"b\",I12=\"bs\"),E12,)))","v":""},null,null,null,null,null,null,null,null,null,{"$f":"'SetUp Officials'!P25","v":" "}]
["6",{"$f":"IF($D12=\"\",\"\",VLOOKUP($D12,'Boys Si Qual Draw Prep'!$A$7:$P$54,15))","v":""},{"$f":"IF($D12=\"\",\"\",VLOOKUP($D12,'Boys Si Qual Draw Prep'!$A$7:$P$54,16))","v":""},null,{"$f":"UPPER(IF($D12=\"\",\"\",VLOOKUP($D12,'Boys Si Qual Draw Prep'!$A$7:$P$54,2)))","v":""},{"$f":"IF($D12=\"\",\"\",VLOOKUP($D12,'Boys Si Qual Draw Prep'!$A$7:$P$54,3))","v":""},null,{"$f":"IF($D12=\"\",\"\",VLOOKUP($D12,'Boys Si Qual Draw Prep'!$A$7:$P$54,4))","v":""},null,null,null,{"$f":"UPPER(IF(OR(K12=\"a\",K12=\"as\"),J11,IF(OR(K12=\"b\",K12=\"bs\"),J13,)))","v":""},null,null,null,null,null,null,null,{"$f":"'SetUp Officials'!P26","v":" "}]
["7",{"$f":"IF($D13=\"\",\"\",VLOOKUP($D13,'Boys Si Qual Draw Prep'!$A$7:$P$54,15))","v":""},{"$f":"IF($D13=\"\",\"\",VLOOKUP($D13,'Boys Si Qual Draw Prep'!$A$7:$P$54,16))","v":""},null,{"$f":"UPPER(IF($D13=\"\",\"\",VLOOKUP($D13,'Boys Si Qual Draw Prep'!$A$7:$P$54,2)))","v":""},{"$f":"IF($D13=\"\",\"\",VLOOKUP($D13,'Boys Si Qual Draw Prep'!$A$7:$P$54,3))","v":""},null,{"$f":"IF($D13=\"\",\"\",VLOOKUP($D13,'Boys Si Qual Draw Prep'!$A$7:$P$54,4))","v":""},null,{"$f":"UPPER(IF(OR(I14=\"a\",I14=\"as\"),E13,IF(OR(I14=\"b\",I14=\"bs\"),E14,)))","v":""},null,null,null,null,null,null,null,null,null,{"$f":"'SetUp Officials'!P27","v":" "}]
["8",{"$f":"IF($D14=\"\",\"\",VLOOKUP($D14,'Boys Si Qual Draw Prep'!$A$7:$P$54,15))","v":""},{"$f":"IF($D14=\"\",\"\",VLOOKUP($D14,'Boys Si Qual Draw Prep'!$A$7:$P$54,16))","v":""},null,{"$f":"UPPER(IF($D14=\"\",\"\",VLOOKUP($D14,'Boys Si Qual Draw Prep'!$A$7:$P$54,2)))","v":""},{"$f":"IF($D14=\"\",\"\",VLOOKUP($D14,'Boys Si Qual Draw Prep'!$A$7:$P$54,3))","v":""},null,{"$f":"IF($D14=\"\",\"\",VLOOKUP($D14,'Boys Si Qual Draw Prep'!$A$7:$P$54,4))","v":""},null,null,null,null,null,null,null,null,null,null,null,{"$f":"'SetUp Officials'!P28","v":" "}]
["9",{"$f":"IF($D15=\"\",\"\",VLOOKUP($D15,'Boys Si Qual Draw Prep'!$A$7:$P$54,15))","v":""},{"$f":"IF($D15=\"\",\"\",VLOOKUP($D15,'Boys Si Qual Draw Prep'!$A$7:$P$54,16))","v":""},null,{"$f":"UPPER(IF($D15=\"\",\"\",VLOOKUP($D15,'Boys Si Qual Draw Prep'!$A$7:$P$54,2)))","v":""},{"$f":"IF($D15=\"\",\"\",VLOOKUP($D15,'Boys Si Qual Draw Prep'!$A$7:$P$54,3))","v":""},null,{"$f":"IF($D15=\"\",\"\",VLOOKUP($D15,'Boys Si Qual Draw Prep'!$A$7:$P$54,4))","v":""},null,{"$f":"UPPER(IF(OR(I16=\"a\",I16=\"as\"),E15,IF(OR(I16=\"b\",I16=\"bs\"),E16,)))","v":""},null,null,null,null,null,null,null,null,null,{"$f":"'SetUp Officials'!P29","v":" "}]
["10",{"$f":"IF($D16=\"\",\"\",VLOOKUP($D16,'Boys Si Qual Draw Prep'!$A$7:$P$54,15))","v":""},{"$f":"IF($D16=\"\",\"\",VLOOKUP($D16,'Boys Si Qual Draw Prep'!$A$7:$P$54,16))","v":""},null,{"$f":"UPPER(IF($D16=\"\",\"\",VLOOKUP($D16,'Boys Si Qual Draw Prep'!$A$7:$P$54,2)))","v":""},{"$f":"IF($D16=\"\",\"\",VLOOKUP($D16,'Boys Si Qual Draw Prep'!$A$7:$P$54,3))","v":""},null,{"$f":"IF($D16=\"\",\"\",VLOOKUP($D16,'Boys Si Qual Draw Prep'!$A$7:$P$54,4))","v":""},null,null,null,{"$f":"UPPER(IF(OR(K16=\"a\",K16=\"as\"),J15,IF(OR(K16=\"b\",K16=\"bs\"),J17,)))","v":""},null,null,null,null,null,null,null,{"$f":"'SetUp Officials'!P30","v":"None"}]
["11",{"$f":"IF($D17=\"\",\"\",VLOOKUP($D17,'Boys Si Qual Draw Prep'!$A$7:$P$54,15))","v":""},{"$f":"IF($D17=\"\",\"\",VLOOKUP($D17,'Boys Si Qual Draw Prep'!$A$7:$P$54,16))","v":""},null,{"$f":"UPPER(IF($D17=\"\",\"\",VLOOKUP($D17,'Boys Si Qual Draw Prep'!$A$7:$P$54,2)))","v":""},{"$f":"IF($D17=\"\",\"\",VLOOKUP($D17,'Boys Si Qual Draw Prep'!$A$7:$P$54,3))","v":""},null,{"$f":"IF($D17=\"\",\"\",VLOOKUP($D17,'Boys Si Qual Draw Prep'!$A$7:$P$54,4))","v":""},null,{"$f":"UPPER(IF(OR(I18=\"a\",I18=\"as\"),E17,IF(OR(I18=\"b\",I18=\"bs\"),E18,)))","v":""}]
["12",{"$f":"IF($D18=\"\",\"\",VLOOKUP($D18,'Boys Si Qual Draw Prep'!$A$7:$P$54,15))","v":""},{"$f":"IF($D18=\"\",\"\",VLOOKUP($D18,'Boys Si Qual Draw Prep'!$A$7:$P$54,16))","v":""},null,{"$f":"UPPER(IF($D18=\"\",\"\",VLOOKUP($D18,'Boys Si Qual Draw Prep'!$A$7:$P$54,2)))","v":""},{"$f":"IF($D18=\"\",\"\",VLOOKUP($D18,'Boys Si Qual Draw Prep'!$A$7:$P$54,3))","v":""},null,{"$f":"IF($D18=\"\",\"\",VLOOKUP($D18,'Boys Si Qual Draw Prep'!$A$7:$P$54,4))","v":""},null,null,null,"Umpire",null,{"$f":"UPPER(IF(OR(M18=\"a\",M18=\"as\"),L16,IF(OR(M18=\"b\",M18=\"bs\"),L20,)))","v":""}]
["13",{"$f":"IF($D19=\"\",\"\",VLOOKUP($D19,'Boys Si Qual Draw Prep'!$A$7:$P$54,15))","v":""},{"$f":"IF($D19=\"\",\"\",VLOOKUP($D19,'Boys Si Qual Draw Prep'!$A$7:$P$54,16))","v":""},null,{"$f":"UPPER(IF($D19=\"\",\"\",VLOOKUP($D19,'Boys Si Qual Draw Prep'!$A$7:$P$54,2)))","v":""},{"$f":"IF($D19=\"\",\"\",VLOOKUP($D19,'Boys Si Qual Draw Prep'!$A$7:$P$54,3))","v":""},null,{"$f":"IF($D19=\"\",\"\",VLOOKUP($D19,'Boys Si Qual Draw Prep'!$A$7:$P$54,4))","v":""},null,{"$f":"UPPER(IF(OR(I20=\"a\",I20=\"as\"),E19,IF(OR(I20=\"b\",I20=\"bs\"),E20,)))","v":""}]
["14",{"$f":"IF($D20=\"\",\"\",VLOOKUP($D20,'Boys Si Qual Draw Prep'!$A$7:$P$54,15))","v":""},{"$f":"IF($D20=\"\",\"\",VLOOKUP($D20,'Boys Si Qual Draw Prep'!$A$7:$P$54,16))","v":""},null,{"$f":"UPPER(IF($D20=\"\",\"\",VLOOKUP($D20,'Boys Si Qual Draw Prep'!$A$7:$P$54,2)))","v":""},{"$f":"IF($D20=\"\",\"\",VLOOKUP($D20,'Boys Si Qual Draw Prep'!$A$7:$P$54,3))","v":""},null,{"$f":"IF($D20=\"\",\"\",VLOOKUP($D20,'Boys Si Qual Draw Prep'!$A$7:$P$54,4))","v":""},null,null,null,{"$f":"UPPER(IF(OR(K20=\"a\",K20=\"as\"),J19,IF(OR(K20=\"b\",K20=\"bs\"),J21,)))","v":""}]
["15",{"$f":"IF($D21=\"\",\"\",VLOOKUP($D21,'Boys Si Qual Draw Prep'!$A$7:$P$54,15))","v":""},{"$f":"IF($D21=\"\",\"\",VLOOKUP($D21,'Boys Si Qual Draw Prep'!$A$7:$P$54,16))","v":""},null,{"$f":"UPPER(IF($D21=\"\",\"\",VLOOKUP($D21,'Boys Si Qual Draw Prep'!$A$7:$P$54,2)))","v":""},{"$f":"IF($D21=\"\",\"\",VLOOKUP($D21,'Boys Si Qual Draw Prep'!$A$7:$P$54,3))","v":""},null,{"$f":"IF($D21=\"\",\"\",VLOOKUP($D21,'Boys Si Qual Draw Prep'!$A$7:$P$54,4))","v":""},null,{"$f":"UPPER(IF(OR(I22=\"a\",I22=\"as\"),E21,IF(OR(I22=\"b\",I22=\"bs\"),E22,)))","v":""}]
["16",{"$f":"IF($D22=\"\",\"\",VLOOKUP($D22,'Boys Si Qual Draw Prep'!$A$7:$P$54,15))","v":""},{"$f":"IF($D22=\"\",\"\",VLOOKUP($D22,'Boys Si Qual Draw Prep'!$A$7:$P$54,16))","v":""},null,{"$f":"UPPER(IF($D22=\"\",\"\",VLOOKUP($D22,'Boys Si Qual Draw Prep'!$A$7:$P$54,2)))","v":""},{"$f":"IF($D22=\"\",\"\",VLOOKUP($D22,'Boys Si Qual Draw Prep'!$A$7:$P$54,3))","v":""},null,{"$f":"IF($D22=\"\",\"\",VLOOKUP($D22,'Boys Si Qual Draw Prep'!$A$7:$P$54,4))","v":""}]
["17",{"$f":"IF($D23=\"\",\"\",VLOOKUP($D23,'Boys Si Qual Draw Prep'!$A$7:$P$54,15))","v":""},{"$f":"IF($D23=\"\",\"\",VLOOKUP($D23,'Boys Si Qual Draw Prep'!$A$7:$P$54,16))","v":""},null,{"$f":"UPPER(IF($D23=\"\",\"\",VLOOKUP($D23,'Boys Si Qual Draw Prep'!$A$7:$P$54,2)))","v":""},{"$f":"IF($D23=\"\",\"\",VLOOKUP($D23,'Boys Si Qual Draw Prep'!$A$7:$P$54,3))","v":""},null,{"$f":"IF($D23=\"\",\"\",VLOOKUP($D23,'Boys Si Qual Draw Prep'!$A$7:$P$54,4))","v":""},null,{"$f":"UPPER(IF(OR(I24=\"a\",I24=\"as\"),E23,IF(OR(I24=\"b\",I24=\"bs\"),E24,)))","v":""}]
["18",{"$f":"IF($D24=\"\",\"\",VLOOKUP($D24,'Boys Si Qual Draw Prep'!$A$7:$P$54,15))","v":""},{"$f":"IF($D24=\"\",\"\",VLOOKUP($D24,'Boys Si Qual Draw Prep'!$A$7:$P$54,16))","v":""},null,{"$f":"UPPER(IF($D24=\"\",\"\",VLOOKUP($D24,'Boys Si Qual Draw Prep'!$A$7:$P$54,2)))","v":""},{"$f":"IF($D24=\"\",\"\",VLOOKUP($D24,'Boys Si Qual Draw Prep'!$A$7:$P$54,3))","v":""},null,{"$f":"IF($D24=\"\",\"\",VLOOKUP($D24,'Boys Si Qual Draw Prep'!$A$7:$P$54,4))","v":""},null,null,null,{"$f":"UPPER(IF(OR(K24=\"a\",K24=\"as\"),J23,IF(OR(K24=\"b\",K24=\"bs\"),J25,)))","v":""}]
["19",{"$f":"IF($D25=\"\",\"\",VLOOKUP($D25,'Boys Si Qual Draw Prep'!$A$7:$P$54,15))","v":""},{"$f":"IF($D25=\"\",\"\",VLOOKUP($D25,'Boys Si Qual Draw Prep'!$A$7:$P$54,16))","v":""},null,{"$f":"UPPER(IF($D25=\"\",\"\",VLOOKUP($D25,'Boys Si Qual Draw Prep'!$A$7:$P$54,2)))","v":""},{"$f":"IF($D25=\"\",\"\",VLOOKUP($D25,'Boys Si Qual Draw Prep'!$A$7:$P$54,3))","v":""},null,{"$f":"IF($D25=\"\",\"\",VLOOKUP($D25,'Boys Si Qual Draw Prep'!$A$7:$P$54,4))","v":""},null,{"$f":"UPPER(IF(OR(I26=\"a\",I26=\"as\"),E25,IF(OR(I26=\"b\",I26=\"bs\"),E26,)))","v":""}]
["20",{"$f":"IF($D26=\"\",\"\",VLOOKUP($D26,'Boys Si Qual Draw Prep'!$A$7:$P$54,15))","v":""},{"$f":"IF($D26=\"\",\"\",VLOOKUP($D26,'Boys Si Qual Draw Prep'!$A$7:$P$54,16))","v":""},null,{"$f":"UPPER(IF($D26=\"\",\"\",VLOOKUP($D26,'Boys Si Qual Draw Prep'!$A$7:$P$54,2)))","v":""},{"$f":"IF($D26=\"\",\"\",VLOOKUP($D26,'Boys Si Qual Draw Prep'!$A$7:$P$54,3))","v":""},null,{"$f":"IF($D26=\"\",\"\",VLOOKUP($D26,'Boys Si Qual Draw Prep'!$A$7:$P$54,4))","v":""},null,null,null,"Umpire",null,{"$f":"UPPER(IF(OR(M26=\"a\",M26=\"as\"),L24,IF(OR(M26=\"b\",M26=\"bs\"),L28,)))","v":""}]
["21",{"$f":"IF($D27=\"\",\"\",VLOOKUP($D27,'Boys Si Qual Draw Prep'!$A$7:$P$54,15))","v":""},{"$f":"IF($D27=\"\",\"\",VLOOKUP($D27,'Boys Si Qual Draw Prep'!$A$7:$P$54,16))","v":""},null,{"$f":"UPPER(IF($D27=\"\",\"\",VLOOKUP($D27,'Boys Si Qual Draw Prep'!$A$7:$P$54,2)))","v":""},{"$f":"IF($D27=\"\",\"\",VLOOKUP($D27,'Boys Si Qual Draw Prep'!$A$7:$P$54,3))","v":""},null,{"$f":"IF($D27=\"\",\"\",VLOOKUP($D27,'Boys Si Qual Draw Prep'!$A$7:$P$54,4))","v":""},null,{"$f":"UPPER(IF(OR(I28=\"a\",I28=\"as\"),E27,IF(OR(I28=\"b\",I28=\"bs\"),E28,)))","v":""}]
["22",{"$f":"IF($D28=\"\",\"\",VLOOKUP($D28,'Boys Si Qual Draw Prep'!$A$7:$P$54,15))","v":""},{"$f":"IF($D28=\"\",\"\",VLOOKUP($D28,'Boys Si Qual Draw Prep'!$A$7:$P$54,16))","v":""},null,{"$f":"UPPER(IF($D28=\"\",\"\",VLOOKUP($D28,'Boys Si Qual Draw Prep'!$A$7:$P$54,2)))","v":""},{"$f":"IF($D28=\"\",\"\",VLOOKUP($D28,'Boys Si Qual Draw Prep'!$A$7:$P$54,3))","v":""},null,{"$f":"IF($D28=\"\",\"\",VLOOKUP($D28,'Boys Si Qual Draw Prep'!$A$7:$P$54,4))","v":""},null,null,null,{"$f":"UPPER(IF(OR(K28=\"a\",K28=\"as\"),J27,IF(OR(K28=\"b\",K28=\"bs\"),J29,)))","v":""}]
["23",{"$f":"IF($D29=\"\",\"\",VLOOKUP($D29,'Boys Si Qual Draw Prep'!$A$7:$P$54,15))","v":""},{"$f":"IF($D29=\"\",\"\",VLOOKUP($D29,'Boys Si Qual Draw Prep'!$A$7:$P$54,16))","v":""},null,{"$f":"UPPER(IF($D29=\"\",\"\",VLOOKUP($D29,'Boys Si Qual Draw Prep'!$A$7:$P$54,2)))","v":""},{"$f":"IF($D29=\"\",\"\",VLOOKUP($D29,'Boys Si Qual Draw Prep'!$A$7:$P$54,3))","v":""},null,{"$f":"IF($D29=\"\",\"\",VLOOKUP($D29,'Boys Si Qual Draw Prep'!$A$7:$P$54,4))","v":""},null,{"$f":"UPPER(IF(OR(I30=\"a\",I30=\"as\"),E29,IF(OR(I30=\"b\",I30=\"bs\"),E30,)))","v":""}]
["24",{"$f":"IF($D30=\"\",\"\",VLOOKUP($D30,'Boys Si Qual Draw Prep'!$A$7:$P$54,15))","v":""},{"$f":"IF($D30=\"\",\"\",VLOOKUP($D30,'Boys Si Qual Draw Prep'!$A$7:$P$54,16))","v":""},null,{"$f":"UPPER(IF($D30=\"\",\"\",VLOOKUP($D30,'Boys Si Qual Draw Prep'!$A$7:$P$54,2)))","v":""},{"$f":"IF($D30=\"\",\"\",VLOOKUP($D30,'Boys Si Qual Draw Prep'!$A$7:$P$54,3))","v":""},null,{"$f":"IF($D30=\"\",\"\",VLOOKUP($D30,'Boys Si Qual Draw Prep'!$A$7:$P$54,4))","v":""}]
["25",{"$f":"IF($D31=\"\",\"\",VLOOKUP($D31,'Boys Si Qual Draw Prep'!$A$7:$P$54,15))","v":""},{"$f":"IF($D31=\"\",\"\",VLOOKUP($D31,'Boys Si Qual Draw Prep'!$A$7:$P$54,16))","v":""},null,{"$f":"UPPER(IF($D31=\"\",\"\",VLOOKUP($D31,'Boys Si Qual Draw Prep'!$A$7:$P$54,2)))","v":""},{"$f":"IF($D31=\"\",\"\",VLOOKUP($D31,'Boys Si Qual Draw Prep'!$A$7:$P$54,3))","v":""},null,{"$f":"IF($D31=\"\",\"\",VLOOKUP($D31,'Boys Si Qual Draw Prep'!$A$7:$P$54,4))","v":""},null,{"$f":"UPPER(IF(OR(I32=\"a\",I32=\"as\"),E31,IF(OR(I32=\"b\",I32=\"bs\"),E32,)))","v":""}]
["26",{"$f":"IF($D32=\"\",\"\",VLOOKUP($D32,'Boys Si Qual Draw Prep'!$A$7:$P$54,15))","v":""},{"$f":"IF($D32=\"\",\"\",VLOOKUP($D32,'Boys Si Qual Draw Prep'!$A$7:$P$54,16))","v":""},null,{"$f":"UPPER(IF($D32=\"\",\"\",VLOOKUP($D32,'Boys Si Qual Draw Prep'!$A$7:$P$54,2)))","v":""},{"$f":"IF($D32=\"\",\"\",VLOOKUP($D32,'Boys Si Qual Draw Prep'!$A$7:$P$54,3))","v":""},null,{"$f":"IF($D32=\"\",\"\",VLOOKUP($D32,'Boys Si Qual Draw Prep'!$A$7:$P$54,4))","v":""},null,null,null,{"$f":"UPPER(IF(OR(K32=\"a\",K32=\"as\"),J31,IF(OR(K32=\"b\",K32=\"bs\"),J33,)))","v":""}]
["27",{"$f":"IF($D33=\"\",\"\",VLOOKUP($D33,'Boys Si Qual Draw Prep'!$A$7:$P$54,15))","v":""},{"$f":"IF($D33=\"\",\"\",VLOOKUP($D33,'Boys Si Qual Draw Prep'!$A$7:$P$54,16))","v":""},null,{"$f":"UPPER(IF($D33=\"\",\"\",VLOOKUP($D33,'Boys Si Qual Draw Prep'!$A$7:$P$54,2)))","v":""},{"$f":"IF($D33=\"\",\"\",VLOOKUP($D33,'Boys Si Qual Draw Prep'!$A$7:$P$54,3))","v":""},null,{"$f":"IF($D33=\"\",\"\",VLOOKUP($D33,'Boys Si Qual Draw Prep'!$A$7:$P$54,4))","v":""},null,{"$f":"UPPER(IF(OR(I34=\"a\",I34=\"as\"),E33,IF(OR(I34=\"b\",I34=\"bs\"),E34,)))","v":""}]
["28",{"$f":"IF($D34=\"\",\"\",VLOOKUP($D34,'Boys Si Qual Draw Prep'!$A$7:$P$54,15))","v":""},{"$f":"IF($D34=\"\",\"\",VLOOKUP($D34,'Boys Si Qual Draw Prep'!$A$7:$P$54,16))","v":""},null,{"$f":"UPPER(IF($D34=\"\",\"\",VLOOKUP($D34,'Boys Si Qual Draw Prep'!$A$7:$P$54,2)))","v":""},{"$f":"IF($D34=\"\",\"\",VLOOKUP($D34,'Boys Si Qual Draw Prep'!$A$7:$P$54,3))","v":""},null,{"$f":"IF($D34=\"\",\"\",VLOOKUP($D34,'Boys Si Qual Draw Prep'!$A$7:$P$54,4))","v":""},null,null,null,"Umpire",null,{"$f":"UPPER(IF(OR(M34=\"a\",M34=\"as\"),L32,IF(OR(M34=\"b\",M34=\"bs\"),L36,)))","v":""}]
["29",{"$f":"IF($D35=\"\",\"\",VLOOKUP($D35,'Boys Si Qual Draw Prep'!$A$7:$P$54,15))","v":""},{"$f":"IF($D35=\"\",\"\",VLOOKUP($D35,'Boys Si Qual Draw Prep'!$A$7:$P$54,16))","v":""},null,{"$f":"UPPER(IF($D35=\"\",\"\",VLOOKUP($D35,'Boys Si Qual Draw Prep'!$A$7:$P$54,2)))","v":""},{"$f":"IF($D35=\"\",\"\",VLOOKUP($D35,'Boys Si Qual Draw Prep'!$A$7:$P$54,3))","v":""},null,{"$f":"IF($D35=\"\",\"\",VLOOKUP($D35,'Boys Si Qual Draw Prep'!$A$7:$P$54,4))","v":""},null,{"$f":"UPPER(IF(OR(I36=\"a\",I36=\"as\"),E35,IF(OR(I36=\"b\",I36=\"bs\"),E36,)))","v":""}]
["30",{"$f":"IF($D36=\"\",\"\",VLOOKUP($D36,'Boys Si Qual Draw Prep'!$A$7:$P$54,15))","v":""},{"$f":"IF($D36=\"\",\"\",VLOOKUP($D36,'Boys Si Qual Draw Prep'!$A$7:$P$54,16))","v":""},null,{"$f":"UPPER(IF($D36=\"\",\"\",VLOOKUP($D36,'Boys Si Qual Draw Prep'!$A$7:$P$54,2)))","v":""},{"$f":"IF($D36=\"\",\"\",VLOOKUP($D36,'Boys Si Qual Draw Prep'!$A$7:$P$54,3))","v":""},null,{"$f":"IF($D36=\"\",\"\",VLOOKUP($D36,'Boys Si Qual Draw Prep'!$A$7:$P$54,4))","v":""},null,null,null,{"$f":"UPPER(IF(OR(K36=\"a\",K36=\"as\"),J35,IF(OR(K36=\"b\",K36=\"bs\"),J37,)))","v":""}]
["31",{"$f":"IF($D37=\"\",\"\",VLOOKUP($D37,'Boys Si Qual Draw Prep'!$A$7:$P$54,15))","v":""},{"$f":"IF($D37=\"\",\"\",VLOOKUP($D37,'Boys Si Qual Draw Prep'!$A$7:$P$54,16))","v":""},null,{"$f":"UPPER(IF($D37=\"\",\"\",VLOOKUP($D37,'Boys Si Qual Draw Prep'!$A$7:$P$54,2)))","v":""},{"$f":"IF($D37=\"\",\"\",VLOOKUP($D37,'Boys Si Qual Draw Prep'!$A$7:$P$54,3))","v":""},null,{"$f":"IF($D37=\"\",\"\",VLOOKUP($D37,'Boys Si Qual Draw Prep'!$A$7:$P$54,4))","v":""},null,{"$f":"UPPER(IF(OR(I38=\"a\",I38=\"as\"),E37,IF(OR(I38=\"b\",I38=\"bs\"),E38,)))","v":""}]
["32",{"$f":"IF($D38=\"\",\"\",VLOOKUP($D38,'Boys Si Qual Draw Prep'!$A$7:$P$54,15))","v":""},{"$f":"IF($D38=\"\",\"\",VLOOKUP($D38,'Boys Si Qual Draw Prep'!$A$7:$P$54,16))","v":""},null,{"$f":"UPPER(IF($D38=\"\",\"\",VLOOKUP($D38,'Boys Si Qual Draw Prep'!$A$7:$P$54,2)))","v":""},{"$f":"IF($D38=\"\",\"\",VLOOKUP($D38,'Boys Si Qual Draw Prep'!$A$7:$P$54,3))","v":""},null,{"$f":"IF($D38=\"\",\"\",VLOOKUP($D38,'Boys Si Qual Draw Prep'!$A$7:$P$54,4))","v":""}]
["33",{"$f":"IF($D39=\"\",\"\",VLOOKUP($D39,'Boys Si Qual Draw Prep'!$A$7:$P$54,15))","v":""},{"$f":"IF($D39=\"\",\"\",VLOOKUP($D39,'Boys Si Qual Draw Prep'!$A$7:$P$54,16))","v":""},null,{"$f":"UPPER(IF($D39=\"\",\"\",VLOOKUP($D39,'Boys Si Qual Draw Prep'!$A$7:$P$54,2)))","v":""},{"$f":"IF($D39=\"\",\"\",VLOOKUP($D39,'Boys Si Qual Draw Prep'!$A$7:$P$54,3))","v":""},null,{"$f":"IF($D39=\"\",\"\",VLOOKUP($D39,'Boys Si Qual Draw Prep'!$A$7:$P$54,4))","v":""},null,{"$f":"UPPER(IF(OR(I40=\"a\",I40=\"as\"),E39,IF(OR(I40=\"b\",I40=\"bs\"),E40,)))","v":""}]
["34",{"$f":"IF($D40=\"\",\"\",VLOOKUP($D40,'Boys Si Qual Draw Prep'!$A$7:$P$54,15))","v":""},{"$f":"IF($D40=\"\",\"\",VLOOKUP($D40,'Boys Si Qual Draw Prep'!$A$7:$P$54,16))","v":""},null,{"$f":"UPPER(IF($D40=\"\",\"\",VLOOKUP($D40,'Boys Si Qual Draw Prep'!$A$7:$P$54,2)))","v":""},{"$f":"IF($D40=\"\",\"\",VLOOKUP($D40,'Boys Si Qual Draw Prep'!$A$7:$P$54,3))","v":""},null,{"$f":"IF($D40=\"\",\"\",VLOOKUP($D40,'Boys Si Qual Draw Prep'!$A$7:$P$54,4))","v":""},null,null,null,{"$f":"UPPER(IF(OR(K40=\"a\",K40=\"as\"),J39,IF(OR(K40=\"b\",K40=\"bs\"),J41,)))","v":""}]
["35",{"$f":"IF($D41=\"\",\"\",VLOOKUP($D41,'Boys Si Qual Draw Prep'!$A$7:$P$54,15))","v":""},{"$f":"IF($D41=\"\",\"\",VLOOKUP($D41,'Boys Si Qual Draw Prep'!$A$7:$P$54,16))","v":""},null,{"$f":"UPPER(IF($D41=\"\",\"\",VLOOKUP($D41,'Boys Si Qual Draw Prep'!$A$7:$P$54,2)))","v":""},{"$f":"IF($D41=\"\",\"\",VLOOKUP($D41,'Boys Si Qual Draw Prep'!$A$7:$P$54,3))","v":""},null,{"$f":"IF($D41=\"\",\"\",VLOOKUP($D41,'Boys Si Qual Draw Prep'!$A$7:$P$54,4))","v":""},null,{"$f":"UPPER(IF(OR(I42=\"a\",I42=\"as\"),E41,IF(OR(I42=\"b\",I42=\"bs\"),E42,)))","v":""}]
["36",{"$f":"IF($D42=\"\",\"\",VLOOKUP($D42,'Boys Si Qual Draw Prep'!$A$7:$P$54,15))","v":""},{"$f":"IF($D42=\"\",\"\",VLOOKUP($D42,'Boys Si Qual Draw Prep'!$A$7:$P$54,16))","v":""},null,{"$f":"UPPER(IF($D42=\"\",\"\",VLOOKUP($D42,'Boys Si Qual Draw Prep'!$A$7:$P$54,2)))","v":""},{"$f":"IF($D42=\"\",\"\",VLOOKUP($D42,'Boys Si Qual Draw Prep'!$A$7:$P$54,3))","v":""},null,{"$f":"IF($D42=\"\",\"\",VLOOKUP($D42,'Boys Si Qual Draw Prep'!$A$7:$P$54,4))","v":""},null,null,null,"Umpire",null,{"$f":"UPPER(IF(OR(M42=\"a\",M42=\"as\"),L40,IF(OR(M42=\"b\",M42=\"bs\"),L44,)))","v":""}]
["37",{"$f":"IF($D43=\"\",\"\",VLOOKUP($D43,'Boys Si Qual Draw Prep'!$A$7:$P$54,15))","v":""},{"$f":"IF($D43=\"\",\"\",VLOOKUP($D43,'Boys Si Qual Draw Prep'!$A$7:$P$54,16))","v":""},null,{"$f":"UPPER(IF($D43=\"\",\"\",VLOOKUP($D43,'Boys Si Qual Draw Prep'!$A$7:$P$54,2)))","v":""},{"$f":"IF($D43=\"\",\"\",VLOOKUP($D43,'Boys Si Qual Draw Prep'!$A$7:$P$54,3))","v":""},null,{"$f":"IF($D43=\"\",\"\",VLOOKUP($D43,'Boys Si Qual Draw Prep'!$A$7:$P$54,4))","v":""},null,{"$f":"UPPER(IF(OR(I44=\"a\",I44=\"as\"),E43,IF(OR(I44=\"b\",I44=\"bs\"),E44,)))","v":""}]
["38",{"$f":"IF($D44=\"\",\"\",VLOOKUP($D44,'Boys Si Qual Draw Prep'!$A$7:$P$54,15))","v":""},{"$f":"IF($D44=\"\",\"\",VLOOKUP($D44,'Boys Si Qual Draw Prep'!$A$7:$P$54,16))","v":""},null,{"$f":"UPPER(IF($D44=\"\",\"\",VLOOKUP($D44,'Boys Si Qual Draw Prep'!$A$7:$P$54,2)))","v":""},{"$f":"IF($D44=\"\",\"\",VLOOKUP($D44,'Boys Si Qual Draw Prep'!$A$7:$P$54,3))","v":""},null,{"$f":"IF($D44=\"\",\"\",VLOOKUP($D44,'Boys Si Qual Draw Prep'!$A$7:$P$54,4))","v":""},null,null,null,{"$f":"UPPER(IF(OR(K44=\"a\",K44=\"as\"),J43,IF(OR(K44=\"b\",K44=\"bs\"),J45,)))","v":""}]
["39",{"$f":"IF($D45=\"\",\"\",VLOOKUP($D45,'Boys Si Qual Draw Prep'!$A$7:$P$54,15))","v":""},{"$f":"IF($D45=\"\",\"\",VLOOKUP($D45,'Boys Si Qual Draw Prep'!$A$7:$P$54,16))","v":""},null,{"$f":"UPPER(IF($D45=\"\",\"\",VLOOKUP($D45,'Boys Si Qual Draw Prep'!$A$7:$P$54,2)))","v":""},{"$f":"IF($D45=\"\",\"\",VLOOKUP($D45,'Boys Si Qual Draw Prep'!$A$7:$P$54,3))","v":""},null,{"$f":"IF($D45=\"\",\"\",VLOOKUP($D45,'Boys Si Qual Draw Prep'!$A$7:$P$54,4))","v":""},null,{"$f":"UPPER(IF(OR(I46=\"a\",I46=\"as\"),E45,IF(OR(I46=\"b\",I46=\"bs\"),E46,)))","v":""}]
["40",{"$f":"IF($D46=\"\",\"\",VLOOKUP($D46,'Boys Si Qual Draw Prep'!$A$7:$P$54,15))","v":""},{"$f":"IF($D46=\"\",\"\",VLOOKUP($D46,'Boys Si Qual Draw Prep'!$A$7:$P$54,16))","v":""},null,{"$f":"UPPER(IF($D46=\"\",\"\",VLOOKUP($D46,'Boys Si Qual Draw Prep'!$A$7:$P$54,2)))","v":""},{"$f":"IF($D46=\"\",\"\",VLOOKUP($D46,'Boys Si Qual Draw Prep'!$A$7:$P$54,3))","v":""},null,{"$f":"IF($D46=\"\",\"\",VLOOKUP($D46,'Boys Si Qual Draw Prep'!$A$7:$P$54,4))","v":""}]
["41",{"$f":"IF($D47=\"\",\"\",VLOOKUP($D47,'Boys Si Qual Draw Prep'!$A$7:$P$54,15))","v":""},{"$f":"IF($D47=\"\",\"\",VLOOKUP($D47,'Boys Si Qual Draw Prep'!$A$7:$P$54,16))","v":""},null,{"$f":"UPPER(IF($D47=\"\",\"\",VLOOKUP($D47,'Boys Si Qual Draw Prep'!$A$7:$P$54,2)))","v":""},{"$f":"IF($D47=\"\",\"\",VLOOKUP($D47,'Boys Si Qual Draw Prep'!$A$7:$P$54,3))","v":""},null,{"$f":"IF($D47=\"\",\"\",VLOOKUP($D47,'Boys Si Qual Draw Prep'!$A$7:$P$54,4))","v":""},null,{"$f":"UPPER(IF(OR(I48=\"a\",I48=\"as\"),E47,IF(OR(I48=\"b\",I48=\"bs\"),E48,)))","v":""}]
["42",{"$f":"IF($D48=\"\",\"\",VLOOKUP($D48,'Boys Si Qual Draw Prep'!$A$7:$P$54,15))","v":""},{"$f":"IF($D48=\"\",\"\",VLOOKUP($D48,'Boys Si Qual Draw Prep'!$A$7:$P$54,16))","v":""},null,{"$f":"UPPER(IF($D48=\"\",\"\",VLOOKUP($D48,'Boys Si Qual Draw Prep'!$A$7:$P$54,2)))","v":""},{"$f":"IF($D48=\"\",\"\",VLOOKUP($D48,'Boys Si Qual Draw Prep'!$A$7:$P$54,3))","v":""},null,{"$f":"IF($D48=\"\",\"\",VLOOKUP($D48,'Boys Si Qual Draw Prep'!$A$7:$P$54,4))","v":""},null,null,null,{"$f":"UPPER(IF(OR(K48=\"a\",K48=\"as\"),J47,IF(OR(K48=\"b\",K48=\"bs\"),J49,)))","v":""}]
["43",{"$f":"IF($D49=\"\",\"\",VLOOKUP($D49,'Boys Si Qual Draw Prep'!$A$7:$P$54,15))","v":""},{"$f":"IF($D49=\"\",\"\",VLOOKUP($D49,'Boys Si Qual Draw Prep'!$A$7:$P$54,16))","v":""},null,{"$f":"UPPER(IF($D49=\"\",\"\",VLOOKUP($D49,'Boys Si Qual Draw Prep'!$A$7:$P$54,2)))","v":""},{"$f":"IF($D49=\"\",\"\",VLOOKUP($D49,'Boys Si Qual Draw Prep'!$A$7:$P$54,3))","v":""},null,{"$f":"IF($D49=\"\",\"\",VLOOKUP($D49,'Boys Si Qual Draw Prep'!$A$7:$P$54,4))","v":""},null,{"$f":"UPPER(IF(OR(I50=\"a\",I50=\"as\"),E49,IF(OR(I50=\"b\",I50=\"bs\"),E50,)))","v":""}]
["44",{"$f":"IF($D50=\"\",\"\",VLOOKUP($D50,'Boys Si Qual Draw Prep'!$A$7:$P$54,15))","v":""},{"$f":"IF($D50=\"\",\"\",VLOOKUP($D50,'Boys Si Qual Draw Prep'!$A$7:$P$54,16))","v":""},null,{"$f":"UPPER(IF($D50=\"\",\"\",VLOOKUP($D50,'Boys Si Qual Draw Prep'!$A$7:$P$54,2)))","v":""},{"$f":"IF($D50=\"\",\"\",VLOOKUP($D50,'Boys Si Qual Draw Prep'!$A$7:$P$54,3))","v":""},null,{"$f":"IF($D50=\"\",\"\",VLOOKUP($D50,'Boys Si Qual Draw Prep'!$A$7:$P$54,4))","v":""},null,null,null,"Umpire",null,{"$f":"UPPER(IF(OR(M50=\"a\",M50=\"as\"),L48,IF(OR(M50=\"b\",M50=\"bs\"),L52,)))","v":""}]
["45",{"$f":"IF($D51=\"\",\"\",VLOOKUP($D51,'Boys Si Qual Draw Prep'!$A$7:$P$54,15))","v":""},{"$f":"IF($D51=\"\",\"\",VLOOKUP($D51,'Boys Si Qual Draw Prep'!$A$7:$P$54,16))","v":""},null,{"$f":"UPPER(IF($D51=\"\",\"\",VLOOKUP($D51,'Boys Si Qual Draw Prep'!$A$7:$P$54,2)))","v":""},{"$f":"IF($D51=\"\",\"\",VLOOKUP($D51,'Boys Si Qual Draw Prep'!$A$7:$P$54,3))","v":""},null,{"$f":"IF($D51=\"\",\"\",VLOOKUP($D51,'Boys Si Qual Draw Prep'!$A$7:$P$54,4))","v":""},null,{"$f":"UPPER(IF(OR(I52=\"a\",I52=\"as\"),E51,IF(OR(I52=\"b\",I52=\"bs\"),E52,)))","v":""}]
["46",{"$f":"IF($D52=\"\",\"\",VLOOKUP($D52,'Boys Si Qual Draw Prep'!$A$7:$P$54,15))","v":""},{"$f":"IF($D52=\"\",\"\",VLOOKUP($D52,'Boys Si Qual Draw Prep'!$A$7:$P$54,16))","v":""},null,{"$f":"UPPER(IF($D52=\"\",\"\",VLOOKUP($D52,'Boys Si Qual Draw Prep'!$A$7:$P$54,2)))","v":""},{"$f":"IF($D52=\"\",\"\",VLOOKUP($D52,'Boys Si Qual Draw Prep'!$A$7:$P$54,3))","v":""},null,{"$f":"IF($D52=\"\",\"\",VLOOKUP($D52,'Boys Si Qual Draw Prep'!$A$7:$P$54,4))","v":""},null,null,null,{"$f":"UPPER(IF(OR(K52=\"a\",K52=\"as\"),J51,IF(OR(K52=\"b\",K52=\"bs\"),J53,)))","v":""}]
["47",{"$f":"IF($D53=\"\",\"\",VLOOKUP($D53,'Boys Si Qual Draw Prep'!$A$7:$P$54,15))","v":""},{"$f":"IF($D53=\"\",\"\",VLOOKUP($D53,'Boys Si Qual Draw Prep'!$A$7:$P$54,16))","v":""},null,{"$f":"UPPER(IF($D53=\"\",\"\",VLOOKUP($D53,'Boys Si Qual Draw Prep'!$A$7:$P$54,2)))","v":""},{"$f":"IF($D53=\"\",\"\",VLOOKUP($D53,'Boys Si Qual Draw Prep'!$A$7:$P$54,3))","v":""},null,{"$f":"IF($D53=\"\",\"\",VLOOKUP($D53,'Boys Si Qual Draw Prep'!$A$7:$P$54,4))","v":""},null,{"$f":"UPPER(IF(OR(I54=\"a\",I54=\"as\"),E53,IF(OR(I54=\"b\",I54=\"bs\"),E54,)))","v":""}]
["48",{"$f":"IF($D54=\"\",\"\",VLOOKUP($D54,'Boys Si Qual Draw Prep'!$A$7:$P$54,15))","v":""},{"$f":"IF($D54=\"\",\"\",VLOOKUP($D54,'Boys Si Qual Draw Prep'!$A$7:$P$54,16))","v":""},null,{"$f":"UPPER(IF($D54=\"\",\"\",VLOOKUP($D54,'Boys Si Qual Draw Prep'!$A$7:$P$54,2)))","v":""},{"$f":"IF($D54=\"\",\"\",VLOOKUP($D54,'Boys Si Qual Draw Prep'!$A$7:$P$54,3))","v":""},null,{"$f":"IF($D54=\"\",\"\",VLOOKUP($D54,'Boys Si Qual Draw Prep'!$A$7:$P$54,4))","v":""}]
[null,{"$f":"IF($D55=\"\",\"\",VLOOKUP($D55,'Boys Si Qual Draw Prep'!$A$7:$P$54,15))","v":""},{"$f":"IF($D55=\"\",\"\",VLOOKUP($D55,'Boys Si Qual Draw Prep'!$A$7:$P$54,16))","v":""},null,{"$f":"UPPER(IF($D55=\"\",\"\",VLOOKUP($D55,'Boys Si Qual Draw Prep'!$A$7:$P$54,2)))","v":""},{"$f":"IF($D55=\"\",\"\",VLOOKUP($D55,'Boys Si Qual Draw Prep'!$A$7:$P$54,3))","v":""},null,{"$f":"IF($D55=\"\",\"\",VLOOKUP($D55,'Boys Si Qual Draw Prep'!$A$7:$P$54,4))","v":""},null,{"$f":"UPPER(IF(OR(I56=\"a\",I56=\"as\"),E55,IF(OR(I56=\"b\",I56=\"bs\"),E56,)))","v":""}]
[null,{"$f":"IF($D56=\"\",\"\",VLOOKUP($D56,'Boys Si Qual Draw Prep'!$A$7:$P$54,15))","v":""},{"$f":"IF($D56=\"\",\"\",VLOOKUP($D56,'Boys Si Qual Draw Prep'!$A$7:$P$54,16))","v":""},null,{"$f":"UPPER(IF($D56=\"\",\"\",VLOOKUP($D56,'Boys Si Qual Draw Prep'!$A$7:$P$54,2)))","v":""},{"$f":"IF($D56=\"\",\"\",VLOOKUP($D56,'Boys Si Qual Draw Prep'!$A$7:$P$54,3))","v":""},null,{"$f":"IF($D56=\"\",\"\",VLOOKUP($D56,'Boys Si Qual Draw Prep'!$A$7:$P$54,4))","v":""},null,null,null,{"$f":"UPPER(IF(OR(K56=\"a\",K56=\"as\"),J55,IF(OR(K56=\"b\",K56=\"bs\"),J57,)))","v":""}]
[null,{"$f":"IF($D57=\"\",\"\",VLOOKUP($D57,'Boys Si Qual Draw Prep'!$A$7:$P$54,15))","v":""},{"$f":"IF($D57=\"\",\"\",VLOOKUP($D57,'Boys Si Qual Draw Prep'!$A$7:$P$54,16))","v":""},null,{"$f":"UPPER(IF($D57=\"\",\"\",VLOOKUP($D57,'Boys Si Qual Draw Prep'!$A$7:$P$54,2)))","v":""},{"$f":"IF($D57=\"\",\"\",VLOOKUP($D57,'Boys Si Qual Draw Prep'!$A$7:$P$54,3))","v":""},null,{"$f":"IF($D57=\"\",\"\",VLOOKUP($D57,'Boys Si Qual Draw Prep'!$A$7:$P$54,4))","v":""},null,{"$f":"UPPER(IF(OR(I58=\"a\",I58=\"as\"),E57,IF(OR(I58=\"b\",I58=\"bs\"),E58,)))","v":""}]
[null,{"$f":"IF($D58=\"\",\"\",VLOOKUP($D58,'Boys Si Qual Draw Prep'!$A$7:$P$54,15))","v":""},{"$f":"IF($D58=\"\",\"\",VLOOKUP($D58,'Boys Si Qual Draw Prep'!$A$7:$P$54,16))","v":""},null,{"$f":"UPPER(IF($D58=\"\",\"\",VLOOKUP($D58,'Boys Si Qual Draw Prep'!$A$7:$P$54,2)))","v":""},{"$f":"IF($D58=\"\",\"\",VLOOKUP($D58,'Boys Si Qual Draw Prep'!$A$7:$P$54,3))","v":""},null,{"$f":"IF($D58=\"\",\"\",VLOOKUP($D58,'Boys Si Qual Draw Prep'!$A$7:$P$54,4))","v":""},null,null,null,null,null,{"$f":"UPPER(IF(OR(M58=\"a\",M58=\"as\"),L56,IF(OR(M58=\"b\",M58=\"bs\"),L60,)))","v":""}]
[null,{"$f":"IF($D59=\"\",\"\",VLOOKUP($D59,'Boys Si Qual Draw Prep'!$A$7:$P$54,15))","v":""},{"$f":"IF($D59=\"\",\"\",VLOOKUP($D59,'Boys Si Qual Draw Prep'!$A$7:$P$54,16))","v":""},null,{"$f":"UPPER(IF($D59=\"\",\"\",VLOOKUP($D59,'Boys Si Qual Draw Prep'!$A$7:$P$54,2)))","v":""},{"$f":"IF($D59=\"\",\"\",VLOOKUP($D59,'Boys Si Qual Draw Prep'!$A$7:$P$54,3))","v":""},null,{"$f":"IF($D59=\"\",\"\",VLOOKUP($D59,'Boys Si Qual Draw Prep'!$A$7:$P$54,4))","v":""},null,{"$f":"UPPER(IF(OR(I60=\"a\",I60=\"as\"),E59,IF(OR(I60=\"b\",I60=\"bs\"),E60,)))","v":""}]
[null,{"$f":"IF($D60=\"\",\"\",VLOOKUP($D60,'Boys Si Qual Draw Prep'!$A$7:$P$54,15))","v":""},{"$f":"IF($D60=\"\",\"\",VLOOKUP($D60,'Boys Si Qual Draw Prep'!$A$7:$P$54,16))","v":""},null,{"$f":"UPPER(IF($D60=\"\",\"\",VLOOKUP($D60,'Boys Si Qual Draw Prep'!$A$7:$P$54,2)))","v":""},{"$f":"IF($D60=\"\",\"\",VLOOKUP($D60,'Boys Si Qual Draw Prep'!$A$7:$P$54,3))","v":""},null,{"$f":"IF($D60=\"\",\"\",VLOOKUP($D60,'Boys Si Qual Draw Prep'!$A$7:$P$54,4))","v":""},null,null,null,{"$f":"UPPER(IF(OR(K60=\"a\",K60=\"as\"),J59,IF(OR(K60=\"b\",K60=\"bs\"),J61,)))","v":""}]
[null,{"$f":"IF($D61=\"\",\"\",VLOOKUP($D61,'Boys Si Qual Draw Prep'!$A$7:$P$54,15))","v":""},{"$f":"IF($D61=\"\",\"\",VLOOKUP($D61,'Boys Si Qual Draw Prep'!$A$7:$P$54,16))","v":""},null,{"$f":"UPPER(IF($D61=\"\",\"\",VLOOKUP($D61,'Boys Si Qual Draw Prep'!$A$7:$P$54,2)))","v":""},{"$f":"IF($D61=\"\",\"\",VLOOKUP($D61,'Boys Si Qual Draw Prep'!$A$7:$P$54,3))","v":""},null,{"$f":"IF($D61=\"\",\"\",VLOOKUP($D61,'Boys Si Qual Draw Prep'!$A$7:$P$54,4))","v":""},null,{"$f":"UPPER(IF(OR(I62=\"a\",I62=\"as\"),E61,IF(OR(I62=\"b\",I62=\"bs\"),E62,)))","v":""}]
[null,{"$f":"IF($D62=\"\",\"\",VLOOKUP($D62,'Boys Si Qual Draw Prep'!$A$7:$P$54,15))","v":""},{"$f":"IF($D62=\"\",\"\",VLOOKUP($D62,'Boys Si Qual Draw Prep'!$A$7:$P$54,16))","v":""},null,{"$f":"UPPER(IF($D62=\"\",\"\",VLOOKUP($D62,'Boys Si Qual Draw Prep'!$A$7:$P$54,2)))","v":""},{"$f":"IF($D62=\"\",\"\",VLOOKUP($D62,'Boys Si Qual Draw Prep'!$A$7:$P$54,3))","v":""},null,{"$f":"IF($D62=\"\",\"\",VLOOKUP($D62,'Boys Si Qual Draw Prep'!$A$7:$P$54,4))","v":""}]
[null,{"$f":"IF($D63=\"\",\"\",VLOOKUP($D63,'Boys Si Qual Draw Prep'!$A$7:$P$54,15))","v":""},{"$f":"IF($D63=\"\",\"\",VLOOKUP($D63,'Boys Si Qual Draw Prep'!$A$7:$P$54,16))","v":""},null,{"$f":"UPPER(IF($D63=\"\",\"\",VLOOKUP($D63,'Boys Si Qual Draw Prep'!$A$7:$P$54,2)))","v":""},{"$f":"IF($D63=\"\",\"\",VLOOKUP($D63,'Boys Si Qual Draw Prep'!$A$7:$P$54,3))","v":""},null,{"$f":"IF($D63=\"\",\"\",VLOOKUP($D63,'Boys Si Qual Draw Prep'!$A$7:$P$54,4))","v":""},null,{"$f":"UPPER(IF(OR(I64=\"a\",I64=\"as\"),E63,IF(OR(I64=\"b\",I64=\"bs\"),E64,)))","v":""}]
[null,{"$f":"IF($D64=\"\",\"\",VLOOKUP($D64,'Boys Si Qual Draw Prep'!$A$7:$P$54,15))","v":""},{"$f":"IF($D64=\"\",\"\",VLOOKUP($D64,'Boys Si Qual Draw Prep'!$A$7:$P$54,16))","v":""},null,{"$f":"UPPER(IF($D64=\"\",\"\",VLOOKUP($D64,'Boys Si Qual Draw Prep'!$A$7:$P$54,2)))","v":""},{"$f":"IF($D64=\"\",\"\",VLOOKUP($D64,'Boys Si Qual Draw Prep'!$A$7:$P$54,3))","v":""},null,{"$f":"IF($D64=\"\",\"\",VLOOKUP($D64,'Boys Si Qual Draw Prep'!$A$7:$P$54,4))","v":""},null,null,null,{"$f":"UPPER(IF(OR(K64=\"a\",K64=\"as\"),J63,IF(OR(K64=\"b\",K64=\"bs\"),J65,)))","v":""}]
[null,{"$f":"IF($D65=\"\",\"\",VLOOKUP($D65,'Boys Si Qual Draw Prep'!$A$7:$P$54,15))","v":""},{"$f":"IF($D65=\"\",\"\",VLOOKUP($D65,'Boys Si Qual Draw Prep'!$A$7:$P$54,16))","v":""},null,{"$f":"UPPER(IF($D65=\"\",\"\",VLOOKUP($D65,'Boys Si Qual Draw Prep'!$A$7:$P$54,2)))","v":""},{"$f":"IF($D65=\"\",\"\",VLOOKUP($D65,'Boys Si Qual Draw Prep'!$A$7:$P$54,3))","v":""},null,{"$f":"IF($D65=\"\",\"\",VLOOKUP($D65,'Boys Si Qual Draw Prep'!$A$7:$P$54,4))","v":""},null,{"$f":"UPPER(IF(OR(I66=\"a\",I66=\"as\"),E65,IF(OR(I66=\"b\",I66=\"bs\"),E66,)))","v":""}]
[null,{"$f":"IF($D66=\"\",\"\",VLOOKUP($D66,'Boys Si Qual Draw Prep'!$A$7:$P$54,15))","v":""},{"$f":"IF($D66=\"\",\"\",VLOOKUP($D66,'Boys Si Qual Draw Prep'!$A$7:$P$54,16))","v":""},null,{"$f":"UPPER(IF($D66=\"\",\"\",VLOOKUP($D66,'Boys Si Qual Draw Prep'!$A$7:$P$54,2)))","v":""},{"$f":"IF($D66=\"\",\"\",VLOOKUP($D66,'Boys Si Qual Draw Prep'!$A$7:$P$54,3))","v":""},null,{"$f":"IF($D66=\"\",\"\",VLOOKUP($D66,'Boys Si Qual Draw Prep'!$A$7:$P$54,4))","v":""},null,null,null,null,null,{"$f":"UPPER(IF(OR(M66=\"a\",M66=\"as\"),L64,IF(OR(M66=\"b\",M66=\"bs\"),L68,)))","v":""}]
[null,{"$f":"IF($D67=\"\",\"\",VLOOKUP($D67,'Boys Si Qual Draw Prep'!$A$7:$P$54,15))","v":""},{"$f":"IF($D67=\"\",\"\",VLOOKUP($D67,'Boys Si Qual Draw Prep'!$A$7:$P$54,16))","v":""},null,{"$f":"UPPER(IF($D67=\"\",\"\",VLOOKUP($D67,'Boys Si Qual Draw Prep'!$A$7:$P$54,2)))","v":""},{"$f":"IF($D67=\"\",\"\",VLOOKUP($D67,'Boys Si Qual Draw Prep'!$A$7:$P$54,3))","v":""},null,{"$f":"IF($D67=\"\",\"\",VLOOKUP($D67,'Boys Si Qual Draw Prep'!$A$7:$P$54,4))","v":""},null,{"$f":"UPPER(IF(OR(I68=\"a\",I68=\"as\"),E67,IF(OR(I68=\"b\",I68=\"bs\"),E68,)))","v":""}]
[null,{"$f":"IF($D68=\"\",\"\",VLOOKUP($D68,'Boys Si Qual Draw Prep'!$A$7:$P$54,15))","v":""},{"$f":"IF($D68=\"\",\"\",VLOOKUP($D68,'Boys Si Qual Draw Prep'!$A$7:$P$54,16))","v":""},null,{"$f":"UPPER(IF($D68=\"\",\"\",VLOOKUP($D68,'Boys Si Qual Draw Prep'!$A$7:$P$54,2)))","v":""},{"$f":"IF($D68=\"\",\"\",VLOOKUP($D68,'Boys Si Qual Draw Prep'!$A$7:$P$54,3))","v":""},null,{"$f":"IF($D68=\"\",\"\",VLOOKUP($D68,'Boys Si Qual Draw Prep'!$A$7:$P$54,4))","v":""},null,null,null,{"$f":"UPPER(IF(OR(K68=\"a\",K68=\"as\"),J67,IF(OR(K68=\"b\",K68=\"bs\"),J69,)))","v":""}]
[null,{"$f":"IF($D69=\"\",\"\",VLOOKUP($D69,'Boys Si Qual Draw Prep'!$A$7:$P$54,15))","v":""},{"$f":"IF($D69=\"\",\"\",VLOOKUP($D69,'Boys Si Qual Draw Prep'!$A$7:$P$54,16))","v":""},null,{"$f":"UPPER(IF($D69=\"\",\"\",VLOOKUP($D69,'Boys Si Qual Draw Prep'!$A$7:$P$54,2)))","v":""},{"$f":"IF($D69=\"\",\"\",VLOOKUP($D69,'Boys Si Qual Draw Prep'!$A$7:$P$54,3))","v":""},null,{"$f":"IF($D69=\"\",\"\",VLOOKUP($D69,'Boys Si Qual Draw Prep'!$A$7:$P$54,4))","v":""},null,{"$f":"UPPER(IF(OR(I70=\"a\",I70=\"as\"),E69,IF(OR(I70=\"b\",I70=\"bs\"),E70,)))","v":""}]
[null,{"$f":"IF($D70=\"\",\"\",VLOOKUP($D70,'Boys Si Qual Draw Prep'!$A$7:$P$54,15))","v":""},{"$f":"IF($D70=\"\",\"\",VLOOKUP($D70,'Boys Si Qual Draw Prep'!$A$7:$P$54,16))","v":""},null,{"$f":"UPPER(IF($D70=\"\",\"\",VLOOKUP($D70,'Boys Si Qual Draw Prep'!$A$7:$P$54,2)))","v":""},{"$f":"IF($D70=\"\",\"\",VLOOKUP($D70,'Boys Si Qual Draw Prep'!$A$7:$P$54,3))","v":""},null,{"$f":"IF($D70=\"\",\"\",VLOOKUP($D70,'Boys Si Qual Draw Prep'!$A$7:$P$54,4))","v":""}]
[]
["Acc. Ranking",null,null,"#","Seeded players","#","Seeded players",null,"#","Alternates",null,"Replacing",null,"Draw date/time:"]
["Rkg Date",null,null,1,{"$f":"IF(D73>$Q$80,,UPPER(VLOOKUP(D73,'Boys Si Qual Draw Prep'!$A$7:$R$134,2)))","v":0},9,{"$f":"IF(F73>$Q$80,,UPPER(VLOOKUP(F73,'Boys Si Qual Draw Prep'!$A$7:$R$134,2)))","v":0},null,"1",null,null,null,null,"Last Accepted player"]
["Top DA",null,null,2,{"$f":"IF(D74>$Q$80,,UPPER(VLOOKUP(D74,'Boys Si Qual Draw Prep'!$A$7:$R$134,2)))","v":0},10,{"$f":"IF(F74>$Q$80,,UPPER(VLOOKUP(F74,'Boys Si Qual Draw Prep'!$A$7:$R$134,2)))","v":0},null,"2"]
["Last DA",null,null,3,{"$f":"IF(D75>$Q$80,,UPPER(VLOOKUP(D75,'Boys Si Qual Draw Prep'!$A$7:$R$134,2)))","v":0},11,{"$f":"IF(F75>$Q$80,,UPPER(VLOOKUP(F75,'Boys Si Qual Draw Prep'!$A$7:$R$134,2)))","v":0},null,"3",null,null,null,null,"Player representatives"]
[null,null,null,4,{"$f":"IF(D76>$Q$80,,UPPER(VLOOKUP(D76,'Boys Si Qual Draw Prep'!$A$7:$R$134,2)))","v":0},12,{"$f":"IF(F76>$Q$80,,UPPER(VLOOKUP(F76,'Boys Si Qual Draw Prep'!$A$7:$R$134,2)))","v":0},null,"4"]
["Seed ranking",null,null,5,{"$f":"IF(D77>$Q$80,,UPPER(VLOOKUP(D77,'Boys Si Qual Draw Prep'!$A$7:$R$134,2)))","v":0},null,null,null,"5"]
["Rkg Date",null,null,6,{"$f":"IF(D78>$Q$80,,UPPER(VLOOKUP(D78,'Boys Si Qual Draw Prep'!$A$7:$R$134,2)))","v":0},null,null,null,"6",null,null,null,null,"ITF Referee's signature"]
["Top seed",null,null,7,{"$f":"IF(D79>$Q$80,,UPPER(VLOOKUP(D79,'Boys Si Qual Draw Prep'!$A$7:$R$134,2)))","v":0},null,null,null,"7"]
["Last seed",null,null,8,{"$f":"IF(D80>$Q$80,,UPPER(VLOOKUP(D80,'Boys Si Qual Draw Prep'!$A$7:$R$134,2)))","v":0},null,null,null,"8",null,null,null,null,{"$f":"Q4","v":0},null,null,{"$f":"MIN(12,'Boys Si Qual Draw Prep'!R5)","v":0}]

{"sheet":"Boys Si Qual 64>8","index":30,"n_rows":80,"n_cols":20,"rows_kept":80,"cut":false,"hidden":false,"merged":[[3,0,3,2]]}
[{"$f":"'Week SetUp'!$A$6","v":0},null,null,null,null,null,null,null,null,"BOYS SINGLES",null,null,null,"CU"]
[{"$f":"'Week SetUp'!$A$8","v":"ITF Junior Circuit"},null,null,null,null,null,null,null,null,"QUALIFYING DRAW (64)"]
["Week of",null,null,null,null,"City, Country",null,null,null,"Group",null,"Tourn. ID",null,null,null,null,"ITF Referee"]
[{"$f":"'Week SetUp'!$A$10","v":"00:00:00"},null,null,null,null,{"$f":"'Week SetUp'!$C$10","v":0},null,null,null,{"$f":"'Week SetUp'!$D$10","v":0},null,{"$f":"'Week SetUp'!$A$12","v":0},null,null,null,null,{"$f":"'Week SetUp'!$E$10","v":0}]
[null,"St.","Rank","Seed","Family Name","First name",null,"Nationality",null,"2nd Round",null,"Finals",null,"Qualifiers"]
[]
["1",{"$f":"IF($D7=\"\",\"\",VLOOKUP($D7,'Boys Si Qual Draw Prep'!$A$7:$P$70,15))","v":""},{"$f":"IF($D7=\"\",\"\",VLOOKUP($D7,'Boys Si Qual Draw Prep'!$A$7:$P$70,16))","v":""},null,{"$f":"UPPER(IF($D7=\"\",\"\",VLOOKUP($D7,'Boys Si Qual Draw Prep'!$A$7:$P$70,2)))","v":""},{"$f":"IF($D7=\"\",\"\",VLOOKUP($D7,'Boys Si Qual Draw Prep'!$A$7:$P$70,3))","v":""},null,{"$f":"IF($D7=\"\",\"\",VLOOKUP($D7,'Boys Si Qual Draw Prep'!$A$7:$P$70,4))","v":""},null,{"$f":"UPPER(IF(OR(I8=\"a\",I8=\"as\"),E7,IF(OR(I8=\"b\",I8=\"bs\"),E8,)))","v":""},null,null,null,null,null,null,null,null,null,{"$f":"'SetUp Officials'!P21","v":"Umpire"}]
["2",{"$f":"IF($D8=\"\",\"\",VLOOKUP($D8,'Boys Si Qual Draw Prep'!$A$7:$P$70,15))","v":""},{"$f":"IF($D8=\"\",\"\",VLOOKUP($D8,'Boys Si Qual Draw Prep'!$A$7:$P$70,16))","v":""},null,{"$f":"UPPER(IF($D8=\"\",\"\",VLOOKUP($D8,'Boys Si Qual Draw Prep'!$A$7:$P$70,2)))","v":""},{"$f":"IF($D8=\"\",\"\",VLOOKUP($D8,'Boys Si Qual Draw Prep'!$A$7:$P$70,3))","v":""},null,{"$f":"IF($D8=\"\",\"\",VLOOKUP($D8,'Boys Si Qual Draw Prep'!$A$7:$P$70,4))","v":""},null,null,null,{"$f":"UPPER(IF(OR(K8=\"a\",K8=\"as\"),J7,IF(OR(K8=\"b\",K8=\"bs\"),J9,)))","v":""},null,null,null,null,null,null,null,{"$f":"'SetUp Officials'!P22","v":" "}]
["3",{"$f":"IF($D9=\"\",\"\",VLOOKUP($D9,'Boys Si Qual Draw Prep'!$A$7:$P$70,15))","v":""},{"$f":"IF($D9=\"\",\"\",VLOOKUP($D9,'Boys Si Qual Draw Prep'!$A$7:$P$70,16))","v":""},null,{"$f":"UPPER(IF($D9=\"\",\"\",VLOOKUP($D9,'Boys Si Qual Draw Prep'!$A$7:$P$70,2)))","v":""},{"$f":"IF($D9=\"\",\"\",VLOOKUP($D9,'Boys Si Qual Draw Prep'!$A$7:$P$70,3))","v":""},null,{"$f":"IF($D9=\"\",\"\",VLOOKUP($D9,'Boys Si Qual Draw Prep'!$A$7:$P$70,4))","v":""},null,{"$f":"UPPER(IF(OR(I10=\"a\",I10=\"as\"),E9,IF(OR(I10=\"b\",I10=\"bs\"),E10,)))","v":""},null,null,null,null,null,null,null,null,null,{"$f":"'SetUp Officials'!P23","v":" "}]
["4",{"$f":"IF($D10=\"\",\"\",VLOOKUP($D10,'Boys Si Qual Draw Prep'!$A$7:$P$70,15))","v":""},{"$f":"IF($D10=\"\",\"\",VLOOKUP($D10,'Boys Si Qual Draw Prep'!$A$7:$P$70,16))","v":""},null,{"$f":"UPPER(IF($D10=\"\",\"\",VLOOKUP($D10,'Boys Si Qual Draw Prep'!$A$7:$P$70,2)))","v":""},{"$f":"IF($D10=\"\",\"\",VLOOKUP($D10,'Boys Si Qual Draw Prep'!$A$7:$P$70,3))","v":""},null,{"$f":"IF($D10=\"\",\"\",VLOOKUP($D10,'Boys Si Qual Draw Prep'!$A$7:$P$70,4))","v":""},null,null,null,"Umpire",null,{"$f":"UPPER(IF(OR(M10=\"a\",M10=\"as\"),L8,IF(OR(M10=\"b\",M10=\"bs\"),L12,)))","v":""},null,null,null,null,null,{"$f":"'SetUp Officials'!P24","v":" "}]
["5",{"$f":"IF($D11=\"\",\"\",VLOOKUP($D11,'Boys Si Qual Draw Prep'!$A$7:$P$70,15))","v":""},{"$f":"IF($D11=\"\",\"\",VLOOKUP($D11,'Boys Si Qual Draw Prep'!$A$7:$P$70,16))","v":""},null,{"$f":"UPPER(IF($D11=\"\",\"\",VLOOKUP($D11,'Boys Si Qual Draw Prep'!$A$7:$P$70,2)))","v":""},{"$f":"IF($D11=\"\",\"\",VLOOKUP($D11,'Boys Si Qual Draw Prep'!$A$7:$P$70,3))","v":""},null,{"$f":"IF($D11=\"\",\"\",VLOOKUP($D11,'Boys Si Qual Draw Prep'!$A$7:$P$70,4))","v":""},null,{"$f":"UPPER(IF(OR(I12=\"a\",I12=\"as\"),E11,IF(OR(I12=\"b\",I12=\"bs\"),E12,)))","v":""},null,null,null,null,null,null,null,null,null,{"$f":"'SetUp Officials'!P25","v":" "}]
["6",{"$f":"IF($D12=\"\",\"\",VLOOKUP($D12,'Boys Si Qual Draw Prep'!$A$7:$P$70,15))","v":""},{"$f":"IF($D12=\"\",\"\",VLOOKUP($D12,'Boys Si Qual Draw Prep'!$A$7:$P$70,16))","v":""},null,{"$f":"UPPER(IF($D12=\"\",\"\",VLOOKUP($D12,'Boys Si Qual Draw Prep'!$A$7:$P$70,2)))","v":""},{"$f":"IF($D12=\"\",\"\",VLOOKUP($D12,'Boys Si Qual Draw Prep'!$A$7:$P$70,3))","v":""},null,{"$f":"IF($D12=\"\",\"\",VLOOKUP($D12,'Boys Si Qual Draw Prep'!$A$7:$P$70,4))","v":""},null,null,null,{"$f":"UPPER(IF(OR(K12=\"a\",K12=\"as\"),J11,IF(OR(K12=\"b\",K12=\"bs\"),J13,)))","v":""},null,null,null,null,null,null,null,{"$f":"'SetUp Officials'!P26","v":" "}]
["7",{"$f":"IF($D13=\"\",\"\",VLOOKUP($D13,'Boys Si Qual Draw Prep'!$A$7:$P$70,15))","v":""},{"$f":"IF($D13=\"\",\"\",VLOOKUP($D13,'Boys Si Qual Draw Prep'!$A$7:$P$70,16))","v":""},null,{"$f":"UPPER(IF($D13=\"\",\"\",VLOOKUP($D13,'Boys Si Qual Draw Prep'!$A$7:$P$70,2)))","v":""},{"$f":"IF($D13=\"\",\"\",VLOOKUP($D13,'Boys Si Qual Draw Prep'!$A$7:$P$70,3))","v":""},null,{"$f":"IF($D13=\"\",\"\",VLOOKUP($D13,'Boys Si Qual Draw Prep'!$A$7:$P$70,4))","v":""},null,{"$f":"UPPER(IF(OR(I14=\"a\",I14=\"as\"),E13,IF(OR(I14=\"b\",I14=\"bs\"),E14,)))","v":""},null,null,null,null,null,null,null,null,null,{"$f":"'SetUp Officials'!P27","v":" "}]
["8",{"$f":"IF($D14=\"\",\"\",VLOOKUP($D14,'Boys Si Qual Draw Prep'!$A$7:$P$70,15))","v":""},{"$f":"IF($D14=\"\",\"\",VLOOKUP($D14,'Boys Si Qual Draw Prep'!$A$7:$P$70,16))","v":""},null,{"$f":"UPPER(IF($D14=\"\",\"\",VLOOKUP($D14,'Boys Si Qual Draw Prep'!$A$7:$P$70,2)))","v":""},{"$f":"IF($D14=\"\",\"\",VLOOKUP($D14,'Boys Si Qual Draw Prep'!$A$7:$P$70,3))","v":""},null,{"$f":"IF($D14=\"\",\"\",VLOOKUP($D14,'Boys Si Qual Draw Prep'!$A$7:$P$70,4))","v":""},null,null,null,null,null,null,null,null,null,null,null,{"$f":"'SetUp Officials'!P28","v":" "}]
["9",{"$f":"IF($D15=\"\",\"\",VLOOKUP($D15,'Boys Si Qual Draw Prep'!$A$7:$P$70,15))","v":""},{"$f":"IF($D15=\"\",\"\",VLOOKUP($D15,'Boys Si Qual Draw Prep'!$A$7:$P$70,16))","v":""},null,{"$f":"UPPER(IF($D15=\"\",\"\",VLOOKUP($D15,'Boys Si Qual Draw Prep'!$A$7:$P$70,2)))","v":""},{"$f":"IF($D15=\"\",\"\",VLOOKUP($D15,'Boys Si Qual Draw Prep'!$A$7:$P$70,3))","v":""},null,{"$f":"IF($D15=\"\",\"\",VLOOKUP($D15,'Boys Si Qual Draw Prep'!$A$7:$P$70,4))","v":""},null,{"$f":"UPPER(IF(OR(I16=\"a\",I16=\"as\"),E15,IF(OR(I16=\"b\",I16=\"bs\"),E16,)))","v":""},null,null,null,null,null,null,null,null,null,{"$f":"'SetUp Officials'!P29","v":" "}]
["10",{"$f":"IF($D16=\"\",\"\",VLOOKUP($D16,'Boys Si Qual Draw Prep'!$A$7:$P$70,15))","v":""},{"$f":"IF($D16=\"\",\"\",VLOOKUP($D16,'Boys Si Qual Draw Prep'!$A$7:$P$70,16))","v":""},null,{"$f":"UPPER(IF($D16=\"\",\"\",VLOOKUP($D16,'Boys Si Qual Draw Prep'!$A$7:$P$70,2)))","v":""},{"$f":"IF($D16=\"\",\"\",VLOOKUP($D16,'Boys Si Qual Draw Prep'!$A$7:$P$70,3))","v":""},null,{"$f":"IF($D16=\"\",\"\",VLOOKUP($D16,'Boys Si Qual Draw Prep'!$A$7:$P$70,4))","v":""},null,null,null,{"$f":"UPPER(IF(OR(K16=\"a\",K16=\"as\"),J15,IF(OR(K16=\"b\",K16=\"bs\"),J17,)))","v":""},null,null,null,null,null,null,null,{"$f":"'SetUp Officials'!P30","v":"None"}]
["11",{"$f":"IF($D17=\"\",\"\",VLOOKUP($D17,'Boys Si Qual Draw Prep'!$A$7:$P$70,15))","v":""},{"$f":"IF($D17=\"\",\"\",VLOOKUP($D17,'Boys Si Qual Draw Prep'!$A$7:$P$70,16))","v":""},null,{"$f":"UPPER(IF($D17=\"\",\"\",VLOOKUP($D17,'Boys Si Qual Draw Prep'!$A$7:$P$70,2)))","v":""},{"$f":"IF($D17=\"\",\"\",VLOOKUP($D17,'Boys Si Qual Draw Prep'!$A$7:$P$70,3))","v":""},null,{"$f":"IF($D17=\"\",\"\",VLOOKUP($D17,'Boys Si Qual Draw Prep'!$A$7:$P$70,4))","v":""},null,{"$f":"UPPER(IF(OR(I18=\"a\",I18=\"as\"),E17,IF(OR(I18=\"b\",I18=\"bs\"),E18,)))","v":""}]
["12",{"$f":"IF($D18=\"\",\"\",VLOOKUP($D18,'Boys Si Qual Draw Prep'!$A$7:$P$70,15))","v":""},{"$f":"IF($D18=\"\",\"\",VLOOKUP($D18,'Boys Si Qual Draw Prep'!$A$7:$P$70,16))","v":""},null,{"$f":"UPPER(IF($D18=\"\",\"\",VLOOKUP($D18,'Boys Si Qual Draw Prep'!$A$7:$P$70,2)))","v":""},{"$f":"IF($D18=\"\",\"\",VLOOKUP($D18,'Boys Si Qual Draw Prep'!$A$7:$P$70,3))","v":""},null,{"$f":"IF($D18=\"\",\"\",VLOOKUP($D18,'Boys Si Qual Draw Prep'!$A$7:$P$70,4))","v":""},null,null,null,"Umpire",null,{"$f":"UPPER(IF(OR(M18=\"a\",M18=\"as\"),L16,IF(OR(M18=\"b\",M18=\"bs\"),L20,)))","v":""}]
["13",{"$f":"IF($D19=\"\",\"\",VLOOKUP($D19,'Boys Si Qual Draw Prep'!$A$7:$P$70,15))","v":""},{"$f":"IF($D19=\"\",\"\",VLOOKUP($D19,'Boys Si Qual Draw Prep'!$A$7:$P$70,16))","v":""},null,{"$f":"UPPER(IF($D19=\"\",\"\",VLOOKUP($D19,'Boys Si Qual Draw Prep'!$A$7:$P$70,2)))","v":""},{"$f":"IF($D19=\"\",\"\",VLOOKUP($D19,'Boys Si Qual Draw Prep'!$A$7:$P$70,3))","v":""},null,{"$f":"IF($D19=\"\",\"\",VLOOKUP($D19,'Boys Si Qual Draw Prep'!$A$7:$P$70,4))","v":""},null,{"$f":"UPPER(IF(OR(I20=\"a\",I20=\"as\"),E19,IF(OR(I20=\"b\",I20=\"bs\"),E20,)))","v":""}]
["14",{"$f":"IF($D20=\"\",\"\",VLOOKUP($D20,'Boys Si Qual Draw Prep'!$A$7:$P$70,15))","v":""},{"$f":"IF($D20=\"\",\"\",VLOOKUP($D20,'Boys Si Qual Draw Prep'!$A$7:$P$70,16))","v":""},null,{"$f":"UPPER(IF($D20=\"\",\"\",VLOOKUP($D20,'Boys Si Qual Draw Prep'!$A$7:$P$70,2)))","v":""},{"$f":"IF($D20=\"\",\"\",VLOOKUP($D20,'Boys Si Qual Draw Prep'!$A$7:$P$70,3))","v":""},null,{"$f":"IF($D20=\"\",\"\",VLOOKUP($D20,'Boys Si Qual Draw Prep'!$A$7:$P$70,4))","v":""},null,null,null,{"$f":"UPPER(IF(OR(K20=\"a\",K20=\"as\"),J19,IF(OR(K20=\"b\",K20=\"bs\"),J21,)))","v":""}]
["15",{"$f":"IF($D21=\"\",\"\",VLOOKUP($D21,'Boys Si Qual Draw Prep'!$A$7:$P$70,15))","v":""},{"$f":"IF($D21=\"\",\"\",VLOOKUP($D21,'Boys Si Qual Draw Prep'!$A$7:$P$70,16))","v":""},null,{"$f":"UPPER(IF($D21=\"\",\"\",VLOOKUP($D21,'Boys Si Qual Draw Prep'!$A$7:$P$70,2)))","v":""},{"$f":"IF($D21=\"\",\"\",VLOOKUP($D21,'Boys Si Qual Draw Prep'!$A$7:$P$70,3))","v":""},null,{"$f":"IF($D21=\"\",\"\",VLOOKUP($D21,'Boys Si Qual Draw Prep'!$A$7:$P$70,4))","v":""},null,{"$f":"UPPER(IF(OR(I22=\"a\",I22=\"as\"),E21,IF(OR(I22=\"b\",I22=\"bs\"),E22,)))","v":""}]
["16",{"$f":"IF($D22=\"\",\"\",VLOOKUP($D22,'Boys Si Qual Draw Prep'!$A$7:$P$70,15))","v":""},{"$f":"IF($D22=\"\",\"\",VLOOKUP($D22,'Boys Si Qual Draw Prep'!$A$7:$P$70,16))","v":""},null,{"$f":"UPPER(IF($D22=\"\",\"\",VLOOKUP($D22,'Boys Si Qual Draw Prep'!$A$7:$P$70,2)))","v":""},{"$f":"IF($D22=\"\",\"\",VLOOKUP($D22,'Boys Si Qual Draw Prep'!$A$7:$P$70,3))","v":""},null,{"$f":"IF($D22=\"\",\"\",VLOOKUP($D22,'Boys Si Qual Draw Prep'!$A$7:$P$70,4))","v":""}]
["17",{"$f":"IF($D23=\"\",\"\",VLOOKUP($D23,'Boys Si Qual Draw Prep'!$A$7:$P$70,15))","v":""},{"$f":"IF($D23=\"\",\"\",VLOOKUP($D23,'Boys Si Qual Draw Prep'!$A$7:$P$70,16))","v":""},null,{"$f":"UPPER(IF($D23=\"\",\"\",VLOOKUP($D23,'Boys Si Qual Draw Prep'!$A$7:$P$70,2)))","v":""},{"$f":"IF($D23=\"\",\"\",VLOOKUP($D23,'Boys Si Qual Draw Prep'!$A$7:$P$70,3))","v":""},null,{"$f":"IF($D23=\"\",\"\",VLOOKUP($D23,'Boys Si Qual Draw Prep'!$A$7:$P$70,4))","v":""},null,{"$f":"UPPER(IF(OR(I24=\"a\",I24=\"as\"),E23,IF(OR(I24=\"b\",I24=\"bs\"),E24,)))","v":""}]
["18",{"$f":"IF($D24=\"\",\"\",VLOOKUP($D24,'Boys Si Qual Draw Prep'!$A$7:$P$70,15))","v":""},{"$f":"IF($D24=\"\",\"\",VLOOKUP($D24,'Boys Si Qual Draw Prep'!$A$7:$P$70,16))","v":""},null,{"$f":"UPPER(IF($D24=\"\",\"\",VLOOKUP($D24,'Boys Si Qual Draw Prep'!$A$7:$P$70,2)))","v":""},{"$f":"IF($D24=\"\",\"\",VLOOKUP($D24,'Boys Si Qual Draw Prep'!$A$7:$P$70,3))","v":""},null,{"$f":"IF($D24=\"\",\"\",VLOOKUP($D24,'Boys Si Qual Draw Prep'!$A$7:$P$70,4))","v":""},null,null,null,{"$f":"UPPER(IF(OR(K24=\"a\",K24=\"as\"),J23,IF(OR(K24=\"b\",K24=\"bs\"),J25,)))","v":""}]
["19",{"$f":"IF($D25=\"\",\"\",VLOOKUP($D25,'Boys Si Qual Draw Prep'!$A$7:$P$70,15))","v":""},{"$f":"IF($D25=\"\",\"\",VLOOKUP($D25,'Boys Si Qual Draw Prep'!$A$7:$P$70,16))","v":""},null,{"$f":"UPPER(IF($D25=\"\",\"\",VLOOKUP($D25,'Boys Si Qual Draw Prep'!$A$7:$P$70,2)))","v":""},{"$f":"IF($D25=\"\",\"\",VLOOKUP($D25,'Boys Si Qual Draw Prep'!$A$7:$P$70,3))","v":""},null,{"$f":"IF($D25=\"\",\"\",VLOOKUP($D25,'Boys Si Qual Draw Prep'!$A$7:$P$70,4))","v":""},null,{"$f":"UPPER(IF(OR(I26=\"a\",I26=\"as\"),E25,IF(OR(I26=\"b\",I26=\"bs\"),E26,)))","v":""}]
["20",{"$f":"IF($D26=\"\",\"\",VLOOKUP($D26,'Boys Si Qual Draw Prep'!$A$7:$P$70,15))","v":""},{"$f":"IF($D26=\"\",\"\",VLOOKUP($D26,'Boys Si Qual Draw Prep'!$A$7:$P$70,16))","v":""},null,{"$f":"UPPER(IF($D26=\"\",\"\",VLOOKUP($D26,'Boys Si Qual Draw Prep'!$A$7:$P$70,2)))","v":""},{"$f":"IF($D26=\"\",\"\",VLOOKUP($D26,'Boys Si Qual Draw Prep'!$A$7:$P$70,3))","v":""},null,{"$f":"IF($D26=\"\",\"\",VLOOKUP($D26,'Boys Si Qual Draw Prep'!$A$7:$P$70,4))","v":""},null,null,null,"Umpire",null,{"$f":"UPPER(IF(OR(M26=\"a\",M26=\"as\"),L24,IF(OR(M26=\"b\",M26=\"bs\"),L28,)))","v":""}]
["21",{"$f":"IF($D27=\"\",\"\",VLOOKUP($D27,'Boys Si Qual Draw Prep'!$A$7:$P$70,15))","v":""},{"$f":"IF($D27=\"\",\"\",VLOOKUP($D27,'Boys Si Qual Draw Prep'!$A$7:$P$70,16))","v":""},null,{"$f":"UPPER(IF($D27=\"\",\"\",VLOOKUP($D27,'Boys Si Qual Draw Prep'!$A$7:$P$70,2)))","v":""},{"$f":"IF($D27=\"\",\"\",VLOOKUP($D27,'Boys Si Qual Draw Prep'!$A$7:$P$70,3))","v":""},null,{"$f":"IF($D27=\"\",\"\",VLOOKUP($D27,'Boys Si Qual Draw Prep'!$A$7:$P$70,4))","v":""},null,{"$f":"UPPER(IF(OR(I28=\"a\",I28=\"as\"),E27,IF(OR(I28=\"b\",I28=\"bs\"),E28,)))","v":""}]
["22",{"$f":"IF($D28=\"\",\"\",VLOOKUP($D28,'Boys Si Qual Draw Prep'!$A$7:$P$70,15))","v":""},{"$f":"IF($D28=\"\",\"\",VLOOKUP($D28,'Boys Si Qual Draw Prep'!$A$7:$P$70,16))","v":""},null,{"$f":"UPPER(IF($D28=\"\",\"\",VLOOKUP($D28,'Boys Si Qual Draw Prep'!$A$7:$P$70,2)))","v":""},{"$f":"IF($D28=\"\",\"\",VLOOKUP($D28,'Boys Si Qual Draw Prep'!$A$7:$P$70,3))","v":""},null,{"$f":"IF($D28=\"\",\"\",VLOOKUP($D28,'Boys Si Qual Draw Prep'!$A$7:$P$70,4))","v":""},null,null,null,{"$f":"UPPER(IF(OR(K28=\"a\",K28=\"as\"),J27,IF(OR(K28=\"b\",K28=\"bs\"),J29,)))","v":""}]
["23",{"$f":"IF($D29=\"\",\"\",VLOOKUP($D29,'Boys Si Qual Draw Prep'!$A$7:$P$70,15))","v":""},{"$f":"IF($D29=\"\",\"\",VLOOKUP($D29,'Boys Si Qual Draw Prep'!$A$7:$P$70,16))","v":""},null,{"$f":"UPPER(IF($D29=\"\",\"\",VLOOKUP($D29,'Boys Si Qual Draw Prep'!$A$7:$P$70,2)))","v":""},{"$f":"IF($D29=\"\",\"\",VLOOKUP($D29,'Boys Si Qual Draw Prep'!$A$7:$P$70,3))","v":""},null,{"$f":"IF($D29=\"\",\"\",VLOOKUP($D29,'Boys Si Qual Draw Prep'!$A$7:$P$70,4))","v":""},null,{"$f":"UPPER(IF(OR(I30=\"a\",I30=\"as\"),E29,IF(OR(I30=\"b\",I30=\"bs\"),E30,)))","v":""}]
["24",{"$f":"IF($D30=\"\",\"\",VLOOKUP($D30,'Boys Si Qual Draw Prep'!$A$7:$P$70,15))","v":""},{"$f":"IF($D30=\"\",\"\",VLOOKUP($D30,'Boys Si Qual Draw Prep'!$A$7:$P$70,16))","v":""},null,{"$f":"UPPER(IF($D30=\"\",\"\",VLOOKUP($D30,'Boys Si Qual Draw Prep'!$A$7:$P$70,2)))","v":""},{"$f":"IF($D30=\"\",\"\",VLOOKUP($D30,'Boys Si Qual Draw Prep'!$A$7:$P$70,3))","v":""},null,{"$f":"IF($D30=\"\",\"\",VLOOKUP($D30,'Boys Si Qual Draw Prep'!$A$7:$P$70,4))","v":""}]
["25",{"$f":"IF($D31=\"\",\"\",VLOOKUP($D31,'Boys Si Qual Draw Prep'!$A$7:$P$70,15))","v":""},{"$f":"IF($D31=\"\",\"\",VLOOKUP($D31,'Boys Si Qual Draw Prep'!$A$7:$P$70,16))","v":""},null,{"$f":"UPPER(IF($D31=\"\",\"\",VLOOKUP($D31,'Boys Si Qual Draw Prep'!$A$7:$P$70,2)))","v":""},{"$f":"IF($D31=\"\",\"\",VLOOKUP($D31,'Boys Si Qual Draw Prep'!$A$7:$P$70,3))","v":""},null,{"$f":"IF($D31=\"\",\"\",VLOOKUP($D31,'Boys Si Qual Draw Prep'!$A$7:$P$70,4))","v":""},null,{"$f":"UPPER(IF(OR(I32=\"a\",I32=\"as\"),E31,IF(OR(I32=\"b\",I32=\"bs\"),E32,)))","v":""}]
["26",{"$f":"IF($D32=\"\",\"\",VLOOKUP($D32,'Boys Si Qual Draw Prep'!$A$7:$P$70,15))","v":""},{"$f":"IF($D32=\"\",\"\",VLOOKUP($D32,'Boys Si Qual Draw Prep'!$A$7:$P$70,16))","v":""},null,{"$f":"UPPER(IF($D32=\"\",\"\",VLOOKUP($D32,'Boys Si Qual Draw Prep'!$A$7:$P$70,2)))","v":""},{"$f":"IF($D32=\"\",\"\",VLOOKUP($D32,'Boys Si Qual Draw Prep'!$A$7:$P$70,3))","v":""},null,{"$f":"IF($D32=\"\",\"\",VLOOKUP($D32,'Boys Si Qual Draw Prep'!$A$7:$P$70,4))","v":""},null,null,null,{"$f":"UPPER(IF(OR(K32=\"a\",K32=\"as\"),J31,IF(OR(K32=\"b\",K32=\"bs\"),J33,)))","v":""}]
["27",{"$f":"IF($D33=\"\",\"\",VLOOKUP($D33,'Boys Si Qual Draw Prep'!$A$7:$P$70,15))","v":""},{"$f":"IF($D33=\"\",\"\",VLOOKUP($D33,'Boys Si Qual Draw Prep'!$A$7:$P$70,16))","v":""},null,{"$f":"UPPER(IF($D33=\"\",\"\",VLOOKUP($D33,'Boys Si Qual Draw Prep'!$A$7:$P$70,2)))","v":""},{"$f":"IF($D33=\"\",\"\",VLOOKUP($D33,'Boys Si Qual Draw Prep'!$A$7:$P$70,3))","v":""},null,{"$f":"IF($D33=\"\",\"\",VLOOKUP($D33,'Boys Si Qual Draw Prep'!$A$7:$P$70,4))","v":""},null,{"$f":"UPPER(IF(OR(I34=\"a\",I34=\"as\"),E33,IF(OR(I34=\"b\",I34=\"bs\"),E34,)))","v":""}]
["28",{"$f":"IF($D34=\"\",\"\",VLOOKUP($D34,'Boys Si Qual Draw Prep'!$A$7:$P$70,15))","v":""},{"$f":"IF($D34=\"\",\"\",VLOOKUP($D34,'Boys Si Qual Draw Prep'!$A$7:$P$70,16))","v":""},null,{"$f":"UPPER(IF($D34=\"\",\"\",VLOOKUP($D34,'Boys Si Qual Draw Prep'!$A$7:$P$70,2)))","v":""},{"$f":"IF($D34=\"\",\"\",VLOOKUP($D34,'Boys Si Qual Draw Prep'!$A$7:$P$70,3))","v":""},null,{"$f":"IF($D34=\"\",\"\",VLOOKUP($D34,'Boys Si Qual Draw Prep'!$A$7:$P$70,4))","v":""},null,null,null,"Umpire",null,{"$f":"UPPER(IF(OR(M34=\"a\",M34=\"as\"),L32,IF(OR(M34=\"b\",M34=\"bs\"),L36,)))","v":""}]
["29",{"$f":"IF($D35=\"\",\"\",VLOOKUP($D35,'Boys Si Qual Draw Prep'!$A$7:$P$70,15))","v":""},{"$f":"IF($D35=\"\",\"\",VLOOKUP($D35,'Boys Si Qual Draw Prep'!$A$7:$P$70,16))","v":""},null,{"$f":"UPPER(IF($D35=\"\",\"\",VLOOKUP($D35,'Boys Si Qual Draw Prep'!$A$7:$P$70,2)))","v":""},{"$f":"IF($D35=\"\",\"\",VLOOKUP($D35,'Boys Si Qual Draw Prep'!$A$7:$P$70,3))","v":""},null,{"$f":"IF($D35=\"\",\"\",VLOOKUP($D35,'Boys Si Qual Draw Prep'!$A$7:$P$70,4))","v":""},null,{"$f":"UPPER(IF(OR(I36=\"a\",I36=\"as\"),E35,IF(OR(I36=\"b\",I36=\"bs\"),E36,)))","v":""}]
["30",{"$f":"IF($D36=\"\",\"\",VLOOKUP($D36,'Boys Si Qual Draw Prep'!$A$7:$P$70,15))","v":""},{"$f":"IF($D36=\"\",\"\",VLOOKUP($D36,'Boys Si Qual Draw Prep'!$A$7:$P$70,16))","v":""},null,{"$f":"UPPER(IF($D36=\"\",\"\",VLOOKUP($D36,'Boys Si Qual Draw Prep'!$A$7:$P$70,2)))","v":""},{"$f":"IF($D36=\"\",\"\",VLOOKUP($D36,'Boys Si Qual Draw Prep'!$A$7:$P$70,3))","v":""},null,{"$f":"IF($D36=\"\",\"\",VLOOKUP($D36,'Boys Si Qual Draw Prep'!$A$7:$P$70,4))","v":""},null,null,null,{"$f":"UPPER(IF(OR(K36=\"a\",K36=\"as\"),J35,IF(OR(K36=\"b\",K36=\"bs\"),J37,)))","v":""}]
["31",{"$f":"IF($D37=\"\",\"\",VLOOKUP($D37,'Boys Si Qual Draw Prep'!$A$7:$P$70,15))","v":""},{"$f":"IF($D37=\"\",\"\",VLOOKUP($D37,'Boys Si Qual Draw Prep'!$A$7:$P$70,16))","v":""},null,{"$f":"UPPER(IF($D37=\"\",\"\",VLOOKUP($D37,'Boys Si Qual Draw Prep'!$A$7:$P$70,2)))","v":""},{"$f":"IF($D37=\"\",\"\",VLOOKUP($D37,'Boys Si Qual Draw Prep'!$A$7:$P$70,3))","v":""},null,{"$f":"IF($D37=\"\",\"\",VLOOKUP($D37,'Boys Si Qual Draw Prep'!$A$7:$P$70,4))","v":""},null,{"$f":"UPPER(IF(OR(I38=\"a\",I38=\"as\"),E37,IF(OR(I38=\"b\",I38=\"bs\"),E38,)))","v":""}]
["32",{"$f":"IF($D38=\"\",\"\",VLOOKUP($D38,'Boys Si Qual Draw Prep'!$A$7:$P$70,15))","v":""},{"$f":"IF($D38=\"\",\"\",VLOOKUP($D38,'Boys Si Qual Draw Prep'!$A$7:$P$70,16))","v":""},null,{"$f":"UPPER(IF($D38=\"\",\"\",VLOOKUP($D38,'Boys Si Qual Draw Prep'!$A$7:$P$70,2)))","v":""},{"$f":"IF($D38=\"\",\"\",VLOOKUP($D38,'Boys Si Qual Draw Prep'!$A$7:$P$70,3))","v":""},null,{"$f":"IF($D38=\"\",\"\",VLOOKUP($D38,'Boys Si Qual Draw Prep'!$A$7:$P$70,4))","v":""}]
["33",{"$f":"IF($D39=\"\",\"\",VLOOKUP($D39,'Boys Si Qual Draw Prep'!$A$7:$P$70,15))","v":""},{"$f":"IF($D39=\"\",\"\",VLOOKUP($D39,'Boys Si Qual Draw Prep'!$A$7:$P$70,16))","v":""},null,{"$f":"UPPER(IF($D39=\"\",\"\",VLOOKUP($D39,'Boys Si Qual Draw Prep'!$A$7:$P$70,2)))","v":""},{"$f":"IF($D39=\"\",\"\",VLOOKUP($D39,'Boys Si Qual Draw Prep'!$A$7:$P$70,3))","v":""},null,{"$f":"IF($D39=\"\",\"\",VLOOKUP($D39,'Boys Si Qual Draw Prep'!$A$7:$P$70,4))","v":""},null,{"$f":"UPPER(IF(OR(I40=\"a\",I40=\"as\"),E39,IF(OR(I40=\"b\",I40=\"bs\"),E40,)))","v":""}]
["34",{"$f":"IF($D40=\"\",\"\",VLOOKUP($D40,'Boys Si Qual Draw Prep'!$A$7:$P$70,15))","v":""},{"$f":"IF($D40=\"\",\"\",VLOOKUP($D40,'Boys Si Qual Draw Prep'!$A$7:$P$70,16))","v":""},null,{"$f":"UPPER(IF($D40=\"\",\"\",VLOOKUP($D40,'Boys Si Qual Draw Prep'!$A$7:$P$70,2)))","v":""},{"$f":"IF($D40=\"\",\"\",VLOOKUP($D40,'Boys Si Qual Draw Prep'!$A$7:$P$70,3))","v":""},null,{"$f":"IF($D40=\"\",\"\",VLOOKUP($D40,'Boys Si Qual Draw Prep'!$A$7:$P$70,4))","v":""},null,null,null,{"$f":"UPPER(IF(OR(K40=\"a\",K40=\"as\"),J39,IF(OR(K40=\"b\",K40=\"bs\"),J41,)))","v":""}]
["35",{"$f":"IF($D41=\"\",\"\",VLOOKUP($D41,'Boys Si Qual Draw Prep'!$A$7:$P$70,15))","v":""},{"$f":"IF($D41=\"\",\"\",VLOOKUP($D41,'Boys Si Qual Draw Prep'!$A$7:$P$70,16))","v":""},null,{"$f":"UPPER(IF($D41=\"\",\"\",VLOOKUP($D41,'Boys Si Qual Draw Prep'!$A$7:$P$70,2)))","v":""},{"$f":"IF($D41=\"\",\"\",VLOOKUP($D41,'Boys Si Qual Draw Prep'!$A$7:$P$70,3))","v":""},null,{"$f":"IF($D41=\"\",\"\",VLOOKUP($D41,'Boys Si Qual Draw Prep'!$A$7:$P$70,4))","v":""},null,{"$f":"UPPER(IF(OR(I42=\"a\",I42=\"as\"),E41,IF(OR(I42=\"b\",I42=\"bs\"),E42,)))","v":""}]
["36",{"$f":"IF($D42=\"\",\"\",VLOOKUP($D42,'Boys Si Qual Draw Prep'!$A$7:$P$70,15))","v":""},{"$f":"IF($D42=\"\",\"\",VLOOKUP($D42,'Boys Si Qual Draw Prep'!$A$7:$P$70,16))","v":""},null,{"$f":"UPPER(IF($D42=\"\",\"\",VLOOKUP($D42,'Boys Si Qual Draw Prep'!$A$7:$P$70,2)))","v":""},{"$f":"IF($D42=\"\",\"\",VLOOKUP($D42,'Boys Si Qual Draw Prep'!$A$7:$P$70,3))","v":""},null,{"$f":"IF($D42=\"\",\"\",VLOOKUP($D42,'Boys Si Qual Draw Prep'!$A$7:$P$70,4))","v":""},null,null,null,"Umpire",null,{"$f":"UPPER(IF(OR(M42=\"a\",M42=\"as\"),L40,IF(OR(M42=\"b\",M42=\"bs\"),L44,)))","v":""}]
["37",{"$f":"IF($D43=\"\",\"\",VLOOKUP($D43,'Boys Si Qual Draw Prep'!$A$7:$P$70,15))","v":""},{"$f":"IF($D43=\"\",\"\",VLOOKUP($D43,'Boys Si Qual Draw Prep'!$A$7:$P$70,16))","v":""},null,{"$f":"UPPER(IF($D43=\"\",\"\",VLOOKUP($D43,'Boys Si Qual Draw Prep'!$A$7:$P$70,2)))","v":""},{"$f":"IF($D43=\"\",\"\",VLOOKUP($D43,'Boys Si Qual Draw Prep'!$A$7:$P$70,3))","v":""},null,{"$f":"IF($D43=\"\",\"\",VLOOKUP($D43,'Boys Si Qual Draw Prep'!$A$7:$P$70,4))","v":""},null,{"$f":"UPPER(IF(OR(I44=\"a\",I44=\"as\"),E43,IF(OR(I44=\"b\",I44=\"bs\"),E44,)))","v":""}]
["38",{"$f":"IF($D44=\"\",\"\",VLOOKUP($D44,'Boys Si Qual Draw Prep'!$A$7:$P$70,15))","v":""},{"$f":"IF($D44=\"\",\"\",VLOOKUP($D44,'Boys Si Qual Draw Prep'!$A$7:$P$70,16))","v":""},null,{"$f":"UPPER(IF($D44=\"\",\"\",VLOOKUP($D44,'Boys Si Qual Draw Prep'!$A$7:$P$70,2)))","v":""},{"$f":"IF($D44=\"\",\"\",VLOOKUP($D44,'Boys Si Qual Draw Prep'!$A$7:$P$70,3))","v":""},null,{"$f":"IF($D44=\"\",\"\",VLOOKUP($D44,'Boys Si Qual Draw Prep'!$A$7:$P$70,4))","v":""},null,null,null,{"$f":"UPPER(IF(OR(K44=\"a\",K44=\"as\"),J43,IF(OR(K44=\"b\",K44=\"bs\"),J45,)))","v":""}]
["39",{"$f":"IF($D45=\"\",\"\",VLOOKUP($D45,'Boys Si Qual Draw Prep'!$A$7:$P$70,15))","v":""},{"$f":"IF($D45=\"\",\"\",VLOOKUP($D45,'Boys Si Qual Draw Prep'!$A$7:$P$70,16))","v":""},null,{"$f":"UPPER(IF($D45=\"\",\"\",VLOOKUP($D45,'Boys Si Qual Draw Prep'!$A$7:$P$70,2)))","v":""},{"$f":"IF($D45=\"\",\"\",VLOOKUP($D45,'Boys Si Qual Draw Prep'!$A$7:$P$70,3))","v":""},null,{"$f":"IF($D45=\"\",\"\",VLOOKUP($D45,'Boys Si Qual Draw Prep'!$A$7:$P$70,4))","v":""},null,{"$f":"UPPER(IF(OR(I46=\"a\",I46=\"as\"),E45,IF(OR(I46=\"b\",I46=\"bs\"),E46,)))","v":""}]
["40",{"$f":"IF($D46=\"\",\"\",VLOOKUP($D46,'Boys Si Qual Draw Prep'!$A$7:$P$70,15))","v":""},{"$f":"IF($D46=\"\",\"\",VLOOKUP($D46,'Boys Si Qual Draw Prep'!$A$7:$P$70,16))","v":""},null,{"$f":"UPPER(IF($D46=\"\",\"\",VLOOKUP($D46,'Boys Si Qual Draw Prep'!$A$7:$P$70,2)))","v":""},{"$f":"IF($D46=\"\",\"\",VLOOKUP($D46,'Boys Si Qual Draw Prep'!$A$7:$P$70,3))","v":""},null,{"$f":"IF($D46=\"\",\"\",VLOOKUP($D46,'Boys Si Qual Draw Prep'!$A$7:$P$70,4))","v":""}]
["41",{"$f":"IF($D47=\"\",\"\",VLOOKUP($D47,'Boys Si Qual Draw Prep'!$A$7:$P$70,15))","v":""},{"$f":"IF($D47=\"\",\"\",VLOOKUP($D47,'Boys Si Qual Draw Prep'!$A$7:$P$70,16))","v":""},null,{"$f":"UPPER(IF($D47=\"\",\"\",VLOOKUP($D47,'Boys Si Qual Draw Prep'!$A$7:$P$70,2)))","v":""},{"$f":"IF($D47=\"\",\"\",VLOOKUP($D47,'Boys Si Qual Draw Prep'!$A$7:$P$70,3))","v":""},null,{"$f":"IF($D47=\"\",\"\",VLOOKUP($D47,'Boys Si Qual Draw Prep'!$A$7:$P$70,4))","v":""},null,{"$f":"UPPER(IF(OR(I48=\"a\",I48=\"as\"),E47,IF(OR(I48=\"b\",I48=\"bs\"),E48,)))","v":""}]
["42",{"$f":"IF($D48=\"\",\"\",VLOOKUP($D48,'Boys Si Qual Draw Prep'!$A$7:$P$70,15))","v":""},{"$f":"IF($D48=\"\",\"\",VLOOKUP($D48,'Boys Si Qual Draw Prep'!$A$7:$P$70,16))","v":""},null,{"$f":"UPPER(IF($D48=\"\",\"\",VLOOKUP($D48,'Boys Si Qual Draw Prep'!$A$7:$P$70,2)))","v":""},{"$f":"IF($D48=\"\",\"\",VLOOKUP($D48,'Boys Si Qual Draw Prep'!$A$7:$P$70,3))","v":""},null,{"$f":"IF($D48=\"\",\"\",VLOOKUP($D48,'Boys Si Qual Draw Prep'!$A$7:$P$70,4))","v":""},null,null,null,{"$f":"UPPER(IF(OR(K48=\"a\",K48=\"as\"),J47,IF(OR(K48=\"b\",K48=\"bs\"),J49,)))","v":""}]
["43",{"$f":"IF($D49=\"\",\"\",VLOOKUP($D49,'Boys Si Qual Draw Prep'!$A$7:$P$70,15))","v":""},{"$f":"IF($D49=\"\",\"\",VLOOKUP($D49,'Boys Si Qual Draw Prep'!$A$7:$P$70,16))","v":""},null,{"$f":"UPPER(IF($D49=\"\",\"\",VLOOKUP($D49,'Boys Si Qual Draw Prep'!$A$7:$P$70,2)))","v":""},{"$f":"IF($D49=\"\",\"\",VLOOKUP($D49,'Boys Si Qual Draw Prep'!$A$7:$P$70,3))","v":""},null,{"$f":"IF($D49=\"\",\"\",VLOOKUP($D49,'Boys Si Qual Draw Prep'!$A$7:$P$70,4))","v":""},null,{"$f":"UPPER(IF(OR(I50=\"a\",I50=\"as\"),E49,IF(OR(I50=\"b\",I50=\"bs\"),E50,)))","v":""}]
["44",{"$f":"IF($D50=\"\",\"\",VLOOKUP($D50,'Boys Si Qual Draw Prep'!$A$7:$P$70,15))","v":""},{"$f":"IF($D50=\"\",\"\",VLOOKUP($D50,'Boys Si Qual Draw Prep'!$A$7:$P$70,16))","v":""},null,{"$f":"UPPER(IF($D50=\"\",\"\",VLOOKUP($D50,'Boys Si Qual Draw Prep'!$A$7:$P$70,2)))","v":""},{"$f":"IF($D50=\"\",\"\",VLOOKUP($D50,'Boys Si Qual Draw Prep'!$A$7:$P$70,3))","v":""},null,{"$f":"IF($D50=\"\",\"\",VLOOKUP($D50,'Boys Si Qual Draw Prep'!$A$7:$P$70,4))","v":""},null,null,null,"Umpire",null,{"$f":"UPPER(IF(OR(M50=\"a\",M50=\"as\"),L48,IF(OR(M50=\"b\",M50=\"bs\"),L52,)))","v":""}]
["45",{"$f":"IF($D51=\"\",\"\",VLOOKUP($D51,'Boys Si Qual Draw Prep'!$A$7:$P$70,15))","v":""},{"$f":"IF($D51=\"\",\"\",VLOOKUP($D51,'Boys Si Qual Draw Prep'!$A$7:$P$70,16))","v":""},null,{"$f":"UPPER(IF($D51=\"\",\"\",VLOOKUP($D51,'Boys Si Qual Draw Prep'!$A$7:$P$70,2)))","v":""},{"$f":"IF($D51=\"\",\"\",VLOOKUP($D51,'Boys Si Qual Draw Prep'!$A$7:$P$70,3))","v":""},null,{"$f":"IF($D51=\"\",\"\",VLOOKUP($D51,'Boys Si Qual Draw Prep'!$A$7:$P$70,4))","v":""},null,{"$f":"UPPER(IF(OR(I52=\"a\",I52=\"as\"),E51,IF(OR(I52=\"b\",I52=\"bs\"),E52,)))","v":""}]
["46",{"$f":"IF($D52=\"\",\"\",VLOOKUP($D52,'Boys Si Qual Draw Prep'!$A$7:$P$70,15))","v":""},{"$f":"IF($D52=\"\",\"\",VLOOKUP($D52,'Boys Si Qual Draw Prep'!$A$7:$P$70,16))","v":""},null,{"$f":"UPPER(IF($D52=\"\",\"\",VLOOKUP($D52,'Boys Si Qual Draw Prep'!$A$7:$P$70,2)))","v":""},{"$f":"IF($D52=\"\",\"\",VLOOKUP($D52,'Boys Si Qual Draw Prep'!$A$7:$P$70,3))","v":""},null,{"$f":"IF($D52=\"\",\"\",VLOOKUP($D52,'Boys Si Qual Draw Prep'!$A$7:$P$70,4))","v":""},null,null,null,{"$f":"UPPER(IF(OR(K52=\"a\",K52=\"as\"),J51,IF(OR(K52=\"b\",K52=\"bs\"),J53,)))","v":""}]
["47",{"$f":"IF($D53=\"\",\"\",VLOOKUP($D53,'Boys Si Qual Draw Prep'!$A$7:$P$70,15))","v":""},{"$f":"IF($D53=\"\",\"\",VLOOKUP($D53,'Boys Si Qual Draw Prep'!$A$7:$P$70,16))","v":""},null,{"$f":"UPPER(IF($D53=\"\",\"\",VLOOKUP($D53,'Boys Si Qual Draw Prep'!$A$7:$P$70,2)))","v":""},{"$f":"IF($D53=\"\",\"\",VLOOKUP($D53,'Boys Si Qual Draw Prep'!$A$7:$P$70,3))","v":""},null,{"$f":"IF($D53=\"\",\"\",VLOOKUP($D53,'Boys Si Qual Draw Prep'!$A$7:$P$70,4))","v":""},null,{"$f":"UPPER(IF(OR(I54=\"a\",I54=\"as\"),E53,IF(OR(I54=\"b\",I54=\"bs\"),E54,)))","v":""}]
["48",{"$f":"IF($D54=\"\",\"\",VLOOKUP($D54,'Boys Si Qual Draw Prep'!$A$7:$P$70,15))","v":""},{"$f":"IF($D54=\"\",\"\",VLOOKUP($D54,'Boys Si Qual Draw Prep'!$A$7:$P$70,16))","v":""},null,{"$f":"UPPER(IF($D54=\"\",\"\",VLOOKUP($D54,'Boys Si Qual Draw Prep'!$A$7:$P$70,2)))","v":""},{"$f":"IF($D54=\"\",\"\",VLOOKUP($D54,'Boys Si Qual Draw Prep'!$A$7:$P$70,3))","v":""},null,{"$f":"IF($D54=\"\",\"\",VLOOKUP($D54,'Boys Si Qual Draw Prep'!$A$7:$P$70,4))","v":""}]
["49",{"$f":"IF($D55=\"\",\"\",VLOOKUP($D55,'Boys Si Qual Draw Prep'!$A$7:$P$70,15))","v":""},{"$f":"IF($D55=\"\",\"\",VLOOKUP($D55,'Boys Si Qual Draw Prep'!$A$7:$P$70,16))","v":""},null,{"$f":"UPPER(IF($D55=\"\",\"\",VLOOKUP($D55,'Boys Si Qual Draw Prep'!$A$7:$P$70,2)))","v":""},{"$f":"IF($D55=\"\",\"\",VLOOKUP($D55,'Boys Si Qual Draw Prep'!$A$7:$P$70,3))","v":""},null,{"$f":"IF($D55=\"\",\"\",VLOOKUP($D55,'Boys Si Qual Draw Prep'!$A$7:$P$70,4))","v":""},null,{"$f":"UPPER(IF(OR(I56=\"a\",I56=\"as\"),E55,IF(OR(I56=\"b\",I56=\"bs\"),E56,)))","v":""}]
["50",{"$f":"IF($D56=\"\",\"\",VLOOKUP($D56,'Boys Si Qual Draw Prep'!$A$7:$P$70,15))","v":""},{"$f":"IF($D56=\"\",\"\",VLOOKUP($D56,'Boys Si Qual Draw Prep'!$A$7:$P$70,16))","v":""},null,{"$f":"UPPER(IF($D56=\"\",\"\",VLOOKUP($D56,'Boys Si Qual Draw Prep'!$A$7:$P$70,2)))","v":""},{"$f":"IF($D56=\"\",\"\",VLOOKUP($D56,'Boys Si Qual Draw Prep'!$A$7:$P$70,3))","v":""},null,{"$f":"IF($D56=\"\",\"\",VLOOKUP($D56,'Boys Si Qual Draw Prep'!$A$7:$P$70,4))","v":""},null,null,null,{"$f":"UPPER(IF(OR(K56=\"a\",K56=\"as\"),J55,IF(OR(K56=\"b\",K56=\"bs\"),J57,)))","v":""}]
["51",{"$f":"IF($D57=\"\",\"\",VLOOKUP($D57,'Boys Si Qual Draw Prep'!$A$7:$P$70,15))","v":""},{"$f":"IF($D57=\"\",\"\",VLOOKUP($D57,'Boys Si Qual Draw Prep'!$A$7:$P$70,16))","v":""},null,{"$f":"UPPER(IF($D57=\"\",\"\",VLOOKUP($D57,'Boys Si Qual Draw Prep'!$A$7:$P$70,2)))","v":""},{"$f":"IF($D57=\"\",\"\",VLOOKUP($D57,'Boys Si Qual Draw Prep'!$A$7:$P$70,3))","v":""},null,{"$f":"IF($D57=\"\",\"\",VLOOKUP($D57,'Boys Si Qual Draw Prep'!$A$7:$P$70,4))","v":""},null,{"$f":"UPPER(IF(OR(I58=\"a\",I58=\"as\"),E57,IF(OR(I58=\"b\",I58=\"bs\"),E58,)))","v":""}]
["52",{"$f":"IF($D58=\"\",\"\",VLOOKUP($D58,'Boys Si Qual Draw Prep'!$A$7:$P$70,15))","v":""},{"$f":"IF($D58=\"\",\"\",VLOOKUP($D58,'Boys Si Qual Draw Prep'!$A$7:$P$70,16))","v":""},null,{"$f":"UPPER(IF($D58=\"\",\"\",VLOOKUP($D58,'Boys Si Qual Draw Prep'!$A$7:$P$70,2)))","v":""},{"$f":"IF($D58=\"\",\"\",VLOOKUP($D58,'Boys Si Qual Draw Prep'!$A$7:$P$70,3))","v":""},null,{"$f":"IF($D58=\"\",\"\",VLOOKUP($D58,'Boys Si Qual Draw Prep'!$A$7:$P$70,4))","v":""},null,null,null,"Umpire",null,{"$f":"UPPER(IF(OR(M58=\"a\",M58=\"as\"),L56,IF(OR(M58=\"b\",M58=\"bs\"),L60,)))","v":""}]
["53",{"$f":"IF($D59=\"\",\"\",VLOOKUP($D59,'Boys Si Qual Draw Prep'!$A$7:$P$70,15))","v":""},{"$f":"IF($D59=\"\",\"\",VLOOKUP($D59,'Boys Si Qual Draw Prep'!$A$7:$P$70,16))","v":""},null,{"$f":"UPPER(IF($D59=\"\",\"\",VLOOKUP($D59,'Boys Si Qual Draw Prep'!$A$7:$P$70,2)))","v":""},{"$f":"IF($D59=\"\",\"\",VLOOKUP($D59,'Boys Si Qual Draw Prep'!$A$7:$P$70,3))","v":""},null,{"$f":"IF($D59=\"\",\"\",VLOOKUP($D59,'Boys Si Qual Draw Prep'!$A$7:$P$70,4))","v":""},null,{"$f":"UPPER(IF(OR(I60=\"a\",I60=\"as\"),E59,IF(OR(I60=\"b\",I60=\"bs\"),E60,)))","v":""}]
["54",{"$f":"IF($D60=\"\",\"\",VLOOKUP($D60,'Boys Si Qual Draw Prep'!$A$7:$P$70,15))","v":""},{"$f":"IF($D60=\"\",\"\",VLOOKUP($D60,'Boys Si Qual Draw Prep'!$A$7:$P$70,16))","v":""},null,{"$f":"UPPER(IF($D60=\"\",\"\",VLOOKUP($D60,'Boys Si Qual Draw Prep'!$A$7:$P$70,2)))","v":""},{"$f":"IF($D60=\"\",\"\",VLOOKUP($D60,'Boys Si Qual Draw Prep'!$A$7:$P$70,3))","v":""},null,{"$f":"IF($D60=\"\",\"\",VLOOKUP($D60,'Boys Si Qual Draw Prep'!$A$7:$P$70,4))","v":""},null,null,null,{"$f":"UPPER(IF(OR(K60=\"a\",K60=\"as\"),J59,IF(OR(K60=\"b\",K60=\"bs\"),J61,)))","v":""}]
["55",{"$f":"IF($D61=\"\",\"\",VLOOKUP($D61,'Boys Si Qual Draw Prep'!$A$7:$P$70,15))","v":""},{"$f":"IF($D61=\"\",\"\",VLOOKUP($D61,'Boys Si Qual Draw Prep'!$A$7:$P$70,16))","v":""},null,{"$f":"UPPER(IF($D61=\"\",\"\",VLOOKUP($D61,'Boys Si Qual Draw Prep'!$A$7:$P$70,2)))","v":""},{"$f":"IF($D61=\"\",\"\",VLOOKUP($D61,'Boys Si Qual Draw Prep'!$A$7:$P$70,3))","v":""},null,{"$f":"IF($D61=\"\",\"\",VLOOKUP($D61,'Boys Si Qual Draw Prep'!$A$7:$P$70,4))","v":""},null,{"$f":"UPPER(IF(OR(I62=\"a\",I62=\"as\"),E61,IF(OR(I62=\"b\",I62=\"bs\"),E62,)))","v":""}]
["56",{"$f":"IF($D62=\"\",\"\",VLOOKUP($D62,'Boys Si Qual Draw Prep'!$A$7:$P$70,15))","v":""},{"$f":"IF($D62=\"\",\"\",VLOOKUP($D62,'Boys Si Qual Draw Prep'!$A$7:$P$70,16))","v":""},null,{"$f":"UPPER(IF($D62=\"\",\"\",VLOOKUP($D62,'Boys Si Qual Draw Prep'!$A$7:$P$70,2)))","v":""},{"$f":"IF($D62=\"\",\"\",VLOOKUP($D62,'Boys Si Qual Draw Prep'!$A$7:$P$70,3))","v":""},null,{"$f":"IF($D62=\"\",\"\",VLOOKUP($D62,'Boys Si Qual Draw Prep'!$A$7:$P$70,4))","v":""}]
["57",{"$f":"IF($D63=\"\",\"\",VLOOKUP($D63,'Boys Si Qual Draw Prep'!$A$7:$P$70,15))","v":""},{"$f":"IF($D63=\"\",\"\",VLOOKUP($D63,'Boys Si Qual Draw Prep'!$A$7:$P$70,16))","v":""},null,{"$f":"UPPER(IF($D63=\"\",\"\",VLOOKUP($D63,'Boys Si Qual Draw Prep'!$A$7:$P$70,2)))","v":""},{"$f":"IF($D63=\"\",\"\",VLOOKUP($D63,'Boys Si Qual Draw Prep'!$A$7:$P$70,3))","v":""},null,{"$f":"IF($D63=\"\",\"\",VLOOKUP($D63,'Boys Si Qual Draw Prep'!$A$7:$P$70,4))","v":""},null,{"$f":"UPPER(IF(OR(I64=\"a\",I64=\"as\"),E63,IF(OR(I64=\"b\",I64=\"bs\"),E64,)))","v":""}]
["58",{"$f":"IF($D64=\"\",\"\",VLOOKUP($D64,'Boys Si Qual Draw Prep'!$A$7:$P$70,15))","v":""},{"$f":"IF($D64=\"\",\"\",VLOOKUP($D64,'Boys Si Qual Draw Prep'!$A$7:$P$70,16))","v":""},null,{"$f":"UPPER(IF($D64=\"\",\"\",VLOOKUP($D64,'Boys Si Qual Draw Prep'!$A$7:$P$70,2)))","v":""},{"$f":"IF($D64=\"\",\"\",VLOOKUP($D64,'Boys Si Qual Draw Prep'!$A$7:$P$70,3))","v":""},null,{"$f":"IF($D64=\"\",\"\",VLOOKUP($D64,'Boys Si Qual Draw Prep'!$A$7:$P$70,4))","v":""},null,null,null,{"$f":"UPPER(IF(OR(K64=\"a\",K64=\"as\"),J63,IF(OR(K64=\"b\",K64=\"bs\"),J65,)))","v":""}]
["59",{"$f":"IF($D65=\"\",\"\",VLOOKUP($D65,'Boys Si Qual Draw Prep'!$A$7:$P$70,15))","v":""},{"$f":"IF($D65=\"\",\"\",VLOOKUP($D65,'Boys Si Qual Draw Prep'!$A$7:$P$70,16))","v":""},null,{"$f":"UPPER(IF($D65=\"\",\"\",VLOOKUP($D65,'Boys Si Qual Draw Prep'!$A$7:$P$70,2)))","v":""},{"$f":"IF($D65=\"\",\"\",VLOOKUP($D65,'Boys Si Qual Draw Prep'!$A$7:$P$70,3))","v":""},null,{"$f":"IF($D65=\"\",\"\",VLOOKUP($D65,'Boys Si Qual Draw Prep'!$A$7:$P$70,4))","v":""},null,{"$f":"UPPER(IF(OR(I66=\"a\",I66=\"as\"),E65,IF(OR(I66=\"b\",I66=\"bs\"),E66,)))","v":""}]
["60",{"$f":"IF($D66=\"\",\"\",VLOOKUP($D66,'Boys Si Qual Draw Prep'!$A$7:$P$70,15))","v":""},{"$f":"IF($D66=\"\",\"\",VLOOKUP($D66,'Boys Si Qual Draw Prep'!$A$7:$P$70,16))","v":""},null,{"$f":"UPPER(IF($D66=\"\",\"\",VLOOKUP($D66,'Boys Si Qual Draw Prep'!$A$7:$P$70,2)))","v":""},{"$f":"IF($D66=\"\",\"\",VLOOKUP($D66,'Boys Si Qual Draw Prep'!$A$7:$P$70,3))","v":""},null,{"$f":"IF($D66=\"\",\"\",VLOOKUP($D66,'Boys Si Qual Draw Prep'!$A$7:$P$70,4))","v":""},null,null,null,"Umpire",null,{"$f":"UPPER(IF(OR(M66=\"a\",M66=\"as\"),L64,IF(OR(M66=\"b\",M66=\"bs\"),L68,)))","v":""}]
["61",{"$f":"IF($D67=\"\",\"\",VLOOKUP($D67,'Boys Si Qual Draw Prep'!$A$7:$P$70,15))","v":""},{"$f":"IF($D67=\"\",\"\",VLOOKUP($D67,'Boys Si Qual Draw Prep'!$A$7:$P$70,16))","v":""},null,{"$f":"UPPER(IF($D67=\"\",\"\",VLOOKUP($D67,'Boys Si Qual Draw Prep'!$A$7:$P$70,2)))","v":""},{"$f":"IF($D67=\"\",\"\",VLOOKUP($D67,'Boys Si Qual Draw Prep'!$A$7:$P$70,3))","v":""},null,{"$f":"IF($D67=\"\",\"\",VLOOKUP($D67,'Boys Si Qual Draw Prep'!$A$7:$P$70,4))","v":""},null,{"$f":"UPPER(IF(OR(I68=\"a\",I68=\"as\"),E67,IF(OR(I68=\"b\",I68=\"bs\"),E68,)))","v":""}]
["62",{"$f":"IF($D68=\"\",\"\",VLOOKUP($D68,'Boys Si Qual Draw Prep'!$A$7:$P$70,15))","v":""},{"$f":"IF($D68=\"\",\"\",VLOOKUP($D68,'Boys Si Qual Draw Prep'!$A$7:$P$70,16))","v":""},null,{"$f":"UPPER(IF($D68=\"\",\"\",VLOOKUP($D68,'Boys Si Qual Draw Prep'!$A$7:$P$70,2)))","v":""},{"$f":"IF($D68=\"\",\"\",VLOOKUP($D68,'Boys Si Qual Draw Prep'!$A$7:$P$70,3))","v":""},null,{"$f":"IF($D68=\"\",\"\",VLOOKUP($D68,'Boys Si Qual Draw Prep'!$A$7:$P$70,4))","v":""},null,null,null,{"$f":"UPPER(IF(OR(K68=\"a\",K68=\"as\"),J67,IF(OR(K68=\"b\",K68=\"bs\"),J69,)))","v":""}]
["63",{"$f":"IF($D69=\"\",\"\",VLOOKUP($D69,'Boys Si Qual Draw Prep'!$A$7:$P$70,15))","v":""},{"$f":"IF($D69=\"\",\"\",VLOOKUP($D69,'Boys Si Qual Draw Prep'!$A$7:$P$70,16))","v":""},null,{"$f":"UPPER(IF($D69=\"\",\"\",VLOOKUP($D69,'Boys Si Qual Draw Prep'!$A$7:$P$70,2)))","v":""},{"$f":"IF($D69=\"\",\"\",VLOOKUP($D69,'Boys Si Qual Draw Prep'!$A$7:$P$70,3))","v":""},null,{"$f":"IF($D69=\"\",\"\",VLOOKUP($D69,'Boys Si Qual Draw Prep'!$A$7:$P$70,4))","v":""},null,{"$f":"UPPER(IF(OR(I70=\"a\",I70=\"as\"),E69,IF(OR(I70=\"b\",I70=\"bs\"),E70,)))","v":""}]
["64",{"$f":"IF($D70=\"\",\"\",VLOOKUP($D70,'Boys Si Qual Draw Prep'!$A$7:$P$70,15))","v":""},{"$f":"IF($D70=\"\",\"\",VLOOKUP($D70,'Boys Si Qual Draw Prep'!$A$7:$P$70,16))","v":""},null,{"$f":"UPPER(IF($D70=\"\",\"\",VLOOKUP($D70,'Boys Si Qual Draw Prep'!$A$7:$P$70,2)))","v":""},{"$f":"IF($D70=\"\",\"\",VLOOKUP($D70,'Boys Si Qual Draw Prep'!$A$7:$P$70,3))","v":""},null,{"$f":"IF($D70=\"\",\"\",VLOOKUP($D70,'Boys Si Qual Draw Prep'!$A$7:$P$70,4))","v":""}]
[]
["Acc. Ranking",null,null,"#","Seeded players","#","Seeded players",null,"#","Alternates",null,"Replacing",null,"Draw date/time:"]
["Rkg Date",null,null,1,{"$f":"IF(D73>$Q$80,,UPPER(VLOOKUP(D73,'Boys Si Qual Draw Prep'!$A$7:$R$134,2)))","v":0},9,{"$f":"IF(F73>$Q$80,,UPPER(VLOOKUP(F73,'Boys Si Qual Draw Prep'!$A$7:$R$134,2)))","v":0},null,"1",null,null,null,null,"Last Accepted player"]
["Top DA",null,null,2,{"$f":"IF(D74>$Q$80,,UPPER(VLOOKUP(D74,'Boys Si Qual Draw Prep'!$A$7:$R$134,2)))","v":0},10,{"$f":"IF(F74>$Q$80,,UPPER(VLOOKUP(F74,'Boys Si Qual Draw Prep'!$A$7:$R$134,2)))","v":0},null,"2"]
["Last DA",null,null,3,{"$f":"IF(D75>$Q$80,,UPPER(VLOOKUP(D75,'Boys Si Qual Draw Prep'!$A$7:$R$134,2)))","v":0},11,{"$f":"IF(F75>$Q$80,,UPPER(VLOOKUP(F75,'Boys Si Qual Draw Prep'!$A$7:$R$134,2)))","v":0},null,"3",null,null,null,null,"Player representatives"]
[null,null,null,4,{"$f":"IF(D76>$Q$80,,UPPER(VLOOKUP(D76,'Boys Si Qual Draw Prep'!$A$7:$R$134,2)))","v":0},12,{"$f":"IF(F76>$Q$80,,UPPER(VLOOKUP(F76,'Boys Si Qual Draw Prep'!$A$7:$R$134,2)))","v":0},null,"4"]
["Seed ranking",null,null,5,{"$f":"IF(D77>$Q$80,,UPPER(VLOOKUP(D77,'Boys Si Qual Draw Prep'!$A$7:$R$134,2)))","v":0},13,{"$f":"IF(F77>$Q$80,,UPPER(VLOOKUP(F77,'Boys Si Qual Draw Prep'!$A$7:$R$134,2)))","v":0},null,"5"]
["Rkg Date",null,null,6,{"$f":"IF(D78>$Q$80,,UPPER(VLOOKUP(D78,'Boys Si Qual Draw Prep'!$A$7:$R$134,2)))","v":0},14,{"$f":"IF(F78>$Q$80,,UPPER(VLOOKUP(F78,'Boys Si Qual Draw Prep'!$A$7:$R$134,2)))","v":0},null,"6",null,null,null,null,"ITF Referee's signature"]
["Top seed",null,null,7,{"$f":"IF(D79>$Q$80,,UPPER(VLOOKUP(D79,'Boys Si Qual Draw Prep'!$A$7:$R$134,2)))","v":0},15,{"$f":"IF(F79>$Q$80,,UPPER(VLOOKUP(F79,'Boys Si Qual Draw Prep'!$A$7:$R$134,2)))","v":0},null,"7"]
["Last seed",null,null,8,{"$f":"IF(D80>$Q$80,,UPPER(VLOOKUP(D80,'Boys Si Qual Draw Prep'!$A$7:$R$134,2)))","v":0},16,{"$f":"IF(F80>$Q$80,,UPPER(VLOOKUP(F80,'Boys Si Qual Draw Prep'!$A$7:$R$134,2)))","v":0},null,"8",null,null,null,null,{"$f":"Q4","v":0},null,null,{"$f":"MIN(16,'Boys Si Qual Draw Prep'!R5)","v":0}]

{"sheet":"Boys Si Qual 96&128>8","index":31,"n_rows":156,"n_cols":20,"rows_kept":156,"cut":false,"hidden":false,"merged":[[3,0,3,2]]}
[{"$f":"'Week SetUp'!$A$6","v":0},null,null,null,null,null,null,null,null,"BOYS SINGLES",null,null,null,"CU"]
[{"$f":"'Week SetUp'!$A$8","v":"ITF Junior Circuit"},null,null,null,null,null,null,null,null,"QUALIFYING DRAW (96&128)"]
["Week of",null,null,null,null,"City, Country",null,null,null,"Group",null,"Tourn. ID",null,null,null,null,"ITF Referee"]
[{"$f":"'Week SetUp'!$A$10","v":"00:00:00"},null,null,null,null,{"$f":"'Week SetUp'!$C$10","v":0},null,null,null,{"$f":"'Week SetUp'!$D$10","v":0},null,{"$f":"'Week SetUp'!$A$12","v":0},null,null,null,null,{"$f":"'Week SetUp'!$E$10","v":0}]
[null,"St.","Rank","Seed","Family Name","First name",null,"Nationality",null,"2nd Round",null,"3rd Round",null,"Finals",null,"Qualifiers"]
[]
["1",{"$f":"IF($D7=\"\",\"\",VLOOKUP($D7,'Boys Si Qual Draw Prep'!$A$7:$P$134,15))","v":""},{"$f":"IF($D7=\"\",\"\",VLOOKUP($D7,'Boys Si Qual Draw Prep'!$A$7:$P$134,16))","v":""},null,{"$f":"UPPER(IF($D7=\"\",\"\",VLOOKUP($D7,'Boys Si Qual Draw Prep'!$A$7:$P$134,2)))","v":""},{"$f":"IF($D7=\"\",\"\",VLOOKUP($D7,'Boys Si Qual Draw Prep'!$A$7:$P$134,3))","v":""},null,{"$f":"IF($D7=\"\",\"\",VLOOKUP($D7,'Boys Si Qual Draw Prep'!$A$7:$P$134,4))","v":""},null,{"$f":"UPPER(IF(OR(I8=\"a\",I8=\"as\"),E7,IF(OR(I8=\"b\",I8=\"bs\"),E8,)))","v":""},null,null,null,null,null,null,"Page 1(2)",null,null,{"$f":"'SetUp Officials'!P21","v":"Umpire"}]
["2",{"$f":"IF($D8=\"\",\"\",VLOOKUP($D8,'Boys Si Qual Draw Prep'!$A$7:$P$134,15))","v":""},{"$f":"IF($D8=\"\",\"\",VLOOKUP($D8,'Boys Si Qual Draw Prep'!$A$7:$P$134,16))","v":""},null,{"$f":"UPPER(IF($D8=\"\",\"\",VLOOKUP($D8,'Boys Si Qual Draw Prep'!$A$7:$P$134,2)))","v":""},{"$f":"IF($D8=\"\",\"\",VLOOKUP($D8,'Boys Si Qual Draw Prep'!$A$7:$P$134,3))","v":""},null,{"$f":"IF($D8=\"\",\"\",VLOOKUP($D8,'Boys Si Qual Draw Prep'!$A$7:$P$134,4))","v":""},null,null,null,{"$f":"UPPER(IF(OR(K8=\"a\",K8=\"as\"),J7,IF(OR(K8=\"b\",K8=\"bs\"),J9,)))","v":""},null,null,null,null,null,null,null,{"$f":"'SetUp Officials'!P22","v":" "}]
["3",{"$f":"IF($D9=\"\",\"\",VLOOKUP($D9,'Boys Si Qual Draw Prep'!$A$7:$P$134,15))","v":""},{"$f":"IF($D9=\"\",\"\",VLOOKUP($D9,'Boys Si Qual Draw Prep'!$A$7:$P$134,16))","v":""},null,{"$f":"UPPER(IF($D9=\"\",\"\",VLOOKUP($D9,'Boys Si Qual Draw Prep'!$A$7:$P$134,2)))","v":""},{"$f":"IF($D9=\"\",\"\",VLOOKUP($D9,'Boys Si Qual Draw Prep'!$A$7:$P$134,3))","v":""},null,{"$f":"IF($D9=\"\",\"\",VLOOKUP($D9,'Boys Si Qual Draw Prep'!$A$7:$P$134,4))","v":""},null,{"$f":"UPPER(IF(OR(I10=\"a\",I10=\"as\"),E9,IF(OR(I10=\"b\",I10=\"bs\"),E10,)))","v":""},null,null,null,null,null,null,null,null,null,{"$f":"'SetUp Officials'!P23","v":" "}]
["4",{"$f":"IF($D10=\"\",\"\",VLOOKUP($D10,'Boys Si Qual Draw Prep'!$A$7:$P$134,15))","v":""},{"$f":"IF($D10=\"\",\"\",VLOOKUP($D10,'Boys Si Qual Draw Prep'!$A$7:$P$134,16))","v":""},null,{"$f":"UPPER(IF($D10=\"\",\"\",VLOOKUP($D10,'Boys Si Qual Draw Prep'!$A$7:$P$134,2)))","v":""},{"$f":"IF($D10=\"\",\"\",VLOOKUP($D10,'Boys Si Qual Draw Prep'!$A$7:$P$134,3))","v":""},null,{"$f":"IF($D10=\"\",\"\",VLOOKUP($D10,'Boys Si Qual Draw Prep'!$A$7:$P$134,4))","v":""},null,null,null,"Umpire",null,{"$f":"UPPER(IF(OR(M10=\"a\",M10=\"as\"),L8,IF(OR(M10=\"b\",M10=\"bs\"),L12,)))","v":""},null,null,null,null,null,{"$f":"'SetUp Officials'!P24","v":" "}]
["5",{"$f":"IF($D11=\"\",\"\",VLOOKUP($D11,'Boys Si Qual Draw Prep'!$A$7:$P$134,15))","v":""},{"$f":"IF($D11=\"\",\"\",VLOOKUP($D11,'Boys Si Qual Draw Prep'!$A$7:$P$134,16))","v":""},null,{"$f":"UPPER(IF($D11=\"\",\"\",VLOOKUP($D11,'Boys Si Qual Draw Prep'!$A$7:$P$134,2)))","v":""},{"$f":"IF($D11=\"\",\"\",VLOOKUP($D11,'Boys Si Qual Draw Prep'!$A$7:$P$134,3))","v":""},null,{"$f":"IF($D11=\"\",\"\",VLOOKUP($D11,'Boys Si Qual Draw Prep'!$A$7:$P$134,4))","v":""},null,{"$f":"UPPER(IF(OR(I12=\"a\",I12=\"as\"),E11,IF(OR(I12=\"b\",I12=\"bs\"),E12,)))","v":""},null,null,null,null,null,null,null,null,null,{"$f":"'SetUp Officials'!P25","v":" "}]
["6",{"$f":"IF($D12=\"\",\"\",VLOOKUP($D12,'Boys Si Qual Draw Prep'!$A$7:$P$134,15))","v":""},{"$f":"IF($D12=\"\",\"\",VLOOKUP($D12,'Boys Si Qual Draw Prep'!$A$7:$P$134,16))","v":""},null,{"$f":"UPPER(IF($D12=\"\",\"\",VLOOKUP($D12,'Boys Si Qual Draw Prep'!$A$7:$P$134,2)))","v":""},{"$f":"IF($D12=\"\",\"\",VLOOKUP($D12,'Boys Si Qual Draw Prep'!$A$7:$P$134,3))","v":""},null,{"$f":"IF($D12=\"\",\"\",VLOOKUP($D12,'Boys Si Qual Draw Prep'!$A$7:$P$134,4))","v":""},null,null,null,{"$f":"UPPER(IF(OR(K12=\"a\",K12=\"as\"),J11,IF(OR(K12=\"b\",K12=\"bs\"),J13,)))","v":""},null,null,null,null,null,null,null,{"$f":"'SetUp Officials'!P26","v":" "}]
["7",{"$f":"IF($D13=\"\",\"\",VLOOKUP($D13,'Boys Si Qual Draw Prep'!$A$7:$P$134,15))","v":""},{"$f":"IF($D13=\"\",\"\",VLOOKUP($D13,'Boys Si Qual Draw Prep'!$A$7:$P$134,16))","v":""},null,{"$f":"UPPER(IF($D13=\"\",\"\",VLOOKUP($D13,'Boys Si Qual Draw Prep'!$A$7:$P$134,2)))","v":""},{"$f":"IF($D13=\"\",\"\",VLOOKUP($D13,'Boys Si Qual Draw Prep'!$A$7:$P$134,3))","v":""},null,{"$f":"IF($D13=\"\",\"\",VLOOKUP($D13,'Boys Si Qual Draw Prep'!$A$7:$P$134,4))","v":""},null,{"$f":"UPPER(IF(OR(I14=\"a\",I14=\"as\"),E13,IF(OR(I14=\"b\",I14=\"bs\"),E14,)))","v":""},null,null,null,null,null,null,null,null,null,{"$f":"'SetUp Officials'!P27","v":" "}]
["8",{"$f":"IF($D14=\"\",\"\",VLOOKUP($D14,'Boys Si Qual Draw Prep'!$A$7:$P$134,15))","v":""},{"$f":"IF($D14=\"\",\"\",VLOOKUP($D14,'Boys Si Qual Draw Prep'!$A$7:$P$134,16))","v":""},null,{"$f":"UPPER(IF($D14=\"\",\"\",VLOOKUP($D14,'Boys Si Qual Draw Prep'!$A$7:$P$134,2)))","v":""},{"$f":"IF($D14=\"\",\"\",VLOOKUP($D14,'Boys Si Qual Draw Prep'!$A$7:$P$134,3))","v":""},null,{"$f":"IF($D14=\"\",\"\",VLOOKUP($D14,'Boys Si Qual Draw Prep'!$A$7:$P$134,4))","v":""},null,null,null,null,null,"Umpire",null,{"$f":"UPPER(IF(OR(O14=\"a\",O14=\"as\"),N10,IF(OR(O14=\"b\",O14=\"bs\"),N18,)))","v":""},null,null,null,{"$f":"'SetUp Officials'!P28","v":" "}]
["9",{"$f":"IF($D15=\"\",\"\",VLOOKUP($D15,'Boys Si Qual Draw Prep'!$A$7:$P$134,15))","v":""},{"$f":"IF($D15=\"\",\"\",VLOOKUP($D15,'Boys Si Qual Draw Prep'!$A$7:$P$134,16))","v":""},null,{"$f":"UPPER(IF($D15=\"\",\"\",VLOOKUP($D15,'Boys Si Qual Draw Prep'!$A$7:$P$134,2)))","v":""},{"$f":"IF($D15=\"\",\"\",VLOOKUP($D15,'Boys Si Qual Draw Prep'!$A$7:$P$134,3))","v":""},null,{"$f":"IF($D15=\"\",\"\",VLOOKUP($D15,'Boys Si Qual Draw Prep'!$A$7:$P$134,4))","v":""},null,{"$f":"UPPER(IF(OR(I16=\"a\",I16=\"as\"),E15,IF(OR(I16=\"b\",I16=\"bs\"),E16,)))","v":""},null,null,null,null,null,null,null,null,null,{"$f":"'SetUp Officials'!P29","v":" "}]
["10",{"$f":"IF($D16=\"\",\"\",VLOOKUP($D16,'Boys Si Qual Draw Prep'!$A$7:$P$134,15))","v":""},{"$f":"IF($D16=\"\",\"\",VLOOKUP($D16,'Boys Si Qual Draw Prep'!$A$7:$P$134,16))","v":""},null,{"$f":"UPPER(IF($D16=\"\",\"\",VLOOKUP($D16,'Boys Si Qual Draw Prep'!$A$7:$P$134,2)))","v":""},{"$f":"IF($D16=\"\",\"\",VLOOKUP($D16,'Boys Si Qual Draw Prep'!$A$7:$P$134,3))","v":""},null,{"$f":"IF($D16=\"\",\"\",VLOOKUP($D16,'Boys Si Qual Draw Prep'!$A$7:$P$134,4))","v":""},null,null,null,{"$f":"UPPER(IF(OR(K16=\"a\",K16=\"as\"),J15,IF(OR(K16=\"b\",K16=\"bs\"),J17,)))","v":""},null,null,null,null,null,null,null,{"$f":"'SetUp Officials'!P30","v":"None"}]
["11",{"$f":"IF($D17=\"\",\"\",VLOOKUP($D17,'Boys Si Qual Draw Prep'!$A$7:$P$134,15))","v":""},{"$f":"IF($D17=\"\",\"\",VLOOKUP($D17,'Boys Si Qual Draw Prep'!$A$7:$P$134,16))","v":""},null,{"$f":"UPPER(IF($D17=\"\",\"\",VLOOKUP($D17,'Boys Si Qual Draw Prep'!$A$7:$P$134,2)))","v":""},{"$f":"IF($D17=\"\",\"\",VLOOKUP($D17,'Boys Si Qual Draw Prep'!$A$7:$P$134,3))","v":""},null,{"$f":"IF($D17=\"\",\"\",VLOOKUP($D17,'Boys Si Qual Draw Prep'!$A$7:$P$134,4))","v":""},null,{"$f":"UPPER(IF(OR(I18=\"a\",I18=\"as\"),E17,IF(OR(I18=\"b\",I18=\"bs\"),E18,)))","v":""}]
["12",{"$f":"IF($D18=\"\",\"\",VLOOKUP($D18,'Boys Si Qual Draw Prep'!$A$7:$P$134,15))","v":""},{"$f":"IF($D18=\"\",\"\",VLOOKUP($D18,'Boys Si Qual Draw Prep'!$A$7:$P$134,16))","v":""},null,{"$f":"UPPER(IF($D18=\"\",\"\",VLOOKUP($D18,'Boys Si Qual Draw Prep'!$A$7:$P$134,2)))","v":""},{"$f":"IF($D18=\"\",\"\",VLOOKUP($D18,'Boys Si Qual Draw Prep'!$A$7:$P$134,3))","v":""},null,{"$f":"IF($D18=\"\",\"\",VLOOKUP($D18,'Boys Si Qual Draw Prep'!$A$7:$P$134,4))","v":""},null,null,null,"Umpire",null,{"$f":"UPPER(IF(OR(M18=\"a\",M18=\"as\"),L16,IF(OR(M18=\"b\",M18=\"bs\"),L20,)))","v":""}]
["13",{"$f":"IF($D19=\"\",\"\",VLOOKUP($D19,'Boys Si Qual Draw Prep'!$A$7:$P$134,15))","v":""},{"$f":"IF($D19=\"\",\"\",VLOOKUP($D19,'Boys Si Qual Draw Prep'!$A$7:$P$134,16))","v":""},null,{"$f":"UPPER(IF($D19=\"\",\"\",VLOOKUP($D19,'Boys Si Qual Draw Prep'!$A$7:$P$134,2)))","v":""},{"$f":"IF($D19=\"\",\"\",VLOOKUP($D19,'Boys Si Qual Draw Prep'!$A$7:$P$134,3))","v":""},null,{"$f":"IF($D19=\"\",\"\",VLOOKUP($D19,'Boys Si Qual Draw Prep'!$A$7:$P$134,4))","v":""},null,{"$f":"UPPER(IF(OR(I20=\"a\",I20=\"as\"),E19,IF(OR(I20=\"b\",I20=\"bs\"),E20,)))","v":""}]
["14",{"$f":"IF($D20=\"\",\"\",VLOOKUP($D20,'Boys Si Qual Draw Prep'!$A$7:$P$134,15))","v":""},{"$f":"IF($D20=\"\",\"\",VLOOKUP($D20,'Boys Si Qual Draw Prep'!$A$7:$P$134,16))","v":""},null,{"$f":"UPPER(IF($D20=\"\",\"\",VLOOKUP($D20,'Boys Si Qual Draw Prep'!$A$7:$P$134,2)))","v":""},{"$f":"IF($D20=\"\",\"\",VLOOKUP($D20,'Boys Si Qual Draw Prep'!$A$7:$P$134,3))","v":""},null,{"$f":"IF($D20=\"\",\"\",VLOOKUP($D20,'Boys Si Qual Draw Prep'!$A$7:$P$134,4))","v":""},null,null,null,{"$f":"UPPER(IF(OR(K20=\"a\",K20=\"as\"),J19,IF(OR(K20=\"b\",K20=\"bs\"),J21,)))","v":""}]
["15",{"$f":"IF($D21=\"\",\"\",VLOOKUP($D21,'Boys Si Qual Draw Prep'!$A$7:$P$134,15))","v":""},{"$f":"IF($D21=\"\",\"\",VLOOKUP($D21,'Boys Si Qual Draw Prep'!$A$7:$P$134,16))","v":""},null,{"$f":"UPPER(IF($D21=\"\",\"\",VLOOKUP($D21,'Boys Si Qual Draw Prep'!$A$7:$P$134,2)))","v":""},{"$f":"IF($D21=\"\",\"\",VLOOKUP($D21,'Boys Si Qual Draw Prep'!$A$7:$P$134,3))","v":""},null,{"$f":"IF($D21=\"\",\"\",VLOOKUP($D21,'Boys Si Qual Draw Prep'!$A$7:$P$134,4))","v":""},null,{"$f":"UPPER(IF(OR(I22=\"a\",I22=\"as\"),E21,IF(OR(I22=\"b\",I22=\"bs\"),E22,)))","v":""}]
["16",{"$f":"IF($D22=\"\",\"\",VLOOKUP($D22,'Boys Si Qual Draw Prep'!$A$7:$P$134,15))","v":""},{"$f":"IF($D22=\"\",\"\",VLOOKUP($D22,'Boys Si Qual Draw Prep'!$A$7:$P$134,16))","v":""},null,{"$f":"UPPER(IF($D22=\"\",\"\",VLOOKUP($D22,'Boys Si Qual Draw Prep'!$A$7:$P$134,2)))","v":""},{"$f":"IF($D22=\"\",\"\",VLOOKUP($D22,'Boys Si Qual Draw Prep'!$A$7:$P$134,3))","v":""},null,{"$f":"IF($D22=\"\",\"\",VLOOKUP($D22,'Boys Si Qual Draw Prep'!$A$7:$P$134,4))","v":""}]
["17",{"$f":"IF($D23=\"\",\"\",VLOOKUP($D23,'Boys Si Qual Draw Prep'!$A$7:$P$134,15))","v":""},{"$f":"IF($D23=\"\",\"\",VLOOKUP($D23,'Boys Si Qual Draw Prep'!$A$7:$P$134,16))","v":""},null,{"$f":"UPPER(IF($D23=\"\",\"\",VLOOKUP($D23,'Boys Si Qual Draw Prep'!$A$7:$P$134,2)))","v":""},{"$f":"IF($D23=\"\",\"\",VLOOKUP($D23,'Boys Si Qual Draw Prep'!$A$7:$P$134,3))","v":""},null,{"$f":"IF($D23=\"\",\"\",VLOOKUP($D23,'Boys Si Qual Draw Prep'!$A$7:$P$134,4))","v":""},null,{"$f":"UPPER(IF(OR(I24=\"a\",I24=\"as\"),E23,IF(OR(I24=\"b\",I24=\"bs\"),E24,)))","v":""}]
["18",{"$f":"IF($D24=\"\",\"\",VLOOKUP($D24,'Boys Si Qual Draw Prep'!$A$7:$P$134,15))","v":""},{"$f":"IF($D24=\"\",\"\",VLOOKUP($D24,'Boys Si Qual Draw Prep'!$A$7:$P$134,16))","v":""},null,{"$f":"UPPER(IF($D24=\"\",\"\",VLOOKUP($D24,'Boys Si Qual Draw Prep'!$A$7:$P$134,2)))","v":""},{"$f":"IF($D24=\"\",\"\",VLOOKUP($D24,'Boys Si Qual Draw Prep'!$A$7:$P$134,3))","v":""},null,{"$f":"IF($D24=\"\",\"\",VLOOKUP($D24,'Boys Si Qual Draw Prep'!$A$7:$P$134,4))","v":""},null,null,null,{"$f":"UPPER(IF(OR(K24=\"a\",K24=\"as\"),J23,IF(OR(K24=\"b\",K24=\"bs\"),J25,)))","v":""}]
["19",{"$f":"IF($D25=\"\",\"\",VLOOKUP($D25,'Boys Si Qual Draw Prep'!$A$7:$P$134,15))","v":""},{"$f":"IF($D25=\"\",\"\",VLOOKUP($D25,'Boys Si Qual Draw Prep'!$A$7:$P$134,16))","v":""},null,{"$f":"UPPER(IF($D25=\"\",\"\",VLOOKUP($D25,'Boys Si Qual Draw Prep'!$A$7:$P$134,2)))","v":""},{"$f":"IF($D25=\"\",\"\",VLOOKUP($D25,'Boys Si Qual Draw Prep'!$A$7:$P$134,3))","v":""},null,{"$f":"IF($D25=\"\",\"\",VLOOKUP($D25,'Boys Si Qual Draw Prep'!$A$7:$P$134,4))","v":""},null,{"$f":"UPPER(IF(OR(I26=\"a\",I26=\"as\"),E25,IF(OR(I26=\"b\",I26=\"bs\"),E26,)))","v":""}]
["20",{"$f":"IF($D26=\"\",\"\",VLOOKUP($D26,'Boys Si Qual Draw Prep'!$A$7:$P$134,15))","v":""},{"$f":"IF($D26=\"\",\"\",VLOOKUP($D26,'Boys Si Qual Draw Prep'!$A$7:$P$134,16))","v":""},null,{"$f":"UPPER(IF($D26=\"\",\"\",VLOOKUP($D26,'Boys Si Qual Draw Prep'!$A$7:$P$134,2)))","v":""},{"$f":"IF($D26=\"\",\"\",VLOOKUP($D26,'Boys Si Qual Draw Prep'!$A$7:$P$134,3))","v":""},null,{"$f":"IF($D26=\"\",\"\",VLOOKUP($D26,'Boys Si Qual Draw Prep'!$A$7:$P$134,4))","v":""},null,null,null,"Umpire",null,{"$f":"UPPER(IF(OR(M26=\"a\",M26=\"as\"),L24,IF(OR(M26=\"b\",M26=\"bs\"),L28,)))","v":""}]
["21",{"$f":"IF($D27=\"\",\"\",VLOOKUP($D27,'Boys Si Qual Draw Prep'!$A$7:$P$134,15))","v":""},{"$f":"IF($D27=\"\",\"\",VLOOKUP($D27,'Boys Si Qual Draw Prep'!$A$7:$P$134,16))","v":""},null,{"$f":"UPPER(IF($D27=\"\",\"\",VLOOKUP($D27,'Boys Si Qual Draw Prep'!$A$7:$P$134,2)))","v":""},{"$f":"IF($D27=\"\",\"\",VLOOKUP($D27,'Boys Si Qual Draw Prep'!$A$7:$P$134,3))","v":""},null,{"$f":"IF($D27=\"\",\"\",VLOOKUP($D27,'Boys Si Qual Draw Prep'!$A$7:$P$134,4))","v":""},null,{"$f":"UPPER(IF(OR(I28=\"a\",I28=\"as\"),E27,IF(OR(I28=\"b\",I28=\"bs\"),E28,)))","v":""}]
["22",{"$f":"IF($D28=\"\",\"\",VLOOKUP($D28,'Boys Si Qual Draw Prep'!$A$7:$P$134,15))","v":""},{"$f":"IF($D28=\"\",\"\",VLOOKUP($D28,'Boys Si Qual Draw Prep'!$A$7:$P$134,16))","v":""},null,{"$f":"UPPER(IF($D28=\"\",\"\",VLOOKUP($D28,'Boys Si Qual Draw Prep'!$A$7:$P$134,2)))","v":""},{"$f":"IF($D28=\"\",\"\",VLOOKUP($D28,'Boys Si Qual Draw Prep'!$A$7:$P$134,3))","v":""},null,{"$f":"IF($D28=\"\",\"\",VLOOKUP($D28,'Boys Si Qual Draw Prep'!$A$7:$P$134,4))","v":""},null,null,null,{"$f":"UPPER(IF(OR(K28=\"a\",K28=\"as\"),J27,IF(OR(K28=\"b\",K28=\"bs\"),J29,)))","v":""}]
["23",{"$f":"IF($D29=\"\",\"\",VLOOKUP($D29,'Boys Si Qual Draw Prep'!$A$7:$P$134,15))","v":""},{"$f":"IF($D29=\"\",\"\",VLOOKUP($D29,'Boys Si Qual Draw Prep'!$A$7:$P$134,16))","v":""},null,{"$f":"UPPER(IF($D29=\"\",\"\",VLOOKUP($D29,'Boys Si Qual Draw Prep'!$A$7:$P$134,2)))","v":""},{"$f":"IF($D29=\"\",\"\",VLOOKUP($D29,'Boys Si Qual Draw Prep'!$A$7:$P$134,3))","v":""},null,{"$f":"IF($D29=\"\",\"\",VLOOKUP($D29,'Boys Si Qual Draw Prep'!$A$7:$P$134,4))","v":""},null,{"$f":"UPPER(IF(OR(I30=\"a\",I30=\"as\"),E29,IF(OR(I30=\"b\",I30=\"bs\"),E30,)))","v":""}]
["24",{"$f":"IF($D30=\"\",\"\",VLOOKUP($D30,'Boys Si Qual Draw Prep'!$A$7:$P$134,15))","v":""},{"$f":"IF($D30=\"\",\"\",VLOOKUP($D30,'Boys Si Qual Draw Prep'!$A$7:$P$134,16))","v":""},null,{"$f":"UPPER(IF($D30=\"\",\"\",VLOOKUP($D30,'Boys Si Qual Draw Prep'!$A$7:$P$134,2)))","v":""},{"$f":"IF($D30=\"\",\"\",VLOOKUP($D30,'Boys Si Qual Draw Prep'!$A$7:$P$134,3))","v":""},null,{"$f":"IF($D30=\"\",\"\",VLOOKUP($D30,'Boys Si Qual Draw Prep'!$A$7:$P$134,4))","v":""},null,null,null,null,null,"Umpire",null,{"$f":"UPPER(IF(OR(O30=\"a\",O30=\"as\"),N26,IF(OR(O30=\"b\",O30=\"bs\"),N34,)))","v":""}]
["25",{"$f":"IF($D31=\"\",\"\",VLOOKUP($D31,'Boys Si Qual Draw Prep'!$A$7:$P$134,15))","v":""},{"$f":"IF($D31=\"\",\"\",VLOOKUP($D31,'Boys Si Qual Draw Prep'!$A$7:$P$134,16))","v":""},null,{"$f":"UPPER(IF($D31=\"\",\"\",VLOOKUP($D31,'Boys Si Qual Draw Prep'!$A$7:$P$134,2)))","v":""},{"$f":"IF($D31=\"\",\"\",VLOOKUP($D31,'Boys Si Qual Draw Prep'!$A$7:$P$134,3))","v":""},null,{"$f":"IF($D31=\"\",\"\",VLOOKUP($D31,'Boys Si Qual Draw Prep'!$A$7:$P$134,4))","v":""},null,{"$f":"UPPER(IF(OR(I32=\"a\",I32=\"as\"),E31,IF(OR(I32=\"b\",I32=\"bs\"),E32,)))","v":""}]
["26",{"$f":"IF($D32=\"\",\"\",VLOOKUP($D32,'Boys Si Qual Draw Prep'!$A$7:$P$134,15))","v":""},{"$f":"IF($D32=\"\",\"\",VLOOKUP($D32,'Boys Si Qual Draw Prep'!$A$7:$P$134,16))","v":""},null,{"$f":"UPPER(IF($D32=\"\",\"\",VLOOKUP($D32,'Boys Si Qual Draw Prep'!$A$7:$P$134,2)))","v":""},{"$f":"IF($D32=\"\",\"\",VLOOKUP($D32,'Boys Si Qual Draw Prep'!$A$7:$P$134,3))","v":""},null,{"$f":"IF($D32=\"\",\"\",VLOOKUP($D32,'Boys Si Qual Draw Prep'!$A$7:$P$134,4))","v":""},null,null,null,{"$f":"UPPER(IF(OR(K32=\"a\",K32=\"as\"),J31,IF(OR(K32=\"b\",K32=\"bs\"),J33,)))","v":""}]
["27",{"$f":"IF($D33=\"\",\"\",VLOOKUP($D33,'Boys Si Qual Draw Prep'!$A$7:$P$134,15))","v":""},{"$f":"IF($D33=\"\",\"\",VLOOKUP($D33,'Boys Si Qual Draw Prep'!$A$7:$P$134,16))","v":""},null,{"$f":"UPPER(IF($D33=\"\",\"\",VLOOKUP($D33,'Boys Si Qual Draw Prep'!$A$7:$P$134,2)))","v":""},{"$f":"IF($D33=\"\",\"\",VLOOKUP($D33,'Boys Si Qual Draw Prep'!$A$7:$P$134,3))","v":""},null,{"$f":"IF($D33=\"\",\"\",VLOOKUP($D33,'Boys Si Qual Draw Prep'!$A$7:$P$134,4))","v":""},null,{"$f":"UPPER(IF(OR(I34=\"a\",I34=\"as\"),E33,IF(OR(I34=\"b\",I34=\"bs\"),E34,)))","v":""}]
["28",{"$f":"IF($D34=\"\",\"\",VLOOKUP($D34,'Boys Si Qual Draw Prep'!$A$7:$P$134,15))","v":""},{"$f":"IF($D34=\"\",\"\",VLOOKUP($D34,'Boys Si Qual Draw Prep'!$A$7:$P$134,16))","v":""},null,{"$f":"UPPER(IF($D34=\"\",\"\",VLOOKUP($D34,'Boys Si Qual Draw Prep'!$A$7:$P$134,2)))","v":""},{"$f":"IF($D34=\"\",\"\",VLOOKUP($D34,'Boys Si Qual Draw Prep'!$A$7:$P$134,3))","v":""},null,{"$f":"IF($D34=\"\",\"\",VLOOKUP($D34,'Boys Si Qual Draw Prep'!$A$7:$P$134,4))","v":""},null,null,null,"Umpire",null,{"$f":"UPPER(IF(OR(M34=\"a\",M34=\"as\"),L32,IF(OR(M34=\"b\",M34=\"bs\"),L36,)))","v":""}]
["29",{"$f":"IF($D35=\"\",\"\",VLOOKUP($D35,'Boys Si Qual Draw Prep'!$A$7:$P$134,15))","v":""},{"$f":"IF($D35=\"\",\"\",VLOOKUP($D35,'Boys Si Qual Draw Prep'!$A$7:$P$134,16))","v":""},null,{"$f":"UPPER(IF($D35=\"\",\"\",VLOOKUP($D35,'Boys Si Qual Draw Prep'!$A$7:$P$134,2)))","v":""},{"$f":"IF($D35=\"\",\"\",VLOOKUP($D35,'Boys Si Qual Draw Prep'!$A$7:$P$134,3))","v":""},null,{"$f":"IF($D35=\"\",\"\",VLOOKUP($D35,'Boys Si Qual Draw Prep'!$A$7:$P$134,4))","v":""},null,{"$f":"UPPER(IF(OR(I36=\"a\",I36=\"as\"),E35,IF(OR(I36=\"b\",I36=\"bs\"),E36,)))","v":""}]
["30",{"$f":"IF($D36=\"\",\"\",VLOOKUP($D36,'Boys Si Qual Draw Prep'!$A$7:$P$134,15))","v":""},{"$f":"IF($D36=\"\",\"\",VLOOKUP($D36,'Boys Si Qual Draw Prep'!$A$7:$P$134,16))","v":""},null,{"$f":"UPPER(IF($D36=\"\",\"\",VLOOKUP($D36,'Boys Si Qual Draw Prep'!$A$7:$P$134,2)))","v":""},{"$f":"IF($D36=\"\",\"\",VLOOKUP($D36,'Boys Si Qual Draw Prep'!$A$7:$P$134,3))","v":""},null,{"$f":"IF($D36=\"\",\"\",VLOOKUP($D36,'Boys Si Qual Draw Prep'!$A$7:$P$134,4))","v":""},null,null,null,{"$f":"UPPER(IF(OR(K36=\"a\",K36=\"as\"),J35,IF(OR(K36=\"b\",K36=\"bs\"),J37,)))","v":""}]
["31",{"$f":"IF($D37=\"\",\"\",VLOOKUP($D37,'Boys Si Qual Draw Prep'!$A$7:$P$134,15))","v":""},{"$f":"IF($D37=\"\",\"\",VLOOKUP($D37,'Boys Si Qual Draw Prep'!$A$7:$P$134,16))","v":""},null,{"$f":"UPPER(IF($D37=\"\",\"\",VLOOKUP($D37,'Boys Si Qual Draw Prep'!$A$7:$P$134,2)))","v":""},{"$f":"IF($D37=\"\",\"\",VLOOKUP($D37,'Boys Si Qual Draw Prep'!$A$7:$P$134,3))","v":""},null,{"$f":"IF($D37=\"\",\"\",VLOOKUP($D37,'Boys Si Qual Draw Prep'!$A$7:$P$134,4))","v":""},null,{"$f":"UPPER(IF(OR(I38=\"a\",I38=\"as\"),E37,IF(OR(I38=\"b\",I38=\"bs\"),E38,)))","v":""}]
["32",{"$f":"IF($D38=\"\",\"\",VLOOKUP($D38,'Boys Si Qual Draw Prep'!$A$7:$P$134,15))","v":""},{"$f":"IF($D38=\"\",\"\",VLOOKUP($D38,'Boys Si Qual Draw Prep'!$A$7:$P$134,16))","v":""},null,{"$f":"UPPER(IF($D38=\"\",\"\",VLOOKUP($D38,'Boys Si Qual Draw Prep'!$A$7:$P$134,2)))","v":""},{"$f":"IF($D38=\"\",\"\",VLOOKUP($D38,'Boys Si Qual Draw Prep'!$A$7:$P$134,3))","v":""},null,{"$f":"IF($D38=\"\",\"\",VLOOKUP($D38,'Boys Si Qual Draw Prep'!$A$7:$P$134,4))","v":""}]
["33",{"$f":"IF($D39=\"\",\"\",VLOOKUP($D39,'Boys Si Qual Draw Prep'!$A$7:$P$134,15))","v":""},{"$f":"IF($D39=\"\",\"\",VLOOKUP($D39,'Boys Si Qual Draw Prep'!$A$7:$P$134,16))","v":""},null,{"$f":"UPPER(IF($D39=\"\",\"\",VLOOKUP($D39,'Boys Si Qual Draw Prep'!$A$7:$P$134,2)))","v":""},{"$f":"IF($D39=\"\",\"\",VLOOKUP($D39,'Boys Si Qual Draw Prep'!$A$7:$P$134,3))","v":""},null,{"$f":"IF($D39=\"\",\"\",VLOOKUP($D39,'Boys Si Qual Draw Prep'!$A$7:$P$134,4))","v":""},null,{"$f":"UPPER(IF(OR(I40=\"a\",I40=\"as\"),E39,IF(OR(I40=\"b\",I40=\"bs\"),E40,)))","v":""}]
["34",{"$f":"IF($D40=\"\",\"\",VLOOKUP($D40,'Boys Si Qual Draw Prep'!$A$7:$P$134,15))","v":""},{"$f":"IF($D40=\"\",\"\",VLOOKUP($D40,'Boys Si Qual Draw Prep'!$A$7:$P$134,16))","v":""},null,{"$f":"UPPER(IF($D40=\"\",\"\",VLOOKUP($D40,'Boys Si Qual Draw Prep'!$A$7:$P$134,2)))","v":""},{"$f":"IF($D40=\"\",\"\",VLOOKUP($D40,'Boys Si Qual Draw Prep'!$A$7:$P$134,3))","v":""},null,{"$f":"IF($D40=\"\",\"\",VLOOKUP($D40,'Boys Si Qual Draw Prep'!$A$7:$P$134,4))","v":""},null,null,null,{"$f":"UPPER(IF(OR(K40=\"a\",K40=\"as\"),J39,IF(OR(K40=\"b\",K40=\"bs\"),J41,)))","v":""}]
["35",{"$f":"IF($D41=\"\",\"\",VLOOKUP($D41,'Boys Si Qual Draw Prep'!$A$7:$P$134,15))","v":""},{"$f":"IF($D41=\"\",\"\",VLOOKUP($D41,'Boys Si Qual Draw Prep'!$A$7:$P$134,16))","v":""},null,{"$f":"UPPER(IF($D41=\"\",\"\",VLOOKUP($D41,'Boys Si Qual Draw Prep'!$A$7:$P$134,2)))","v":""},{"$f":"IF($D41=\"\",\"\",VLOOKUP($D41,'Boys Si Qual Draw Prep'!$A$7:$P$134,3))","v":""},null,{"$f":"IF($D41=\"\",\"\",VLOOKUP($D41,'Boys Si Qual Draw Prep'!$A$7:$P$134,4))","v":""},null,{"$f":"UPPER(IF(OR(I42=\"a\",I42=\"as\"),E41,IF(OR(I42=\"b\",I42=\"bs\"),E42,)))","v":""}]
["36",{"$f":"IF($D42=\"\",\"\",VLOOKUP($D42,'Boys Si Qual Draw Prep'!$A$7:$P$134,15))","v":""},{"$f":"IF($D42=\"\",\"\",VLOOKUP($D42,'Boys Si Qual Draw Prep'!$A$7:$P$134,16))","v":""},null,{"$f":"UPPER(IF($D42=\"\",\"\",VLOOKUP($D42,'Boys Si Qual Draw Prep'!$A$7:$P$134,2)))","v":""},{"$f":"IF($D42=\"\",\"\",VLOOKUP($D42,'Boys Si Qual Draw Prep'!$A$7:$P$134,3))","v":""},null,{"$f":"IF($D42=\"\",\"\",VLOOKUP($D42,'Boys Si Qual Draw Prep'!$A$7:$P$134,4))","v":""},null,null,null,"Umpire",null,{"$f":"UPPER(IF(OR(M42=\"a\",M42=\"as\"),L40,IF(OR(M42=\"b\",M42=\"bs\"),L44,)))","v":""}]
["37",{"$f":"IF($D43=\"\",\"\",VLOOKUP($D43,'Boys Si Qual Draw Prep'!$A$7:$P$134,15))","v":""},{"$f":"IF($D43=\"\",\"\",VLOOKUP($D43,'Boys Si Qual Draw Prep'!$A$7:$P$134,16))","v":""},null,{"$f":"UPPER(IF($D43=\"\",\"\",VLOOKUP($D43,'Boys Si Qual Draw Prep'!$A$7:$P$134,2)))","v":""},{"$f":"IF($D43=\"\",\"\",VLOOKUP($D43,'Boys Si Qual Draw Prep'!$A$7:$P$134,3))","v":""},null,{"$f":"IF($D43=\"\",\"\",VLOOKUP($D43,'Boys Si Qual Draw Prep'!$A$7:$P$134,4))","v":""},null,{"$f":"UPPER(IF(OR(I44=\"a\",I44=\"as\"),E43,IF(OR(I44=\"b\",I44=\"bs\"),E44,)))","v":""}]
["38",{"$f":"IF($D44=\"\",\"\",VLOOKUP($D44,'Boys Si Qual Draw Prep'!$A$7:$P$134,15))","v":""},{"$f":"IF($D44=\"\",\"\",VLOOKUP($D44,'Boys Si Qual Draw Prep'!$A$7:$P$134,16))","v":""},null,{"$f":"UPPER(IF($D44=\"\",\"\",VLOOKUP($D44,'Boys Si Qual Draw Prep'!$A$7:$P$134,2)))","v":""},{"$f":"IF($D44=\"\",\"\",VLOOKUP($D44,'Boys Si Qual Draw Prep'!$A$7:$P$134,3))","v":""},null,{"$f":"IF($D44=\"\",\"\",VLOOKUP($D44,'Boys Si Qual Draw Prep'!$A$7:$P$134,4))","v":""},null,null,null,{"$f":"UPPER(IF(OR(K44=\"a\",K44=\"as\"),J43,IF(OR(K44=\"b\",K44=\"bs\"),J45,)))","v":""}]
["39",{"$f":"IF($D45=\"\",\"\",VLOOKUP($D45,'Boys Si Qual Draw Prep'!$A$7:$P$134,15))","v":""},{"$f":"IF($D45=\"\",\"\",VLOOKUP($D45,'Boys Si Qual Draw Prep'!$A$7:$P$134,16))","v":""},null,{"$f":"UPPER(IF($D45=\"\",\"\",VLOOKUP($D45,'Boys Si Qual Draw Prep'!$A$7:$P$134,2)))","v":""},{"$f":"IF($D45=\"\",\"\",VLOOKUP($D45,'Boys Si Qual Draw Prep'!$A$7:$P$134,3))","v":""},null,{"$f":"IF($D45=\"\",\"\",VLOOKUP($D45,'Boys Si Qual Draw Prep'!$A$7:$P$134,4))","v":""},null,{"$f":"UPPER(IF(OR(I46=\"a\",I46=\"as\"),E45,IF(OR(I46=\"b\",I46=\"bs\"),E46,)))","v":""}]
["40",{"$f":"IF($D46=\"\",\"\",VLOOKUP($D46,'Boys Si Qual Draw Prep'!$A$7:$P$134,15))","v":""},{"$f":"IF($D46=\"\",\"\",VLOOKUP($D46,'Boys Si Qual Draw Prep'!$A$7:$P$134,16))","v":""},null,{"$f":"UPPER(IF($D46=\"\",\"\",VLOOKUP($D46,'Boys Si Qual Draw Prep'!$A$7:$P$134,2)))","v":""},{"$f":"IF($D46=\"\",\"\",VLOOKUP($D46,'Boys Si Qual Draw Prep'!$A$7:$P$134,3))","v":""},null,{"$f":"IF($D46=\"\",\"\",VLOOKUP($D46,'Boys Si Qual Draw Prep'!$A$7:$P$134,4))","v":""},null,null,null,null,null,"Umpire",null,{"$f":"UPPER(IF(OR(O46=\"a\",O46=\"as\"),N42,IF(OR(O46=\"b\",O46=\"bs\"),N50,)))","v":""}]
["41",{"$f":"IF($D47=\"\",\"\",VLOOKUP($D47,'Boys Si Qual Draw Prep'!$A$7:$P$134,15))","v":""},{"$f":"IF($D47=\"\",\"\",VLOOKUP($D47,'Boys Si Qual Draw Prep'!$A$7:$P$134,16))","v":""},null,{"$f":"UPPER(IF($D47=\"\",\"\",VLOOKUP($D47,'Boys Si Qual Draw Prep'!$A$7:$P$134,2)))","v":""},{"$f":"IF($D47=\"\",\"\",VLOOKUP($D47,'Boys Si Qual Draw Prep'!$A$7:$P$134,3))","v":""},null,{"$f":"IF($D47=\"\",\"\",VLOOKUP($D47,'Boys Si Qual Draw Prep'!$A$7:$P$134,4))","v":""},null,{"$f":"UPPER(IF(OR(I48=\"a\",I48=\"as\"),E47,IF(OR(I48=\"b\",I48=\"bs\"),E48,)))","v":""}]
["42",{"$f":"IF($D48=\"\",\"\",VLOOKUP($D48,'Boys Si Qual Draw Prep'!$A$7:$P$134,15))","v":""},{"$f":"IF($D48=\"\",\"\",VLOOKUP($D48,'Boys Si Qual Draw Prep'!$A$7:$P$134,16))","v":""},null,{"$f":"UPPER(IF($D48=\"\",\"\",VLOOKUP($D48,'Boys Si Qual Draw Prep'!$A$7:$P$134,2)))","v":""},{"$f":"IF($D48=\"\",\"\",VLOOKUP($D48,'Boys Si Qual Draw Prep'!$A$7:$P$134,3))","v":""},null,{"$f":"IF($D48=\"\",\"\",VLOOKUP($D48,'Boys Si Qual Draw Prep'!$A$7:$P$134,4))","v":""},null,null,null,{"$f":"UPPER(IF(OR(K48=\"a\",K48=\"as\"),J47,IF(OR(K48=\"b\",K48=\"bs\"),J49,)))","v":""}]
["43",{"$f":"IF($D49=\"\",\"\",VLOOKUP($D49,'Boys Si Qual Draw Prep'!$A$7:$P$134,15))","v":""},{"$f":"IF($D49=\"\",\"\",VLOOKUP($D49,'Boys Si Qual Draw Prep'!$A$7:$P$134,16))","v":""},null,{"$f":"UPPER(IF($D49=\"\",\"\",VLOOKUP($D49,'Boys Si Qual Draw Prep'!$A$7:$P$134,2)))","v":""},{"$f":"IF($D49=\"\",\"\",VLOOKUP($D49,'Boys Si Qual Draw Prep'!$A$7:$P$134,3))","v":""},null,{"$f":"IF($D49=\"\",\"\",VLOOKUP($D49,'Boys Si Qual Draw Prep'!$A$7:$P$134,4))","v":""},null,{"$f":"UPPER(IF(OR(I50=\"a\",I50=\"as\"),E49,IF(OR(I50=\"b\",I50=\"bs\"),E50,)))","v":""}]
["44",{"$f":"IF($D50=\"\",\"\",VLOOKUP($D50,'Boys Si Qual Draw Prep'!$A$7:$P$134,15))","v":""},{"$f":"IF($D50=\"\",\"\",VLOOKUP($D50,'Boys Si Qual Draw Prep'!$A$7:$P$134,16))","v":""},null,{"$f":"UPPER(IF($D50=\"\",\"\",VLOOKUP($D50,'Boys Si Qual Draw Prep'!$A$7:$P$134,2)))","v":""},{"$f":"IF($D50=\"\",\"\",VLOOKUP($D50,'Boys Si Qual Draw Prep'!$A$7:$P$134,3))","v":""},null,{"$f":"IF($D50=\"\",\"\",VLOOKUP($D50,'Boys Si Qual Draw Prep'!$A$7:$P$134,4))","v":""},null,null,null,"Umpire",null,{"$f":"UPPER(IF(OR(M50=\"a\",M50=\"as\"),L48,IF(OR(M50=\"b\",M50=\"bs\"),L52,)))","v":""}]
["45",{"$f":"IF($D51=\"\",\"\",VLOOKUP($D51,'Boys Si Qual Draw Prep'!$A$7:$P$134,15))","v":""},{"$f":"IF($D51=\"\",\"\",VLOOKUP($D51,'Boys Si Qual Draw Prep'!$A$7:$P$134,16))","v":""},null,{"$f":"UPPER(IF($D51=\"\",\"\",VLOOKUP($D51,'Boys Si Qual Draw Prep'!$A$7:$P$134,2)))","v":""},{"$f":"IF($D51=\"\",\"\",VLOOKUP($D51,'Boys Si Qual Draw Prep'!$A$7:$P$134,3))","v":""},null,{"$f":"IF($D51=\"\",\"\",VLOOKUP($D51,'Boys Si Qual Draw Prep'!$A$7:$P$134,4))","v":""},null,{"$f":"UPPER(IF(OR(I52=\"a\",I52=\"as\"),E51,IF(OR(I52=\"b\",I52=\"bs\"),E52,)))","v":""}]
["46",{"$f":"IF($D52=\"\",\"\",VLOOKUP($D52,'Boys Si Qual Draw Prep'!$A$7:$P$134,15))","v":""},{"$f":"IF($D52=\"\",\"\",VLOOKUP($D52,'Boys Si Qual Draw Prep'!$A$7:$P$134,16))","v":""},null,{"$f":"UPPER(IF($D52=\"\",\"\",VLOOKUP($D52,'Boys Si Qual Draw Prep'!$A$7:$P$134,2)))","v":""},{"$f":"IF($D52=\"\",\"\",VLOOKUP($D52,'Boys Si Qual Draw Prep'!$A$7:$P$134,3))","v":""},null,{"$f":"IF($D52=\"\",\"\",VLOOKUP($D52,'Boys Si Qual Draw Prep'!$A$7:$P$134,4))","v":""},null,null,null,{"$f":"UPPER(IF(OR(K52=\"a\",K52=\"as\"),J51,IF(OR(K52=\"b\",K52=\"bs\"),J53,)))","v":""}]
["47",{"$f":"IF($D53=\"\",\"\",VLOOKUP($D53,'Boys Si Qual Draw Prep'!$A$7:$P$134,15))","v":""},{"$f":"IF($D53=\"\",\"\",VLOOKUP($D53,'Boys Si Qual Draw Prep'!$A$7:$P$134,16))","v":""},null,{"$f":"UPPER(IF($D53=\"\",\"\",VLOOKUP($D53,'Boys Si Qual Draw Prep'!$A$7:$P$134,2)))","v":""},{"$f":"IF($D53=\"\",\"\",VLOOKUP($D53,'Boys Si Qual Draw Prep'!$A$7:$P$134,3))","v":""},null,{"$f":"IF($D53=\"\",\"\",VLOOKUP($D53,'Boys Si Qual Draw Prep'!$A$7:$P$134,4))","v":""},null,{"$f":"UPPER(IF(OR(I54=\"a\",I54=\"as\"),E53,IF(OR(I54=\"b\",I54=\"bs\"),E54,)))","v":""}]
["48",{"$f":"IF($D54=\"\",\"\",VLOOKUP($D54,'Boys Si Qual Draw Prep'!$A$7:$P$134,15))","v":""},{"$f":"IF($D54=\"\",\"\",VLOOKUP($D54,'Boys Si Qual Draw Prep'!$A$7:$P$134,16))","v":""},null,{"$f":"UPPER(IF($D54=\"\",\"\",VLOOKUP($D54,'Boys Si Qual Draw Prep'!$A$7:$P$134,2)))","v":""},{"$f":"IF($D54=\"\",\"\",VLOOKUP($D54,'Boys Si Qual Draw Prep'!$A$7:$P$134,3))","v":""},null,{"$f":"IF($D54=\"\",\"\",VLOOKUP($D54,'Boys Si Qual Draw Prep'!$A$7:$P$134,4))","v":""}]
["49",{"$f":"IF($D55=\"\",\"\",VLOOKUP($D55,'Boys Si Qual Draw Prep'!$A$7:$P$134,15))","v":""},{"$f":"IF($D55=\"\",\"\",VLOOKUP($D55,'Boys Si Qual Draw Prep'!$A$7:$P$134,16))","v":""},null,{"$f":"UPPER(IF($D55=\"\",\"\",VLOOKUP($D55,'Boys Si Qual Draw Prep'!$A$7:$P$134,2)))","v":""},{"$f":"IF($D55=\"\",\"\",VLOOKUP($D55,'Boys Si Qual Draw Prep'!$A$7:$P$134,3))","v":""},null,{"$f":"IF($D55=\"\",\"\",VLOOKUP($D55,'Boys Si Qual Draw Prep'!$A$7:$P$134,4))","v":""},null,{"$f":"UPPER(IF(OR(I56=\"a\",I56=\"as\"),E55,IF(OR(I56=\"b\",I56=\"bs\"),E56,)))","v":""}]
["50",{"$f":"IF($D56=\"\",\"\",VLOOKUP($D56,'Boys Si Qual Draw Prep'!$A$7:$P$134,15))","v":""},{"$f":"IF($D56=\"\",\"\",VLOOKUP($D56,'Boys Si Qual Draw Prep'!$A$7:$P$134,16))","v":""},null,{"$f":"UPPER(IF($D56=\"\",\"\",VLOOKUP($D56,'Boys Si Qual Draw Prep'!$A$7:$P$134,2)))","v":""},{"$f":"IF($D56=\"\",\"\",VLOOKUP($D56,'Boys Si Qual Draw Prep'!$A$7:$P$134,3))","v":""},null,{"$f":"IF($D56=\"\",\"\",VLOOKUP($D56,'Boys Si Qual Draw Prep'!$A$7:$P$134,4))","v":""},null,null,null,{"$f":"UPPER(IF(OR(K56=\"a\",K56=\"as\"),J55,IF(OR(K56=\"b\",K56=\"bs\"),J57,)))","v":""}]
["51",{"$f":"IF($D57=\"\",\"\",VLOOKUP($D57,'Boys Si Qual Draw Prep'!$A$7:$P$134,15))","v":""},{"$f":"IF($D57=\"\",\"\",VLOOKUP($D57,'Boys Si Qual Draw Prep'!$A$7:$P$134,16))","v":""},null,{"$f":"UPPER(IF($D57=\"\",\"\",VLOOKUP($D57,'Boys Si Qual Draw Prep'!$A$7:$P$134,2)))","v":""},{"$f":"IF($D57=\"\",\"\",VLOOKUP($D57,'Boys Si Qual Draw Prep'!$A$7:$P$134,3))","v":""},null,{"$f":"IF($D57=\"\",\"\",VLOOKUP($D57,'Boys Si Qual Draw Prep'!$A$7:$P$134,4))","v":""},null,{"$f":"UPPER(IF(OR(I58=\"a\",I58=\"as\"),E57,IF(OR(I58=\"b\",I58=\"bs\"),E58,)))","v":""}]
["52",{"$f":"IF($D58=\"\",\"\",VLOOKUP($D58,'Boys Si Qual Draw Prep'!$A$7:$P$134,15))","v":""},{"$f":"IF($D58=\"\",\"\",VLOOKUP($D58,'Boys Si Qual Draw Prep'!$A$7:$P$134,16))","v":""},null,{"$f":"UPPER(IF($D58=\"\",\"\",VLOOKUP($D58,'Boys Si Qual Draw Prep'!$A$7:$P$134,2)))","v":""},{"$f":"IF($D58=\"\",\"\",VLOOKUP($D58,'Boys Si Qual Draw Prep'!$A$7:$P$134,3))","v":""},null,{"$f":"IF($D58=\"\",\"\",VLOOKUP($D58,'Boys Si Qual Draw Prep'!$A$7:$P$134,4))","v":""},null,null,null,"Umpire",null,{"$f":"UPPER(IF(OR(M58=\"a\",M58=\"as\"),L56,IF(OR(M58=\"b\",M58=\"bs\"),L60,)))","v":""}]
["53",{"$f":"IF($D59=\"\",\"\",VLOOKUP($D59,'Boys Si Qual Draw Prep'!$A$7:$P$134,15))","v":""},{"$f":"IF($D59=\"\",\"\",VLOOKUP($D59,'Boys Si Qual Draw Prep'!$A$7:$P$134,16))","v":""},null,{"$f":"UPPER(IF($D59=\"\",\"\",VLOOKUP($D59,'Boys Si Qual Draw Prep'!$A$7:$P$134,2)))","v":""},{"$f":"IF($D59=\"\",\"\",VLOOKUP($D59,'Boys Si Qual Draw Prep'!$A$7:$P$134,3))","v":""},null,{"$f":"IF($D59=\"\",\"\",VLOOKUP($D59,'Boys Si Qual Draw Prep'!$A$7:$P$134,4))","v":""},null,{"$f":"UPPER(IF(OR(I60=\"a\",I60=\"as\"),E59,IF(OR(I60=\"b\",I60=\"bs\"),E60,)))","v":""}]
["54",{"$f":"IF($D60=\"\",\"\",VLOOKUP($D60,'Boys Si Qual Draw Prep'!$A$7:$P$134,15))","v":""},{"$f":"IF($D60=\"\",\"\",VLOOKUP($D60,'Boys Si Qual Draw Prep'!$A$7:$P$134,16))","v":""},null,{"$f":"UPPER(IF($D60=\"\",\"\",VLOOKUP($D60,'Boys Si Qual Draw Prep'!$A$7:$P$134,2)))","v":""},{"$f":"IF($D60=\"\",\"\",VLOOKUP($D60,'Boys Si Qual Draw Prep'!$A$7:$P$134,3))","v":""},null,{"$f":"IF($D60=\"\",\"\",VLOOKUP($D60,'Boys Si Qual Draw Prep'!$A$7:$P$134,4))","v":""},null,null,null,{"$f":"UPPER(IF(OR(K60=\"a\",K60=\"as\"),J59,IF(OR(K60=\"b\",K60=\"bs\"),J61,)))","v":""}]
["55",{"$f":"IF($D61=\"\",\"\",VLOOKUP($D61,'Boys Si Qual Draw Prep'!$A$7:$P$134,15))","v":""},{"$f":"IF($D61=\"\",\"\",VLOOKUP($D61,'Boys Si Qual Draw Prep'!$A$7:$P$134,16))","v":""},null,{"$f":"UPPER(IF($D61=\"\",\"\",VLOOKUP($D61,'Boys Si Qual Draw Prep'!$A$7:$P$134,2)))","v":""},{"$f":"IF($D61=\"\",\"\",VLOOKUP($D61,'Boys Si Qual Draw Prep'!$A$7:$P$134,3))","v":""},null,{"$f":"IF($D61=\"\",\"\",VLOOKUP($D61,'Boys Si Qual Draw Prep'!$A$7:$P$134,4))","v":""},null,{"$f":"UPPER(IF(OR(I62=\"a\",I62=\"as\"),E61,IF(OR(I62=\"b\",I62=\"bs\"),E62,)))","v":""}]
["56",{"$f":"IF($D62=\"\",\"\",VLOOKUP($D62,'Boys Si Qual Draw Prep'!$A$7:$P$134,15))","v":""},{"$f":"IF($D62=\"\",\"\",VLOOKUP($D62,'Boys Si Qual Draw Prep'!$A$7:$P$134,16))","v":""},null,{"$f":"UPPER(IF($D62=\"\",\"\",VLOOKUP($D62,'Boys Si Qual Draw Prep'!$A$7:$P$134,2)))","v":""},{"$f":"IF($D62=\"\",\"\",VLOOKUP($D62,'Boys Si Qual Draw Prep'!$A$7:$P$134,3))","v":""},null,{"$f":"IF($D62=\"\",\"\",VLOOKUP($D62,'Boys Si Qual Draw Prep'!$A$7:$P$134,4))","v":""},null,null,null,null,null,"Umpire",null,{"$f":"UPPER(IF(OR(O62=\"a\",O62=\"as\"),N58,IF(OR(O62=\"b\",O62=\"bs\"),N66,)))","v":""}]
["57",{"$f":"IF($D63=\"\",\"\",VLOOKUP($D63,'Boys Si Qual Draw Prep'!$A$7:$P$134,15))","v":""},{"$f":"IF($D63=\"\",\"\",VLOOKUP($D63,'Boys Si Qual Draw Prep'!$A$7:$P$134,16))","v":""},null,{"$f":"UPPER(IF($D63=\"\",\"\",VLOOKUP($D63,'Boys Si Qual Draw Prep'!$A$7:$P$134,2)))","v":""},{"$f":"IF($D63=\"\",\"\",VLOOKUP($D63,'Boys Si Qual Draw Prep'!$A$7:$P$134,3))","v":""},null,{"$f":"IF($D63=\"\",\"\",VLOOKUP($D63,'Boys Si Qual Draw Prep'!$A$7:$P$134,4))","v":""},null,{"$f":"UPPER(IF(OR(I64=\"a\",I64=\"as\"),E63,IF(OR(I64=\"b\",I64=\"bs\"),E64,)))","v":""}]
["58",{"$f":"IF($D64=\"\",\"\",VLOOKUP($D64,'Boys Si Qual Draw Prep'!$A$7:$P$134,15))","v":""},{"$f":"IF($D64=\"\",\"\",VLOOKUP($D64,'Boys Si Qual Draw Prep'!$A$7:$P$134,16))","v":""},null,{"$f":"UPPER(IF($D64=\"\",\"\",VLOOKUP($D64,'Boys Si Qual Draw Prep'!$A$7:$P$134,2)))","v":""},{"$f":"IF($D64=\"\",\"\",VLOOKUP($D64,'Boys Si Qual Draw Prep'!$A$7:$P$134,3))","v":""},null,{"$f":"IF($D64=\"\",\"\",VLOOKUP($D64,'Boys Si Qual Draw Prep'!$A$7:$P$134,4))","v":""},null,null,null,{"$f":"UPPER(IF(OR(K64=\"a\",K64=\"as\"),J63,IF(OR(K64=\"b\",K64=\"bs\"),J65,)))","v":""}]
["59",{"$f":"IF($D65=\"\",\"\",VLOOKUP($D65,'Boys Si Qual Draw Prep'!$A$7:$P$134,15))","v":""},{"$f":"IF($D65=\"\",\"\",VLOOKUP($D65,'Boys Si Qual Draw Prep'!$A$7:$P$134,16))","v":""},null,{"$f":"UPPER(IF($D65=\"\",\"\",VLOOKUP($D65,'Boys Si Qual Draw Prep'!$A$7:$P$134,2)))","v":""},{"$f":"IF($D65=\"\",\"\",VLOOKUP($D65,'Boys Si Qual Draw Prep'!$A$7:$P$134,3))","v":""},null,{"$f":"IF($D65=\"\",\"\",VLOOKUP($D65,'Boys Si Qual Draw Prep'!$A$7:$P$134,4))","v":""},null,{"$f":"UPPER(IF(OR(I66=\"a\",I66=\"as\"),E65,IF(OR(I66=\"b\",I66=\"bs\"),E66,)))","v":""}]
["60",{"$f":"IF($D66=\"\",\"\",VLOOKUP($D66,'Boys Si Qual Draw Prep'!$A$7:$P$134,15))","v":""},{"$f":"IF($D66=\"\",\"\",VLOOKUP($D66,'Boys Si Qual Draw Prep'!$A$7:$P$134,16))","v":""},null,{"$f":"UPPER(IF($D66=\"\",\"\",VLOOKUP($D66,'Boys Si Qual Draw Prep'!$A$7:$P$134,2)))","v":""},{"$f":"IF($D66=\"\",\"\",VLOOKUP($D66,'Boys Si Qual Draw Prep'!$A$7:$P$134,3))","v":""},null,{"$f":"IF($D66=\"\",\"\",VLOOKUP($D66,'Boys Si Qual Draw Prep'!$A$7:$P$134,4))","v":""},null,null,null,"Umpire",null,{"$f":"UPPER(IF(OR(M66=\"a\",M66=\"as\"),L64,IF(OR(M66=\"b\",M66=\"bs\"),L68,)))","v":""}]
["61",{"$f":"IF($D67=\"\",\"\",VLOOKUP($D67,'Boys Si Qual Draw Prep'!$A$7:$P$134,15))","v":""},{"$f":"IF($D67=\"\",\"\",VLOOKUP($D67,'Boys Si Qual Draw Prep'!$A$7:$P$134,16))","v":""},null,{"$f":"UPPER(IF($D67=\"\",\"\",VLOOKUP($D67,'Boys Si Qual Draw Prep'!$A$7:$P$134,2)))","v":""},{"$f":"IF($D67=\"\",\"\",VLOOKUP($D67,'Boys Si Qual Draw Prep'!$A$7:$P$134,3))","v":""},null,{"$f":"IF($D67=\"\",\"\",VLOOKUP($D67,'Boys Si Qual Draw Prep'!$A$7:$P$134,4))","v":""},null,{"$f":"UPPER(IF(OR(I68=\"a\",I68=\"as\"),E67,IF(OR(I68=\"b\",I68=\"bs\"),E68,)))","v":""}]
["62",{"$f":"IF($D68=\"\",\"\",VLOOKUP($D68,'Boys Si Qual Draw Prep'!$A$7:$P$134,15))","v":""},{"$f":"IF($D68=\"\",\"\",VLOOKUP($D68,'Boys Si Qual Draw Prep'!$A$7:$P$134,16))","v":""},null,{"$f":"UPPER(IF($D68=\"\",\"\",VLOOKUP($D68,'Boys Si Qual Draw Prep'!$A$7:$P$134,2)))","v":""},{"$f":"IF($D68=\"\",\"\",VLOOKUP($D68,'Boys Si Qual Draw Prep'!$A$7:$P$134,3))","v":""},null,{"$f":"IF($D68=\"\",\"\",VLOOKUP($D68,'Boys Si Qual Draw Prep'!$A$7:$P$134,4))","v":""},null,null,null,{"$f":"UPPER(IF(OR(K68=\"a\",K68=\"as\"),J67,IF(OR(K68=\"b\",K68=\"bs\"),J69,)))","v":""}]
["63",{"$f":"IF($D69=\"\",\"\",VLOOKUP($D69,'Boys Si Qual Draw Prep'!$A$7:$P$134,15))","v":""},{"$f":"IF($D69=\"\",\"\",VLOOKUP($D69,'Boys Si Qual Draw Prep'!$A$7:$P$134,16))","v":""},null,{"$f":"UPPER(IF($D69=\"\",\"\",VLOOKUP($D69,'Boys Si Qual Draw Prep'!$A$7:$P$134,2)))","v":""},{"$f":"IF($D69=\"\",\"\",VLOOKUP($D69,'Boys Si Qual Draw Prep'!$A$7:$P$134,3))","v":""},null,{"$f":"IF($D69=\"\",\"\",VLOOKUP($D69,'Boys Si Qual Draw Prep'!$A$7:$P$134,4))","v":""},null,{"$f":"UPPER(IF(OR(I70=\"a\",I70=\"as\"),E69,IF(OR(I70=\"b\",I70=\"bs\"),E70,)))","v":""}]
["64",{"$f":"IF($D70=\"\",\"\",VLOOKUP($D70,'Boys Si Qual Draw Prep'!$A$7:$P$134,15))","v":""},{"$f":"IF($D70=\"\",\"\",VLOOKUP($D70,'Boys Si Qual Draw Prep'!$A$7:$P$134,16))","v":""},null,{"$f":"UPPER(IF($D70=\"\",\"\",VLOOKUP($D70,'Boys Si Qual Draw Prep'!$A$7:$P$134,2)))","v":""},{"$f":"IF($D70=\"\",\"\",VLOOKUP($D70,'Boys Si Qual Draw Prep'!$A$7:$P$134,3))","v":""},null,{"$f":"IF($D70=\"\",\"\",VLOOKUP($D70,'Boys Si Qual Draw Prep'!$A$7:$P$134,4))","v":""}]
[]
["Acc. Ranking",null,null,"#","Seeded players","#","Seeded players",null,"#","Alternates",null,"Replacing",null,"Draw date/time:"]
["Rkg Date",null,null,1,{"$f":"IF(D73>$Q$80,,UPPER(VLOOKUP(D73,'Boys Si Qual Draw Prep'!$A$7:$R$134,2)))","v":0},9,{"$f":"IF(F73>$Q$80,,UPPER(VLOOKUP(F73,'Boys Si Qual Draw Prep'!$A$7:$R$134,2)))","v":0},null,"1",null,null,null,null,"Last Accepted player"]
["Top DA",null,null,2,{"$f":"IF(D74>$Q$80,,UPPER(VLOOKUP(D74,'Boys Si Qual Draw Prep'!$A$7:$R$134,2)))","v":0},10,{"$f":"IF(F74>$Q$80,,UPPER(VLOOKUP(F74,'Boys Si Qual Draw Prep'!$A$7:$R$134,2)))","v":0},null,"2"]
["Last DA",null,null,3,{"$f":"IF(D75>$Q$80,,UPPER(VLOOKUP(D75,'Boys Si Qual Draw Prep'!$A$7:$R$134,2)))","v":0},11,{"$f":"IF(F75>$Q$80,,UPPER(VLOOKUP(F75,'Boys Si Qual Draw Prep'!$A$7:$R$134,2)))","v":0},null,"3",null,null,null,null,"Player representatives"]
[null,null,null,4,{"$f":"IF(D76>$Q$80,,UPPER(VLOOKUP(D76,'Boys Si Qual Draw Prep'!$A$7:$R$134,2)))","v":0},12,{"$f":"IF(F76>$Q$80,,UPPER(VLOOKUP(F76,'Boys Si Qual Draw Prep'!$A$7:$R$134,2)))","v":0},null,"4"]
["Seed ranking",null,null,5,{"$f":"IF(D77>$Q$80,,UPPER(VLOOKUP(D77,'Boys Si Qual Draw Prep'!$A$7:$R$134,2)))","v":0},13,{"$f":"IF(F77>$Q$80,,UPPER(VLOOKUP(F77,'Boys Si Qual Draw Prep'!$A$7:$R$134,2)))","v":0},null,"5"]
["Rkg Date",null,null,6,{"$f":"IF(D78>$Q$80,,UPPER(VLOOKUP(D78,'Boys Si Qual Draw Prep'!$A$7:$R$134,2)))","v":0},14,{"$f":"IF(F78>$Q$80,,UPPER(VLOOKUP(F78,'Boys Si Qual Draw Prep'!$A$7:$R$134,2)))","v":0},null,"6",null,null,null,null,"ITF Referee's signature"]
["Top seed",null,null,7,{"$f":"IF(D79>$Q$80,,UPPER(VLOOKUP(D79,'Boys Si Qual Draw Prep'!$A$7:$R$134,2)))","v":0},15,{"$f":"IF(F79>$Q$80,,UPPER(VLOOKUP(F79,'Boys Si Qual Draw Prep'!$A$7:$R$134,2)))","v":0},null,"7"]
["Last seed",null,null,8,{"$f":"IF(D80>$Q$80,,UPPER(VLOOKUP(D80,'Boys Si Qual Draw Prep'!$A$7:$R$134,2)))","v":0},16,{"$f":"IF(F80>$Q$80,,UPPER(VLOOKUP(F80,'Boys Si Qual Draw Prep'!$A$7:$R$134,2)))","v":0},null,"8",null,null,null,null,{"$f":"Q4","v":0},null,null,{"$f":"MIN(16,'Boys Si Qual Draw Prep'!R5)","v":0}]
[null,"St.","Rank","Seed","Family Name","First name",null,"Nationality",null,"2nd Round",null,"3rd Round",null,"Finals",null,"Qualifiers"]
[]
["65",{"$f":"IF($D83=\"\",\"\",VLOOKUP($D83,'Boys Si Qual Draw Prep'!$A$7:$P$134,15))","v":""},{"$f":"IF($D83=\"\",\"\",VLOOKUP($D83,'Boys Si Qual Draw Prep'!$A$7:$P$134,16))","v":""},null,{"$f":"UPPER(IF($D83=\"\",\"\",VLOOKUP($D83,'Boys Si Qual Draw Prep'!$A$7:$P$134,2)))","v":""},{"$f":"IF($D83=\"\",\"\",VLOOKUP($D83,'Boys Si Qual Draw Prep'!$A$7:$P$134,3))","v":""},null,{"$f":"IF($D83=\"\",\"\",VLOOKUP($D83,'Boys Si Qual Draw Prep'!$A$7:$P$134,4))","v":""},null,{"$f":"UPPER(IF(OR(I84=\"a\",I84=\"as\"),E83,IF(OR(I84=\"b\",I84=\"bs\"),E84,)))","v":""},null,null,null,null,null,null,"Page 2(2)"]
["66",{"$f":"IF($D84=\"\",\"\",VLOOKUP($D84,'Boys Si Qual Draw Prep'!$A$7:$P$134,15))","v":""},{"$f":"IF($D84=\"\",\"\",VLOOKUP($D84,'Boys Si Qual Draw Prep'!$A$7:$P$134,16))","v":""},null,{"$f":"UPPER(IF($D84=\"\",\"\",VLOOKUP($D84,'Boys Si Qual Draw Prep'!$A$7:$P$134,2)))","v":""},{"$f":"IF($D84=\"\",\"\",VLOOKUP($D84,'Boys Si Qual Draw Prep'!$A$7:$P$134,3))","v":""},null,{"$f":"IF($D84=\"\",\"\",VLOOKUP($D84,'Boys Si Qual Draw Prep'!$A$7:$P$134,4))","v":""},null,null,null,{"$f":"UPPER(IF(OR(K84=\"a\",K84=\"as\"),J83,IF(OR(K84=\"b\",K84=\"bs\"),J85,)))","v":""}]
["67",{"$f":"IF($D85=\"\",\"\",VLOOKUP($D85,'Boys Si Qual Draw Prep'!$A$7:$P$134,15))","v":""},{"$f":"IF($D85=\"\",\"\",VLOOKUP($D85,'Boys Si Qual Draw Prep'!$A$7:$P$134,16))","v":""},null,{"$f":"UPPER(IF($D85=\"\",\"\",VLOOKUP($D85,'Boys Si Qual Draw Prep'!$A$7:$P$134,2)))","v":""},{"$f":"IF($D85=\"\",\"\",VLOOKUP($D85,'Boys Si Qual Draw Prep'!$A$7:$P$134,3))","v":""},null,{"$f":"IF($D85=\"\",\"\",VLOOKUP($D85,'Boys Si Qual Draw Prep'!$A$7:$P$134,4))","v":""},null,{"$f":"UPPER(IF(OR(I86=\"a\",I86=\"as\"),E85,IF(OR(I86=\"b\",I86=\"bs\"),E86,)))","v":""}]
["68",{"$f":"IF($D86=\"\",\"\",VLOOKUP($D86,'Boys Si Qual Draw Prep'!$A$7:$P$134,15))","v":""},{"$f":"IF($D86=\"\",\"\",VLOOKUP($D86,'Boys Si Qual Draw Prep'!$A$7:$P$134,16))","v":""},null,{"$f":"UPPER(IF($D86=\"\",\"\",VLOOKUP($D86,'Boys Si Qual Draw Prep'!$A$7:$P$134,2)))","v":""},{"$f":"IF($D86=\"\",\"\",VLOOKUP($D86,'Boys Si Qual Draw Prep'!$A$7:$P$134,3))","v":""},null,{"$f":"IF($D86=\"\",\"\",VLOOKUP($D86,'Boys Si Qual Draw Prep'!$A$7:$P$134,4))","v":""},null,null,null,"Umpire",null,{"$f":"UPPER(IF(OR(M86=\"a\",M86=\"as\"),L84,IF(OR(M86=\"b\",M86=\"bs\"),L88,)))","v":""}]
["69",{"$f":"IF($D87=\"\",\"\",VLOOKUP($D87,'Boys Si Qual Draw Prep'!$A$7:$P$134,15))","v":""},{"$f":"IF($D87=\"\",\"\",VLOOKUP($D87,'Boys Si Qual Draw Prep'!$A$7:$P$134,16))","v":""},null,{"$f":"UPPER(IF($D87=\"\",\"\",VLOOKUP($D87,'Boys Si Qual Draw Prep'!$A$7:$P$134,2)))","v":""},{"$f":"IF($D87=\"\",\"\",VLOOKUP($D87,'Boys Si Qual Draw Prep'!$A$7:$P$134,3))","v":""},null,{"$f":"IF($D87=\"\",\"\",VLOOKUP($D87,'Boys Si Qual Draw Prep'!$A$7:$P$134,4))","v":""},null,{"$f":"UPPER(IF(OR(I88=\"a\",I88=\"as\"),E87,IF(OR(I88=\"b\",I88=\"bs\"),E88,)))","v":""}]
["70",{"$f":"IF($D88=\"\",\"\",VLOOKUP($D88,'Boys Si Qual Draw Prep'!$A$7:$P$134,15))","v":""},{"$f":"IF($D88=\"\",\"\",VLOOKUP($D88,'Boys Si Qual Draw Prep'!$A$7:$P$134,16))","v":""},null,{"$f":"UPPER(IF($D88=\"\",\"\",VLOOKUP($D88,'Boys Si Qual Draw Prep'!$A$7:$P$134,2)))","v":""},{"$f":"IF($D88=\"\",\"\",VLOOKUP($D88,'Boys Si Qual Draw Prep'!$A$7:$P$134,3))","v":""},null,{"$f":"IF($D88=\"\",\"\",VLOOKUP($D88,'Boys Si Qual Draw Prep'!$A$7:$P$134,4))","v":""},null,null,null,{"$f":"UPPER(IF(OR(K88=\"a\",K88=\"as\"),J87,IF(OR(K88=\"b\",K88=\"bs\"),J89,)))","v":""}]
["71",{"$f":"IF($D89=\"\",\"\",VLOOKUP($D89,'Boys Si Qual Draw Prep'!$A$7:$P$134,15))","v":""},{"$f":"IF($D89=\"\",\"\",VLOOKUP($D89,'Boys Si Qual Draw Prep'!$A$7:$P$134,16))","v":""},null,{"$f":"UPPER(IF($D89=\"\",\"\",VLOOKUP($D89,'Boys Si Qual Draw Prep'!$A$7:$P$134,2)))","v":""},{"$f":"IF($D89=\"\",\"\",VLOOKUP($D89,'Boys Si Qual Draw Prep'!$A$7:$P$134,3))","v":""},null,{"$f":"IF($D89=\"\",\"\",VLOOKUP($D89,'Boys Si Qual Draw Prep'!$A$7:$P$134,4))","v":""},null,{"$f":"UPPER(IF(OR(I90=\"a\",I90=\"as\"),E89,IF(OR(I90=\"b\",I90=\"bs\"),E90,)))","v":""}]
["72",{"$f":"IF($D90=\"\",\"\",VLOOKUP($D90,'Boys Si Qual Draw Prep'!$A$7:$P$134,15))","v":""},{"$f":"IF($D90=\"\",\"\",VLOOKUP($D90,'Boys Si Qual Draw Prep'!$A$7:$P$134,16))","v":""},null,{"$f":"UPPER(IF($D90=\"\",\"\",VLOOKUP($D90,'Boys Si Qual Draw Prep'!$A$7:$P$134,2)))","v":""},{"$f":"IF($D90=\"\",\"\",VLOOKUP($D90,'Boys Si Qual Draw Prep'!$A$7:$P$134,3))","v":""},null,{"$f":"IF($D90=\"\",\"\",VLOOKUP($D90,'Boys Si Qual Draw Prep'!$A$7:$P$134,4))","v":""},null,null,null,null,null,"Umpire",null,{"$f":"UPPER(IF(OR(O90=\"a\",O90=\"as\"),N86,IF(OR(O90=\"b\",O90=\"bs\"),N94,)))","v":""}]
["73",{"$f":"IF($D91=\"\",\"\",VLOOKUP($D91,'Boys Si Qual Draw Prep'!$A$7:$P$134,15))","v":""},{"$f":"IF($D91=\"\",\"\",VLOOKUP($D91,'Boys Si Qual Draw Prep'!$A$7:$P$134,16))","v":""},null,{"$f":"UPPER(IF($D91=\"\",\"\",VLOOKUP($D91,'Boys Si Qual Draw Prep'!$A$7:$P$134,2)))","v":""},{"$f":"IF($D91=\"\",\"\",VLOOKUP($D91,'Boys Si Qual Draw Prep'!$A$7:$P$134,3))","v":""},null,{"$f":"IF($D91=\"\",\"\",VLOOKUP($D91,'Boys Si Qual Draw Prep'!$A$7:$P$134,4))","v":""},null,{"$f":"UPPER(IF(OR(I92=\"a\",I92=\"as\"),E91,IF(OR(I92=\"b\",I92=\"bs\"),E92,)))","v":""}]
["74",{"$f":"IF($D92=\"\",\"\",VLOOKUP($D92,'Boys Si Qual Draw Prep'!$A$7:$P$134,15))","v":""},{"$f":"IF($D92=\"\",\"\",VLOOKUP($D92,'Boys Si Qual Draw Prep'!$A$7:$P$134,16))","v":""},null,{"$f":"UPPER(IF($D92=\"\",\"\",VLOOKUP($D92,'Boys Si Qual Draw Prep'!$A$7:$P$134,2)))","v":""},{"$f":"IF($D92=\"\",\"\",VLOOKUP($D92,'Boys Si Qual Draw Prep'!$A$7:$P$134,3))","v":""},null,{"$f":"IF($D92=\"\",\"\",VLOOKUP($D92,'Boys Si Qual Draw Prep'!$A$7:$P$134,4))","v":""},null,null,null,{"$f":"UPPER(IF(OR(K92=\"a\",K92=\"as\"),J91,IF(OR(K92=\"b\",K92=\"bs\"),J93,)))","v":""}]
["75",{"$f":"IF($D93=\"\",\"\",VLOOKUP($D93,'Boys Si Qual Draw Prep'!$A$7:$P$134,15))","v":""},{"$f":"IF($D93=\"\",\"\",VLOOKUP($D93,'Boys Si Qual Draw Prep'!$A$7:$P$134,16))","v":""},null,{"$f":"UPPER(IF($D93=\"\",\"\",VLOOKUP($D93,'Boys Si Qual Draw Prep'!$A$7:$P$134,2)))","v":""},{"$f":"IF($D93=\"\",\"\",VLOOKUP($D93,'Boys Si Qual Draw Prep'!$A$7:$P$134,3))","v":""},null,{"$f":"IF($D93=\"\",\"\",VLOOKUP($D93,'Boys Si Qual Draw Prep'!$A$7:$P$134,4))","v":""},null,{"$f":"UPPER(IF(OR(I94=\"a\",I94=\"as\"),E93,IF(OR(I94=\"b\",I94=\"bs\"),E94,)))","v":""}]
["76",{"$f":"IF($D94=\"\",\"\",VLOOKUP($D94,'Boys Si Qual Draw Prep'!$A$7:$P$134,15))","v":""},{"$f":"IF($D94=\"\",\"\",VLOOKUP($D94,'Boys Si Qual Draw Prep'!$A$7:$P$134,16))","v":""},null,{"$f":"UPPER(IF($D94=\"\",\"\",VLOOKUP($D94,'Boys Si Qual Draw Prep'!$A$7:$P$134,2)))","v":""},{"$f":"IF($D94=\"\",\"\",VLOOKUP($D94,'Boys Si Qual Draw Prep'!$A$7:$P$134,3))","v":""},null,{"$f":"IF($D94=\"\",\"\",VLOOKUP($D94,'Boys Si Qual Draw Prep'!$A$7:$P$134,4))","v":""},null,null,null,"Umpire",null,{"$f":"UPPER(IF(OR(M94=\"a\",M94=\"as\"),L92,IF(OR(M94=\"b\",M94=\"bs\"),L96,)))","v":""}]
["77",{"$f":"IF($D95=\"\",\"\",VLOOKUP($D95,'Boys Si Qual Draw Prep'!$A$7:$P$134,15))","v":""},{"$f":"IF($D95=\"\",\"\",VLOOKUP($D95,'Boys Si Qual Draw Prep'!$A$7:$P$134,16))","v":""},null,{"$f":"UPPER(IF($D95=\"\",\"\",VLOOKUP($D95,'Boys Si Qual Draw Prep'!$A$7:$P$134,2)))","v":""},{"$f":"IF($D95=\"\",\"\",VLOOKUP($D95,'Boys Si Qual Draw Prep'!$A$7:$P$134,3))","v":""},null,{"$f":"IF($D95=\"\",\"\",VLOOKUP($D95,'Boys Si Qual Draw Prep'!$A$7:$P$134,4))","v":""},null,{"$f":"UPPER(IF(OR(I96=\"a\",I96=\"as\"),E95,IF(OR(I96=\"b\",I96=\"bs\"),E96,)))","v":""}]
["78",{"$f":"IF($D96=\"\",\"\",VLOOKUP($D96,'Boys Si Qual Draw Prep'!$A$7:$P$134,15))","v":""},{"$f":"IF($D96=\"\",\"\",VLOOKUP($D96,'Boys Si Qual Draw Prep'!$A$7:$P$134,16))","v":""},null,{"$f":"UPPER(IF($D96=\"\",\"\",VLOOKUP($D96,'Boys Si Qual Draw Prep'!$A$7:$P$134,2)))","v":""},{"$f":"IF($D96=\"\",\"\",VLOOKUP($D96,'Boys Si Qual Draw Prep'!$A$7:$P$134,3))","v":""},null,{"$f":"IF($D96=\"\",\"\",VLOOKUP($D96,'Boys Si Qual Draw Prep'!$A$7:$P$134,4))","v":""},null,null,null,{"$f":"UPPER(IF(OR(K96=\"a\",K96=\"as\"),J95,IF(OR(K96=\"b\",K96=\"bs\"),J97,)))","v":""}]
["79",{"$f":"IF($D97=\"\",\"\",VLOOKUP($D97,'Boys Si Qual Draw Prep'!$A$7:$P$134,15))","v":""},{"$f":"IF($D97=\"\",\"\",VLOOKUP($D97,'Boys Si Qual Draw Prep'!$A$7:$P$134,16))","v":""},null,{"$f":"UPPER(IF($D97=\"\",\"\",VLOOKUP($D97,'Boys Si Qual Draw Prep'!$A$7:$P$134,2)))","v":""},{"$f":"IF($D97=\"\",\"\",VLOOKUP($D97,'Boys Si Qual Draw Prep'!$A$7:$P$134,3))","v":""},null,{"$f":"IF($D97=\"\",\"\",VLOOKUP($D97,'Boys Si Qual Draw Prep'!$A$7:$P$134,4))","v":""},null,{"$f":"UPPER(IF(OR(I98=\"a\",I98=\"as\"),E97,IF(OR(I98=\"b\",I98=\"bs\"),E98,)))","v":""}]
["80",{"$f":"IF($D98=\"\",\"\",VLOOKUP($D98,'Boys Si Qual Draw Prep'!$A$7:$P$134,15))","v":""},{"$f":"IF($D98=\"\",\"\",VLOOKUP($D98,'Boys Si Qual Draw Prep'!$A$7:$P$134,16))","v":""},null,{"$f":"UPPER(IF($D98=\"\",\"\",VLOOKUP($D98,'Boys Si Qual Draw Prep'!$A$7:$P$134,2)))","v":""},{"$f":"IF($D98=\"\",\"\",VLOOKUP($D98,'Boys Si Qual Draw Prep'!$A$7:$P$134,3))","v":""},null,{"$f":"IF($D98=\"\",\"\",VLOOKUP($D98,'Boys Si Qual Draw Prep'!$A$7:$P$134,4))","v":""}]
["81",{"$f":"IF($D99=\"\",\"\",VLOOKUP($D99,'Boys Si Qual Draw Prep'!$A$7:$P$134,15))","v":""},{"$f":"IF($D99=\"\",\"\",VLOOKUP($D99,'Boys Si Qual Draw Prep'!$A$7:$P$134,16))","v":""},null,{"$f":"UPPER(IF($D99=\"\",\"\",VLOOKUP($D99,'Boys Si Qual Draw Prep'!$A$7:$P$134,2)))","v":""},{"$f":"IF($D99=\"\",\"\",VLOOKUP($D99,'Boys Si Qual Draw Prep'!$A$7:$P$134,3))","v":""},null,{"$f":"IF($D99=\"\",\"\",VLOOKUP($D99,'Boys Si Qual Draw Prep'!$A$7:$P$134,4))","v":""},null,{"$f":"UPPER(IF(OR(I100=\"a\",I100=\"as\"),E99,IF(OR(I100=\"b\",I100=\"bs\"),E100,)))","v":""}]
["82",{"$f":"IF($D100=\"\",\"\",VLOOKUP($D100,'Boys Si Qual Draw Prep'!$A$7:$P$134,15))","v":""},{"$f":"IF($D100=\"\",\"\",VLOOKUP($D100,'Boys Si Qual Draw Prep'!$A$7:$P$134,16))","v":""},null,{"$f":"UPPER(IF($D100=\"\",\"\",VLOOKUP($D100,'Boys Si Qual Draw Prep'!$A$7:$P$134,2)))","v":""},{"$f":"IF($D100=\"\",\"\",VLOOKUP($D100,'Boys Si Qual Draw Prep'!$A$7:$P$134,3))","v":""},null,{"$f":"IF($D100=\"\",\"\",VLOOKUP($D100,'Boys Si Qual Draw Prep'!$A$7:$P$134,4))","v":""},null,null,null,{"$f":"UPPER(IF(OR(K100=\"a\",K100=\"as\"),J99,IF(OR(K100=\"b\",K100=\"bs\"),J101,)))","v":""}]
["83",{"$f":"IF($D101=\"\",\"\",VLOOKUP($D101,'Boys Si Qual Draw Prep'!$A$7:$P$134,15))","v":""},{"$f":"IF($D101=\"\",\"\",VLOOKUP($D101,'Boys Si Qual Draw Prep'!$A$7:$P$134,16))","v":""},null,{"$f":"UPPER(IF($D101=\"\",\"\",VLOOKUP($D101,'Boys Si Qual Draw Prep'!$A$7:$P$134,2)))","v":""},{"$f":"IF($D101=\"\",\"\",VLOOKUP($D101,'Boys Si Qual Draw Prep'!$A$7:$P$134,3))","v":""},null,{"$f":"IF($D101=\"\",\"\",VLOOKUP($D101,'Boys Si Qual Draw Prep'!$A$7:$P$134,4))","v":""},null,{"$f":"UPPER(IF(OR(I102=\"a\",I102=\"as\"),E101,IF(OR(I102=\"b\",I102=\"bs\"),E102,)))","v":""}]
["84",{"$f":"IF($D102=\"\",\"\",VLOOKUP($D102,'Boys Si Qual Draw Prep'!$A$7:$P$134,15))","v":""},{"$f":"IF($D102=\"\",\"\",VLOOKUP($D102,'Boys Si Qual Draw Prep'!$A$7:$P$134,16))","v":""},null,{"$f":"UPPER(IF($D102=\"\",\"\",VLOOKUP($D102,'Boys Si Qual Draw Prep'!$A$7:$P$134,2)))","v":""},{"$f":"IF($D102=\"\",\"\",VLOOKUP($D102,'Boys Si Qual Draw Prep'!$A$7:$P$134,3))","v":""},null,{"$f":"IF($D102=\"\",\"\",VLOOKUP($D102,'Boys Si Qual Draw Prep'!$A$7:$P$134,4))","v":""},null,null,null,"Umpire",null,{"$f":"UPPER(IF(OR(M102=\"a\",M102=\"as\"),L100,IF(OR(M102=\"b\",M102=\"bs\"),L104,)))","v":""}]
["85",{"$f":"IF($D103=\"\",\"\",VLOOKUP($D103,'Boys Si Qual Draw Prep'!$A$7:$P$134,15))","v":""},{"$f":"IF($D103=\"\",\"\",VLOOKUP($D103,'Boys Si Qual Draw Prep'!$A$7:$P$134,16))","v":""},null,{"$f":"UPPER(IF($D103=\"\",\"\",VLOOKUP($D103,'Boys Si Qual Draw Prep'!$A$7:$P$134,2)))","v":""},{"$f":"IF($D103=\"\",\"\",VLOOKUP($D103,'Boys Si Qual Draw Prep'!$A$7:$P$134,3))","v":""},null,{"$f":"IF($D103=\"\",\"\",VLOOKUP($D103,'Boys Si Qual Draw Prep'!$A$7:$P$134,4))","v":""},null,{"$f":"UPPER(IF(OR(I104=\"a\",I104=\"as\"),E103,IF(OR(I104=\"b\",I104=\"bs\"),E104,)))","v":""}]
["86",{"$f":"IF($D104=\"\",\"\",VLOOKUP($D104,'Boys Si Qual Draw Prep'!$A$7:$P$134,15))","v":""},{"$f":"IF($D104=\"\",\"\",VLOOKUP($D104,'Boys Si Qual Draw Prep'!$A$7:$P$134,16))","v":""},null,{"$f":"UPPER(IF($D104=\"\",\"\",VLOOKUP($D104,'Boys Si Qual Draw Prep'!$A$7:$P$134,2)))","v":""},{"$f":"IF($D104=\"\",\"\",VLOOKUP($D104,'Boys Si Qual Draw Prep'!$A$7:$P$134,3))","v":""},null,{"$f":"IF($D104=\"\",\"\",VLOOKUP($D104,'Boys Si Qual Draw Prep'!$A$7:$P$134,4))","v":""},null,null,null,{"$f":"UPPER(IF(OR(K104=\"a\",K104=\"as\"),J103,IF(OR(K104=\"b\",K104=\"bs\"),J105,)))","v":""}]
["87",{"$f":"IF($D105=\"\",\"\",VLOOKUP($D105,'Boys Si Qual Draw Prep'!$A$7:$P$134,15))","v":""},{"$f":"IF($D105=\"\",\"\",VLOOKUP($D105,'Boys Si Qual Draw Prep'!$A$7:$P$134,16))","v":""},null,{"$f":"UPPER(IF($D105=\"\",\"\",VLOOKUP($D105,'Boys Si Qual Draw Prep'!$A$7:$P$134,2)))","v":""},{"$f":"IF($D105=\"\",\"\",VLOOKUP($D105,'Boys Si Qual Draw Prep'!$A$7:$P$134,3))","v":""},null,{"$f":"IF($D105=\"\",\"\",VLOOKUP($D105,'Boys Si Qual Draw Prep'!$A$7:$P$134,4))","v":""},null,{"$f":"UPPER(IF(OR(I106=\"a\",I106=\"as\"),E105,IF(OR(I106=\"b\",I106=\"bs\"),E106,)))","v":""}]
["88",{"$f":"IF($D106=\"\",\"\",VLOOKUP($D106,'Boys Si Qual Draw Prep'!$A$7:$P$134,15))","v":""},{"$f":"IF($D106=\"\",\"\",VLOOKUP($D106,'Boys Si Qual Draw Prep'!$A$7:$P$134,16))","v":""},null,{"$f":"UPPER(IF($D106=\"\",\"\",VLOOKUP($D106,'Boys Si Qual Draw Prep'!$A$7:$P$134,2)))","v":""},{"$f":"IF($D106=\"\",\"\",VLOOKUP($D106,'Boys Si Qual Draw Prep'!$A$7:$P$134,3))","v":""},null,{"$f":"IF($D106=\"\",\"\",VLOOKUP($D106,'Boys Si Qual Draw Prep'!$A$7:$P$134,4))","v":""},null,null,null,null,null,"Umpire",null,{"$f":"UPPER(IF(OR(O106=\"a\",O106=\"as\"),N102,IF(OR(O106=\"b\",O106=\"bs\"),N110,)))","v":""}]
["89",{"$f":"IF($D107=\"\",\"\",VLOOKUP($D107,'Boys Si Qual Draw Prep'!$A$7:$P$134,15))","v":""},{"$f":"IF($D107=\"\",\"\",VLOOKUP($D107,'Boys Si Qual Draw Prep'!$A$7:$P$134,16))","v":""},null,{"$f":"UPPER(IF($D107=\"\",\"\",VLOOKUP($D107,'Boys Si Qual Draw Prep'!$A$7:$P$134,2)))","v":""},{"$f":"IF($D107=\"\",\"\",VLOOKUP($D107,'Boys Si Qual Draw Prep'!$A$7:$P$134,3))","v":""},null,{"$f":"IF($D107=\"\",\"\",VLOOKUP($D107,'Boys Si Qual Draw Prep'!$A$7:$P$134,4))","v":""},null,{"$f":"UPPER(IF(OR(I108=\"a\",I108=\"as\"),E107,IF(OR(I108=\"b\",I108=\"bs\"),E108,)))","v":""}]
["90",{"$f":"IF($D108=\"\",\"\",VLOOKUP($D108,'Boys Si Qual Draw Prep'!$A$7:$P$134,15))","v":""},{"$f":"IF($D108=\"\",\"\",VLOOKUP($D108,'Boys Si Qual Draw Prep'!$A$7:$P$134,16))","v":""},null,{"$f":"UPPER(IF($D108=\"\",\"\",VLOOKUP($D108,'Boys Si Qual Draw Prep'!$A$7:$P$134,2)))","v":""},{"$f":"IF($D108=\"\",\"\",VLOOKUP($D108,'Boys Si Qual Draw Prep'!$A$7:$P$134,3))","v":""},null,{"$f":"IF($D108=\"\",\"\",VLOOKUP($D108,'Boys Si Qual Draw Prep'!$A$7:$P$134,4))","v":""},null,null,null,{"$f":"UPPER(IF(OR(K108=\"a\",K108=\"as\"),J107,IF(OR(K108=\"b\",K108=\"bs\"),J109,)))","v":""}]
["91",{"$f":"IF($D109=\"\",\"\",VLOOKUP($D109,'Boys Si Qual Draw Prep'!$A$7:$P$134,15))","v":""},{"$f":"IF($D109=\"\",\"\",VLOOKUP($D109,'Boys Si Qual Draw Prep'!$A$7:$P$134,16))","v":""},null,{"$f":"UPPER(IF($D109=\"\",\"\",VLOOKUP($D109,'Boys Si Qual Draw Prep'!$A$7:$P$134,2)))","v":""},{"$f":"IF($D109=\"\",\"\",VLOOKUP($D109,'Boys Si Qual Draw Prep'!$A$7:$P$134,3))","v":""},null,{"$f":"IF($D109=\"\",\"\",VLOOKUP($D109,'Boys Si Qual Draw Prep'!$A$7:$P$134,4))","v":""},null,{"$f":"UPPER(IF(OR(I110=\"a\",I110=\"as\"),E109,IF(OR(I110=\"b\",I110=\"bs\"),E110,)))","v":""}]
["92",{"$f":"IF($D110=\"\",\"\",VLOOKUP($D110,'Boys Si Qual Draw Prep'!$A$7:$P$134,15))","v":""},{"$f":"IF($D110=\"\",\"\",VLOOKUP($D110,'Boys Si Qual Draw Prep'!$A$7:$P$134,16))","v":""},null,{"$f":"UPPER(IF($D110=\"\",\"\",VLOOKUP($D110,'Boys Si Qual Draw Prep'!$A$7:$P$134,2)))","v":""},{"$f":"IF($D110=\"\",\"\",VLOOKUP($D110,'Boys Si Qual Draw Prep'!$A$7:$P$134,3))","v":""},null,{"$f":"IF($D110=\"\",\"\",VLOOKUP($D110,'Boys Si Qual Draw Prep'!$A$7:$P$134,4))","v":""},null,null,null,"Umpire",null,{"$f":"UPPER(IF(OR(M110=\"a\",M110=\"as\"),L108,IF(OR(M110=\"b\",M110=\"bs\"),L112,)))","v":""}]
["93",{"$f":"IF($D111=\"\",\"\",VLOOKUP($D111,'Boys Si Qual Draw Prep'!$A$7:$P$134,15))","v":""},{"$f":"IF($D111=\"\",\"\",VLOOKUP($D111,'Boys Si Qual Draw Prep'!$A$7:$P$134,16))","v":""},null,{"$f":"UPPER(IF($D111=\"\",\"\",VLOOKUP($D111,'Boys Si Qual Draw Prep'!$A$7:$P$134,2)))","v":""},{"$f":"IF($D111=\"\",\"\",VLOOKUP($D111,'Boys Si Qual Draw Prep'!$A$7:$P$134,3))","v":""},null,{"$f":"IF($D111=\"\",\"\",VLOOKUP($D111,'Boys Si Qual Draw Prep'!$A$7:$P$134,4))","v":""},null,{"$f":"UPPER(IF(OR(I112=\"a\",I112=\"as\"),E111,IF(OR(I112=\"b\",I112=\"bs\"),E112,)))","v":""}]
["94",{"$f":"IF($D112=\"\",\"\",VLOOKUP($D112,'Boys Si Qual Draw Prep'!$A$7:$P$134,15))","v":""},{"$f":"IF($D112=\"\",\"\",VLOOKUP($D112,'Boys Si Qual Draw Prep'!$A$7:$P$134,16))","v":""},null,{"$f":"UPPER(IF($D112=\"\",\"\",VLOOKUP($D112,'Boys Si Qual Draw Prep'!$A$7:$P$134,2)))","v":""},{"$f":"IF($D112=\"\",\"\",VLOOKUP($D112,'Boys Si Qual Draw Prep'!$A$7:$P$134,3))","v":""},null,{"$f":"IF($D112=\"\",\"\",VLOOKUP($D112,'Boys Si Qual Draw Prep'!$A$7:$P$134,4))","v":""},null,null,null,{"$f":"UPPER(IF(OR(K112=\"a\",K112=\"as\"),J111,IF(OR(K112=\"b\",K112=\"bs\"),J113,)))","v":""}]
["95",{"$f":"IF($D113=\"\",\"\",VLOOKUP($D113,'Boys Si Qual Draw Prep'!$A$7:$P$134,15))","v":""},{"$f":"IF($D113=\"\",\"\",VLOOKUP($D113,'Boys Si Qual Draw Prep'!$A$7:$P$134,16))","v":""},null,{"$f":"UPPER(IF($D113=\"\",\"\",VLOOKUP($D113,'Boys Si Qual Draw Prep'!$A$7:$P$134,2)))","v":""},{"$f":"IF($D113=\"\",\"\",VLOOKUP($D113,'Boys Si Qual Draw Prep'!$A$7:$P$134,3))","v":""},null,{"$f":"IF($D113=\"\",\"\",VLOOKUP($D113,'Boys Si Qual Draw Prep'!$A$7:$P$134,4))","v":""},null,{"$f":"UPPER(IF(OR(I114=\"a\",I114=\"as\"),E113,IF(OR(I114=\"b\",I114=\"bs\"),E114,)))","v":""}]
["96",{"$f":"IF($D114=\"\",\"\",VLOOKUP($D114,'Boys Si Qual Draw Prep'!$A$7:$P$134,15))","v":""},{"$f":"IF($D114=\"\",\"\",VLOOKUP($D114,'Boys Si Qual Draw Prep'!$A$7:$P$134,16))","v":""},null,{"$f":"UPPER(IF($D114=\"\",\"\",VLOOKUP($D114,'Boys Si Qual Draw Prep'!$A$7:$P$134,2)))","v":""},{"$f":"IF($D114=\"\",\"\",VLOOKUP($D114,'Boys Si Qual Draw Prep'!$A$7:$P$134,3))","v":""},null,{"$f":"IF($D114=\"\",\"\",VLOOKUP($D114,'Boys Si Qual Draw Prep'!$A$7:$P$134,4))","v":""}]
["97",{"$f":"IF($D115=\"\",\"\",VLOOKUP($D115,'Boys Si Qual Draw Prep'!$A$7:$P$134,15))","v":""},{"$f":"IF($D115=\"\",\"\",VLOOKUP($D115,'Boys Si Qual Draw Prep'!$A$7:$P$134,16))","v":""},null,{"$f":"UPPER(IF($D115=\"\",\"\",VLOOKUP($D115,'Boys Si Qual Draw Prep'!$A$7:$P$134,2)))","v":""},{"$f":"IF($D115=\"\",\"\",VLOOKUP($D115,'Boys Si Qual Draw Prep'!$A$7:$P$134,3))","v":""},null,{"$f":"IF($D115=\"\",\"\",VLOOKUP($D115,'Boys Si Qual Draw Prep'!$A$7:$P$134,4))","v":""},null,{"$f":"UPPER(IF(OR(I116=\"a\",I116=\"as\"),E115,IF(OR(I116=\"b\",I116=\"bs\"),E116,)))","v":""}]
["98",{"$f":"IF($D116=\"\",\"\",VLOOKUP($D116,'Boys Si Qual Draw Prep'!$A$7:$P$134,15))","v":""},{"$f":"IF($D116=\"\",\"\",VLOOKUP($D116,'Boys Si Qual Draw Prep'!$A$7:$P$134,16))","v":""},null,{"$f":"UPPER(IF($D116=\"\",\"\",VLOOKUP($D116,'Boys Si Qual Draw Prep'!$A$7:$P$134,2)))","v":""},{"$f":"IF($D116=\"\",\"\",VLOOKUP($D116,'Boys Si Qual Draw Prep'!$A$7:$P$134,3))","v":""},null,{"$f":"IF($D116=\"\",\"\",VLOOKUP($D116,'Boys Si Qual Draw Prep'!$A$7:$P$134,4))","v":""},null,null,null,{"$f":"UPPER(IF(OR(K116=\"a\",K116=\"as\"),J115,IF(OR(K116=\"b\",K116=\"bs\"),J117,)))","v":""}]
["99",{"$f":"IF($D117=\"\",\"\",VLOOKUP($D117,'Boys Si Qual Draw Prep'!$A$7:$P$134,15))","v":""},{"$f":"IF($D117=\"\",\"\",VLOOKUP($D117,'Boys Si Qual Draw Prep'!$A$7:$P$134,16))","v":""},null,{"$f":"UPPER(IF($D117=\"\",\"\",VLOOKUP($D117,'Boys Si Qual Draw Prep'!$A$7:$P$134,2)))","v":""},{"$f":"IF($D117=\"\",\"\",VLOOKUP($D117,'Boys Si Qual Draw Prep'!$A$7:$P$134,3))","v":""},null,{"$f":"IF($D117=\"\",\"\",VLOOKUP($D117,'Boys Si Qual Draw Prep'!$A$7:$P$134,4))","v":""},null,{"$f":"UPPER(IF(OR(I118=\"a\",I118=\"as\"),E117,IF(OR(I118=\"b\",I118=\"bs\"),E118,)))","v":""}]
["100",{"$f":"IF($D118=\"\",\"\",VLOOKUP($D118,'Boys Si Qual Draw Prep'!$A$7:$P$134,15))","v":""},{"$f":"IF($D118=\"\",\"\",VLOOKUP($D118,'Boys Si Qual Draw Prep'!$A$7:$P$134,16))","v":""},null,{"$f":"UPPER(IF($D118=\"\",\"\",VLOOKUP($D118,'Boys Si Qual Draw Prep'!$A$7:$P$134,2)))","v":""},{"$f":"IF($D118=\"\",\"\",VLOOKUP($D118,'Boys Si Qual Draw Prep'!$A$7:$P$134,3))","v":""},null,{"$f":"IF($D118=\"\",\"\",VLOOKUP($D118,'Boys Si Qual Draw Prep'!$A$7:$P$134,4))","v":""},null,null,null,"Umpire",null,{"$f":"UPPER(IF(OR(M118=\"a\",M118=\"as\"),L116,IF(OR(M118=\"b\",M118=\"bs\"),L120,)))","v":""}]
["101",{"$f":"IF($D119=\"\",\"\",VLOOKUP($D119,'Boys Si Qual Draw Prep'!$A$7:$P$134,15))","v":""},{"$f":"IF($D119=\"\",\"\",VLOOKUP($D119,'Boys Si Qual Draw Prep'!$A$7:$P$134,16))","v":""},null,{"$f":"UPPER(IF($D119=\"\",\"\",VLOOKUP($D119,'Boys Si Qual Draw Prep'!$A$7:$P$134,2)))","v":""},{"$f":"IF($D119=\"\",\"\",VLOOKUP($D119,'Boys Si Qual Draw Prep'!$A$7:$P$134,3))","v":""},null,{"$f":"IF($D119=\"\",\"\",VLOOKUP($D119,'Boys Si Qual Draw Prep'!$A$7:$P$134,4))","v":""},null,{"$f":"UPPER(IF(OR(I120=\"a\",I120=\"as\"),E119,IF(OR(I120=\"b\",I120=\"bs\"),E120,)))","v":""}]
["102",{"$f":"IF($D120=\"\",\"\",VLOOKUP($D120,'Boys Si Qual Draw Prep'!$A$7:$P$134,15))","v":""},{"$f":"IF($D120=\"\",\"\",VLOOKUP($D120,'Boys Si Qual Draw Prep'!$A$7:$P$134,16))","v":""},null,{"$f":"UPPER(IF($D120=\"\",\"\",VLOOKUP($D120,'Boys Si Qual Draw Prep'!$A$7:$P$134,2)))","v":""},{"$f":"IF($D120=\"\",\"\",VLOOKUP($D120,'Boys Si Qual Draw Prep'!$A$7:$P$134,3))","v":""},null,{"$f":"IF($D120=\"\",\"\",VLOOKUP($D120,'Boys Si Qual Draw Prep'!$A$7:$P$134,4))","v":""},null,null,null,{"$f":"UPPER(IF(OR(K120=\"a\",K120=\"as\"),J119,IF(OR(K120=\"b\",K120=\"bs\"),J121,)))","v":""}]
["103",{"$f":"IF($D121=\"\",\"\",VLOOKUP($D121,'Boys Si Qual Draw Prep'!$A$7:$P$134,15))","v":""},{"$f":"IF($D121=\"\",\"\",VLOOKUP($D121,'Boys Si Qual Draw Prep'!$A$7:$P$134,16))","v":""},null,{"$f":"UPPER(IF($D121=\"\",\"\",VLOOKUP($D121,'Boys Si Qual Draw Prep'!$A$7:$P$134,2)))","v":""},{"$f":"IF($D121=\"\",\"\",VLOOKUP($D121,'Boys Si Qual Draw Prep'!$A$7:$P$134,3))","v":""},null,{"$f":"IF($D121=\"\",\"\",VLOOKUP($D121,'Boys Si Qual Draw Prep'!$A$7:$P$134,4))","v":""},null,{"$f":"UPPER(IF(OR(I122=\"a\",I122=\"as\"),E121,IF(OR(I122=\"b\",I122=\"bs\"),E122,)))","v":""}]
["104",{"$f":"IF($D122=\"\",\"\",VLOOKUP($D122,'Boys Si Qual Draw Prep'!$A$7:$P$134,15))","v":""},{"$f":"IF($D122=\"\",\"\",VLOOKUP($D122,'Boys Si Qual Draw Prep'!$A$7:$P$134,16))","v":""},null,{"$f":"UPPER(IF($D122=\"\",\"\",VLOOKUP($D122,'Boys Si Qual Draw Prep'!$A$7:$P$134,2)))","v":""},{"$f":"IF($D122=\"\",\"\",VLOOKUP($D122,'Boys Si Qual Draw Prep'!$A$7:$P$134,3))","v":""},null,{"$f":"IF($D122=\"\",\"\",VLOOKUP($D122,'Boys Si Qual Draw Prep'!$A$7:$P$134,4))","v":""},null,null,null,null,null,"Umpire",null,{"$f":"UPPER(IF(OR(O122=\"a\",O122=\"as\"),N118,IF(OR(O122=\"b\",O122=\"bs\"),N126,)))","v":""}]
["105",{"$f":"IF($D123=\"\",\"\",VLOOKUP($D123,'Boys Si Qual Draw Prep'!$A$7:$P$134,15))","v":""},{"$f":"IF($D123=\"\",\"\",VLOOKUP($D123,'Boys Si Qual Draw Prep'!$A$7:$P$134,16))","v":""},null,{"$f":"UPPER(IF($D123=\"\",\"\",VLOOKUP($D123,'Boys Si Qual Draw Prep'!$A$7:$P$134,2)))","v":""},{"$f":"IF($D123=\"\",\"\",VLOOKUP($D123,'Boys Si Qual Draw Prep'!$A$7:$P$134,3))","v":""},null,{"$f":"IF($D123=\"\",\"\",VLOOKUP($D123,'Boys Si Qual Draw Prep'!$A$7:$P$134,4))","v":""},null,{"$f":"UPPER(IF(OR(I124=\"a\",I124=\"as\"),E123,IF(OR(I124=\"b\",I124=\"bs\"),E124,)))","v":""}]
["106",{"$f":"IF($D124=\"\",\"\",VLOOKUP($D124,'Boys Si Qual Draw Prep'!$A$7:$P$134,15))","v":""},{"$f":"IF($D124=\"\",\"\",VLOOKUP($D124,'Boys Si Qual Draw Prep'!$A$7:$P$134,16))","v":""},null,{"$f":"UPPER(IF($D124=\"\",\"\",VLOOKUP($D124,'Boys Si Qual Draw Prep'!$A$7:$P$134,2)))","v":""},{"$f":"IF($D124=\"\",\"\",VLOOKUP($D124,'Boys Si Qual Draw Prep'!$A$7:$P$134,3))","v":""},null,{"$f":"IF($D124=\"\",\"\",VLOOKUP($D124,'Boys Si Qual Draw Prep'!$A$7:$P$134,4))","v":""},null,null,null,{"$f":"UPPER(IF(OR(K124=\"a\",K124=\"as\"),J123,IF(OR(K124=\"b\",K124=\"bs\"),J125,)))","v":""}]
["107",{"$f":"IF($D125=\"\",\"\",VLOOKUP($D125,'Boys Si Qual Draw Prep'!$A$7:$P$134,15))","v":""},{"$f":"IF($D125=\"\",\"\",VLOOKUP($D125,'Boys Si Qual Draw Prep'!$A$7:$P$134,16))","v":""},null,{"$f":"UPPER(IF($D125=\"\",\"\",VLOOKUP($D125,'Boys Si Qual Draw Prep'!$A$7:$P$134,2)))","v":""},{"$f":"IF($D125=\"\",\"\",VLOOKUP($D125,'Boys Si Qual Draw Prep'!$A$7:$P$134,3))","v":""},null,{"$f":"IF($D125=\"\",\"\",VLOOKUP($D125,'Boys Si Qual Draw Prep'!$A$7:$P$134,4))","v":""},null,{"$f":"UPPER(IF(OR(I126=\"a\",I126=\"as\"),E125,IF(OR(I126=\"b\",I126=\"bs\"),E126,)))","v":""}]
["108",{"$f":"IF($D126=\"\",\"\",VLOOKUP($D126,'Boys Si Qual Draw Prep'!$A$7:$P$134,15))","v":""},{"$f":"IF($D126=\"\",\"\",VLOOKUP($D126,'Boys Si Qual Draw Prep'!$A$7:$P$134,16))","v":""},null,{"$f":"UPPER(IF($D126=\"\",\"\",VLOOKUP($D126,'Boys Si Qual Draw Prep'!$A$7:$P$134,2)))","v":""},{"$f":"IF($D126=\"\",\"\",VLOOKUP($D126,'Boys Si Qual Draw Prep'!$A$7:$P$134,3))","v":""},null,{"$f":"IF($D126=\"\",\"\",VLOOKUP($D126,'Boys Si Qual Draw Prep'!$A$7:$P$134,4))","v":""},null,null,null,"Umpire",null,{"$f":"UPPER(IF(OR(M126=\"a\",M126=\"as\"),L124,IF(OR(M126=\"b\",M126=\"bs\"),L128,)))","v":""}]
["109",{"$f":"IF($D127=\"\",\"\",VLOOKUP($D127,'Boys Si Qual Draw Prep'!$A$7:$P$134,15))","v":""},{"$f":"IF($D127=\"\",\"\",VLOOKUP($D127,'Boys Si Qual Draw Prep'!$A$7:$P$134,16))","v":""},null,{"$f":"UPPER(IF($D127=\"\",\"\",VLOOKUP($D127,'Boys Si Qual Draw Prep'!$A$7:$P$134,2)))","v":""},{"$f":"IF($D127=\"\",\"\",VLOOKUP($D127,'Boys Si Qual Draw Prep'!$A$7:$P$134,3))","v":""},null,{"$f":"IF($D127=\"\",\"\",VLOOKUP($D127,'Boys Si Qual Draw Prep'!$A$7:$P$134,4))","v":""},null,{"$f":"UPPER(IF(OR(I128=\"a\",I128=\"as\"),E127,IF(OR(I128=\"b\",I128=\"bs\"),E128,)))","v":""}]
["110",{"$f":"IF($D128=\"\",\"\",VLOOKUP($D128,'Boys Si Qual Draw Prep'!$A$7:$P$134,15))","v":""},{"$f":"IF($D128=\"\",\"\",VLOOKUP($D128,'Boys Si Qual Draw Prep'!$A$7:$P$134,16))","v":""},null,{"$f":"UPPER(IF($D128=\"\",\"\",VLOOKUP($D128,'Boys Si Qual Draw Prep'!$A$7:$P$134,2)))","v":""},{"$f":"IF($D128=\"\",\"\",VLOOKUP($D128,'Boys Si Qual Draw Prep'!$A$7:$P$134,3))","v":""},null,{"$f":"IF($D128=\"\",\"\",VLOOKUP($D128,'Boys Si Qual Draw Prep'!$A$7:$P$134,4))","v":""},null,null,null,{"$f":"UPPER(IF(OR(K128=\"a\",K128=\"as\"),J127,IF(OR(K128=\"b\",K128=\"bs\"),J129,)))","v":""}]
["111",{"$f":"IF($D129=\"\",\"\",VLOOKUP($D129,'Boys Si Qual Draw Prep'!$A$7:$P$134,15))","v":""},{"$f":"IF($D129=\"\",\"\",VLOOKUP($D129,'Boys Si Qual Draw Prep'!$A$7:$P$134,16))","v":""},null,{"$f":"UPPER(IF($D129=\"\",\"\",VLOOKUP($D129,'Boys Si Qual Draw Prep'!$A$7:$P$134,2)))","v":""},{"$f":"IF($D129=\"\",\"\",VLOOKUP($D129,'Boys Si Qual Draw Prep'!$A$7:$P$134,3))","v":""},null,{"$f":"IF($D129=\"\",\"\",VLOOKUP($D129,'Boys Si Qual Draw Prep'!$A$7:$P$134,4))","v":""},null,{"$f":"UPPER(IF(OR(I130=\"a\",I130=\"as\"),E129,IF(OR(I130=\"b\",I130=\"bs\"),E130,)))","v":""}]
["112",{"$f":"IF($D130=\"\",\"\",VLOOKUP($D130,'Boys Si Qual Draw Prep'!$A$7:$P$134,15))","v":""},{"$f":"IF($D130=\"\",\"\",VLOOKUP($D130,'Boys Si Qual Draw Prep'!$A$7:$P$134,16))","v":""},null,{"$f":"UPPER(IF($D130=\"\",\"\",VLOOKUP($D130,'Boys Si Qual Draw Prep'!$A$7:$P$134,2)))","v":""},{"$f":"IF($D130=\"\",\"\",VLOOKUP($D130,'Boys Si Qual Draw Prep'!$A$7:$P$134,3))","v":""},null,{"$f":"IF($D130=\"\",\"\",VLOOKUP($D130,'Boys Si Qual Draw Prep'!$A$7:$P$134,4))","v":""}]
["113",{"$f":"IF($D131=\"\",\"\",VLOOKUP($D131,'Boys Si Qual Draw Prep'!$A$7:$P$134,15))","v":""},{"$f":"IF($D131=\"\",\"\",VLOOKUP($D131,'Boys Si Qual Draw Prep'!$A$7:$P$134,16))","v":""},null,{"$f":"UPPER(IF($D131=\"\",\"\",VLOOKUP($D131,'Boys Si Qual Draw Prep'!$A$7:$P$134,2)))","v":""},{"$f":"IF($D131=\"\",\"\",VLOOKUP($D131,'Boys Si Qual Draw Prep'!$A$7:$P$134,3))","v":""},null,{"$f":"IF($D131=\"\",\"\",VLOOKUP($D131,'Boys Si Qual Draw Prep'!$A$7:$P$134,4))","v":""},null,{"$f":"UPPER(IF(OR(I132=\"a\",I132=\"as\"),E131,IF(OR(I132=\"b\",I132=\"bs\"),E132,)))","v":""}]
["114",{"$f":"IF($D132=\"\",\"\",VLOOKUP($D132,'Boys Si Qual Draw Prep'!$A$7:$P$134,15))","v":""},{"$f":"IF($D132=\"\",\"\",VLOOKUP($D132,'Boys Si Qual Draw Prep'!$A$7:$P$134,16))","v":""},null,{"$f":"UPPER(IF($D132=\"\",\"\",VLOOKUP($D132,'Boys Si Qual Draw Prep'!$A$7:$P$134,2)))","v":""},{"$f":"IF($D132=\"\",\"\",VLOOKUP($D132,'Boys Si Qual Draw Prep'!$A$7:$P$134,3))","v":""},null,{"$f":"IF($D132=\"\",\"\",VLOOKUP($D132,'Boys Si Qual Draw Prep'!$A$7:$P$134,4))","v":""},null,null,null,{"$f":"UPPER(IF(OR(K132=\"a\",K132=\"as\"),J131,IF(OR(K132=\"b\",K132=\"bs\"),J133,)))","v":""}]
["115",{"$f":"IF($D133=\"\",\"\",VLOOKUP($D133,'Boys Si Qual Draw Prep'!$A$7:$P$134,15))","v":""},{"$f":"IF($D133=\"\",\"\",VLOOKUP($D133,'Boys Si Qual Draw Prep'!$A$7:$P$134,16))","v":""},null,{"$f":"UPPER(IF($D133=\"\",\"\",VLOOKUP($D133,'Boys Si Qual Draw Prep'!$A$7:$P$134,2)))","v":""},{"$f":"IF($D133=\"\",\"\",VLOOKUP($D133,'Boys Si Qual Draw Prep'!$A$7:$P$134,3))","v":""},null,{"$f":"IF($D133=\"\",\"\",VLOOKUP($D133,'Boys Si Qual Draw Prep'!$A$7:$P$134,4))","v":""},null,{"$f":"UPPER(IF(OR(I134=\"a\",I134=\"as\"),E133,IF(OR(I134=\"b\",I134=\"bs\"),E134,)))","v":""}]
["116",{"$f":"IF($D134=\"\",\"\",VLOOKUP($D134,'Boys Si Qual Draw Prep'!$A$7:$P$134,15))","v":""},{"$f":"IF($D134=\"\",\"\",VLOOKUP($D134,'Boys Si Qual Draw Prep'!$A$7:$P$134,16))","v":""},null,{"$f":"UPPER(IF($D134=\"\",\"\",VLOOKUP($D134,'Boys Si Qual Draw Prep'!$A$7:$P$134,2)))","v":""},{"$f":"IF($D134=\"\",\"\",VLOOKUP($D134,'Boys Si Qual Draw Prep'!$A$7:$P$134,3))","v":""},null,{"$f":"IF($D134=\"\",\"\",VLOOKUP($D134,'Boys Si Qual Draw Prep'!$A$7:$P$134,4))","v":""},null,null,null,"Umpire",null,{"$f":"UPPER(IF(OR(M134=\"a\",M134=\"as\"),L132,IF(OR(M134=\"b\",M134=\"bs\"),L136,)))","v":""}]
["117",{"$f":"IF($D135=\"\",\"\",VLOOKUP($D135,'Boys Si Qual Draw Prep'!$A$7:$P$134,15))","v":""},{"$f":"IF($D135=\"\",\"\",VLOOKUP($D135,'Boys Si Qual Draw Prep'!$A$7:$P$134,16))","v":""},null,{"$f":"UPPER(IF($D135=\"\",\"\",VLOOKUP($D135,'Boys Si Qual Draw Prep'!$A$7:$P$134,2)))","v":""},{"$f":"IF($D135=\"\",\"\",VLOOKUP($D135,'Boys Si Qual Draw Prep'!$A$7:$P$134,3))","v":""},null,{"$f":"IF($D135=\"\",\"\",VLOOKUP($D135,'Boys Si Qual Draw Prep'!$A$7:$P$134,4))","v":""},null,{"$f":"UPPER(IF(OR(I136=\"a\",I136=\"as\"),E135,IF(OR(I136=\"b\",I136=\"bs\"),E136,)))","v":""}]
["118",{"$f":"IF($D136=\"\",\"\",VLOOKUP($D136,'Boys Si Qual Draw Prep'!$A$7:$P$134,15))","v":""},{"$f":"IF($D136=\"\",\"\",VLOOKUP($D136,'Boys Si Qual Draw Prep'!$A$7:$P$134,16))","v":""},null,{"$f":"UPPER(IF($D136=\"\",\"\",VLOOKUP($D136,'Boys Si Qual Draw Prep'!$A$7:$P$134,2)))","v":""},{"$f":"IF($D136=\"\",\"\",VLOOKUP($D136,'Boys Si Qual Draw Prep'!$A$7:$P$134,3))","v":""},null,{"$f":"IF($D136=\"\",\"\",VLOOKUP($D136,'Boys Si Qual Draw Prep'!$A$7:$P$134,4))","v":""},null,null,null,{"$f":"UPPER(IF(OR(K136=\"a\",K136=\"as\"),J135,IF(OR(K136=\"b\",K136=\"bs\"),J137,)))","v":""}]
["119",{"$f":"IF($D137=\"\",\"\",VLOOKUP($D137,'Boys Si Qual Draw Prep'!$A$7:$P$134,15))","v":""},{"$f":"IF($D137=\"\",\"\",VLOOKUP($D137,'Boys Si Qual Draw Prep'!$A$7:$P$134,16))","v":""},null,{"$f":"UPPER(IF($D137=\"\",\"\",VLOOKUP($D137,'Boys Si Qual Draw Prep'!$A$7:$P$134,2)))","v":""},{"$f":"IF($D137=\"\",\"\",VLOOKUP($D137,'Boys Si Qual Draw Prep'!$A$7:$P$134,3))","v":""},null,{"$f":"IF($D137=\"\",\"\",VLOOKUP($D137,'Boys Si Qual Draw Prep'!$A$7:$P$134,4))","v":""},null,{"$f":"UPPER(IF(OR(I138=\"a\",I138=\"as\"),E137,IF(OR(I138=\"b\",I138=\"bs\"),E138,)))","v":""}]
["120",{"$f":"IF($D138=\"\",\"\",VLOOKUP($D138,'Boys Si Qual Draw Prep'!$A$7:$P$134,15))","v":""},{"$f":"IF($D138=\"\",\"\",VLOOKUP($D138,'Boys Si Qual Draw Prep'!$A$7:$P$134,16))","v":""},null,{"$f":"UPPER(IF($D138=\"\",\"\",VLOOKUP($D138,'Boys Si Qual Draw Prep'!$A$7:$P$134,2)))","v":""},{"$f":"IF($D138=\"\",\"\",VLOOKUP($D138,'Boys Si Qual Draw Prep'!$A$7:$P$134,3))","v":""},null,{"$f":"IF($D138=\"\",\"\",VLOOKUP($D138,'Boys Si Qual Draw Prep'!$A$7:$P$134,4))","v":""},null,null,null,null,null,"Umpire",null,{"$f":"UPPER(IF(OR(O138=\"a\",O138=\"as\"),N134,IF(OR(O138=\"b\",O138=\"bs\"),N142,)))","v":""}]
["121",{"$f":"IF($D139=\"\",\"\",VLOOKUP($D139,'Boys Si Qual Draw Prep'!$A$7:$P$134,15))","v":""},{"$f":"IF($D139=\"\",\"\",VLOOKUP($D139,'Boys Si Qual Draw Prep'!$A$7:$P$134,16))","v":""},null,{"$f":"UPPER(IF($D139=\"\",\"\",VLOOKUP($D139,'Boys Si Qual Draw Prep'!$A$7:$P$134,2)))","v":""},{"$f":"IF($D139=\"\",\"\",VLOOKUP($D139,'Boys Si Qual Draw Prep'!$A$7:$P$134,3))","v":""},null,{"$f":"IF($D139=\"\",\"\",VLOOKUP($D139,'Boys Si Qual Draw Prep'!$A$7:$P$134,4))","v":""},null,{"$f":"UPPER(IF(OR(I140=\"a\",I140=\"as\"),E139,IF(OR(I140=\"b\",I140=\"bs\"),E140,)))","v":""}]
["122",{"$f":"IF($D140=\"\",\"\",VLOOKUP($D140,'Boys Si Qual Draw Prep'!$A$7:$P$134,15))","v":""},{"$f":"IF($D140=\"\",\"\",VLOOKUP($D140,'Boys Si Qual Draw Prep'!$A$7:$P$134,16))","v":""},null,{"$f":"UPPER(IF($D140=\"\",\"\",VLOOKUP($D140,'Boys Si Qual Draw Prep'!$A$7:$P$134,2)))","v":""},{"$f":"IF($D140=\"\",\"\",VLOOKUP($D140,'Boys Si Qual Draw Prep'!$A$7:$P$134,3))","v":""},null,{"$f":"IF($D140=\"\",\"\",VLOOKUP($D140,'Boys Si Qual Draw Prep'!$A$7:$P$134,4))","v":""},null,null,null,{"$f":"UPPER(IF(OR(K140=\"a\",K140=\"as\"),J139,IF(OR(K140=\"b\",K140=\"bs\"),J141,)))","v":""}]
["123",{"$f":"IF($D141=\"\",\"\",VLOOKUP($D141,'Boys Si Qual Draw Prep'!$A$7:$P$134,15))","v":""},{"$f":"IF($D141=\"\",\"\",VLOOKUP($D141,'Boys Si Qual Draw Prep'!$A$7:$P$134,16))","v":""},null,{"$f":"UPPER(IF($D141=\"\",\"\",VLOOKUP($D141,'Boys Si Qual Draw Prep'!$A$7:$P$134,2)))","v":""},{"$f":"IF($D141=\"\",\"\",VLOOKUP($D141,'Boys Si Qual Draw Prep'!$A$7:$P$134,3))","v":""},null,{"$f":"IF($D141=\"\",\"\",VLOOKUP($D141,'Boys Si Qual Draw Prep'!$A$7:$P$134,4))","v":""},null,{"$f":"UPPER(IF(OR(I142=\"a\",I142=\"as\"),E141,IF(OR(I142=\"b\",I142=\"bs\"),E142,)))","v":""}]
["124",{"$f":"IF($D142=\"\",\"\",VLOOKUP($D142,'Boys Si Qual Draw Prep'!$A$7:$P$134,15))","v":""},{"$f":"IF($D142=\"\",\"\",VLOOKUP($D142,'Boys Si Qual Draw Prep'!$A$7:$P$134,16))","v":""},null,{"$f":"UPPER(IF($D142=\"\",\"\",VLOOKUP($D142,'Boys Si Qual Draw Prep'!$A$7:$P$134,2)))","v":""},{"$f":"IF($D142=\"\",\"\",VLOOKUP($D142,'Boys Si Qual Draw Prep'!$A$7:$P$134,3))","v":""},null,{"$f":"IF($D142=\"\",\"\",VLOOKUP($D142,'Boys Si Qual Draw Prep'!$A$7:$P$134,4))","v":""},null,null,null,"Umpire",null,{"$f":"UPPER(IF(OR(M142=\"a\",M142=\"as\"),L140,IF(OR(M142=\"b\",M142=\"bs\"),L144,)))","v":""}]
["125",{"$f":"IF($D143=\"\",\"\",VLOOKUP($D143,'Boys Si Qual Draw Prep'!$A$7:$P$134,15))","v":""},{"$f":"IF($D143=\"\",\"\",VLOOKUP($D143,'Boys Si Qual Draw Prep'!$A$7:$P$134,16))","v":""},null,{"$f":"UPPER(IF($D143=\"\",\"\",VLOOKUP($D143,'Boys Si Qual Draw Prep'!$A$7:$P$134,2)))","v":""},{"$f":"IF($D143=\"\",\"\",VLOOKUP($D143,'Boys Si Qual Draw Prep'!$A$7:$P$134,3))","v":""},null,{"$f":"IF($D143=\"\",\"\",VLOOKUP($D143,'Boys Si Qual Draw Prep'!$A$7:$P$134,4))","v":""},null,{"$f":"UPPER(IF(OR(I144=\"a\",I144=\"as\"),E143,IF(OR(I144=\"b\",I144=\"bs\"),E144,)))","v":""}]
["126",{"$f":"IF($D144=\"\",\"\",VLOOKUP($D144,'Boys Si Qual Draw Prep'!$A$7:$P$134,15))","v":""},{"$f":"IF($D144=\"\",\"\",VLOOKUP($D144,'Boys Si Qual Draw Prep'!$A$7:$P$134,16))","v":""},null,{"$f":"UPPER(IF($D144=\"\",\"\",VLOOKUP($D144,'Boys Si Qual Draw Prep'!$A$7:$P$134,2)))","v":""},{"$f":"IF($D144=\"\",\"\",VLOOKUP($D144,'Boys Si Qual Draw Prep'!$A$7:$P$134,3))","v":""},null,{"$f":"IF($D144=\"\",\"\",VLOOKUP($D144,'Boys Si Qual Draw Prep'!$A$7:$P$134,4))","v":""},null,null,null,{"$f":"UPPER(IF(OR(K144=\"a\",K144=\"as\"),J143,IF(OR(K144=\"b\",K144=\"bs\"),J145,)))","v":""}]
["127",{"$f":"IF($D145=\"\",\"\",VLOOKUP($D145,'Boys Si Qual Draw Prep'!$A$7:$P$134,15))","v":""},{"$f":"IF($D145=\"\",\"\",VLOOKUP($D145,'Boys Si Qual Draw Prep'!$A$7:$P$134,16))","v":""},null,{"$f":"UPPER(IF($D145=\"\",\"\",VLOOKUP($D145,'Boys Si Qual Draw Prep'!$A$7:$P$134,2)))","v":""},{"$f":"IF($D145=\"\",\"\",VLOOKUP($D145,'Boys Si Qual Draw Prep'!$A$7:$P$134,3))","v":""},null,{"$f":"IF($D145=\"\",\"\",VLOOKUP($D145,'Boys Si Qual Draw Prep'!$A$7:$P$134,4))","v":""},null,{"$f":"UPPER(IF(OR(I146=\"a\",I146=\"as\"),E145,IF(OR(I146=\"b\",I146=\"bs\"),E146,)))","v":""}]
["128",{"$f":"IF($D146=\"\",\"\",VLOOKUP($D146,'Boys Si Qual Draw Prep'!$A$7:$P$134,15))","v":""},{"$f":"IF($D146=\"\",\"\",VLOOKUP($D146,'Boys Si Qual Draw Prep'!$A$7:$P$134,16))","v":""},null,{"$f":"UPPER(IF($D146=\"\",\"\",VLOOKUP($D146,'Boys Si Qual Draw Prep'!$A$7:$P$134,2)))","v":""},{"$f":"IF($D146=\"\",\"\",VLOOKUP($D146,'Boys Si Qual Draw Prep'!$A$7:$P$134,3))","v":""},null,{"$f":"IF($D146=\"\",\"\",VLOOKUP($D146,'Boys Si Qual Draw Prep'!$A$7:$P$134,4))","v":""}]
[]
["Acc. Ranking",null,null,"#","Seeded players","#","Seeded players",null,"#","Alternates",null,"Replacing",null,"Draw date/time:"]
["Rkg Date",null,{"$f":"'Boys Si Qual 96&128>8'!C73","v":0},{"$f":"'Boys Si Qual 96&128>8'!D73","v":1},{"$f":"'Boys Si Qual 96&128>8'!E73","v":0},{"$f":"'Boys Si Qual 96&128>8'!F73","v":9},{"$f":"'Boys Si Qual 96&128>8'!G73","v":0},{"$f":"'Boys Si Qual 96&128>8'!H73","v":0},"1",{"$f":"'Boys Si Qual 96&128>8'!J73","v":0},null,{"$f":"'Boys Si Qual 96&128>8'!L73","v":0},null,"Last Accepted player"]
["Top DA",null,{"$f":"'Boys Si Qual 96&128>8'!C74","v":0},{"$f":"'Boys Si Qual 96&128>8'!D74","v":2},{"$f":"'Boys Si Qual 96&128>8'!E74","v":0},{"$f":"'Boys Si Qual 96&128>8'!F74","v":10},{"$f":"'Boys Si Qual 96&128>8'!G74","v":0},{"$f":"'Boys Si Qual 96&128>8'!H74","v":0},"2",{"$f":"'Boys Si Qual 96&128>8'!J74","v":0},null,{"$f":"'Boys Si Qual 96&128>8'!L74","v":0},null,{"$f":"'Boys Si Qual 96&128>8'!$N$74","v":0}]
["Last DA",null,{"$f":"'Boys Si Qual 96&128>8'!C75","v":0},{"$f":"'Boys Si Qual 96&128>8'!D75","v":3},{"$f":"'Boys Si Qual 96&128>8'!E75","v":0},{"$f":"'Boys Si Qual 96&128>8'!F75","v":11},{"$f":"'Boys Si Qual 96&128>8'!G75","v":0},{"$f":"'Boys Si Qual 96&128>8'!H75","v":0},"3",{"$f":"'Boys Si Qual 96&128>8'!J75","v":0},null,{"$f":"'Boys Si Qual 96&128>8'!L75","v":0},null,"Player representatives"]
[null,null,{"$f":"'Boys Si Qual 96&128>8'!C76","v":0},{"$f":"'Boys Si Qual 96&128>8'!D76","v":4},{"$f":"'Boys Si Qual 96&128>8'!E76","v":0},{"$f":"'Boys Si Qual 96&128>8'!F76","v":12},{"$f":"'Boys Si Qual 96&128>8'!G76","v":0},{"$f":"'Boys Si Qual 96&128>8'!H76","v":0},"4",{"$f":"'Boys Si Qual 96&128>8'!J76","v":0},null,{"$f":"'Boys Si Qual 96&128>8'!L76","v":0}]
["Seed ranking",null,null,{"$f":"'Boys Si Qual 96&128>8'!D77","v":5},{"$f":"'Boys Si Qual 96&128>8'!E77","v":0},{"$f":"'Boys Si Qual 96&128>8'!F77","v":13},{"$f":"'Boys Si Qual 96&128>8'!G77","v":0},{"$f":"'Boys Si Qual 96&128>8'!H77","v":0},"5",{"$f":"'Boys Si Qual 96&128>8'!J77","v":0},null,{"$f":"'Boys Si Qual 96&128>8'!L77","v":0}]
["Rkg Date",null,{"$f":"'Boys Si Qual 96&128>8'!C78","v":0},{"$f":"'Boys Si Qual 96&128>8'!D78","v":6},{"$f":"'Boys Si Qual 96&128>8'!E78","v":0},{"$f":"'Boys Si Qual 96&128>8'!F78","v":14},{"$f":"'Boys Si Qual 96&128>8'!G78","v":0},{"$f":"'Boys Si Qual 96&128>8'!H78","v":0},"6",{"$f":"'Boys Si Qual 96&128>8'!J78","v":0},null,{"$f":"'Boys Si Qual 96&128>8'!L78","v":0},null,"ITF Referee's signature"]
["Top seed",null,{"$f":"'Boys Si Qual 96&128>8'!C79","v":0},{"$f":"'Boys Si Qual 96&128>8'!D79","v":7},{"$f":"'Boys Si Qual 96&128>8'!E79","v":0},{"$f":"'Boys Si Qual 96&128>8'!F79","v":15},{"$f":"'Boys Si Qual 96&128>8'!G79","v":0},{"$f":"'Boys Si Qual 96&128>8'!H79","v":0},"7",{"$f":"'Boys Si Qual 96&128>8'!J79","v":0},null,{"$f":"'Boys Si Qual 96&128>8'!L79","v":0}]
["Last seed",null,{"$f":"'Boys Si Qual 96&128>8'!C80","v":0},{"$f":"'Boys Si Qual 96&128>8'!D80","v":8},{"$f":"'Boys Si Qual 96&128>8'!E80","v":0},{"$f":"'Boys Si Qual 96&128>8'!F80","v":16},{"$f":"'Boys Si Qual 96&128>8'!G80","v":0},{"$f":"'Boys Si Qual 96&128>8'!H80","v":0},"8",{"$f":"'Boys Si Qual 96&128>8'!J80","v":0},null,{"$f":"'Boys Si Qual 96&128>8'!L80","v":0},null,{"$f":"'Boys Si Qual 96&128>8'!N80","v":0}]

{"sheet":"Girls Si Qual Sign-in sheet","index":32,"n_rows":207,"n_cols":18,"rows_kept":207,"cut":false,"hidden":false,"merged":[[3,0,3,1]]}
[{"$f":"'Week SetUp'!$A$6","v":0},null,null,null,null,"GIRLS SINGLES QUALIFYING SIGN-IN"]
[{"$f":"'Week SetUp'!$A$8","v":"ITF Junior Circuit"}]
["Week of",null,"City, Country",null,null,"Group","Tourn. ID",null,null,"ITF Referee","ITF Referee's signature"]
[{"$f":"'Week SetUp'!$A$10","v":"00:00:00"},null,{"$f":"'Week SetUp'!$C$10","v":0},null,null,{"$f":"'Week SetUp'!$D$10","v":0},{"$f":"'Week SetUp'!$A$12","v":0},null,null,{"$f":"'Week SetUp'!$E$10","v":0}]
[null,null,"Day","Date",null,"Time","Place"]
["Sign-in deadline:"]
["Line","Family name","First name","Nat.","Date of birth Day/Mth/Yr","Player signature","Player hotel or\nContact number","On\nAcc:List\nYes","ITF18\nRank","Pro-\nRank","Other",null,null,null,null,"Accept status","Seed\nPos","Draw chip number"]
[1]
[2]
[3]
[4]
[5]
[6]
[7]
[8]
[9]
[10]
[11]
[12]
[13]
[14]
[15]
[16]
[17]
[18]
[19]
[20]
[21]
[22]
[23]
[24]
[25]
[26]
[27]
[28]
[29]
[30]
[31]
[32]
[33]
[34]
[35]
[36]
[37]
[38]
[39]
[40]
[41]
[42]
[43]
[44]
[45]
[46]
[47]
[48]
[49]
[50]
[51]
[52]
[53]
[54]
[55]
[56]
[57]
[58]
[59]
[60]
[61]
[62]
[63]
[64]
[65]
[66]
[67]
[68]
[69]
[70]
[71]
[72]
[73]
[74]
[75]
[76]
[77]
[78]
[79]
[80]
[81]
[82]
[83]
[84]
[85]
[86]
[87]
[88]
[89]
[90]
[91]
[92]
[93]
[94]
[95]
[96]
[97]
[98]
[99]
[100]
[101]
[102]
[103]
[104]
[105]
[106]
[107]
[108]
[109]
[110]
[111]
[112]
[113]
[114]
[115]
[116]
[117]
[118]
[119]
[120]
[121]
[122]
[123]
[124]
[125]
[126]
[127]
[128]
[129]
[130]
[131]
[132]
[133]
[134]
[135]
[136]
[137]
[138]
[139]
[140]
[141]
[142]
[143]
[144]
[145]
[146]
[147]
[148]
[149]
[150]
[151]
[152]
[153]
[154]
[155]
[156]
[157]
[158]
[159]
[160]
[161]
[162]
[163]
[164]
[165]
[166]
[167]
[168]
[169]
[170]
[171]
[172]
[173]
[174]
[175]
[176]
[177]
[178]
[179]
[180]
[181]
[182]
[183]
[184]
[185]
[186]
[187]
[188]
[189]
[190]
[191]
[192]
[193]
[194]
[195]
[196]
[197]
[198]
[199]
[200]

{"sheet":"Girls Si Qual Draw Prep","index":33,"n_rows":206,"n_cols":21,"rows_kept":206,"cut":false,"hidden":false,"merged":[[4,0,4,1]]}
[{"$f":"'Week SetUp'!$A$6","v":0},null,null,"GIRLS SINGLES QUALIFYING"]
[{"$f":"'Week SetUp'!$A$8","v":"ITF Junior Circuit"},null,null,"PREPARATION LIST"]
["DO NO DELETE THIS PAGE IF YOU ARE USING LINK-IN'S TO THE DRAW",null,null,null,null,null,null,null,null,null,null,null,null,null,"ITF Referee's signature",null,null,null,null,"Over 18",{"$f":"YEAR($A$5)-18","v":1882}]
["Week of",null,"City, Country","Group",null,null,"Tourn. ID",null,null,"ITF Referee",null,null,null,null,null,null,null,null,null,"Under 13",{"$f":"YEAR($A$5)-13","v":1887}]
[{"$f":"'Week SetUp'!$A$10","v":"00:00:00"},null,{"$f":"'Week SetUp'!$C$10","v":0},{"$f":"'Week SetUp'!$D$10","v":0},null,null,{"$f":"'Week SetUp'!$A$12","v":0},null,null,{"$f":"'Week SetUp'!$E$10","v":0},null,null,null,null,null,null,null,{"$f":"COUNTA(R7:R206)","v":0}]
["Line","Family name","First name","Nat.","Date of Birth\ndd mmm yy","On\nAccept.List\nYes","Signed-in\nYes","ITF 18\nRanking","Pro-\nRanking","Other ordering",null,null,"Seed Sort",null,"Accept status","Display\nranking\nITF 18","AccSort","Seed\nPosition"]
[1,null,null,null,null,null,null,null,null,null,null,null,{"$f":"IF(R7=\"\",999,R7)","v":999},null,null,{"$f":"IF(AND(H7>0,OR(O7=\"QA\",O7=\"DA\",O7=\"WC\")),H7,)","v":0},{"$f":"IF(O7=\"QA\",1,IF(O7=\"DA\",1,IF(O7=\"WC\",2,IF(O7=\"MD\",3,999))))","v":999}]
[2,null,null,null,null,null,null,null,null,null,null,null,999,null,null,0,999]
[3,null,null,null,null,null,null,null,null,null,null,null,999,null,null,0,999]
[4,null,null,null,null,null,null,null,null,null,null,null,999,null,null,0,999]
[5,null,null,null,null,null,null,null,null,null,null,null,999,null,null,0,999]
[6,null,null,null,null,null,null,null,null,null,null,null,999,null,null,0,999]
[7,null,null,null,null,null,null,null,null,null,null,null,999,null,null,0,999]
[8,null,null,null,null,null,null,null,null,null,null,null,999,null,null,0,999]
[9,null,null,null,null,null,null,null,null,null,null,null,999,null,null,0,999]
[10,null,null,null,null,null,null,null,null,null,null,null,999,null,null,0,999]
[11,null,null,null,null,null,null,null,null,null,null,null,999,null,null,0,999]
[12,null,null,null,null,null,null,null,null,null,null,null,999,null,null,0,999]
[13,null,null,null,null,null,null,null,null,null,null,null,999,null,null,0,999]
[14,null,null,null,null,null,null,null,null,null,null,null,999,null,null,0,999]
[15,null,null,null,null,null,null,null,null,null,null,null,999,null,null,0,999]
[16,null,null,null,null,null,null,null,null,null,null,null,999,null,null,0,999]
[17,null,null,null,null,null,null,null,null,null,null,null,999,null,null,0,999]
[18,null,null,null,null,null,null,null,null,null,null,null,999,null,null,0,999]
[19,null,null,null,null,null,null,null,null,null,null,null,999,null,null,0,999]
[20,null,null,null,null,null,null,null,null,null,null,null,999,null,null,0,999]
[21,null,null,null,null,null,null,null,null,null,null,null,999,null,null,0,999]
[22,null,null,null,null,null,null,null,null,null,null,null,999,null,null,0,999]
[23,null,null,null,null,null,null,null,null,null,null,null,999,null,null,0,999]
[24,null,null,null,null,null,null,null,null,null,null,null,999,null,null,0,999]
[25,null,null,null,null,null,null,null,null,null,null,null,999,null,null,0,999]
[26,null,null,null,null,null,null,null,null,null,null,null,999,null,null,0,999]
[27,null,null,null,null,null,null,null,null,null,null,null,999,null,null,0,999]
[28,null,null,null,null,null,null,null,null,null,null,null,999,null,null,0,999]
[29,null,null,null,null,null,null,null,null,null,null,null,999,null,null,0,999]
[30,null,null,null,null,null,null,null,null,null,null,null,999,null,null,0,999]
[31,null,null,null,null,null,null,null,null,null,null,null,999,null,null,0,999]
[32,null,null,null,null,null,null,null,null,null,null,null,999,null,null,0,999]
[33,null,null,null,null,null,null,null,null,null,null,null,{"$f":"IF(R39=\"\",999,R39)","v":999},null,null,{"$f":"IF(AND(H39>0,OR(O39=\"QA\",O39=\"DA\",O39=\"WC\")),H39,)","v":0},{"$f":"IF(O39=\"QA\",1,IF(O39=\"DA\",1,IF(O39=\"WC\",2,IF(O39=\"MD\",3,999))))","v":999}]
[34,null,null,null,null,null,null,null,null,null,null,null,999,null,null,0,999]
[35,null,null,null,null,null,null,null,null,null,null,null,999,null,null,0,999]
[36,null,null,null,null,null,null,null,null,null,null,null,999,null,null,0,999]
[37,null,null,null,null,null,null,null,null,null,null,null,999,null,null,0,999]
[38,null,null,null,null,null,null,null,null,null,null,null,999,null,null,0,999]
[39,null,null,null,null,null,null,null,null,null,null,null,999,null,null,0,999]
[40,null,null,null,null,null,null,null,null,null,null,null,999,null,null,0,999]
[41,null,null,null,null,null,null,null,null,null,null,null,999,null,null,0,999]
[42,null,null,null,null,null,null,null,null,null,null,null,999,null,null,0,999]
[43,null,null,null,null,null,null,null,null,null,null,null,999,null,null,0,999]
[44,null,null,null,null,null,null,null,null,null,null,null,999,null,null,0,999]
[45,null,null,null,null,null,null,null,null,null,null,null,999,null,null,0,999]
[46,null,null,null,null,null,null,null,null,null,null,null,999,null,null,0,999]
[47,null,null,null,null,null,null,null,null,null,null,null,999,null,null,0,999]
[48,null,null,null,null,null,null,null,null,null,null,null,999,null,null,0,999]
[49,null,null,null,null,null,null,null,null,null,null,null,999,null,null,0,999]
[50,null,null,null,null,null,null,null,null,null,null,null,999,null,null,0,999]
[51,null,null,null,null,null,null,null,null,null,null,null,999,null,null,0,999]
[52,null,null,null,null,null,null,null,null,null,null,null,999,null,null,0,999]
[53,null,null,null,null,null,null,null,null,null,null,null,999,null,null,0,999]
[54,null,null,null,null,null,null,null,null,null,null,null,999,null,null,0,999]
[55,null,null,null,null,null,null,null,null,null,null,null,999,null,null,0,999]
[56,null,null,null,null,null,null,null,null,null,null,null,999,null,null,0,999]
[57,null,null,null,null,null,null,null,null,null,null,null,999,null,null,0,999]
[58,null,null,null,null,null,null,null,null,null,null,null,999,null,null,0,999]
[59,null,null,null,null,null,null,null,null,null,null,null,999,null,null,0,999]
[60,null,null,null,null,null,null,null,null,null,null,null,999,null,null,0,999]
[61,null,null,null,null,null,null,null,null,null,null,null,999,null,null,0,999]
[62,null,null,null,null,null,null,null,null,null,null,null,999,null,null,0,999]
[63,null,null,null,null,null,null,null,null,null,null,null,999,null,null,0,999]
[64,null,null,null,null,null,null,null,null,null,null,null,999,null,null,0,999]
[65,null,null,null,null,null,null,null,null,null,null,null,{"$f":"IF(R71=\"\",999,R71)","v":999},null,null,{"$f":"IF(AND(H71>0,OR(O71=\"QA\",O71=\"DA\",O71=\"WC\")),H71,)","v":0},{"$f":"IF(O71=\"QA\",1,IF(O71=\"DA\",1,IF(O71=\"WC\",2,IF(O71=\"MD\",3,999))))","v":999}]
[66,null,null,null,null,null,null,null,null,null,null,null,999,null,null,0,999]
[67,null,null,null,null,null,null,null,null,null,null,null,999,null,null,0,999]
[68,null,null,null,null,null,null,null,null,null,null,null,999,null,null,0,999]
[69,null,null,null,null,null,null,null,null,null,null,null,999,null,null,0,999]
[70,null,null,null,null,null,null,null,null,null,null,null,999,null,null,0,999]
[71,null,null,null,null,null,null,null,null,null,null,null,999,null,null,0,999]
[72,null,null,null,null,null,null,null,null,null,null,null,999,null,null,0,999]
[73,null,null,null,null,null,null,null,null,null,null,null,999,null,null,0,999]
[74,null,null,null,null,null,null,null,null,null,null,null,999,null,null,0,999]
[75,null,null,null,null,null,null,null,null,null,null,null,999,null,null,0,999]
[76,null,null,null,null,null,null,null,null,null,null,null,999,null,null,0,999]
[77,null,null,null,null,null,null,null,null,null,null,null,999,null,null,0,999]
[78,null,null,null,null,null,null,null,null,null,null,null,999,null,null,0,999]
[79,null,null,null,null,null,null,null,null,null,null,null,999,null,null,0,999]
[80,null,null,null,null,null,null,null,null,null,null,null,999,null,null,0,999]
[81,null,null,null,null,null,null,null,null,null,null,null,999,null,null,0,999]
[82,null,null,null,null,null,null,null,null,null,null,null,999,null,null,0,999]
[83,null,null,null,null,null,null,null,null,null,null,null,999,null,null,0,999]
[84,null,null,null,null,null,null,null,null,null,null,null,999,null,null,0,999]
[85,null,null,null,null,null,null,null,null,null,null,null,999,null,null,0,999]
[86,null,null,null,null,null,null,null,null,null,null,null,999,null,null,0,999]
[87,null,null,null,null,null,null,null,null,null,null,null,999,null,null,0,999]
[88,null,null,null,null,null,null,null,null,null,null,null,999,null,null,0,999]
[89,null,null,null,null,null,null,null,null,null,null,null,999,null,null,0,999]
[90,null,null,null,null,null,null,null,null,null,null,null,999,null,null,0,999]
[91,null,null,null,null,null,null,null,null,null,null,null,999,null,null,0,999]
[92,null,null,null,null,null,null,null,null,null,null,null,999,null,null,0,999]
[93,null,null,null,null,null,null,null,null,null,null,null,999,null,null,0,999]
[94,null,null,null,null,null,null,null,null,null,null,null,999,null,null,0,999]
[95,null,null,null,null,null,null,null,null,null,null,null,999,null,null,0,999]
[96,null,null,null,null,null,null,null,null,null,null,null,999,null,null,0,999]
[97,null,null,null,null,null,null,null,null,null,null,null,{"$f":"IF(R103=\"\",999,R103)","v":999},null,null,{"$f":"IF(AND(H103>0,OR(O103=\"QA\",O103=\"DA\",O103=\"WC\")),H103,)","v":0},{"$f":"IF(O103=\"QA\",1,IF(O103=\"DA\",1,IF(O103=\"WC\",2,IF(O103=\"MD\",3,999))))","v":999}]
[98,null,null,null,null,null,null,null,null,null,null,null,999,null,null,0,999]
[99,null,null,null,null,null,null,null,null,null,null,null,999,null,null,0,999]
[100,null,null,null,null,null,null,null,null,null,null,null,999,null,null,0,999]
[101,null,null,null,null,null,null,null,null,null,null,null,999,null,null,0,999]
[102,null,null,null,null,null,null,null,null,null,null,null,999,null,null,0,999]
[103,null,null,null,null,null,null,null,null,null,null,null,999,null,null,0,999]
[104,null,null,null,null,null,null,null,null,null,null,null,999,null,null,0,999]
[105,null,null,null,null,null,null,null,null,null,null,null,999,null,null,0,999]
[106,null,null,null,null,null,null,null,null,null,null,null,999,null,null,0,999]
[107,null,null,null,null,null,null,null,null,null,null,null,999,null,null,0,999]
[108,null,null,null,null,null,null,null,null,null,null,null,999,null,null,0,999]
[109,null,null,null,null,null,null,null,null,null,null,null,999,null,null,0,999]
[110,null,null,null,null,null,null,null,null,null,null,null,999,null,null,0,999]
[111,null,null,null,null,null,null,null,null,null,null,null,999,null,null,0,999]
[112,null,null,null,null,null,null,null,null,null,null,null,999,null,null,0,999]
[113,null,null,null,null,null,null,null,null,null,null,null,999,null,null,0,999]
[114,null,null,null,null,null,null,null,null,null,null,null,999,null,null,0,999]
[115,null,null,null,null,null,null,null,null,null,null,null,999,null,null,0,999]
[116,null,null,null,null,null,null,null,null,null,null,null,999,null,null,0,999]
[117,null,null,null,null,null,null,null,null,null,null,null,999,null,null,0,999]
[118,null,null,null,null,null,null,null,null,null,null,null,999,null,null,0,999]
[119,null,null,null,null,null,null,null,null,null,null,null,999,null,null,0,999]
[120,null,null,null,null,null,null,null,null,null,null,null,999,null,null,0,999]
[121,null,null,null,null,null,null,null,null,null,null,null,999,null,null,0,999]
[122,null,null,null,null,null,null,null,null,null,null,null,999,null,null,0,999]
[123,null,null,null,null,null,null,null,null,null,null,null,999,null,null,0,999]
[124,null,null,null,null,null,null,null,null,null,null,null,999,null,null,0,999]
[125,null,null,null,null,null,null,null,null,null,null,null,999,null,null,0,999]
[126,null,null,null,null,null,null,null,null,null,null,null,999,null,null,0,999]
[127,null,null,null,null,null,null,null,null,null,null,null,999,null,null,0,999]
[128,null,null,null,null,null,null,null,null,null,null,null,999,null,null,0,999]
[129,null,null,null,null,null,null,null,null,null,null,null,{"$f":"IF(R135=\"\",999,R135)","v":999},null,null,{"$f":"IF(AND(H135>0,OR(O135=\"QA\",O135=\"DA\",O135=\"WC\")),H135,)","v":0},{"$f":"IF(O135=\"QA\",1,IF(O135=\"DA\",1,IF(O135=\"WC\",2,IF(O135=\"MD\",3,999))))","v":999}]
[130,null,null,null,null,null,null,null,null,null,null,null,999,null,null,0,999]
[131,null,null,null,null,null,null,null,null,null,null,null,999,null,null,0,999]
[132,null,null,null,null,null,null,null,null,null,null,null,999,null,null,0,999]
[133,null,null,null,null,null,null,null,null,null,null,null,999,null,null,0,999]
[134,null,null,null,null,null,null,null,null,null,null,null,999,null,null,0,999]
[135,null,null,null,null,null,null,null,null,null,null,null,999,null,null,0,999]
[136,null,null,null,null,null,null,null,null,null,null,null,999,null,null,0,999]
[137,null,null,null,null,null,null,null,null,null,null,null,999,null,null,0,999]
[138,null,null,null,null,null,null,null,null,null,null,null,999,null,null,0,999]
[139,null,null,null,null,null,null,null,null,null,null,null,999,null,null,0,999]
[140,null,null,null,null,null,null,null,null,null,null,null,999,null,null,0,999]
[141,null,null,null,null,null,null,null,null,null,null,null,999,null,null,0,999]
[142,null,null,null,null,null,null,null,null,null,null,null,999,null,null,0,999]
[143,null,null,null,null,null,null,null,null,null,null,null,999,null,null,0,999]
[144,null,null,null,null,null,null,null,null,null,null,null,999,null,null,0,999]
[145,null,null,null,null,null,null,null,null,null,null,null,999,null,null,0,999]
[146,null,null,null,null,null,null,null,null,null,null,null,999,null,null,0,999]
[147,null,null,null,null,null,null,null,null,null,null,null,999,null,null,0,999]
[148,null,null,null,null,null,null,null,null,null,null,null,999,null,null,0,999]
[149,null,null,null,null,null,null,null,null,null,null,null,999,null,null,0,999]
[150,null,null,null,null,null,null,null,null,null,null,null,999,null,null,0,999]
[151,null,null,null,null,null,null,null,null,null,null,null,999,null,null,0,999]
[152,null,null,null,null,null,null,null,null,null,null,null,999,null,null,0,999]
[153,null,null,null,null,null,null,null,null,null,null,null,999,null,null,0,999]
[154,null,null,null,null,null,null,null,null,null,null,null,999,null,null,0,999]
[155,null,null,null,null,null,null,null,null,null,null,null,999,null,null,0,999]
[156,null,null,null,null,null,null,null,null,null,null,null,999,null,null,0,999]
[157,null,null,null,null,null,null,null,null,null,null,null,999,null,null,0,999]
[158,null,null,null,null,null,null,null,null,null,null,null,999,null,null,0,999]
[159,null,null,null,null,null,null,null,null,null,null,null,999,null,null,0,999]
[160,null,null,null,null,null,null,null,null,null,null,null,999,null,null,0,999]
[161,null,null,null,null,null,null,null,null,null,null,null,{"$f":"IF(R167=\"\",999,R167)","v":999},null,null,{"$f":"IF(AND(H167>0,OR(O167=\"QA\",O167=\"DA\",O167=\"WC\")),H167,)","v":0},{"$f":"IF(O167=\"QA\",1,IF(O167=\"DA\",1,IF(O167=\"WC\",2,IF(O167=\"MD\",3,999))))","v":999}]
[162,null,null,null,null,null,null,null,null,null,null,null,999,null,null,0,999]
[163,null,null,null,null,null,null,null,null,null,null,null,999,null,null,0,999]
[164,null,null,null,null,null,null,null,null,null,null,null,999,null,null,0,999]
[165,null,null,null,null,null,null,null,null,null,null,null,999,null,null,0,999]
[166,null,null,null,null,null,null,null,null,null,null,null,999,null,null,0,999]
[167,null,null,null,null,null,null,null,null,null,null,null,999,null,null,0,999]
[168,null,null,null,null,null,null,null,null,null,null,null,999,null,null,0,999]
[169,null,null,null,null,null,null,null,null,null,null,null,999,null,null,0,999]
[170,null,null,null,null,null,null,null,null,null,null,null,999,null,null,0,999]
[171,null,null,null,null,null,null,null,null,null,null,null,999,null,null,0,999]
[172,null,null,null,null,null,null,null,null,null,null,null,999,null,null,0,999]
[173,null,null,null,null,null,null,null,null,null,null,null,999,null,null,0,999]
[174,null,null,null,null,null,null,null,null,null,null,null,999,null,null,0,999]
[175,null,null,null,null,null,null,null,null,null,null,null,999,null,null,0,999]
[176,null,null,null,null,null,null,null,null,null,null,null,999,null,null,0,999]
[177,null,null,null,null,null,null,null,null,null,null,null,999,null,null,0,999]
[178,null,null,null,null,null,null,null,null,null,null,null,999,null,null,0,999]
[179,null,null,null,null,null,null,null,null,null,null,null,999,null,null,0,999]
[180,null,null,null,null,null,null,null,null,null,null,null,999,null,null,0,999]
[181,null,null,null,null,null,null,null,null,null,null,null,999,null,null,0,999]
[182,null,null,null,null,null,null,null,null,null,null,null,999,null,null,0,999]
[183,null,null,null,null,null,null,null,null,null,null,null,999,null,null,0,999]
[184,null,null,null,null,null,null,null,null,null,null,null,999,null,null,0,999]
[185,null,null,null,null,null,null,null,null,null,null,null,999,null,null,0,999]
[186,null,null,null,null,null,null,null,null,null,null,null,999,null,null,0,999]
[187,null,null,null,null,null,null,null,null,null,null,null,999,null,null,0,999]
[188,null,null,null,null,null,null,null,null,null,null,null,999,null,null,0,999]
[189,null,null,null,null,null,null,null,null,null,null,null,999,null,null,0,999]
[190,null,null,null,null,null,null,null,null,null,null,null,999,null,null,0,999]
[191,null,null,null,null,null,null,null,null,null,null,null,999,null,null,0,999]
[192,null,null,null,null,null,null,null,null,null,null,null,999,null,null,0,999]
[193,null,null,null,null,null,null,null,null,null,null,null,{"$f":"IF(R199=\"\",999,R199)","v":999},null,null,{"$f":"IF(AND(H199>0,OR(O199=\"QA\",O199=\"DA\",O199=\"WC\")),H199,)","v":0},{"$f":"IF(O199=\"QA\",1,IF(O199=\"DA\",1,IF(O199=\"WC\",2,IF(O199=\"MD\",3,999))))","v":999}]
[194,null,null,null,null,null,null,null,null,null,null,null,999,null,null,0,999]
[195,null,null,null,null,null,null,null,null,null,null,null,999,null,null,0,999]
[196,null,null,null,null,null,null,null,null,null,null,null,999,null,null,0,999]
[197,null,null,null,null,null,null,null,null,null,null,null,999,null,null,0,999]
[198,null,null,null,null,null,null,null,null,null,null,null,999,null,null,0,999]
[199,null,null,null,null,null,null,null,null,null,null,null,999,null,null,0,999]
[200,null,null,null,null,null,null,null,null,null,null,null,999,null,null,0,999]

{"sheet":"Girls Si Qual 16>2","index":34,"n_rows":79,"n_cols":20,"rows_kept":79,"cut":false,"hidden":false,"merged":[[3,0,3,2]]}
[{"$f":"'Week SetUp'!$A$6","v":0},null,null,null,null,null,null,null,null,"GIRLS SINGLES",null,null,null,"CU"]
[{"$f":"'Week SetUp'!$A$8","v":"ITF Junior Circuit"},null,null,null,null,null,null,null,null,"QUALIFYING DRAW (16)"]
["Week of",null,null,null,null,"City, Country",null,null,null,"Group",null,"Tourn. ID",null,null,null,null,"ITF Referee"]
[{"$f":"'Week SetUp'!$A$10","v":"00:00:00"},null,null,null,null,{"$f":"'Week SetUp'!$C$10","v":0},null,null,null,{"$f":"'Week SetUp'!$D$10","v":0},null,{"$f":"'Week SetUp'!$A$12","v":0},null,null,null,null,{"$f":"'Week SetUp'!$E$10","v":0}]
[null,"St.","Rank","Seed","Family Name","First name",null,"Nationality",null,"2nd Round",null,"Finals",null,"Qualifiers"]
[]
[1,{"$f":"IF($D7=\"\",\"\",VLOOKUP($D7,'Girls Si Qual Draw Prep'!$A$7:$P$22,15))","v":""},{"$f":"IF($D7=\"\",\"\",VLOOKUP($D7,'Girls Si Qual Draw Prep'!$A$7:$P$22,16))","v":""},null,{"$f":"UPPER(IF($D7=\"\",\"\",VLOOKUP($D7,'Girls Si Qual Draw Prep'!$A$7:$P$22,2)))","v":""},{"$f":"IF($D7=\"\",\"\",VLOOKUP($D7,'Girls Si Qual Draw Prep'!$A$7:$P$22,3))","v":""},null,{"$f":"IF($D7=\"\",\"\",VLOOKUP($D7,'Girls Si Qual Draw Prep'!$A$7:$P$22,4))","v":""},null,null,null,null,null,null,null,null,null,null,null,{"$f":"'SetUp Officials'!P21","v":"Umpire"}]
[null,null,null,null,null,null,null,"Umpire",null,{"$f":"UPPER(IF(OR(I8=\"a\",I8=\"as\"),E7,IF(OR(I8=\"b\",I8=\"bs\"),E9,)))","v":""},null,null,null,null,null,null,null,null,null,{"$f":"'SetUp Officials'!P22","v":" "}]
[2,{"$f":"IF($D9=\"\",\"\",VLOOKUP($D9,'Girls Si Qual Draw Prep'!$A$7:$P$22,15))","v":""},{"$f":"IF($D9=\"\",\"\",VLOOKUP($D9,'Girls Si Qual Draw Prep'!$A$7:$P$22,16))","v":""},null,{"$f":"UPPER(IF($D9=\"\",\"\",VLOOKUP($D9,'Girls Si Qual Draw Prep'!$A$7:$P$22,2)))","v":""},{"$f":"IF($D9=\"\",\"\",VLOOKUP($D9,'Girls Si Qual Draw Prep'!$A$7:$P$22,3))","v":""},null,{"$f":"IF($D9=\"\",\"\",VLOOKUP($D9,'Girls Si Qual Draw Prep'!$A$7:$P$22,4))","v":""},null,null,null,null,null,null,null,null,null,null,null,{"$f":"'SetUp Officials'!P23","v":" "}]
[null,null,null,null,null,null,null,null,null,"Umpire",null,{"$f":"UPPER(IF(OR(K10=\"a\",K10=\"as\"),J8,IF(OR(K10=\"b\",K10=\"bs\"),J12,)))","v":""},null,null,null,null,null,null,null,{"$f":"'SetUp Officials'!P24","v":" "}]
[3,{"$f":"IF($D11=\"\",\"\",VLOOKUP($D11,'Girls Si Qual Draw Prep'!$A$7:$P$22,15))","v":""},{"$f":"IF($D11=\"\",\"\",VLOOKUP($D11,'Girls Si Qual Draw Prep'!$A$7:$P$22,16))","v":""},null,{"$f":"UPPER(IF($D11=\"\",\"\",VLOOKUP($D11,'Girls Si Qual Draw Prep'!$A$7:$P$22,2)))","v":""},{"$f":"IF($D11=\"\",\"\",VLOOKUP($D11,'Girls Si Qual Draw Prep'!$A$7:$P$22,3))","v":""},null,{"$f":"IF($D11=\"\",\"\",VLOOKUP($D11,'Girls Si Qual Draw Prep'!$A$7:$P$22,4))","v":""},null,null,null,null,null,null,null,null,null,null,null,{"$f":"'SetUp Officials'!P25","v":" "}]
[null,null,null,null,null,null,null,"Umpire",null,{"$f":"UPPER(IF(OR(I12=\"a\",I12=\"as\"),E11,IF(OR(I12=\"b\",I12=\"bs\"),E13,)))","v":""},null,null,null,null,null,null,null,null,null,{"$f":"'SetUp Officials'!P26","v":" "}]
[4,{"$f":"IF($D13=\"\",\"\",VLOOKUP($D13,'Girls Si Qual Draw Prep'!$A$7:$P$22,15))","v":""},{"$f":"IF($D13=\"\",\"\",VLOOKUP($D13,'Girls Si Qual Draw Prep'!$A$7:$P$22,16))","v":""},null,{"$f":"UPPER(IF($D13=\"\",\"\",VLOOKUP($D13,'Girls Si Qual Draw Prep'!$A$7:$P$22,2)))","v":""},{"$f":"IF($D13=\"\",\"\",VLOOKUP($D13,'Girls Si Qual Draw Prep'!$A$7:$P$22,3))","v":""},null,{"$f":"IF($D13=\"\",\"\",VLOOKUP($D13,'Girls Si Qual Draw Prep'!$A$7:$P$22,4))","v":""},null,null,null,null,null,null,null,null,null,null,null,{"$f":"'SetUp Officials'!P27","v":" "}]
[null,null,null,null,null,null,null,null,null,null,null,"Umpire",null,{"$f":"UPPER(IF(OR(M14=\"a\",M14=\"as\"),L10,IF(OR(M14=\"b\",M14=\"bs\"),L18,)))","v":""},null,null,null,null,null,{"$f":"'SetUp Officials'!P28","v":" "}]
[5,{"$f":"IF($D15=\"\",\"\",VLOOKUP($D15,'Girls Si Qual Draw Prep'!$A$7:$P$22,15))","v":""},{"$f":"IF($D15=\"\",\"\",VLOOKUP($D15,'Girls Si Qual Draw Prep'!$A$7:$P$22,16))","v":""},null,{"$f":"UPPER(IF($D15=\"\",\"\",VLOOKUP($D15,'Girls Si Qual Draw Prep'!$A$7:$P$22,2)))","v":""},{"$f":"IF($D15=\"\",\"\",VLOOKUP($D15,'Girls Si Qual Draw Prep'!$A$7:$P$22,3))","v":""},null,{"$f":"IF($D15=\"\",\"\",VLOOKUP($D15,'Girls Si Qual Draw Prep'!$A$7:$P$22,4))","v":""},null,null,null,null,null,null,null,null,null,null,null,{"$f":"'SetUp Officials'!P29","v":" "}]
[null,null,null,null,null,null,null,"Umpire",null,{"$f":"UPPER(IF(OR(I16=\"a\",I16=\"as\"),E15,IF(OR(I16=\"b\",I16=\"bs\"),E17,)))","v":""},null,null,null,null,null,null,null,null,null,{"$f":"'SetUp Officials'!P30","v":"None"}]
[6,{"$f":"IF($D17=\"\",\"\",VLOOKUP($D17,'Girls Si Qual Draw Prep'!$A$7:$P$22,15))","v":""},{"$f":"IF($D17=\"\",\"\",VLOOKUP($D17,'Girls Si Qual Draw Prep'!$A$7:$P$22,16))","v":""},null,{"$f":"UPPER(IF($D17=\"\",\"\",VLOOKUP($D17,'Girls Si Qual Draw Prep'!$A$7:$P$22,2)))","v":""},{"$f":"IF($D17=\"\",\"\",VLOOKUP($D17,'Girls Si Qual Draw Prep'!$A$7:$P$22,3))","v":""},null,{"$f":"IF($D17=\"\",\"\",VLOOKUP($D17,'Girls Si Qual Draw Prep'!$A$7:$P$22,4))","v":""}]
[null,null,null,null,null,null,null,null,null,"Umpire",null,{"$f":"UPPER(IF(OR(K18=\"a\",K18=\"as\"),J16,IF(OR(K18=\"b\",K18=\"bs\"),J20,)))","v":""}]
[7,{"$f":"IF($D19=\"\",\"\",VLOOKUP($D19,'Girls Si Qual Draw Prep'!$A$7:$P$22,15))","v":""},{"$f":"IF($D19=\"\",\"\",VLOOKUP($D19,'Girls Si Qual Draw Prep'!$A$7:$P$22,16))","v":""},null,{"$f":"UPPER(IF($D19=\"\",\"\",VLOOKUP($D19,'Girls Si Qual Draw Prep'!$A$7:$P$22,2)))","v":""},{"$f":"IF($D19=\"\",\"\",VLOOKUP($D19,'Girls Si Qual Draw Prep'!$A$7:$P$22,3))","v":""},null,{"$f":"IF($D19=\"\",\"\",VLOOKUP($D19,'Girls Si Qual Draw Prep'!$A$7:$P$22,4))","v":""}]
[null,null,null,null,null,null,null,"Umpire",null,{"$f":"UPPER(IF(OR(I20=\"a\",I20=\"as\"),E19,IF(OR(I20=\"b\",I20=\"bs\"),E21,)))","v":""}]
[8,{"$f":"IF($D21=\"\",\"\",VLOOKUP($D21,'Girls Si Qual Draw Prep'!$A$7:$P$22,15))","v":""},{"$f":"IF($D21=\"\",\"\",VLOOKUP($D21,'Girls Si Qual Draw Prep'!$A$7:$P$22,16))","v":""},null,{"$f":"UPPER(IF($D21=\"\",\"\",VLOOKUP($D21,'Girls Si Qual Draw Prep'!$A$7:$P$22,2)))","v":""},{"$f":"IF($D21=\"\",\"\",VLOOKUP($D21,'Girls Si Qual Draw Prep'!$A$7:$P$22,3))","v":""},null,{"$f":"IF($D21=\"\",\"\",VLOOKUP($D21,'Girls Si Qual Draw Prep'!$A$7:$P$22,4))","v":""}]
[]
[9,{"$f":"IF($D23=\"\",\"\",VLOOKUP($D23,'Girls Si Qual Draw Prep'!$A$7:$P$22,15))","v":""},{"$f":"IF($D23=\"\",\"\",VLOOKUP($D23,'Girls Si Qual Draw Prep'!$A$7:$P$22,16))","v":""},null,{"$f":"UPPER(IF($D23=\"\",\"\",VLOOKUP($D23,'Girls Si Qual Draw Prep'!$A$7:$P$22,2)))","v":""},{"$f":"IF($D23=\"\",\"\",VLOOKUP($D23,'Girls Si Qual Draw Prep'!$A$7:$P$22,3))","v":""},null,{"$f":"IF($D23=\"\",\"\",VLOOKUP($D23,'Girls Si Qual Draw Prep'!$A$7:$P$22,4))","v":""}]
[null,null,null,null,null,null,null,"Umpire",null,{"$f":"UPPER(IF(OR(I24=\"a\",I24=\"as\"),E23,IF(OR(I24=\"b\",I24=\"bs\"),E25,)))","v":""}]
[10,{"$f":"IF($D25=\"\",\"\",VLOOKUP($D25,'Girls Si Qual Draw Prep'!$A$7:$P$22,15))","v":""},{"$f":"IF($D25=\"\",\"\",VLOOKUP($D25,'Girls Si Qual Draw Prep'!$A$7:$P$22,16))","v":""},null,{"$f":"UPPER(IF($D25=\"\",\"\",VLOOKUP($D25,'Girls Si Qual Draw Prep'!$A$7:$P$22,2)))","v":""},{"$f":"IF($D25=\"\",\"\",VLOOKUP($D25,'Girls Si Qual Draw Prep'!$A$7:$P$22,3))","v":""},null,{"$f":"IF($D25=\"\",\"\",VLOOKUP($D25,'Girls Si Qual Draw Prep'!$A$7:$P$22,4))","v":""}]
[null,null,null,null,null,null,null,null,null,"Umpire",null,{"$f":"UPPER(IF(OR(K26=\"a\",K26=\"as\"),J24,IF(OR(K26=\"b\",K26=\"bs\"),J28,)))","v":""}]
[11,{"$f":"IF($D27=\"\",\"\",VLOOKUP($D27,'Girls Si Qual Draw Prep'!$A$7:$P$22,15))","v":""},{"$f":"IF($D27=\"\",\"\",VLOOKUP($D27,'Girls Si Qual Draw Prep'!$A$7:$P$22,16))","v":""},null,{"$f":"UPPER(IF($D27=\"\",\"\",VLOOKUP($D27,'Girls Si Qual Draw Prep'!$A$7:$P$22,2)))","v":""},{"$f":"IF($D27=\"\",\"\",VLOOKUP($D27,'Girls Si Qual Draw Prep'!$A$7:$P$22,3))","v":""},null,{"$f":"IF($D27=\"\",\"\",VLOOKUP($D27,'Girls Si Qual Draw Prep'!$A$7:$P$22,4))","v":""}]
[null,null,null,null,null,null,null,"Umpire",null,{"$f":"UPPER(IF(OR(I28=\"a\",I28=\"as\"),E27,IF(OR(I28=\"b\",I28=\"bs\"),E29,)))","v":""}]
[12,{"$f":"IF($D29=\"\",\"\",VLOOKUP($D29,'Girls Si Qual Draw Prep'!$A$7:$P$22,15))","v":""},{"$f":"IF($D29=\"\",\"\",VLOOKUP($D29,'Girls Si Qual Draw Prep'!$A$7:$P$22,16))","v":""},null,{"$f":"UPPER(IF($D29=\"\",\"\",VLOOKUP($D29,'Girls Si Qual Draw Prep'!$A$7:$P$22,2)))","v":""},{"$f":"IF($D29=\"\",\"\",VLOOKUP($D29,'Girls Si Qual Draw Prep'!$A$7:$P$22,3))","v":""},null,{"$f":"IF($D29=\"\",\"\",VLOOKUP($D29,'Girls Si Qual Draw Prep'!$A$7:$P$22,4))","v":""}]
[null,null,null,null,null,null,null,null,null,null,null,"Umpire",null,{"$f":"UPPER(IF(OR(M30=\"a\",M30=\"as\"),L26,IF(OR(M30=\"b\",M30=\"bs\"),L34,)))","v":""}]
[13,{"$f":"IF($D31=\"\",\"\",VLOOKUP($D31,'Girls Si Qual Draw Prep'!$A$7:$P$22,15))","v":""},{"$f":"IF($D31=\"\",\"\",VLOOKUP($D31,'Girls Si Qual Draw Prep'!$A$7:$P$22,16))","v":""},null,{"$f":"UPPER(IF($D31=\"\",\"\",VLOOKUP($D31,'Girls Si Qual Draw Prep'!$A$7:$P$22,2)))","v":""},{"$f":"IF($D31=\"\",\"\",VLOOKUP($D31,'Girls Si Qual Draw Prep'!$A$7:$P$22,3))","v":""},null,{"$f":"IF($D31=\"\",\"\",VLOOKUP($D31,'Girls Si Qual Draw Prep'!$A$7:$P$22,4))","v":""}]
[null,null,null,null,null,null,null,"Umpire",null,{"$f":"UPPER(IF(OR(I32=\"a\",I32=\"as\"),E31,IF(OR(I32=\"b\",I32=\"bs\"),E33,)))","v":""}]
[14,{"$f":"IF($D33=\"\",\"\",VLOOKUP($D33,'Girls Si Qual Draw Prep'!$A$7:$P$22,15))","v":""},{"$f":"IF($D33=\"\",\"\",VLOOKUP($D33,'Girls Si Qual Draw Prep'!$A$7:$P$22,16))","v":""},null,{"$f":"UPPER(IF($D33=\"\",\"\",VLOOKUP($D33,'Girls Si Qual Draw Prep'!$A$7:$P$22,2)))","v":""},{"$f":"IF($D33=\"\",\"\",VLOOKUP($D33,'Girls Si Qual Draw Prep'!$A$7:$P$22,3))","v":""},null,{"$f":"IF($D33=\"\",\"\",VLOOKUP($D33,'Girls Si Qual Draw Prep'!$A$7:$P$22,4))","v":""}]
[null,null,null,null,null,null,null,null,null,"Umpire",null,{"$f":"UPPER(IF(OR(K34=\"a\",K34=\"as\"),J32,IF(OR(K34=\"b\",K34=\"bs\"),J36,)))","v":""}]
[15,{"$f":"IF($D35=\"\",\"\",VLOOKUP($D35,'Girls Si Qual Draw Prep'!$A$7:$P$22,15))","v":""},{"$f":"IF($D35=\"\",\"\",VLOOKUP($D35,'Girls Si Qual Draw Prep'!$A$7:$P$22,16))","v":""},null,{"$f":"UPPER(IF($D35=\"\",\"\",VLOOKUP($D35,'Girls Si Qual Draw Prep'!$A$7:$P$22,2)))","v":""},{"$f":"IF($D35=\"\",\"\",VLOOKUP($D35,'Girls Si Qual Draw Prep'!$A$7:$P$22,3))","v":""},null,{"$f":"IF($D35=\"\",\"\",VLOOKUP($D35,'Girls Si Qual Draw Prep'!$A$7:$P$22,4))","v":""}]
[null,null,null,null,null,null,null,"Umpire",null,{"$f":"UPPER(IF(OR(I36=\"a\",I36=\"as\"),E35,IF(OR(I36=\"b\",I36=\"bs\"),E37,)))","v":""}]
[16,{"$f":"IF($D37=\"\",\"\",VLOOKUP($D37,'Girls Si Qual Draw Prep'!$A$7:$P$22,15))","v":""},{"$f":"IF($D37=\"\",\"\",VLOOKUP($D37,'Girls Si Qual Draw Prep'!$A$7:$P$22,16))","v":""},null,{"$f":"UPPER(IF($D37=\"\",\"\",VLOOKUP($D37,'Girls Si Qual Draw Prep'!$A$7:$P$22,2)))","v":""},{"$f":"IF($D37=\"\",\"\",VLOOKUP($D37,'Girls Si Qual Draw Prep'!$A$7:$P$22,3))","v":""},null,{"$f":"IF($D37=\"\",\"\",VLOOKUP($D37,'Girls Si Qual Draw Prep'!$A$7:$P$22,4))","v":""}]
[]
[]
[]
[]
[]
[]
[]
[]
[]
[]
[]
[]
[]
[]
[]
[]
[]
[]
[]
[]
[]
[]
[]
[]
[]
[]
[]
[]
[]
[]
[]
[]
[]
["Acc. Ranking",null,null,"#","Seeded players",null,null,null,"#","Alternates",null,"Replacing",null,"Draw date/time:"]
["Rkg Date",null,null,1,{"$f":"IF(D72>$Q$79,,UPPER(VLOOKUP(D72,'Girls Si Qual Draw Prep'!$A$7:$R$134,2)))","v":0},null,null,null,"1",null,null,null,null,"Last Accepted player"]
["Top DA",null,null,2,{"$f":"IF(D73>$Q$79,,UPPER(VLOOKUP(D73,'Girls Si Qual Draw Prep'!$A$7:$R$134,2)))","v":0},null,null,null,"2"]
["Last DA",null,null,3,{"$f":"IF(D74>$Q$79,,UPPER(VLOOKUP(D74,'Girls Si Qual Draw Prep'!$A$7:$R$134,2)))","v":0},null,null,null,"3",null,null,null,null,"Player representatives"]
[null,null,null,4,{"$f":"IF(D75>$Q$79,,UPPER(VLOOKUP(D75,'Girls Si Qual Draw Prep'!$A$7:$R$134,2)))","v":0},null,null,null,"4"]
["Seed ranking",null,null,null,null,null,null,null,"5"]
["Rkg Date",null,null,null,null,null,null,null,"6",null,null,null,null,"ITF Referee's signature"]
["Top seed",null,null,null,null,null,null,null,"7"]
["Last seed",null,null,null,null,null,null,null,"8",null,null,null,null,{"$f":"Q4","v":0},null,null,{"$f":"MIN(4,'Girls Si Qual Draw Prep'!R5)","v":0}]

{"sheet":"Girls Si Qual 24>2","index":35,"n_rows":79,"n_cols":20,"rows_kept":79,"cut":false,"hidden":false,"merged":[[3,0,3,2]]}
[{"$f":"'Week SetUp'!$A$6","v":0},null,null,null,null,null,null,null,null,"GIRLS SINGLES",null,null,null,"CU"]
[{"$f":"'Week SetUp'!$A$8","v":"ITF Junior Circuit"},null,null,null,null,null,null,null,null,"QUALIFYING DRAW (24)"]
["Week of",null,null,null,null,"City, Country",null,null,null,"Group",null,"Tourn. ID",null,null,null,null,"ITF Referee"]
[{"$f":"'Week SetUp'!$A$10","v":"00:00:00"},null,null,null,null,{"$f":"'Week SetUp'!$C$10","v":0},null,null,null,{"$f":"'Week SetUp'!$D$10","v":0},null,{"$f":"'Week SetUp'!$A$12","v":0},null,null,null,null,{"$f":"'Week SetUp'!$E$10","v":0}]
[null,"St.","Rank","Seed","Family Name","First name",null,"Nationality",null,"2nd Round",null,"3rd Round",null,"Finals",null,"Qualifiers"]
[]
[1,{"$f":"IF($D7=\"\",\"\",VLOOKUP($D7,'Girls Si Qual Draw Prep'!$A$7:$P$30,15))","v":""},{"$f":"IF($D7=\"\",\"\",VLOOKUP($D7,'Girls Si Qual Draw Prep'!$A$7:$P$30,16))","v":""},null,{"$f":"UPPER(IF($D7=\"\",\"\",VLOOKUP($D7,'Girls Si Qual Draw Prep'!$A$7:$P$30,2)))","v":""},{"$f":"IF($D7=\"\",\"\",VLOOKUP($D7,'Girls Si Qual Draw Prep'!$A$7:$P$30,3))","v":""},null,{"$f":"IF($D7=\"\",\"\",VLOOKUP($D7,'Girls Si Qual Draw Prep'!$A$7:$P$30,4))","v":""},null,null,null,null,null,null,null,null,null,null,null,{"$f":"'SetUp Officials'!P21","v":"Umpire"}]
[null,null,null,null,null,null,null,null,"as",{"$f":"UPPER(IF(OR(I8=\"a\",I8=\"as\"),E7,IF(OR(I8=\"b\",I8=\"bs\"),E9,)))","v":""},null,null,null,null,null,null,null,null,null,{"$f":"'SetUp Officials'!P22","v":" "}]
[2,{"$f":"IF($D9=\"\",\"\",VLOOKUP($D9,'Girls Si Qual Draw Prep'!$A$7:$P$30,15))","v":""},{"$f":"IF($D9=\"\",\"\",VLOOKUP($D9,'Girls Si Qual Draw Prep'!$A$7:$P$30,16))","v":""},null,"Bye",{"$f":"IF($D9=\"\",\"\",VLOOKUP($D9,'Girls Si Qual Draw Prep'!$A$7:$P$30,3))","v":""},null,{"$f":"IF($D9=\"\",\"\",VLOOKUP($D9,'Girls Si Qual Draw Prep'!$A$7:$P$30,4))","v":""},null,null,null,null,null,null,null,null,null,null,null,{"$f":"'SetUp Officials'!P23","v":" "}]
[null,null,null,null,null,null,null,null,null,"Umpire",null,{"$f":"UPPER(IF(OR(K10=\"a\",K10=\"as\"),J8,IF(OR(K10=\"b\",K10=\"bs\"),J12,)))","v":""},null,null,null,null,null,null,null,{"$f":"'SetUp Officials'!P24","v":" "}]
[3,{"$f":"IF($D11=\"\",\"\",VLOOKUP($D11,'Girls Si Qual Draw Prep'!$A$7:$P$30,15))","v":""},{"$f":"IF($D11=\"\",\"\",VLOOKUP($D11,'Girls Si Qual Draw Prep'!$A$7:$P$30,16))","v":""},null,{"$f":"UPPER(IF($D11=\"\",\"\",VLOOKUP($D11,'Girls Si Qual Draw Prep'!$A$7:$P$30,2)))","v":""},{"$f":"IF($D11=\"\",\"\",VLOOKUP($D11,'Girls Si Qual Draw Prep'!$A$7:$P$30,3))","v":""},null,{"$f":"IF($D11=\"\",\"\",VLOOKUP($D11,'Girls Si Qual Draw Prep'!$A$7:$P$30,4))","v":""},null,null,null,null,null,null,null,null,null,null,null,{"$f":"'SetUp Officials'!P25","v":" "}]
[null,null,null,null,null,null,null,"Umpire",null,{"$f":"UPPER(IF(OR(I12=\"a\",I12=\"as\"),E11,IF(OR(I12=\"b\",I12=\"bs\"),E13,)))","v":""},null,null,null,null,null,null,null,null,null,{"$f":"'SetUp Officials'!P26","v":" "}]
[4,{"$f":"IF($D13=\"\",\"\",VLOOKUP($D13,'Girls Si Qual Draw Prep'!$A$7:$P$30,15))","v":""},{"$f":"IF($D13=\"\",\"\",VLOOKUP($D13,'Girls Si Qual Draw Prep'!$A$7:$P$30,16))","v":""},null,{"$f":"UPPER(IF($D13=\"\",\"\",VLOOKUP($D13,'Girls Si Qual Draw Prep'!$A$7:$P$30,2)))","v":""},{"$f":"IF($D13=\"\",\"\",VLOOKUP($D13,'Girls Si Qual Draw Prep'!$A$7:$P$30,3))","v":""},null,{"$f":"IF($D13=\"\",\"\",VLOOKUP($D13,'Girls Si Qual Draw Prep'!$A$7:$P$30,4))","v":""},null,null,null,null,null,null,null,null,null,null,null,{"$f":"'SetUp Officials'!P27","v":" "}]
[null,null,null,null,null,null,null,null,null,null,null,"Umpire",null,{"$f":"UPPER(IF(OR(M14=\"a\",M14=\"as\"),L10,IF(OR(M14=\"b\",M14=\"bs\"),L18,)))","v":""},null,null,null,null,null,{"$f":"'SetUp Officials'!P28","v":" "}]
[5,{"$f":"IF($D15=\"\",\"\",VLOOKUP($D15,'Girls Si Qual Draw Prep'!$A$7:$P$30,15))","v":""},{"$f":"IF($D15=\"\",\"\",VLOOKUP($D15,'Girls Si Qual Draw Prep'!$A$7:$P$30,16))","v":""},null,{"$f":"UPPER(IF($D15=\"\",\"\",VLOOKUP($D15,'Girls Si Qual Draw Prep'!$A$7:$P$30,2)))","v":""},{"$f":"IF($D15=\"\",\"\",VLOOKUP($D15,'Girls Si Qual Draw Prep'!$A$7:$P$30,3))","v":""},null,{"$f":"IF($D15=\"\",\"\",VLOOKUP($D15,'Girls Si Qual Draw Prep'!$A$7:$P$30,4))","v":""},null,null,null,null,null,null,null,null,null,null,null,{"$f":"'SetUp Officials'!P29","v":" "}]
[null,null,null,null,null,null,null,"Umpire",null,{"$f":"UPPER(IF(OR(I16=\"a\",I16=\"as\"),E15,IF(OR(I16=\"b\",I16=\"bs\"),E17,)))","v":""},null,null,null,null,null,null,null,null,null,{"$f":"'SetUp Officials'!P30","v":"None"}]
[6,{"$f":"IF($D17=\"\",\"\",VLOOKUP($D17,'Girls Si Qual Draw Prep'!$A$7:$P$30,15))","v":""},{"$f":"IF($D17=\"\",\"\",VLOOKUP($D17,'Girls Si Qual Draw Prep'!$A$7:$P$30,16))","v":""},null,{"$f":"UPPER(IF($D17=\"\",\"\",VLOOKUP($D17,'Girls Si Qual Draw Prep'!$A$7:$P$30,2)))","v":""},{"$f":"IF($D17=\"\",\"\",VLOOKUP($D17,'Girls Si Qual Draw Prep'!$A$7:$P$30,3))","v":""},null,{"$f":"IF($D17=\"\",\"\",VLOOKUP($D17,'Girls Si Qual Draw Prep'!$A$7:$P$30,4))","v":""}]
[null,null,null,null,null,null,null,null,null,"Umpire",null,{"$f":"UPPER(IF(OR(K18=\"a\",K18=\"as\"),J16,IF(OR(K18=\"b\",K18=\"bs\"),J20,)))","v":""}]
[7,{"$f":"IF($D19=\"\",\"\",VLOOKUP($D19,'Girls Si Qual Draw Prep'!$A$7:$P$30,15))","v":""},{"$f":"IF($D19=\"\",\"\",VLOOKUP($D19,'Girls Si Qual Draw Prep'!$A$7:$P$30,16))","v":""},null,"Bye",{"$f":"IF($D19=\"\",\"\",VLOOKUP($D19,'Girls Si Qual Draw Prep'!$A$7:$P$30,3))","v":""},null,{"$f":"IF($D19=\"\",\"\",VLOOKUP($D19,'Girls Si Qual Draw Prep'!$A$7:$P$30,4))","v":""}]
[null,null,null,null,null,null,null,null,"bs",{"$f":"UPPER(IF(OR(I20=\"a\",I20=\"as\"),E19,IF(OR(I20=\"b\",I20=\"bs\"),E21,)))","v":""}]
[8,{"$f":"IF($D21=\"\",\"\",VLOOKUP($D21,'Girls Si Qual Draw Prep'!$A$7:$P$30,15))","v":""},{"$f":"IF($D21=\"\",\"\",VLOOKUP($D21,'Girls Si Qual Draw Prep'!$A$7:$P$30,16))","v":""},null,{"$f":"UPPER(IF($D21=\"\",\"\",VLOOKUP($D21,'Girls Si Qual Draw Prep'!$A$7:$P$30,2)))","v":""},{"$f":"IF($D21=\"\",\"\",VLOOKUP($D21,'Girls Si Qual Draw Prep'!$A$7:$P$30,3))","v":""},null,{"$f":"IF($D21=\"\",\"\",VLOOKUP($D21,'Girls Si Qual Draw Prep'!$A$7:$P$30,4))","v":""}]
[null,null,null,null,null,null,null,null,null,null,null,null,null,"Umpire",null,{"$f":"UPPER(IF(OR(O22=\"a\",O22=\"as\"),N14,IF(OR(O22=\"b\",O22=\"bs\"),N30,)))","v":""}]
[9,{"$f":"IF($D23=\"\",\"\",VLOOKUP($D23,'Girls Si Qual Draw Prep'!$A$7:$P$30,15))","v":""},{"$f":"IF($D23=\"\",\"\",VLOOKUP($D23,'Girls Si Qual Draw Prep'!$A$7:$P$30,16))","v":""},null,{"$f":"UPPER(IF($D23=\"\",\"\",VLOOKUP($D23,'Girls Si Qual Draw Prep'!$A$7:$P$30,2)))","v":""},{"$f":"IF($D23=\"\",\"\",VLOOKUP($D23,'Girls Si Qual Draw Prep'!$A$7:$P$30,3))","v":""},null,{"$f":"IF($D23=\"\",\"\",VLOOKUP($D23,'Girls Si Qual Draw Prep'!$A$7:$P$30,4))","v":""}]
[null,null,null,null,null,null,null,null,"as",{"$f":"UPPER(IF(OR(I24=\"a\",I24=\"as\"),E23,IF(OR(I24=\"b\",I24=\"bs\"),E25,)))","v":""}]
[10,{"$f":"IF($D25=\"\",\"\",VLOOKUP($D25,'Girls Si Qual Draw Prep'!$A$7:$P$30,15))","v":""},{"$f":"IF($D25=\"\",\"\",VLOOKUP($D25,'Girls Si Qual Draw Prep'!$A$7:$P$30,16))","v":""},null,"Bye",{"$f":"IF($D25=\"\",\"\",VLOOKUP($D25,'Girls Si Qual Draw Prep'!$A$7:$P$30,3))","v":""},null,{"$f":"IF($D25=\"\",\"\",VLOOKUP($D25,'Girls Si Qual Draw Prep'!$A$7:$P$30,4))","v":""}]
[null,null,null,null,null,null,null,null,null,"Umpire",null,{"$f":"UPPER(IF(OR(K26=\"a\",K26=\"as\"),J24,IF(OR(K26=\"b\",K26=\"bs\"),J28,)))","v":""}]
[11,{"$f":"IF($D27=\"\",\"\",VLOOKUP($D27,'Girls Si Qual Draw Prep'!$A$7:$P$30,15))","v":""},{"$f":"IF($D27=\"\",\"\",VLOOKUP($D27,'Girls Si Qual Draw Prep'!$A$7:$P$30,16))","v":""},null,{"$f":"UPPER(IF($D27=\"\",\"\",VLOOKUP($D27,'Girls Si Qual Draw Prep'!$A$7:$P$30,2)))","v":""},{"$f":"IF($D27=\"\",\"\",VLOOKUP($D27,'Girls Si Qual Draw Prep'!$A$7:$P$30,3))","v":""},null,{"$f":"IF($D27=\"\",\"\",VLOOKUP($D27,'Girls Si Qual Draw Prep'!$A$7:$P$30,4))","v":""}]
[null,null,null,null,null,null,null,"Umpire",null,{"$f":"UPPER(IF(OR(I28=\"a\",I28=\"as\"),E27,IF(OR(I28=\"b\",I28=\"bs\"),E29,)))","v":""}]
[12,{"$f":"IF($D29=\"\",\"\",VLOOKUP($D29,'Girls Si Qual Draw Prep'!$A$7:$P$30,15))","v":""},{"$f":"IF($D29=\"\",\"\",VLOOKUP($D29,'Girls Si Qual Draw Prep'!$A$7:$P$30,16))","v":""},null,{"$f":"UPPER(IF($D29=\"\",\"\",VLOOKUP($D29,'Girls Si Qual Draw Prep'!$A$7:$P$30,2)))","v":""},{"$f":"IF($D29=\"\",\"\",VLOOKUP($D29,'Girls Si Qual Draw Prep'!$A$7:$P$30,3))","v":""},null,{"$f":"IF($D29=\"\",\"\",VLOOKUP($D29,'Girls Si Qual Draw Prep'!$A$7:$P$30,4))","v":""}]
[null,null,null,null,null,null,null,null,null,null,null,"Umpire",null,{"$f":"UPPER(IF(OR(M30=\"a\",M30=\"as\"),L26,IF(OR(M30=\"b\",M30=\"bs\"),L34,)))","v":""}]
[13,{"$f":"IF($D31=\"\",\"\",VLOOKUP($D31,'Girls Si Qual Draw Prep'!$A$7:$P$30,15))","v":""},{"$f":"IF($D31=\"\",\"\",VLOOKUP($D31,'Girls Si Qual Draw Prep'!$A$7:$P$30,16))","v":""},null,{"$f":"UPPER(IF($D31=\"\",\"\",VLOOKUP($D31,'Girls Si Qual Draw Prep'!$A$7:$P$30,2)))","v":""},{"$f":"IF($D31=\"\",\"\",VLOOKUP($D31,'Girls Si Qual Draw Prep'!$A$7:$P$30,3))","v":""},null,{"$f":"IF($D31=\"\",\"\",VLOOKUP($D31,'Girls Si Qual Draw Prep'!$A$7:$P$30,4))","v":""}]
[null,null,null,null,null,null,null,"Umpire",null,{"$f":"UPPER(IF(OR(I32=\"a\",I32=\"as\"),E31,IF(OR(I32=\"b\",I32=\"bs\"),E33,)))","v":""}]
[14,{"$f":"IF($D33=\"\",\"\",VLOOKUP($D33,'Girls Si Qual Draw Prep'!$A$7:$P$30,15))","v":""},{"$f":"IF($D33=\"\",\"\",VLOOKUP($D33,'Girls Si Qual Draw Prep'!$A$7:$P$30,16))","v":""},null,{"$f":"UPPER(IF($D33=\"\",\"\",VLOOKUP($D33,'Girls Si Qual Draw Prep'!$A$7:$P$30,2)))","v":""},{"$f":"IF($D33=\"\",\"\",VLOOKUP($D33,'Girls Si Qual Draw Prep'!$A$7:$P$30,3))","v":""},null,{"$f":"IF($D33=\"\",\"\",VLOOKUP($D33,'Girls Si Qual Draw Prep'!$A$7:$P$30,4))","v":""}]
[null,null,null,null,null,null,null,null,null,"Umpire",null,{"$f":"UPPER(IF(OR(K34=\"a\",K34=\"as\"),J32,IF(OR(K34=\"b\",K34=\"bs\"),J36,)))","v":""}]
[15,{"$f":"IF($D35=\"\",\"\",VLOOKUP($D35,'Girls Si Qual Draw Prep'!$A$7:$P$30,15))","v":""},{"$f":"IF($D35=\"\",\"\",VLOOKUP($D35,'Girls Si Qual Draw Prep'!$A$7:$P$30,16))","v":""},null,"Bye",{"$f":"IF($D35=\"\",\"\",VLOOKUP($D35,'Girls Si Qual Draw Prep'!$A$7:$P$30,3))","v":""},null,{"$f":"IF($D35=\"\",\"\",VLOOKUP($D35,'Girls Si Qual Draw Prep'!$A$7:$P$30,4))","v":""}]
[null,null,null,null,null,null,null,null,"bs",{"$f":"UPPER(IF(OR(I36=\"a\",I36=\"as\"),E35,IF(OR(I36=\"b\",I36=\"bs\"),E37,)))","v":""}]
[16,{"$f":"IF($D37=\"\",\"\",VLOOKUP($D37,'Girls Si Qual Draw Prep'!$A$7:$P$30,15))","v":""},{"$f":"IF($D37=\"\",\"\",VLOOKUP($D37,'Girls Si Qual Draw Prep'!$A$7:$P$30,16))","v":""},null,{"$f":"UPPER(IF($D37=\"\",\"\",VLOOKUP($D37,'Girls Si Qual Draw Prep'!$A$7:$P$30,2)))","v":""},{"$f":"IF($D37=\"\",\"\",VLOOKUP($D37,'Girls Si Qual Draw Prep'!$A$7:$P$30,3))","v":""},null,{"$f":"IF($D37=\"\",\"\",VLOOKUP($D37,'Girls Si Qual Draw Prep'!$A$7:$P$30,4))","v":""}]
[]
[17,{"$f":"IF($D39=\"\",\"\",VLOOKUP($D39,'Girls Si Qual Draw Prep'!$A$7:$P$30,15))","v":""},{"$f":"IF($D39=\"\",\"\",VLOOKUP($D39,'Girls Si Qual Draw Prep'!$A$7:$P$30,16))","v":""},null,{"$f":"UPPER(IF($D39=\"\",\"\",VLOOKUP($D39,'Girls Si Qual Draw Prep'!$A$7:$P$30,2)))","v":""},{"$f":"IF($D39=\"\",\"\",VLOOKUP($D39,'Girls Si Qual Draw Prep'!$A$7:$P$30,3))","v":""},null,{"$f":"IF($D39=\"\",\"\",VLOOKUP($D39,'Girls Si Qual Draw Prep'!$A$7:$P$30,4))","v":""}]
[null,null,null,null,null,null,null,null,"as",{"$f":"UPPER(IF(OR(I40=\"a\",I40=\"as\"),E39,IF(OR(I40=\"b\",I40=\"bs\"),E41,)))","v":""}]
[18,{"$f":"IF($D41=\"\",\"\",VLOOKUP($D41,'Girls Si Qual Draw Prep'!$A$7:$P$30,15))","v":""},{"$f":"IF($D41=\"\",\"\",VLOOKUP($D41,'Girls Si Qual Draw Prep'!$A$7:$P$30,16))","v":""},null,"Bye",{"$f":"IF($D41=\"\",\"\",VLOOKUP($D41,'Girls Si Qual Draw Prep'!$A$7:$P$30,3))","v":""},null,{"$f":"IF($D41=\"\",\"\",VLOOKUP($D41,'Girls Si Qual Draw Prep'!$A$7:$P$30,4))","v":""}]
[null,null,null,null,null,null,null,null,null,"Umpire",null,{"$f":"UPPER(IF(OR(K42=\"a\",K42=\"as\"),J40,IF(OR(K42=\"b\",K42=\"bs\"),J44,)))","v":""}]
[19,{"$f":"IF($D43=\"\",\"\",VLOOKUP($D43,'Girls Si Qual Draw Prep'!$A$7:$P$30,15))","v":""},{"$f":"IF($D43=\"\",\"\",VLOOKUP($D43,'Girls Si Qual Draw Prep'!$A$7:$P$30,16))","v":""},null,{"$f":"UPPER(IF($D43=\"\",\"\",VLOOKUP($D43,'Girls Si Qual Draw Prep'!$A$7:$P$30,2)))","v":""},{"$f":"IF($D43=\"\",\"\",VLOOKUP($D43,'Girls Si Qual Draw Prep'!$A$7:$P$30,3))","v":""},null,{"$f":"IF($D43=\"\",\"\",VLOOKUP($D43,'Girls Si Qual Draw Prep'!$A$7:$P$30,4))","v":""}]
[null,null,null,null,null,null,null,"Umpire",null,{"$f":"UPPER(IF(OR(I44=\"a\",I44=\"as\"),E43,IF(OR(I44=\"b\",I44=\"bs\"),E45,)))","v":""}]
[20,{"$f":"IF($D45=\"\",\"\",VLOOKUP($D45,'Girls Si Qual Draw Prep'!$A$7:$P$30,15))","v":""},{"$f":"IF($D45=\"\",\"\",VLOOKUP($D45,'Girls Si Qual Draw Prep'!$A$7:$P$30,16))","v":""},null,{"$f":"UPPER(IF($D45=\"\",\"\",VLOOKUP($D45,'Girls Si Qual Draw Prep'!$A$7:$P$30,2)))","v":""},{"$f":"IF($D45=\"\",\"\",VLOOKUP($D45,'Girls Si Qual Draw Prep'!$A$7:$P$30,3))","v":""},null,{"$f":"IF($D45=\"\",\"\",VLOOKUP($D45,'Girls Si Qual Draw Prep'!$A$7:$P$30,4))","v":""}]
[null,null,null,null,null,null,null,null,null,null,null,"Umpire",null,{"$f":"UPPER(IF(OR(M46=\"a\",M46=\"as\"),L42,IF(OR(M46=\"b\",M46=\"bs\"),L50,)))","v":""}]
[21,{"$f":"IF($D47=\"\",\"\",VLOOKUP($D47,'Girls Si Qual Draw Prep'!$A$7:$P$30,15))","v":""},{"$f":"IF($D47=\"\",\"\",VLOOKUP($D47,'Girls Si Qual Draw Prep'!$A$7:$P$30,16))","v":""},null,{"$f":"UPPER(IF($D47=\"\",\"\",VLOOKUP($D47,'Girls Si Qual Draw Prep'!$A$7:$P$30,2)))","v":""},{"$f":"IF($D47=\"\",\"\",VLOOKUP($D47,'Girls Si Qual Draw Prep'!$A$7:$P$30,3))","v":""},null,{"$f":"IF($D47=\"\",\"\",VLOOKUP($D47,'Girls Si Qual Draw Prep'!$A$7:$P$30,4))","v":""}]
[null,null,null,null,null,null,null,"Umpire",null,{"$f":"UPPER(IF(OR(I48=\"a\",I48=\"as\"),E47,IF(OR(I48=\"b\",I48=\"bs\"),E49,)))","v":""}]
[22,{"$f":"IF($D49=\"\",\"\",VLOOKUP($D49,'Girls Si Qual Draw Prep'!$A$7:$P$30,15))","v":""},{"$f":"IF($D49=\"\",\"\",VLOOKUP($D49,'Girls Si Qual Draw Prep'!$A$7:$P$30,16))","v":""},null,{"$f":"UPPER(IF($D49=\"\",\"\",VLOOKUP($D49,'Girls Si Qual Draw Prep'!$A$7:$P$30,2)))","v":""},{"$f":"IF($D49=\"\",\"\",VLOOKUP($D49,'Girls Si Qual Draw Prep'!$A$7:$P$30,3))","v":""},null,{"$f":"IF($D49=\"\",\"\",VLOOKUP($D49,'Girls Si Qual Draw Prep'!$A$7:$P$30,4))","v":""}]
[null,null,null,null,null,null,null,null,null,"Umpire",null,{"$f":"UPPER(IF(OR(K50=\"a\",K50=\"as\"),J48,IF(OR(K50=\"b\",K50=\"bs\"),J52,)))","v":""}]
[23,{"$f":"IF($D51=\"\",\"\",VLOOKUP($D51,'Girls Si Qual Draw Prep'!$A$7:$P$30,15))","v":""},{"$f":"IF($D51=\"\",\"\",VLOOKUP($D51,'Girls Si Qual Draw Prep'!$A$7:$P$30,16))","v":""},null,"Bye",{"$f":"IF($D51=\"\",\"\",VLOOKUP($D51,'Girls Si Qual Draw Prep'!$A$7:$P$30,3))","v":""},null,{"$f":"IF($D51=\"\",\"\",VLOOKUP($D51,'Girls Si Qual Draw Prep'!$A$7:$P$30,4))","v":""}]
[null,null,null,null,null,null,null,null,"bs",{"$f":"UPPER(IF(OR(I52=\"a\",I52=\"as\"),E51,IF(OR(I52=\"b\",I52=\"bs\"),E53,)))","v":""}]
[24,{"$f":"IF($D53=\"\",\"\",VLOOKUP($D53,'Girls Si Qual Draw Prep'!$A$7:$P$30,15))","v":""},{"$f":"IF($D53=\"\",\"\",VLOOKUP($D53,'Girls Si Qual Draw Prep'!$A$7:$P$30,16))","v":""},null,{"$f":"UPPER(IF($D53=\"\",\"\",VLOOKUP($D53,'Girls Si Qual Draw Prep'!$A$7:$P$30,2)))","v":""},{"$f":"IF($D53=\"\",\"\",VLOOKUP($D53,'Girls Si Qual Draw Prep'!$A$7:$P$30,3))","v":""},null,{"$f":"IF($D53=\"\",\"\",VLOOKUP($D53,'Girls Si Qual Draw Prep'!$A$7:$P$30,4))","v":""}]
[null,null,null,null,null,null,null,null,null,null,null,null,null,"Umpire",null,{"$f":"UPPER(IF(OR(O54=\"a\",O54=\"as\"),N46,IF(OR(O54=\"b\",O54=\"bs\"),N62,)))","v":""}]
[25,{"$f":"IF($D55=\"\",\"\",VLOOKUP($D55,'Girls Si Qual Draw Prep'!$A$7:$P$30,15))","v":""},{"$f":"IF($D55=\"\",\"\",VLOOKUP($D55,'Girls Si Qual Draw Prep'!$A$7:$P$30,16))","v":""},null,{"$f":"UPPER(IF($D55=\"\",\"\",VLOOKUP($D55,'Girls Si Qual Draw Prep'!$A$7:$P$30,2)))","v":""},{"$f":"IF($D55=\"\",\"\",VLOOKUP($D55,'Girls Si Qual Draw Prep'!$A$7:$P$30,3))","v":""},null,{"$f":"IF($D55=\"\",\"\",VLOOKUP($D55,'Girls Si Qual Draw Prep'!$A$7:$P$30,4))","v":""}]
[null,null,null,null,null,null,null,null,"as",{"$f":"UPPER(IF(OR(I56=\"a\",I56=\"as\"),E55,IF(OR(I56=\"b\",I56=\"bs\"),E57,)))","v":""}]
[26,{"$f":"IF($D57=\"\",\"\",VLOOKUP($D57,'Girls Si Qual Draw Prep'!$A$7:$P$30,15))","v":""},{"$f":"IF($D57=\"\",\"\",VLOOKUP($D57,'Girls Si Qual Draw Prep'!$A$7:$P$30,16))","v":""},null,"Bye",{"$f":"IF($D57=\"\",\"\",VLOOKUP($D57,'Girls Si Qual Draw Prep'!$A$7:$P$30,3))","v":""},null,{"$f":"IF($D57=\"\",\"\",VLOOKUP($D57,'Girls Si Qual Draw Prep'!$A$7:$P$30,4))","v":""}]
[null,null,null,null,null,null,null,null,null,"Umpire",null,{"$f":"UPPER(IF(OR(K58=\"a\",K58=\"as\"),J56,IF(OR(K58=\"b\",K58=\"bs\"),J60,)))","v":""}]
[27,{"$f":"IF($D59=\"\",\"\",VLOOKUP($D59,'Girls Si Qual Draw Prep'!$A$7:$P$30,15))","v":""},{"$f":"IF($D59=\"\",\"\",VLOOKUP($D59,'Girls Si Qual Draw Prep'!$A$7:$P$30,16))","v":""},null,{"$f":"UPPER(IF($D59=\"\",\"\",VLOOKUP($D59,'Girls Si Qual Draw Prep'!$A$7:$P$30,2)))","v":""},{"$f":"IF($D59=\"\",\"\",VLOOKUP($D59,'Girls Si Qual Draw Prep'!$A$7:$P$30,3))","v":""},null,{"$f":"IF($D59=\"\",\"\",VLOOKUP($D59,'Girls Si Qual Draw Prep'!$A$7:$P$30,4))","v":""}]
[null,null,null,null,null,null,null,"Umpire",null,{"$f":"UPPER(IF(OR(I60=\"a\",I60=\"as\"),E59,IF(OR(I60=\"b\",I60=\"bs\"),E61,)))","v":""}]
[28,{"$f":"IF($D61=\"\",\"\",VLOOKUP($D61,'Girls Si Qual Draw Prep'!$A$7:$P$30,15))","v":""},{"$f":"IF($D61=\"\",\"\",VLOOKUP($D61,'Girls Si Qual Draw Prep'!$A$7:$P$30,16))","v":""},null,{"$f":"UPPER(IF($D61=\"\",\"\",VLOOKUP($D61,'Girls Si Qual Draw Prep'!$A$7:$P$30,2)))","v":""},{"$f":"IF($D61=\"\",\"\",VLOOKUP($D61,'Girls Si Qual Draw Prep'!$A$7:$P$30,3))","v":""},null,{"$f":"IF($D61=\"\",\"\",VLOOKUP($D61,'Girls Si Qual Draw Prep'!$A$7:$P$30,4))","v":""}]
[null,null,null,null,null,null,null,null,null,null,null,"Umpire",null,{"$f":"UPPER(IF(OR(M62=\"a\",M62=\"as\"),L58,IF(OR(M62=\"b\",M62=\"bs\"),L66,)))","v":""}]
[29,{"$f":"IF($D63=\"\",\"\",VLOOKUP($D63,'Girls Si Qual Draw Prep'!$A$7:$P$30,15))","v":""},{"$f":"IF($D63=\"\",\"\",VLOOKUP($D63,'Girls Si Qual Draw Prep'!$A$7:$P$30,16))","v":""},null,{"$f":"UPPER(IF($D63=\"\",\"\",VLOOKUP($D63,'Girls Si Qual Draw Prep'!$A$7:$P$30,2)))","v":""},{"$f":"IF($D63=\"\",\"\",VLOOKUP($D63,'Girls Si Qual Draw Prep'!$A$7:$P$30,3))","v":""},null,{"$f":"IF($D63=\"\",\"\",VLOOKUP($D63,'Girls Si Qual Draw Prep'!$A$7:$P$30,4))","v":""}]
[null,null,null,null,null,null,null,"Umpire",null,{"$f":"UPPER(IF(OR(I64=\"a\",I64=\"as\"),E63,IF(OR(I64=\"b\",I64=\"bs\"),E65,)))","v":""}]
[30,{"$f":"IF($D65=\"\",\"\",VLOOKUP($D65,'Girls Si Qual Draw Prep'!$A$7:$P$30,15))","v":""},{"$f":"IF($D65=\"\",\"\",VLOOKUP($D65,'Girls Si Qual Draw Prep'!$A$7:$P$30,16))","v":""},null,{"$f":"UPPER(IF($D65=\"\",\"\",VLOOKUP($D65,'Girls Si Qual Draw Prep'!$A$7:$P$30,2)))","v":""},{"$f":"IF($D65=\"\",\"\",VLOOKUP($D65,'Girls Si Qual Draw Prep'!$A$7:$P$30,3))","v":""},null,{"$f":"IF($D65=\"\",\"\",VLOOKUP($D65,'Girls Si Qual Draw Prep'!$A$7:$P$30,4))","v":""}]
[null,null,null,null,null,null,null,null,null,"Umpire",null,{"$f":"UPPER(IF(OR(K66=\"a\",K66=\"as\"),J64,IF(OR(K66=\"b\",K66=\"bs\"),J68,)))","v":""}]
[31,{"$f":"IF($D67=\"\",\"\",VLOOKUP($D67,'Girls Si Qual Draw Prep'!$A$7:$P$30,15))","v":""},{"$f":"IF($D67=\"\",\"\",VLOOKUP($D67,'Girls Si Qual Draw Prep'!$A$7:$P$30,16))","v":""},null,"Bye",{"$f":"IF($D67=\"\",\"\",VLOOKUP($D67,'Girls Si Qual Draw Prep'!$A$7:$P$30,3))","v":""},null,{"$f":"IF($D67=\"\",\"\",VLOOKUP($D67,'Girls Si Qual Draw Prep'!$A$7:$P$30,4))","v":""}]
[null,null,null,null,null,null,null,null,"bs",{"$f":"UPPER(IF(OR(I68=\"a\",I68=\"as\"),E67,IF(OR(I68=\"b\",I68=\"bs\"),E69,)))","v":""}]
[32,{"$f":"IF($D69=\"\",\"\",VLOOKUP($D69,'Girls Si Qual Draw Prep'!$A$7:$P$30,15))","v":""},{"$f":"IF($D69=\"\",\"\",VLOOKUP($D69,'Girls Si Qual Draw Prep'!$A$7:$P$30,16))","v":""},null,{"$f":"UPPER(IF($D69=\"\",\"\",VLOOKUP($D69,'Girls Si Qual Draw Prep'!$A$7:$P$30,2)))","v":""},{"$f":"IF($D69=\"\",\"\",VLOOKUP($D69,'Girls Si Qual Draw Prep'!$A$7:$P$30,3))","v":""},null,{"$f":"IF($D69=\"\",\"\",VLOOKUP($D69,'Girls Si Qual Draw Prep'!$A$7:$P$30,4))","v":""}]
[]
["Acc. Ranking",null,null,"#","Seeded players",null,null,null,"#","Alternates",null,"Replacing",null,"Draw date/time:"]
["Rkg Date",null,null,1,{"$f":"IF(D72>$Q$79,,UPPER(VLOOKUP(D72,'Girls Si Qual Draw Prep'!$A$7:$R$134,2)))","v":0},null,null,null,"1",null,null,null,null,"Last Accepted player"]
["Top DA",null,null,2,{"$f":"IF(D73>$Q$79,,UPPER(VLOOKUP(D73,'Girls Si Qual Draw Prep'!$A$7:$R$134,2)))","v":0},null,null,null,"2"]
["Last DA",null,null,3,{"$f":"IF(D74>$Q$79,,UPPER(VLOOKUP(D74,'Girls Si Qual Draw Prep'!$A$7:$R$134,2)))","v":0},null,null,null,"3",null,null,null,null,"Player representatives"]
[null,null,null,4,{"$f":"IF(D75>$Q$79,,UPPER(VLOOKUP(D75,'Girls Si Qual Draw Prep'!$A$7:$R$134,2)))","v":0},null,null,null,"4"]
["Seed ranking",null,null,null,null,null,null,null,"5"]
["Rkg Date",null,null,null,null,null,null,null,"6",null,null,null,null,"ITF Referee's signature"]
["Top seed",null,null,null,null,null,null,null,"7"]
["Last seed",null,null,null,null,null,null,null,"8",null,null,null,null,{"$f":"Q4","v":0},null,null,{"$f":"MIN(6,'Girls Si Qual Draw Prep'!R5)","v":0}]

{"sheet":"Girls Si Qual 32>4","index":36,"n_rows":79,"n_cols":20,"rows_kept":79,"cut":false,"hidden":false,"merged":[[3,0,3,2]]}
[{"$f":"'Week SetUp'!$A$6","v":0},null,null,null,null,null,null,null,null,"GIRLS SINGLES",null,null,null,"CU"]
[{"$f":"'Week SetUp'!$A$8","v":"ITF Junior Circuit"},null,null,null,null,null,null,null,null,"QUALIFYING DRAW (32)"]
["Week of",null,null,null,null,"City, Country",null,null,null,"Group",null,"Tourn. ID",null,null,null,null,"ITF Referee"]
[{"$f":"'Week SetUp'!$A$10","v":"00:00:00"},null,null,null,null,{"$f":"'Week SetUp'!$C$10","v":0},null,null,null,{"$f":"'Week SetUp'!$D$10","v":0},null,{"$f":"'Week SetUp'!$A$12","v":0},null,null,null,null,{"$f":"'Week SetUp'!$E$10","v":0}]
[null,"St.","Rank","Seed","Family Name","First name",null,"Nationality",null,"2nd Round",null,"Finals",null,"Qualifiers"]
[]
[1,{"$f":"IF($D7=\"\",\"\",VLOOKUP($D7,'Girls Si Qual Draw Prep'!$A$7:$P$38,15))","v":""},{"$f":"IF($D7=\"\",\"\",VLOOKUP($D7,'Girls Si Qual Draw Prep'!$A$7:$P$38,16))","v":""},null,{"$f":"UPPER(IF($D7=\"\",\"\",VLOOKUP($D7,'Girls Si Qual Draw Prep'!$A$7:$P$38,2)))","v":""},{"$f":"IF($D7=\"\",\"\",VLOOKUP($D7,'Girls Si Qual Draw Prep'!$A$7:$P$38,3))","v":""},null,{"$f":"IF($D7=\"\",\"\",VLOOKUP($D7,'Girls Si Qual Draw Prep'!$A$7:$P$38,4))","v":""},null,null,null,null,null,null,null,null,null,null,null,{"$f":"'SetUp Officials'!P21","v":"Umpire"}]
[null,null,null,null,null,null,null,"Umpire",null,{"$f":"UPPER(IF(OR(I8=\"a\",I8=\"as\"),E7,IF(OR(I8=\"b\",I8=\"bs\"),E9,)))","v":""},null,null,null,null,null,null,null,null,null,{"$f":"'SetUp Officials'!P22","v":" "}]
[2,{"$f":"IF($D9=\"\",\"\",VLOOKUP($D9,'Girls Si Qual Draw Prep'!$A$7:$P$38,15))","v":""},{"$f":"IF($D9=\"\",\"\",VLOOKUP($D9,'Girls Si Qual Draw Prep'!$A$7:$P$38,16))","v":""},null,{"$f":"UPPER(IF($D9=\"\",\"\",VLOOKUP($D9,'Girls Si Qual Draw Prep'!$A$7:$P$38,2)))","v":""},{"$f":"IF($D9=\"\",\"\",VLOOKUP($D9,'Girls Si Qual Draw Prep'!$A$7:$P$38,3))","v":""},null,{"$f":"IF($D9=\"\",\"\",VLOOKUP($D9,'Girls Si Qual Draw Prep'!$A$7:$P$38,4))","v":""},null,null,null,null,null,null,null,null,null,null,null,{"$f":"'SetUp Officials'!P23","v":" "}]
[null,null,null,null,null,null,null,null,null,"Umpire",null,{"$f":"UPPER(IF(OR(K10=\"a\",K10=\"as\"),J8,IF(OR(K10=\"b\",K10=\"bs\"),J12,)))","v":""},null,null,null,null,null,null,null,{"$f":"'SetUp Officials'!P24","v":" "}]
[3,{"$f":"IF($D11=\"\",\"\",VLOOKUP($D11,'Girls Si Qual Draw Prep'!$A$7:$P$38,15))","v":""},{"$f":"IF($D11=\"\",\"\",VLOOKUP($D11,'Girls Si Qual Draw Prep'!$A$7:$P$38,16))","v":""},null,{"$f":"UPPER(IF($D11=\"\",\"\",VLOOKUP($D11,'Girls Si Qual Draw Prep'!$A$7:$P$38,2)))","v":""},{"$f":"IF($D11=\"\",\"\",VLOOKUP($D11,'Girls Si Qual Draw Prep'!$A$7:$P$38,3))","v":""},null,{"$f":"IF($D11=\"\",\"\",VLOOKUP($D11,'Girls Si Qual Draw Prep'!$A$7:$P$38,4))","v":""},null,null,null,null,null,null,null,null,null,null,null,{"$f":"'SetUp Officials'!P25","v":" "}]
[null,null,null,null,null,null,null,"Umpire",null,{"$f":"UPPER(IF(OR(I12=\"a\",I12=\"as\"),E11,IF(OR(I12=\"b\",I12=\"bs\"),E13,)))","v":""},null,null,null,null,null,null,null,null,null,{"$f":"'SetUp Officials'!P26","v":" "}]
[4,{"$f":"IF($D13=\"\",\"\",VLOOKUP($D13,'Girls Si Qual Draw Prep'!$A$7:$P$38,15))","v":""},{"$f":"IF($D13=\"\",\"\",VLOOKUP($D13,'Girls Si Qual Draw Prep'!$A$7:$P$38,16))","v":""},null,{"$f":"UPPER(IF($D13=\"\",\"\",VLOOKUP($D13,'Girls Si Qual Draw Prep'!$A$7:$P$38,2)))","v":""},{"$f":"IF($D13=\"\",\"\",VLOOKUP($D13,'Girls Si Qual Draw Prep'!$A$7:$P$38,3))","v":""},null,{"$f":"IF($D13=\"\",\"\",VLOOKUP($D13,'Girls Si Qual Draw Prep'!$A$7:$P$38,4))","v":""},null,null,null,null,null,null,null,null,null,null,null,{"$f":"'SetUp Officials'!P27","v":" "}]
[null,null,null,null,null,null,null,null,null,null,null,"Umpire",null,{"$f":"UPPER(IF(OR(M14=\"a\",M14=\"as\"),L10,IF(OR(M14=\"b\",M14=\"bs\"),L18,)))","v":""},null,null,null,null,null,{"$f":"'SetUp Officials'!P28","v":" "}]
[5,{"$f":"IF($D15=\"\",\"\",VLOOKUP($D15,'Girls Si Qual Draw Prep'!$A$7:$P$38,15))","v":""},{"$f":"IF($D15=\"\",\"\",VLOOKUP($D15,'Girls Si Qual Draw Prep'!$A$7:$P$38,16))","v":""},null,{"$f":"UPPER(IF($D15=\"\",\"\",VLOOKUP($D15,'Girls Si Qual Draw Prep'!$A$7:$P$38,2)))","v":""},{"$f":"IF($D15=\"\",\"\",VLOOKUP($D15,'Girls Si Qual Draw Prep'!$A$7:$P$38,3))","v":""},null,{"$f":"IF($D15=\"\",\"\",VLOOKUP($D15,'Girls Si Qual Draw Prep'!$A$7:$P$38,4))","v":""},null,null,null,null,null,null,null,null,null,null,null,{"$f":"'SetUp Officials'!P29","v":" "}]
[null,null,null,null,null,null,null,"Umpire",null,{"$f":"UPPER(IF(OR(I16=\"a\",I16=\"as\"),E15,IF(OR(I16=\"b\",I16=\"bs\"),E17,)))","v":""},null,null,null,null,null,null,null,null,null,{"$f":"'SetUp Officials'!P30","v":"None"}]
[6,{"$f":"IF($D17=\"\",\"\",VLOOKUP($D17,'Girls Si Qual Draw Prep'!$A$7:$P$38,15))","v":""},{"$f":"IF($D17=\"\",\"\",VLOOKUP($D17,'Girls Si Qual Draw Prep'!$A$7:$P$38,16))","v":""},null,{"$f":"UPPER(IF($D17=\"\",\"\",VLOOKUP($D17,'Girls Si Qual Draw Prep'!$A$7:$P$38,2)))","v":""},{"$f":"IF($D17=\"\",\"\",VLOOKUP($D17,'Girls Si Qual Draw Prep'!$A$7:$P$38,3))","v":""},null,{"$f":"IF($D17=\"\",\"\",VLOOKUP($D17,'Girls Si Qual Draw Prep'!$A$7:$P$38,4))","v":""}]
[null,null,null,null,null,null,null,null,null,"Umpire",null,{"$f":"UPPER(IF(OR(K18=\"a\",K18=\"as\"),J16,IF(OR(K18=\"b\",K18=\"bs\"),J20,)))","v":""}]
[7,{"$f":"IF($D19=\"\",\"\",VLOOKUP($D19,'Girls Si Qual Draw Prep'!$A$7:$P$38,15))","v":""},{"$f":"IF($D19=\"\",\"\",VLOOKUP($D19,'Girls Si Qual Draw Prep'!$A$7:$P$38,16))","v":""},null,{"$f":"UPPER(IF($D19=\"\",\"\",VLOOKUP($D19,'Girls Si Qual Draw Prep'!$A$7:$P$38,2)))","v":""},{"$f":"IF($D19=\"\",\"\",VLOOKUP($D19,'Girls Si Qual Draw Prep'!$A$7:$P$38,3))","v":""},null,{"$f":"IF($D19=\"\",\"\",VLOOKUP($D19,'Girls Si Qual Draw Prep'!$A$7:$P$38,4))","v":""}]
[null,null,null,null,null,null,null,"Umpire",null,{"$f":"UPPER(IF(OR(I20=\"a\",I20=\"as\"),E19,IF(OR(I20=\"b\",I20=\"bs\"),E21,)))","v":""}]
[8,{"$f":"IF($D21=\"\",\"\",VLOOKUP($D21,'Girls Si Qual Draw Prep'!$A$7:$P$38,15))","v":""},{"$f":"IF($D21=\"\",\"\",VLOOKUP($D21,'Girls Si Qual Draw Prep'!$A$7:$P$38,16))","v":""},null,{"$f":"UPPER(IF($D21=\"\",\"\",VLOOKUP($D21,'Girls Si Qual Draw Prep'!$A$7:$P$38,2)))","v":""},{"$f":"IF($D21=\"\",\"\",VLOOKUP($D21,'Girls Si Qual Draw Prep'!$A$7:$P$38,3))","v":""},null,{"$f":"IF($D21=\"\",\"\",VLOOKUP($D21,'Girls Si Qual Draw Prep'!$A$7:$P$38,4))","v":""}]
[]
[9,{"$f":"IF($D23=\"\",\"\",VLOOKUP($D23,'Girls Si Qual Draw Prep'!$A$7:$P$38,15))","v":""},{"$f":"IF($D23=\"\",\"\",VLOOKUP($D23,'Girls Si Qual Draw Prep'!$A$7:$P$38,16))","v":""},null,{"$f":"UPPER(IF($D23=\"\",\"\",VLOOKUP($D23,'Girls Si Qual Draw Prep'!$A$7:$P$38,2)))","v":""},{"$f":"IF($D23=\"\",\"\",VLOOKUP($D23,'Girls Si Qual Draw Prep'!$A$7:$P$38,3))","v":""},null,{"$f":"IF($D23=\"\",\"\",VLOOKUP($D23,'Girls Si Qual Draw Prep'!$A$7:$P$38,4))","v":""}]
[null,null,null,null,null,null,null,"Umpire",null,{"$f":"UPPER(IF(OR(I24=\"a\",I24=\"as\"),E23,IF(OR(I24=\"b\",I24=\"bs\"),E25,)))","v":""}]
[10,{"$f":"IF($D25=\"\",\"\",VLOOKUP($D25,'Girls Si Qual Draw Prep'!$A$7:$P$38,15))","v":""},{"$f":"IF($D25=\"\",\"\",VLOOKUP($D25,'Girls Si Qual Draw Prep'!$A$7:$P$38,16))","v":""},null,{"$f":"UPPER(IF($D25=\"\",\"\",VLOOKUP($D25,'Girls Si Qual Draw Prep'!$A$7:$P$38,2)))","v":""},{"$f":"IF($D25=\"\",\"\",VLOOKUP($D25,'Girls Si Qual Draw Prep'!$A$7:$P$38,3))","v":""},null,{"$f":"IF($D25=\"\",\"\",VLOOKUP($D25,'Girls Si Qual Draw Prep'!$A$7:$P$38,4))","v":""}]
[null,null,null,null,null,null,null,null,null,"Umpire",null,{"$f":"UPPER(IF(OR(K26=\"a\",K26=\"as\"),J24,IF(OR(K26=\"b\",K26=\"bs\"),J28,)))","v":""}]
[11,{"$f":"IF($D27=\"\",\"\",VLOOKUP($D27,'Girls Si Qual Draw Prep'!$A$7:$P$38,15))","v":""},{"$f":"IF($D27=\"\",\"\",VLOOKUP($D27,'Girls Si Qual Draw Prep'!$A$7:$P$38,16))","v":""},null,{"$f":"UPPER(IF($D27=\"\",\"\",VLOOKUP($D27,'Girls Si Qual Draw Prep'!$A$7:$P$38,2)))","v":""},{"$f":"IF($D27=\"\",\"\",VLOOKUP($D27,'Girls Si Qual Draw Prep'!$A$7:$P$38,3))","v":""},null,{"$f":"IF($D27=\"\",\"\",VLOOKUP($D27,'Girls Si Qual Draw Prep'!$A$7:$P$38,4))","v":""}]
[null,null,null,null,null,null,null,"Umpire",null,{"$f":"UPPER(IF(OR(I28=\"a\",I28=\"as\"),E27,IF(OR(I28=\"b\",I28=\"bs\"),E29,)))","v":""}]
[12,{"$f":"IF($D29=\"\",\"\",VLOOKUP($D29,'Girls Si Qual Draw Prep'!$A$7:$P$38,15))","v":""},{"$f":"IF($D29=\"\",\"\",VLOOKUP($D29,'Girls Si Qual Draw Prep'!$A$7:$P$38,16))","v":""},null,{"$f":"UPPER(IF($D29=\"\",\"\",VLOOKUP($D29,'Girls Si Qual Draw Prep'!$A$7:$P$38,2)))","v":""},{"$f":"IF($D29=\"\",\"\",VLOOKUP($D29,'Girls Si Qual Draw Prep'!$A$7:$P$38,3))","v":""},null,{"$f":"IF($D29=\"\",\"\",VLOOKUP($D29,'Girls Si Qual Draw Prep'!$A$7:$P$38,4))","v":""}]
[null,null,null,null,null,null,null,null,null,null,null,"Umpire",null,{"$f":"UPPER(IF(OR(M30=\"a\",M30=\"as\"),L26,IF(OR(M30=\"b\",M30=\"bs\"),L34,)))","v":""}]
[13,{"$f":"IF($D31=\"\",\"\",VLOOKUP($D31,'Girls Si Qual Draw Prep'!$A$7:$P$38,15))","v":""},{"$f":"IF($D31=\"\",\"\",VLOOKUP($D31,'Girls Si Qual Draw Prep'!$A$7:$P$38,16))","v":""},null,{"$f":"UPPER(IF($D31=\"\",\"\",VLOOKUP($D31,'Girls Si Qual Draw Prep'!$A$7:$P$38,2)))","v":""},{"$f":"IF($D31=\"\",\"\",VLOOKUP($D31,'Girls Si Qual Draw Prep'!$A$7:$P$38,3))","v":""},null,{"$f":"IF($D31=\"\",\"\",VLOOKUP($D31,'Girls Si Qual Draw Prep'!$A$7:$P$38,4))","v":""}]
[null,null,null,null,null,null,null,"Umpire",null,{"$f":"UPPER(IF(OR(I32=\"a\",I32=\"as\"),E31,IF(OR(I32=\"b\",I32=\"bs\"),E33,)))","v":""}]
[14,{"$f":"IF($D33=\"\",\"\",VLOOKUP($D33,'Girls Si Qual Draw Prep'!$A$7:$P$38,15))","v":""},{"$f":"IF($D33=\"\",\"\",VLOOKUP($D33,'Girls Si Qual Draw Prep'!$A$7:$P$38,16))","v":""},null,{"$f":"UPPER(IF($D33=\"\",\"\",VLOOKUP($D33,'Girls Si Qual Draw Prep'!$A$7:$P$38,2)))","v":""},{"$f":"IF($D33=\"\",\"\",VLOOKUP($D33,'Girls Si Qual Draw Prep'!$A$7:$P$38,3))","v":""},null,{"$f":"IF($D33=\"\",\"\",VLOOKUP($D33,'Girls Si Qual Draw Prep'!$A$7:$P$38,4))","v":""}]
[null,null,null,null,null,null,null,null,null,"Umpire",null,{"$f":"UPPER(IF(OR(K34=\"a\",K34=\"as\"),J32,IF(OR(K34=\"b\",K34=\"bs\"),J36,)))","v":""}]
[15,{"$f":"IF($D35=\"\",\"\",VLOOKUP($D35,'Girls Si Qual Draw Prep'!$A$7:$P$38,15))","v":""},{"$f":"IF($D35=\"\",\"\",VLOOKUP($D35,'Girls Si Qual Draw Prep'!$A$7:$P$38,16))","v":""},null,{"$f":"UPPER(IF($D35=\"\",\"\",VLOOKUP($D35,'Girls Si Qual Draw Prep'!$A$7:$P$38,2)))","v":""},{"$f":"IF($D35=\"\",\"\",VLOOKUP($D35,'Girls Si Qual Draw Prep'!$A$7:$P$38,3))","v":""},null,{"$f":"IF($D35=\"\",\"\",VLOOKUP($D35,'Girls Si Qual Draw Prep'!$A$7:$P$38,4))","v":""}]
[null,null,null,null,null,null,null,"Umpire",null,{"$f":"UPPER(IF(OR(I36=\"a\",I36=\"as\"),E35,IF(OR(I36=\"b\",I36=\"bs\"),E37,)))","v":""}]
[16,{"$f":"IF($D37=\"\",\"\",VLOOKUP($D37,'Girls Si Qual Draw Prep'!$A$7:$P$38,15))","v":""},{"$f":"IF($D37=\"\",\"\",VLOOKUP($D37,'Girls Si Qual Draw Prep'!$A$7:$P$38,16))","v":""},null,{"$f":"UPPER(IF($D37=\"\",\"\",VLOOKUP($D37,'Girls Si Qual Draw Prep'!$A$7:$P$38,2)))","v":""},{"$f":"IF($D37=\"\",\"\",VLOOKUP($D37,'Girls Si Qual Draw Prep'!$A$7:$P$38,3))","v":""},null,{"$f":"IF($D37=\"\",\"\",VLOOKUP($D37,'Girls Si Qual Draw Prep'!$A$7:$P$38,4))","v":""}]
[]
[17,{"$f":"IF($D39=\"\",\"\",VLOOKUP($D39,'Girls Si Qual Draw Prep'!$A$7:$P$38,15))","v":""},{"$f":"IF($D39=\"\",\"\",VLOOKUP($D39,'Girls Si Qual Draw Prep'!$A$7:$P$38,16))","v":""},null,{"$f":"UPPER(IF($D39=\"\",\"\",VLOOKUP($D39,'Girls Si Qual Draw Prep'!$A$7:$P$38,2)))","v":""},{"$f":"IF($D39=\"\",\"\",VLOOKUP($D39,'Girls Si Qual Draw Prep'!$A$7:$P$38,3))","v":""},null,{"$f":"IF($D39=\"\",\"\",VLOOKUP($D39,'Girls Si Qual Draw Prep'!$A$7:$P$38,4))","v":""}]
[null,null,null,null,null,null,null,"Umpire",null,{"$f":"UPPER(IF(OR(I40=\"a\",I40=\"as\"),E39,IF(OR(I40=\"b\",I40=\"bs\"),E41,)))","v":""}]
[18,{"$f":"IF($D41=\"\",\"\",VLOOKUP($D41,'Girls Si Qual Draw Prep'!$A$7:$P$38,15))","v":""},{"$f":"IF($D41=\"\",\"\",VLOOKUP($D41,'Girls Si Qual Draw Prep'!$A$7:$P$38,16))","v":""},null,{"$f":"UPPER(IF($D41=\"\",\"\",VLOOKUP($D41,'Girls Si Qual Draw Prep'!$A$7:$P$38,2)))","v":""},{"$f":"IF($D41=\"\",\"\",VLOOKUP($D41,'Girls Si Qual Draw Prep'!$A$7:$P$38,3))","v":""},null,{"$f":"IF($D41=\"\",\"\",VLOOKUP($D41,'Girls Si Qual Draw Prep'!$A$7:$P$38,4))","v":""}]
[null,null,null,null,null,null,null,null,null,"Umpire",null,{"$f":"UPPER(IF(OR(K42=\"a\",K42=\"as\"),J40,IF(OR(K42=\"b\",K42=\"bs\"),J44,)))","v":""}]
[19,{"$f":"IF($D43=\"\",\"\",VLOOKUP($D43,'Girls Si Qual Draw Prep'!$A$7:$P$38,15))","v":""},{"$f":"IF($D43=\"\",\"\",VLOOKUP($D43,'Girls Si Qual Draw Prep'!$A$7:$P$38,16))","v":""},null,{"$f":"UPPER(IF($D43=\"\",\"\",VLOOKUP($D43,'Girls Si Qual Draw Prep'!$A$7:$P$38,2)))","v":""},{"$f":"IF($D43=\"\",\"\",VLOOKUP($D43,'Girls Si Qual Draw Prep'!$A$7:$P$38,3))","v":""},null,{"$f":"IF($D43=\"\",\"\",VLOOKUP($D43,'Girls Si Qual Draw Prep'!$A$7:$P$38,4))","v":""}]
[null,null,null,null,null,null,null,"Umpire",null,{"$f":"UPPER(IF(OR(I44=\"a\",I44=\"as\"),E43,IF(OR(I44=\"b\",I44=\"bs\"),E45,)))","v":""}]
[20,{"$f":"IF($D45=\"\",\"\",VLOOKUP($D45,'Girls Si Qual Draw Prep'!$A$7:$P$38,15))","v":""},{"$f":"IF($D45=\"\",\"\",VLOOKUP($D45,'Girls Si Qual Draw Prep'!$A$7:$P$38,16))","v":""},null,{"$f":"UPPER(IF($D45=\"\",\"\",VLOOKUP($D45,'Girls Si Qual Draw Prep'!$A$7:$P$38,2)))","v":""},{"$f":"IF($D45=\"\",\"\",VLOOKUP($D45,'Girls Si Qual Draw Prep'!$A$7:$P$38,3))","v":""},null,{"$f":"IF($D45=\"\",\"\",VLOOKUP($D45,'Girls Si Qual Draw Prep'!$A$7:$P$38,4))","v":""}]
[null,null,null,null,null,null,null,null,null,null,null,"Umpire",null,{"$f":"UPPER(IF(OR(M46=\"a\",M46=\"as\"),L42,IF(OR(M46=\"b\",M46=\"bs\"),L50,)))","v":""}]
[21,{"$f":"IF($D47=\"\",\"\",VLOOKUP($D47,'Girls Si Qual Draw Prep'!$A$7:$P$38,15))","v":""},{"$f":"IF($D47=\"\",\"\",VLOOKUP($D47,'Girls Si Qual Draw Prep'!$A$7:$P$38,16))","v":""},null,{"$f":"UPPER(IF($D47=\"\",\"\",VLOOKUP($D47,'Girls Si Qual Draw Prep'!$A$7:$P$38,2)))","v":""},{"$f":"IF($D47=\"\",\"\",VLOOKUP($D47,'Girls Si Qual Draw Prep'!$A$7:$P$38,3))","v":""},null,{"$f":"IF($D47=\"\",\"\",VLOOKUP($D47,'Girls Si Qual Draw Prep'!$A$7:$P$38,4))","v":""}]
[null,null,null,null,null,null,null,"Umpire",null,{"$f":"UPPER(IF(OR(I48=\"a\",I48=\"as\"),E47,IF(OR(I48=\"b\",I48=\"bs\"),E49,)))","v":""}]
[22,{"$f":"IF($D49=\"\",\"\",VLOOKUP($D49,'Girls Si Qual Draw Prep'!$A$7:$P$38,15))","v":""},{"$f":"IF($D49=\"\",\"\",VLOOKUP($D49,'Girls Si Qual Draw Prep'!$A$7:$P$38,16))","v":""},null,{"$f":"UPPER(IF($D49=\"\",\"\",VLOOKUP($D49,'Girls Si Qual Draw Prep'!$A$7:$P$38,2)))","v":""},{"$f":"IF($D49=\"\",\"\",VLOOKUP($D49,'Girls Si Qual Draw Prep'!$A$7:$P$38,3))","v":""},null,{"$f":"IF($D49=\"\",\"\",VLOOKUP($D49,'Girls Si Qual Draw Prep'!$A$7:$P$38,4))","v":""}]
[null,null,null,null,null,null,null,null,null,"Umpire",null,{"$f":"UPPER(IF(OR(K50=\"a\",K50=\"as\"),J48,IF(OR(K50=\"b\",K50=\"bs\"),J52,)))","v":""}]
[23,{"$f":"IF($D51=\"\",\"\",VLOOKUP($D51,'Girls Si Qual Draw Prep'!$A$7:$P$38,15))","v":""},{"$f":"IF($D51=\"\",\"\",VLOOKUP($D51,'Girls Si Qual Draw Prep'!$A$7:$P$38,16))","v":""},null,{"$f":"UPPER(IF($D51=\"\",\"\",VLOOKUP($D51,'Girls Si Qual Draw Prep'!$A$7:$P$38,2)))","v":""},{"$f":"IF($D51=\"\",\"\",VLOOKUP($D51,'Girls Si Qual Draw Prep'!$A$7:$P$38,3))","v":""},null,{"$f":"IF($D51=\"\",\"\",VLOOKUP($D51,'Girls Si Qual Draw Prep'!$A$7:$P$38,4))","v":""}]
[null,null,null,null,null,null,null,"Umpire",null,{"$f":"UPPER(IF(OR(I52=\"a\",I52=\"as\"),E51,IF(OR(I52=\"b\",I52=\"bs\"),E53,)))","v":""}]
[24,{"$f":"IF($D53=\"\",\"\",VLOOKUP($D53,'Girls Si Qual Draw Prep'!$A$7:$P$38,15))","v":""},{"$f":"IF($D53=\"\",\"\",VLOOKUP($D53,'Girls Si Qual Draw Prep'!$A$7:$P$38,16))","v":""},null,{"$f":"UPPER(IF($D53=\"\",\"\",VLOOKUP($D53,'Girls Si Qual Draw Prep'!$A$7:$P$38,2)))","v":""},{"$f":"IF($D53=\"\",\"\",VLOOKUP($D53,'Girls Si Qual Draw Prep'!$A$7:$P$38,3))","v":""},null,{"$f":"IF($D53=\"\",\"\",VLOOKUP($D53,'Girls Si Qual Draw Prep'!$A$7:$P$38,4))","v":""}]
[]
[25,{"$f":"IF($D55=\"\",\"\",VLOOKUP($D55,'Girls Si Qual Draw Prep'!$A$7:$P$38,15))","v":""},{"$f":"IF($D55=\"\",\"\",VLOOKUP($D55,'Girls Si Qual Draw Prep'!$A$7:$P$38,16))","v":""},null,{"$f":"UPPER(IF($D55=\"\",\"\",VLOOKUP($D55,'Girls Si Qual Draw Prep'!$A$7:$P$38,2)))","v":""},{"$f":"IF($D55=\"\",\"\",VLOOKUP($D55,'Girls Si Qual Draw Prep'!$A$7:$P$38,3))","v":""},null,{"$f":"IF($D55=\"\",\"\",VLOOKUP($D55,'Girls Si Qual Draw Prep'!$A$7:$P$38,4))","v":""}]
[null,null,null,null,null,null,null,"Umpire",null,{"$f":"UPPER(IF(OR(I56=\"a\",I56=\"as\"),E55,IF(OR(I56=\"b\",I56=\"bs\"),E57,)))","v":""}]
[26,{"$f":"IF($D57=\"\",\"\",VLOOKUP($D57,'Girls Si Qual Draw Prep'!$A$7:$P$38,15))","v":""},{"$f":"IF($D57=\"\",\"\",VLOOKUP($D57,'Girls Si Qual Draw Prep'!$A$7:$P$38,16))","v":""},null,{"$f":"UPPER(IF($D57=\"\",\"\",VLOOKUP($D57,'Girls Si Qual Draw Prep'!$A$7:$P$38,2)))","v":""},{"$f":"IF($D57=\"\",\"\",VLOOKUP($D57,'Girls Si Qual Draw Prep'!$A$7:$P$38,3))","v":""},null,{"$f":"IF($D57=\"\",\"\",VLOOKUP($D57,'Girls Si Qual Draw Prep'!$A$7:$P$38,4))","v":""}]
[null,null,null,null,null,null,null,null,null,"Umpire",null,{"$f":"UPPER(IF(OR(K58=\"a\",K58=\"as\"),J56,IF(OR(K58=\"b\",K58=\"bs\"),J60,)))","v":""}]
[27,{"$f":"IF($D59=\"\",\"\",VLOOKUP($D59,'Girls Si Qual Draw Prep'!$A$7:$P$38,15))","v":""},{"$f":"IF($D59=\"\",\"\",VLOOKUP($D59,'Girls Si Qual Draw Prep'!$A$7:$P$38,16))","v":""},null,{"$f":"UPPER(IF($D59=\"\",\"\",VLOOKUP($D59,'Girls Si Qual Draw Prep'!$A$7:$P$38,2)))","v":""},{"$f":"IF($D59=\"\",\"\",VLOOKUP($D59,'Girls Si Qual Draw Prep'!$A$7:$P$38,3))","v":""},null,{"$f":"IF($D59=\"\",\"\",VLOOKUP($D59,'Girls Si Qual Draw Prep'!$A$7:$P$38,4))","v":""}]
[null,null,null,null,null,null,null,"Umpire",null,{"$f":"UPPER(IF(OR(I60=\"a\",I60=\"as\"),E59,IF(OR(I60=\"b\",I60=\"bs\"),E61,)))","v":""}]
[28,{"$f":"IF($D61=\"\",\"\",VLOOKUP($D61,'Girls Si Qual Draw Prep'!$A$7:$P$38,15))","v":""},{"$f":"IF($D61=\"\",\"\",VLOOKUP($D61,'Girls Si Qual Draw Prep'!$A$7:$P$38,16))","v":""},null,{"$f":"UPPER(IF($D61=\"\",\"\",VLOOKUP($D61,'Girls Si Qual Draw Prep'!$A$7:$P$38,2)))","v":""},{"$f":"IF($D61=\"\",\"\",VLOOKUP($D61,'Girls Si Qual Draw Prep'!$A$7:$P$38,3))","v":""},null,{"$f":"IF($D61=\"\",\"\",VLOOKUP($D61,'Girls Si Qual Draw Prep'!$A$7:$P$38,4))","v":""}]
[null,null,null,null,null,null,null,null,null,null,null,"Umpire",null,{"$f":"UPPER(IF(OR(M62=\"a\",M62=\"as\"),L58,IF(OR(M62=\"b\",M62=\"bs\"),L66,)))","v":""}]
[29,{"$f":"IF($D63=\"\",\"\",VLOOKUP($D63,'Girls Si Qual Draw Prep'!$A$7:$P$38,15))","v":""},{"$f":"IF($D63=\"\",\"\",VLOOKUP($D63,'Girls Si Qual Draw Prep'!$A$7:$P$38,16))","v":""},null,{"$f":"UPPER(IF($D63=\"\",\"\",VLOOKUP($D63,'Girls Si Qual Draw Prep'!$A$7:$P$38,2)))","v":""},{"$f":"IF($D63=\"\",\"\",VLOOKUP($D63,'Girls Si Qual Draw Prep'!$A$7:$P$38,3))","v":""},null,{"$f":"IF($D63=\"\",\"\",VLOOKUP($D63,'Girls Si Qual Draw Prep'!$A$7:$P$38,4))","v":""}]
[null,null,null,null,null,null,null,"Umpire",null,{"$f":"UPPER(IF(OR(I64=\"a\",I64=\"as\"),E63,IF(OR(I64=\"b\",I64=\"bs\"),E65,)))","v":""}]
[30,{"$f":"IF($D65=\"\",\"\",VLOOKUP($D65,'Girls Si Qual Draw Prep'!$A$7:$P$38,15))","v":""},{"$f":"IF($D65=\"\",\"\",VLOOKUP($D65,'Girls Si Qual Draw Prep'!$A$7:$P$38,16))","v":""},null,{"$f":"UPPER(IF($D65=\"\",\"\",VLOOKUP($D65,'Girls Si Qual Draw Prep'!$A$7:$P$38,2)))","v":""},{"$f":"IF($D65=\"\",\"\",VLOOKUP($D65,'Girls Si Qual Draw Prep'!$A$7:$P$38,3))","v":""},null,{"$f":"IF($D65=\"\",\"\",VLOOKUP($D65,'Girls Si Qual Draw Prep'!$A$7:$P$38,4))","v":""}]
[null,null,null,null,null,null,null,null,null,"Umpire",null,{"$f":"UPPER(IF(OR(K66=\"a\",K66=\"as\"),J64,IF(OR(K66=\"b\",K66=\"bs\"),J68,)))","v":""}]
[31,{"$f":"IF($D67=\"\",\"\",VLOOKUP($D67,'Girls Si Qual Draw Prep'!$A$7:$P$38,15))","v":""},{"$f":"IF($D67=\"\",\"\",VLOOKUP($D67,'Girls Si Qual Draw Prep'!$A$7:$P$38,16))","v":""},null,{"$f":"UPPER(IF($D67=\"\",\"\",VLOOKUP($D67,'Girls Si Qual Draw Prep'!$A$7:$P$38,2)))","v":""},{"$f":"IF($D67=\"\",\"\",VLOOKUP($D67,'Girls Si Qual Draw Prep'!$A$7:$P$38,3))","v":""},null,{"$f":"IF($D67=\"\",\"\",VLOOKUP($D67,'Girls Si Qual Draw Prep'!$A$7:$P$38,4))","v":""}]
[null,null,null,null,null,null,null,"Umpire",null,{"$f":"UPPER(IF(OR(I68=\"a\",I68=\"as\"),E67,IF(OR(I68=\"b\",I68=\"bs\"),E69,)))","v":""}]
[32,{"$f":"IF($D69=\"\",\"\",VLOOKUP($D69,'Girls Si Qual Draw Prep'!$A$7:$P$38,15))","v":""},{"$f":"IF($D69=\"\",\"\",VLOOKUP($D69,'Girls Si Qual Draw Prep'!$A$7:$P$38,16))","v":""},null,{"$f":"UPPER(IF($D69=\"\",\"\",VLOOKUP($D69,'Girls Si Qual Draw Prep'!$A$7:$P$38,2)))","v":""},{"$f":"IF($D69=\"\",\"\",VLOOKUP($D69,'Girls Si Qual Draw Prep'!$A$7:$P$38,3))","v":""},null,{"$f":"IF($D69=\"\",\"\",VLOOKUP($D69,'Girls Si Qual Draw Prep'!$A$7:$P$38,4))","v":""}]
[]
["Acc. Ranking",null,null,"#","Seeded players",null,null,null,"#","Alternates",null,"Replacing",null,"Draw date/time:"]
["Rkg Date",null,null,1,{"$f":"IF(D72>$Q$79,,UPPER(VLOOKUP(D72,'Girls Si Qual Draw Prep'!$A$7:$R$134,2)))","v":0},null,null,null,"1",null,null,null,null,"Last Accepted player"]
["Top DA",null,null,2,{"$f":"IF(D73>$Q$79,,UPPER(VLOOKUP(D73,'Girls Si Qual Draw Prep'!$A$7:$R$134,2)))","v":0},null,null,null,"2"]
["Last DA",null,null,3,{"$f":"IF(D74>$Q$79,,UPPER(VLOOKUP(D74,'Girls Si Qual Draw Prep'!$A$7:$R$134,2)))","v":0},null,null,null,"3",null,null,null,null,"Player representatives"]
[null,null,null,4,{"$f":"IF(D75>$Q$79,,UPPER(VLOOKUP(D75,'Girls Si Qual Draw Prep'!$A$7:$R$134,2)))","v":0},null,null,null,"4"]
["Seed ranking",null,null,5,{"$f":"IF(D76>$Q$79,,UPPER(VLOOKUP(D76,'Girls Si Qual Draw Prep'!$A$7:$R$134,2)))","v":0},null,null,null,"5"]
["Rkg Date",null,null,6,{"$f":"IF(D77>$Q$79,,UPPER(VLOOKUP(D77,'Girls Si Qual Draw Prep'!$A$7:$R$134,2)))","v":0},null,null,null,"6",null,null,null,null,"ITF Referee's signature"]
["Top seed",null,null,7,{"$f":"IF(D78>$Q$79,,UPPER(VLOOKUP(D78,'Girls Si Qual Draw Prep'!$A$7:$R$134,2)))","v":0},null,null,null,"7"]
["Last seed",null,null,8,{"$f":"IF(D79>$Q$79,,UPPER(VLOOKUP(D79,'Girls Si Qual Draw Prep'!$A$7:$R$134,2)))","v":0},null,null,null,"8",null,null,null,null,{"$f":"Q4","v":0},null,null,{"$f":"MIN(8,'Girls Si Qual Draw Prep'!R5)","v":0}]

{"sheet":"Girls Si Qual 32>8","index":37,"n_rows":79,"n_cols":20,"rows_kept":79,"cut":false,"hidden":false,"merged":[[3,0,3,2]]}
[{"$f":"'Week SetUp'!$A$6","v":0},null,null,null,null,null,null,null,null,"GIRLS SINGLES",null,null,null,"CU"]
[{"$f":"'Week SetUp'!$A$8","v":"ITF Junior Circuit"},null,null,null,null,null,null,null,null,"QUALIFYING DRAW (32)"]
["Week of",null,null,null,null,"City, Country",null,null,null,"Group",null,"Tourn. ID",null,null,null,null,"ITF Referee"]
[{"$f":"'Week SetUp'!$A$10","v":"00:00:00"},null,null,null,null,{"$f":"'Week SetUp'!$C$10","v":0},null,null,null,{"$f":"'Week SetUp'!$D$10","v":0},null,{"$f":"'Week SetUp'!$A$12","v":0},null,null,null,null,{"$f":"'Week SetUp'!$E$10","v":0}]
[null,"St.","Rank","Seed","Family Name","First name",null,"Nationality",null,"Finals",null,"Qualifiers"]
[]
[1,{"$f":"IF($D7=\"\",\"\",VLOOKUP($D7,'Girls Si Qual Draw Prep'!$A$7:$P$38,15))","v":""},{"$f":"IF($D7=\"\",\"\",VLOOKUP($D7,'Girls Si Qual Draw Prep'!$A$7:$P$38,16))","v":""},null,{"$f":"UPPER(IF($D7=\"\",\"\",VLOOKUP($D7,'Girls Si Qual Draw Prep'!$A$7:$P$38,2)))","v":""},{"$f":"IF($D7=\"\",\"\",VLOOKUP($D7,'Girls Si Qual Draw Prep'!$A$7:$P$38,3))","v":""},null,{"$f":"IF($D7=\"\",\"\",VLOOKUP($D7,'Girls Si Qual Draw Prep'!$A$7:$P$38,4))","v":""},null,null,null,null,null,null,null,null,null,null,null,{"$f":"'SetUp Officials'!P21","v":"Umpire"}]
[null,null,null,null,null,null,null,"Umpire",null,{"$f":"UPPER(IF(OR(I8=\"a\",I8=\"as\"),E7,IF(OR(I8=\"b\",I8=\"bs\"),E9,)))","v":""},null,null,null,null,null,null,null,null,null,{"$f":"'SetUp Officials'!P22","v":" "}]
[2,{"$f":"IF($D9=\"\",\"\",VLOOKUP($D9,'Girls Si Qual Draw Prep'!$A$7:$P$38,15))","v":""},{"$f":"IF($D9=\"\",\"\",VLOOKUP($D9,'Girls Si Qual Draw Prep'!$A$7:$P$38,16))","v":""},null,{"$f":"UPPER(IF($D9=\"\",\"\",VLOOKUP($D9,'Girls Si Qual Draw Prep'!$A$7:$P$38,2)))","v":""},{"$f":"IF($D9=\"\",\"\",VLOOKUP($D9,'Girls Si Qual Draw Prep'!$A$7:$P$38,3))","v":""},null,{"$f":"IF($D9=\"\",\"\",VLOOKUP($D9,'Girls Si Qual Draw Prep'!$A$7:$P$38,4))","v":""},null,null,null,null,null,null,null,null,null,null,null,{"$f":"'SetUp Officials'!P23","v":" "}]
[null,null,null,null,null,null,null,null,null,"Umpire",null,{"$f":"UPPER(IF(OR(K10=\"a\",K10=\"as\"),J8,IF(OR(K10=\"b\",K10=\"bs\"),J12,)))","v":""},null,null,null,null,null,null,null,{"$f":"'SetUp Officials'!P24","v":" "}]
[3,{"$f":"IF($D11=\"\",\"\",VLOOKUP($D11,'Girls Si Qual Draw Prep'!$A$7:$P$38,15))","v":""},{"$f":"IF($D11=\"\",\"\",VLOOKUP($D11,'Girls Si Qual Draw Prep'!$A$7:$P$38,16))","v":""},null,{"$f":"UPPER(IF($D11=\"\",\"\",VLOOKUP($D11,'Girls Si Qual Draw Prep'!$A$7:$P$38,2)))","v":""},{"$f":"IF($D11=\"\",\"\",VLOOKUP($D11,'Girls Si Qual Draw Prep'!$A$7:$P$38,3))","v":""},null,{"$f":"IF($D11=\"\",\"\",VLOOKUP($D11,'Girls Si Qual Draw Prep'!$A$7:$P$38,4))","v":""},null,null,null,null,null,null,null,null,null,null,null,{"$f":"'SetUp Officials'!P25","v":" "}]
[null,null,null,null,null,null,null,"Umpire",null,{"$f":"UPPER(IF(OR(I12=\"a\",I12=\"as\"),E11,IF(OR(I12=\"b\",I12=\"bs\"),E13,)))","v":""},null,null,null,null,null,null,null,null,null,{"$f":"'SetUp Officials'!P26","v":" "}]
[4,{"$f":"IF($D13=\"\",\"\",VLOOKUP($D13,'Girls Si Qual Draw Prep'!$A$7:$P$38,15))","v":""},{"$f":"IF($D13=\"\",\"\",VLOOKUP($D13,'Girls Si Qual Draw Prep'!$A$7:$P$38,16))","v":""},null,{"$f":"UPPER(IF($D13=\"\",\"\",VLOOKUP($D13,'Girls Si Qual Draw Prep'!$A$7:$P$38,2)))","v":""},{"$f":"IF($D13=\"\",\"\",VLOOKUP($D13,'Girls Si Qual Draw Prep'!$A$7:$P$38,3))","v":""},null,{"$f":"IF($D13=\"\",\"\",VLOOKUP($D13,'Girls Si Qual Draw Prep'!$A$7:$P$38,4))","v":""},null,null,null,null,null,null,null,null,null,null,null,{"$f":"'SetUp Officials'!P27","v":" "}]
[null,null,null,null,null,null,null,null,null,null,null,null,null,{"$f":"UPPER(IF(OR(M14=\"a\",M14=\"as\"),L10,IF(OR(M14=\"b\",M14=\"bs\"),L18,)))","v":""},null,null,null,null,null,{"$f":"'SetUp Officials'!P28","v":" "}]
[5,{"$f":"IF($D15=\"\",\"\",VLOOKUP($D15,'Girls Si Qual Draw Prep'!$A$7:$P$38,15))","v":""},{"$f":"IF($D15=\"\",\"\",VLOOKUP($D15,'Girls Si Qual Draw Prep'!$A$7:$P$38,16))","v":""},null,{"$f":"UPPER(IF($D15=\"\",\"\",VLOOKUP($D15,'Girls Si Qual Draw Prep'!$A$7:$P$38,2)))","v":""},{"$f":"IF($D15=\"\",\"\",VLOOKUP($D15,'Girls Si Qual Draw Prep'!$A$7:$P$38,3))","v":""},null,{"$f":"IF($D15=\"\",\"\",VLOOKUP($D15,'Girls Si Qual Draw Prep'!$A$7:$P$38,4))","v":""},null,null,null,null,null,null,null,null,null,null,null,{"$f":"'SetUp Officials'!P29","v":" "}]
[null,null,null,null,null,null,null,"Umpire",null,{"$f":"UPPER(IF(OR(I16=\"a\",I16=\"as\"),E15,IF(OR(I16=\"b\",I16=\"bs\"),E17,)))","v":""},null,null,null,null,null,null,null,null,null,{"$f":"'SetUp Officials'!P30","v":"None"}]
[6,{"$f":"IF($D17=\"\",\"\",VLOOKUP($D17,'Girls Si Qual Draw Prep'!$A$7:$P$38,15))","v":""},{"$f":"IF($D17=\"\",\"\",VLOOKUP($D17,'Girls Si Qual Draw Prep'!$A$7:$P$38,16))","v":""},null,{"$f":"UPPER(IF($D17=\"\",\"\",VLOOKUP($D17,'Girls Si Qual Draw Prep'!$A$7:$P$38,2)))","v":""},{"$f":"IF($D17=\"\",\"\",VLOOKUP($D17,'Girls Si Qual Draw Prep'!$A$7:$P$38,3))","v":""},null,{"$f":"IF($D17=\"\",\"\",VLOOKUP($D17,'Girls Si Qual Draw Prep'!$A$7:$P$38,4))","v":""}]
[null,null,null,null,null,null,null,null,null,"Umpire",null,{"$f":"UPPER(IF(OR(K18=\"a\",K18=\"as\"),J16,IF(OR(K18=\"b\",K18=\"bs\"),J20,)))","v":""}]
[7,{"$f":"IF($D19=\"\",\"\",VLOOKUP($D19,'Girls Si Qual Draw Prep'!$A$7:$P$38,15))","v":""},{"$f":"IF($D19=\"\",\"\",VLOOKUP($D19,'Girls Si Qual Draw Prep'!$A$7:$P$38,16))","v":""},null,{"$f":"UPPER(IF($D19=\"\",\"\",VLOOKUP($D19,'Girls Si Qual Draw Prep'!$A$7:$P$38,2)))","v":""},{"$f":"IF($D19=\"\",\"\",VLOOKUP($D19,'Girls Si Qual Draw Prep'!$A$7:$P$38,3))","v":""},null,{"$f":"IF($D19=\"\",\"\",VLOOKUP($D19,'Girls Si Qual Draw Prep'!$A$7:$P$38,4))","v":""}]
[null,null,null,null,null,null,null,"Umpire",null,{"$f":"UPPER(IF(OR(I20=\"a\",I20=\"as\"),E19,IF(OR(I20=\"b\",I20=\"bs\"),E21,)))","v":""}]
[8,{"$f":"IF($D21=\"\",\"\",VLOOKUP($D21,'Girls Si Qual Draw Prep'!$A$7:$P$38,15))","v":""},{"$f":"IF($D21=\"\",\"\",VLOOKUP($D21,'Girls Si Qual Draw Prep'!$A$7:$P$38,16))","v":""},null,{"$f":"UPPER(IF($D21=\"\",\"\",VLOOKUP($D21,'Girls Si Qual Draw Prep'!$A$7:$P$38,2)))","v":""},{"$f":"IF($D21=\"\",\"\",VLOOKUP($D21,'Girls Si Qual Draw Prep'!$A$7:$P$38,3))","v":""},null,{"$f":"IF($D21=\"\",\"\",VLOOKUP($D21,'Girls Si Qual Draw Prep'!$A$7:$P$38,4))","v":""}]
[]
[9,{"$f":"IF($D23=\"\",\"\",VLOOKUP($D23,'Girls Si Qual Draw Prep'!$A$7:$P$38,15))","v":""},{"$f":"IF($D23=\"\",\"\",VLOOKUP($D23,'Girls Si Qual Draw Prep'!$A$7:$P$38,16))","v":""},null,{"$f":"UPPER(IF($D23=\"\",\"\",VLOOKUP($D23,'Girls Si Qual Draw Prep'!$A$7:$P$38,2)))","v":""},{"$f":"IF($D23=\"\",\"\",VLOOKUP($D23,'Girls Si Qual Draw Prep'!$A$7:$P$38,3))","v":""},null,{"$f":"IF($D23=\"\",\"\",VLOOKUP($D23,'Girls Si Qual Draw Prep'!$A$7:$P$38,4))","v":""}]
[null,null,null,null,null,null,null,"Umpire",null,{"$f":"UPPER(IF(OR(I24=\"a\",I24=\"as\"),E23,IF(OR(I24=\"b\",I24=\"bs\"),E25,)))","v":""}]
[10,{"$f":"IF($D25=\"\",\"\",VLOOKUP($D25,'Girls Si Qual Draw Prep'!$A$7:$P$38,15))","v":""},{"$f":"IF($D25=\"\",\"\",VLOOKUP($D25,'Girls Si Qual Draw Prep'!$A$7:$P$38,16))","v":""},null,{"$f":"UPPER(IF($D25=\"\",\"\",VLOOKUP($D25,'Girls Si Qual Draw Prep'!$A$7:$P$38,2)))","v":""},{"$f":"IF($D25=\"\",\"\",VLOOKUP($D25,'Girls Si Qual Draw Prep'!$A$7:$P$38,3))","v":""},null,{"$f":"IF($D25=\"\",\"\",VLOOKUP($D25,'Girls Si Qual Draw Prep'!$A$7:$P$38,4))","v":""}]
[null,null,null,null,null,null,null,null,null,"Umpire",null,{"$f":"UPPER(IF(OR(K26=\"a\",K26=\"as\"),J24,IF(OR(K26=\"b\",K26=\"bs\"),J28,)))","v":""}]
[11,{"$f":"IF($D27=\"\",\"\",VLOOKUP($D27,'Girls Si Qual Draw Prep'!$A$7:$P$38,15))","v":""},{"$f":"IF($D27=\"\",\"\",VLOOKUP($D27,'Girls Si Qual Draw Prep'!$A$7:$P$38,16))","v":""},null,{"$f":"UPPER(IF($D27=\"\",\"\",VLOOKUP($D27,'Girls Si Qual Draw Prep'!$A$7:$P$38,2)))","v":""},{"$f":"IF($D27=\"\",\"\",VLOOKUP($D27,'Girls Si Qual Draw Prep'!$A$7:$P$38,3))","v":""},null,{"$f":"IF($D27=\"\",\"\",VLOOKUP($D27,'Girls Si Qual Draw Prep'!$A$7:$P$38,4))","v":""}]
[null,null,null,null,null,null,null,"Umpire",null,{"$f":"UPPER(IF(OR(I28=\"a\",I28=\"as\"),E27,IF(OR(I28=\"b\",I28=\"bs\"),E29,)))","v":""}]
[12,{"$f":"IF($D29=\"\",\"\",VLOOKUP($D29,'Girls Si Qual Draw Prep'!$A$7:$P$38,15))","v":""},{"$f":"IF($D29=\"\",\"\",VLOOKUP($D29,'Girls Si Qual Draw Prep'!$A$7:$P$38,16))","v":""},null,{"$f":"UPPER(IF($D29=\"\",\"\",VLOOKUP($D29,'Girls Si Qual Draw Prep'!$A$7:$P$38,2)))","v":""},{"$f":"IF($D29=\"\",\"\",VLOOKUP($D29,'Girls Si Qual Draw Prep'!$A$7:$P$38,3))","v":""},null,{"$f":"IF($D29=\"\",\"\",VLOOKUP($D29,'Girls Si Qual Draw Prep'!$A$7:$P$38,4))","v":""}]
[null,null,null,null,null,null,null,null,null,null,null,null,null,{"$f":"UPPER(IF(OR(M30=\"a\",M30=\"as\"),L26,IF(OR(M30=\"b\",M30=\"bs\"),L34,)))","v":""}]
[13,{"$f":"IF($D31=\"\",\"\",VLOOKUP($D31,'Girls Si Qual Draw Prep'!$A$7:$P$38,15))","v":""},{"$f":"IF($D31=\"\",\"\",VLOOKUP($D31,'Girls Si Qual Draw Prep'!$A$7:$P$38,16))","v":""},null,{"$f":"UPPER(IF($D31=\"\",\"\",VLOOKUP($D31,'Girls Si Qual Draw Prep'!$A$7:$P$38,2)))","v":""},{"$f":"IF($D31=\"\",\"\",VLOOKUP($D31,'Girls Si Qual Draw Prep'!$A$7:$P$38,3))","v":""},null,{"$f":"IF($D31=\"\",\"\",VLOOKUP($D31,'Girls Si Qual Draw Prep'!$A$7:$P$38,4))","v":""}]
[null,null,null,null,null,null,null,"Umpire",null,{"$f":"UPPER(IF(OR(I32=\"a\",I32=\"as\"),E31,IF(OR(I32=\"b\",I32=\"bs\"),E33,)))","v":""}]
[14,{"$f":"IF($D33=\"\",\"\",VLOOKUP($D33,'Girls Si Qual Draw Prep'!$A$7:$P$38,15))","v":""},{"$f":"IF($D33=\"\",\"\",VLOOKUP($D33,'Girls Si Qual Draw Prep'!$A$7:$P$38,16))","v":""},null,{"$f":"UPPER(IF($D33=\"\",\"\",VLOOKUP($D33,'Girls Si Qual Draw Prep'!$A$7:$P$38,2)))","v":""},{"$f":"IF($D33=\"\",\"\",VLOOKUP($D33,'Girls Si Qual Draw Prep'!$A$7:$P$38,3))","v":""},null,{"$f":"IF($D33=\"\",\"\",VLOOKUP($D33,'Girls Si Qual Draw Prep'!$A$7:$P$38,4))","v":""}]
[null,null,null,null,null,null,null,null,null,"Umpire",null,{"$f":"UPPER(IF(OR(K34=\"a\",K34=\"as\"),J32,IF(OR(K34=\"b\",K34=\"bs\"),J36,)))","v":""}]
[15,{"$f":"IF($D35=\"\",\"\",VLOOKUP($D35,'Girls Si Qual Draw Prep'!$A$7:$P$38,15))","v":""},{"$f":"IF($D35=\"\",\"\",VLOOKUP($D35,'Girls Si Qual Draw Prep'!$A$7:$P$38,16))","v":""},null,{"$f":"UPPER(IF($D35=\"\",\"\",VLOOKUP($D35,'Girls Si Qual Draw Prep'!$A$7:$P$38,2)))","v":""},{"$f":"IF($D35=\"\",\"\",VLOOKUP($D35,'Girls Si Qual Draw Prep'!$A$7:$P$38,3))","v":""},null,{"$f":"IF($D35=\"\",\"\",VLOOKUP($D35,'Girls Si Qual Draw Prep'!$A$7:$P$38,4))","v":""}]
[null,null,null,null,null,null,null,"Umpire",null,{"$f":"UPPER(IF(OR(I36=\"a\",I36=\"as\"),E35,IF(OR(I36=\"b\",I36=\"bs\"),E37,)))","v":""}]
[16,{"$f":"IF($D37=\"\",\"\",VLOOKUP($D37,'Girls Si Qual Draw Prep'!$A$7:$P$38,15))","v":""},{"$f":"IF($D37=\"\",\"\",VLOOKUP($D37,'Girls Si Qual Draw Prep'!$A$7:$P$38,16))","v":""},null,{"$f":"UPPER(IF($D37=\"\",\"\",VLOOKUP($D37,'Girls Si Qual Draw Prep'!$A$7:$P$38,2)))","v":""},{"$f":"IF($D37=\"\",\"\",VLOOKUP($D37,'Girls Si Qual Draw Prep'!$A$7:$P$38,3))","v":""},null,{"$f":"IF($D37=\"\",\"\",VLOOKUP($D37,'Girls Si Qual Draw Prep'!$A$7:$P$38,4))","v":""}]
[]
[17,{"$f":"IF($D39=\"\",\"\",VLOOKUP($D39,'Girls Si Qual Draw Prep'!$A$7:$P$38,15))","v":""},{"$f":"IF($D39=\"\",\"\",VLOOKUP($D39,'Girls Si Qual Draw Prep'!$A$7:$P$38,16))","v":""},null,{"$f":"UPPER(IF($D39=\"\",\"\",VLOOKUP($D39,'Girls Si Qual Draw Prep'!$A$7:$P$38,2)))","v":""},{"$f":"IF($D39=\"\",\"\",VLOOKUP($D39,'Girls Si Qual Draw Prep'!$A$7:$P$38,3))","v":""},null,{"$f":"IF($D39=\"\",\"\",VLOOKUP($D39,'Girls Si Qual Draw Prep'!$A$7:$P$38,4))","v":""}]
[null,null,null,null,null,null,null,"Umpire",null,{"$f":"UPPER(IF(OR(I40=\"a\",I40=\"as\"),E39,IF(OR(I40=\"b\",I40=\"bs\"),E41,)))","v":""}]
[18,{"$f":"IF($D41=\"\",\"\",VLOOKUP($D41,'Girls Si Qual Draw Prep'!$A$7:$P$38,15))","v":""},{"$f":"IF($D41=\"\",\"\",VLOOKUP($D41,'Girls Si Qual Draw Prep'!$A$7:$P$38,16))","v":""},null,{"$f":"UPPER(IF($D41=\"\",\"\",VLOOKUP($D41,'Girls Si Qual Draw Prep'!$A$7:$P$38,2)))","v":""},{"$f":"IF($D41=\"\",\"\",VLOOKUP($D41,'Girls Si Qual Draw Prep'!$A$7:$P$38,3))","v":""},null,{"$f":"IF($D41=\"\",\"\",VLOOKUP($D41,'Girls Si Qual Draw Prep'!$A$7:$P$38,4))","v":""}]
[null,null,null,null,null,null,null,null,null,"Umpire",null,{"$f":"UPPER(IF(OR(K42=\"a\",K42=\"as\"),J40,IF(OR(K42=\"b\",K42=\"bs\"),J44,)))","v":""}]
[19,{"$f":"IF($D43=\"\",\"\",VLOOKUP($D43,'Girls Si Qual Draw Prep'!$A$7:$P$38,15))","v":""},{"$f":"IF($D43=\"\",\"\",VLOOKUP($D43,'Girls Si Qual Draw Prep'!$A$7:$P$38,16))","v":""},null,{"$f":"UPPER(IF($D43=\"\",\"\",VLOOKUP($D43,'Girls Si Qual Draw Prep'!$A$7:$P$38,2)))","v":""},{"$f":"IF($D43=\"\",\"\",VLOOKUP($D43,'Girls Si Qual Draw Prep'!$A$7:$P$38,3))","v":""},null,{"$f":"IF($D43=\"\",\"\",VLOOKUP($D43,'Girls Si Qual Draw Prep'!$A$7:$P$38,4))","v":""}]
[null,null,null,null,null,null,null,"Umpire",null,{"$f":"UPPER(IF(OR(I44=\"a\",I44=\"as\"),E43,IF(OR(I44=\"b\",I44=\"bs\"),E45,)))","v":""}]
[20,{"$f":"IF($D45=\"\",\"\",VLOOKUP($D45,'Girls Si Qual Draw Prep'!$A$7:$P$38,15))","v":""},{"$f":"IF($D45=\"\",\"\",VLOOKUP($D45,'Girls Si Qual Draw Prep'!$A$7:$P$38,16))","v":""},null,{"$f":"UPPER(IF($D45=\"\",\"\",VLOOKUP($D45,'Girls Si Qual Draw Prep'!$A$7:$P$38,2)))","v":""},{"$f":"IF($D45=\"\",\"\",VLOOKUP($D45,'Girls Si Qual Draw Prep'!$A$7:$P$38,3))","v":""},null,{"$f":"IF($D45=\"\",\"\",VLOOKUP($D45,'Girls Si Qual Draw Prep'!$A$7:$P$38,4))","v":""}]
[null,null,null,null,null,null,null,null,null,null,null,null,null,{"$f":"UPPER(IF(OR(M46=\"a\",M46=\"as\"),L42,IF(OR(M46=\"b\",M46=\"bs\"),L50,)))","v":""}]
[21,{"$f":"IF($D47=\"\",\"\",VLOOKUP($D47,'Girls Si Qual Draw Prep'!$A$7:$P$38,15))","v":""},{"$f":"IF($D47=\"\",\"\",VLOOKUP($D47,'Girls Si Qual Draw Prep'!$A$7:$P$38,16))","v":""},null,{"$f":"UPPER(IF($D47=\"\",\"\",VLOOKUP($D47,'Girls Si Qual Draw Prep'!$A$7:$P$38,2)))","v":""},{"$f":"IF($D47=\"\",\"\",VLOOKUP($D47,'Girls Si Qual Draw Prep'!$A$7:$P$38,3))","v":""},null,{"$f":"IF($D47=\"\",\"\",VLOOKUP($D47,'Girls Si Qual Draw Prep'!$A$7:$P$38,4))","v":""}]
[null,null,null,null,null,null,null,"Umpire",null,{"$f":"UPPER(IF(OR(I48=\"a\",I48=\"as\"),E47,IF(OR(I48=\"b\",I48=\"bs\"),E49,)))","v":""}]
[22,{"$f":"IF($D49=\"\",\"\",VLOOKUP($D49,'Girls Si Qual Draw Prep'!$A$7:$P$38,15))","v":""},{"$f":"IF($D49=\"\",\"\",VLOOKUP($D49,'Girls Si Qual Draw Prep'!$A$7:$P$38,16))","v":""},null,{"$f":"UPPER(IF($D49=\"\",\"\",VLOOKUP($D49,'Girls Si Qual Draw Prep'!$A$7:$P$38,2)))","v":""},{"$f":"IF($D49=\"\",\"\",VLOOKUP($D49,'Girls Si Qual Draw Prep'!$A$7:$P$38,3))","v":""},null,{"$f":"IF($D49=\"\",\"\",VLOOKUP($D49,'Girls Si Qual Draw Prep'!$A$7:$P$38,4))","v":""}]
[null,null,null,null,null,null,null,null,null,"Umpire",null,{"$f":"UPPER(IF(OR(K50=\"a\",K50=\"as\"),J48,IF(OR(K50=\"b\",K50=\"bs\"),J52,)))","v":""}]
[23,{"$f":"IF($D51=\"\",\"\",VLOOKUP($D51,'Girls Si Qual Draw Prep'!$A$7:$P$38,15))","v":""},{"$f":"IF($D51=\"\",\"\",VLOOKUP($D51,'Girls Si Qual Draw Prep'!$A$7:$P$38,16))","v":""},null,{"$f":"UPPER(IF($D51=\"\",\"\",VLOOKUP($D51,'Girls Si Qual Draw Prep'!$A$7:$P$38,2)))","v":""},{"$f":"IF($D51=\"\",\"\",VLOOKUP($D51,'Girls Si Qual Draw Prep'!$A$7:$P$38,3))","v":""},null,{"$f":"IF($D51=\"\",\"\",VLOOKUP($D51,'Girls Si Qual Draw Prep'!$A$7:$P$38,4))","v":""}]
[null,null,null,null,null,null,null,"Umpire",null,{"$f":"UPPER(IF(OR(I52=\"a\",I52=\"as\"),E51,IF(OR(I52=\"b\",I52=\"bs\"),E53,)))","v":""}]
[24,{"$f":"IF($D53=\"\",\"\",VLOOKUP($D53,'Girls Si Qual Draw Prep'!$A$7:$P$38,15))","v":""},{"$f":"IF($D53=\"\",\"\",VLOOKUP($D53,'Girls Si Qual Draw Prep'!$A$7:$P$38,16))","v":""},null,{"$f":"UPPER(IF($D53=\"\",\"\",VLOOKUP($D53,'Girls Si Qual Draw Prep'!$A$7:$P$38,2)))","v":""},{"$f":"IF($D53=\"\",\"\",VLOOKUP($D53,'Girls Si Qual Draw Prep'!$A$7:$P$38,3))","v":""},null,{"$f":"IF($D53=\"\",\"\",VLOOKUP($D53,'Girls Si Qual Draw Prep'!$A$7:$P$38,4))","v":""}]
[]
[25,{"$f":"IF($D55=\"\",\"\",VLOOKUP($D55,'Girls Si Qual Draw Prep'!$A$7:$P$38,15))","v":""},{"$f":"IF($D55=\"\",\"\",VLOOKUP($D55,'Girls Si Qual Draw Prep'!$A$7:$P$38,16))","v":""},null,{"$f":"UPPER(IF($D55=\"\",\"\",VLOOKUP($D55,'Girls Si Qual Draw Prep'!$A$7:$P$38,2)))","v":""},{"$f":"IF($D55=\"\",\"\",VLOOKUP($D55,'Girls Si Qual Draw Prep'!$A$7:$P$38,3))","v":""},null,{"$f":"IF($D55=\"\",\"\",VLOOKUP($D55,'Girls Si Qual Draw Prep'!$A$7:$P$38,4))","v":""}]
[null,null,null,null,null,null,null,"Umpire",null,{"$f":"UPPER(IF(OR(I56=\"a\",I56=\"as\"),E55,IF(OR(I56=\"b\",I56=\"bs\"),E57,)))","v":""}]
[26,{"$f":"IF($D57=\"\",\"\",VLOOKUP($D57,'Girls Si Qual Draw Prep'!$A$7:$P$38,15))","v":""},{"$f":"IF($D57=\"\",\"\",VLOOKUP($D57,'Girls Si Qual Draw Prep'!$A$7:$P$38,16))","v":""},null,{"$f":"UPPER(IF($D57=\"\",\"\",VLOOKUP($D57,'Girls Si Qual Draw Prep'!$A$7:$P$38,2)))","v":""},{"$f":"IF($D57=\"\",\"\",VLOOKUP($D57,'Girls Si Qual Draw Prep'!$A$7:$P$38,3))","v":""},null,{"$f":"IF($D57=\"\",\"\",VLOOKUP($D57,'Girls Si Qual Draw Prep'!$A$7:$P$38,4))","v":""}]
[null,null,null,null,null,null,null,null,null,"Umpire",null,{"$f":"UPPER(IF(OR(K58=\"a\",K58=\"as\"),J56,IF(OR(K58=\"b\",K58=\"bs\"),J60,)))","v":""}]
[27,{"$f":"IF($D59=\"\",\"\",VLOOKUP($D59,'Girls Si Qual Draw Prep'!$A$7:$P$38,15))","v":""},{"$f":"IF($D59=\"\",\"\",VLOOKUP($D59,'Girls Si Qual Draw Prep'!$A$7:$P$38,16))","v":""},null,{"$f":"UPPER(IF($D59=\"\",\"\",VLOOKUP($D59,'Girls Si Qual Draw Prep'!$A$7:$P$38,2)))","v":""},{"$f":"IF($D59=\"\",\"\",VLOOKUP($D59,'Girls Si Qual Draw Prep'!$A$7:$P$38,3))","v":""},null,{"$f":"IF($D59=\"\",\"\",VLOOKUP($D59,'Girls Si Qual Draw Prep'!$A$7:$P$38,4))","v":""}]
[null,null,null,null,null,null,null,"Umpire",null,{"$f":"UPPER(IF(OR(I60=\"a\",I60=\"as\"),E59,IF(OR(I60=\"b\",I60=\"bs\"),E61,)))","v":""}]
[28,{"$f":"IF($D61=\"\",\"\",VLOOKUP($D61,'Girls Si Qual Draw Prep'!$A$7:$P$38,15))","v":""},{"$f":"IF($D61=\"\",\"\",VLOOKUP($D61,'Girls Si Qual Draw Prep'!$A$7:$P$38,16))","v":""},null,{"$f":"UPPER(IF($D61=\"\",\"\",VLOOKUP($D61,'Girls Si Qual Draw Prep'!$A$7:$P$38,2)))","v":""},{"$f":"IF($D61=\"\",\"\",VLOOKUP($D61,'Girls Si Qual Draw Prep'!$A$7:$P$38,3))","v":""},null,{"$f":"IF($D61=\"\",\"\",VLOOKUP($D61,'Girls Si Qual Draw Prep'!$A$7:$P$38,4))","v":""}]
[null,null,null,null,null,null,null,null,null,null,null,null,null,{"$f":"UPPER(IF(OR(M62=\"a\",M62=\"as\"),L58,IF(OR(M62=\"b\",M62=\"bs\"),L66,)))","v":""}]
[29,{"$f":"IF($D63=\"\",\"\",VLOOKUP($D63,'Girls Si Qual Draw Prep'!$A$7:$P$38,15))","v":""},{"$f":"IF($D63=\"\",\"\",VLOOKUP($D63,'Girls Si Qual Draw Prep'!$A$7:$P$38,16))","v":""},null,{"$f":"UPPER(IF($D63=\"\",\"\",VLOOKUP($D63,'Girls Si Qual Draw Prep'!$A$7:$P$38,2)))","v":""},{"$f":"IF($D63=\"\",\"\",VLOOKUP($D63,'Girls Si Qual Draw Prep'!$A$7:$P$38,3))","v":""},null,{"$f":"IF($D63=\"\",\"\",VLOOKUP($D63,'Girls Si Qual Draw Prep'!$A$7:$P$38,4))","v":""}]
[null,null,null,null,null,null,null,"Umpire",null,{"$f":"UPPER(IF(OR(I64=\"a\",I64=\"as\"),E63,IF(OR(I64=\"b\",I64=\"bs\"),E65,)))","v":""}]
[30,{"$f":"IF($D65=\"\",\"\",VLOOKUP($D65,'Girls Si Qual Draw Prep'!$A$7:$P$38,15))","v":""},{"$f":"IF($D65=\"\",\"\",VLOOKUP($D65,'Girls Si Qual Draw Prep'!$A$7:$P$38,16))","v":""},null,{"$f":"UPPER(IF($D65=\"\",\"\",VLOOKUP($D65,'Girls Si Qual Draw Prep'!$A$7:$P$38,2)))","v":""},{"$f":"IF($D65=\"\",\"\",VLOOKUP($D65,'Girls Si Qual Draw Prep'!$A$7:$P$38,3))","v":""},null,{"$f":"IF($D65=\"\",\"\",VLOOKUP($D65,'Girls Si Qual Draw Prep'!$A$7:$P$38,4))","v":""}]
[null,null,null,null,null,null,null,null,null,"Umpire",null,{"$f":"UPPER(IF(OR(K66=\"a\",K66=\"as\"),J64,IF(OR(K66=\"b\",K66=\"bs\"),J68,)))","v":""}]
[31,{"$f":"IF($D67=\"\",\"\",VLOOKUP($D67,'Girls Si Qual Draw Prep'!$A$7:$P$38,15))","v":""},{"$f":"IF($D67=\"\",\"\",VLOOKUP($D67,'Girls Si Qual Draw Prep'!$A$7:$P$38,16))","v":""},null,{"$f":"UPPER(IF($D67=\"\",\"\",VLOOKUP($D67,'Girls Si Qual Draw Prep'!$A$7:$P$38,2)))","v":""},{"$f":"IF($D67=\"\",\"\",VLOOKUP($D67,'Girls Si Qual Draw Prep'!$A$7:$P$38,3))","v":""},null,{"$f":"IF($D67=\"\",\"\",VLOOKUP($D67,'Girls Si Qual Draw Prep'!$A$7:$P$38,4))","v":""}]
[null,null,null,null,null,null,null,"Umpire",null,{"$f":"UPPER(IF(OR(I68=\"a\",I68=\"as\"),E67,IF(OR(I68=\"b\",I68=\"bs\"),E69,)))","v":""}]
[32,{"$f":"IF($D69=\"\",\"\",VLOOKUP($D69,'Girls Si Qual Draw Prep'!$A$7:$P$38,15))","v":""},{"$f":"IF($D69=\"\",\"\",VLOOKUP($D69,'Girls Si Qual Draw Prep'!$A$7:$P$38,16))","v":""},null,{"$f":"UPPER(IF($D69=\"\",\"\",VLOOKUP($D69,'Girls Si Qual Draw Prep'!$A$7:$P$38,2)))","v":""},{"$f":"IF($D69=\"\",\"\",VLOOKUP($D69,'Girls Si Qual Draw Prep'!$A$7:$P$38,3))","v":""},null,{"$f":"IF($D69=\"\",\"\",VLOOKUP($D69,'Girls Si Qual Draw Prep'!$A$7:$P$38,4))","v":""}]
[]
["Acc. Ranking",null,null,"#","Seeded players",null,null,null,"#","Alternates",null,"Replacing",null,"Draw date/time:"]
["Rkg Date",null,null,1,{"$f":"IF(D72>$Q$79,,UPPER(VLOOKUP(D72,'Girls Si Qual Draw Prep'!$A$7:$R$134,2)))","v":0},"9",{"$f":"IF(F72>$Q$79,,UPPER(VLOOKUP(F72,'Girls Si Qual Draw Prep'!$A$7:$R$134,2)))","v":0},null,"1",null,null,null,null,"Last Accepted player"]
["Top DA",null,null,2,{"$f":"IF(D73>$Q$79,,UPPER(VLOOKUP(D73,'Girls Si Qual Draw Prep'!$A$7:$R$134,2)))","v":0},"10",{"$f":"IF(F73>$Q$79,,UPPER(VLOOKUP(F73,'Girls Si Qual Draw Prep'!$A$7:$R$134,2)))","v":0},null,"2"]
["Last DA",null,null,3,{"$f":"IF(D74>$Q$79,,UPPER(VLOOKUP(D74,'Girls Si Qual Draw Prep'!$A$7:$R$134,2)))","v":0},"11",{"$f":"IF(F74>$Q$79,,UPPER(VLOOKUP(F74,'Girls Si Qual Draw Prep'!$A$7:$R$134,2)))","v":0},null,"3",null,null,null,null,"Player representatives"]
[null,null,null,4,{"$f":"IF(D75>$Q$79,,UPPER(VLOOKUP(D75,'Girls Si Qual Draw Prep'!$A$7:$R$134,2)))","v":0},"12",{"$f":"IF(F75>$Q$79,,UPPER(VLOOKUP(F75,'Girls Si Qual Draw Prep'!$A$7:$R$134,2)))","v":0},null,"4"]
["Seed ranking",null,null,5,{"$f":"IF(D76>$Q$79,,UPPER(VLOOKUP(D76,'Girls Si Qual Draw Prep'!$A$7:$R$134,2)))","v":0},"13",{"$f":"IF(F76>$Q$79,,UPPER(VLOOKUP(F76,'Girls Si Qual Draw Prep'!$A$7:$R$134,2)))","v":0},null,"5"]
["Rkg Date",null,null,6,{"$f":"IF(D77>$Q$79,,UPPER(VLOOKUP(D77,'Girls Si Qual Draw Prep'!$A$7:$R$134,2)))","v":0},"14",{"$f":"IF(F77>$Q$79,,UPPER(VLOOKUP(F77,'Girls Si Qual Draw Prep'!$A$7:$R$134,2)))","v":0},null,"6",null,null,null,null,"ITF Referee's signature"]
["Top seed",null,null,7,{"$f":"IF(D78>$Q$79,,UPPER(VLOOKUP(D78,'Girls Si Qual Draw Prep'!$A$7:$R$134,2)))","v":0},"15",{"$f":"IF(F78>$Q$79,,UPPER(VLOOKUP(F78,'Girls Si Qual Draw Prep'!$A$7:$R$134,2)))","v":0},null,"7"]
["Last seed",null,null,8,{"$f":"IF(D79>$Q$79,,UPPER(VLOOKUP(D79,'Girls Si Qual Draw Prep'!$A$7:$R$134,2)))","v":0},"16",{"$f":"IF(F79>$Q$79,,UPPER(VLOOKUP(F79,'Girls Si Qual Draw Prep'!$A$7:$R$134,2)))","v":0},null,"8",null,null,null,null,{"$f":"Q4","v":0},null,null,{"$f":"MIN(8,'Girls Si Qual Draw Prep'!R5)","v":0}]

{"sheet":"Girls Si Qual 48>6","index":38,"n_rows":80,"n_cols":20,"rows_kept":80,"cut":false,"hidden":false,"merged":[[3,0,3,2]]}
[{"$f":"'Week SetUp'!$A$6","v":0},null,null,null,null,null,null,null,null,"GIRLS SINGLES",null,null,null,"CU"]
[{"$f":"'Week SetUp'!$A$8","v":"ITF Junior Circuit"},null,null,null,null,null,null,null,null,"QUALIFYING DRAW (48)"]
["Week of",null,null,null,null,"City, Country",null,null,null,"Group",null,"Tourn. ID",null,null,null,null,"ITF Referee"]
[{"$f":"'Week SetUp'!$A$10","v":"00:00:00"},null,null,null,null,{"$f":"'Week SetUp'!$C$10","v":0},null,null,null,{"$f":"'Week SetUp'!$D$10","v":0},null,{"$f":"'Week SetUp'!$A$12","v":0},null,null,null,null,{"$f":"'Week SetUp'!$E$10","v":0}]
[null,"St.","Rank","Seed","Family Name","First name",null,"Nationality",null,"2nd Round",null,"Finals",null,"Qualifiers"]
[]
["1",{"$f":"IF($D7=\"\",\"\",VLOOKUP($D7,'Girls Si Qual Draw Prep'!$A$7:$P$54,15))","v":""},{"$f":"IF($D7=\"\",\"\",VLOOKUP($D7,'Girls Si Qual Draw Prep'!$A$7:$P$54,16))","v":""},null,{"$f":"UPPER(IF($D7=\"\",\"\",VLOOKUP($D7,'Girls Si Qual Draw Prep'!$A$7:$P$54,2)))","v":""},{"$f":"IF($D7=\"\",\"\",VLOOKUP($D7,'Girls Si Qual Draw Prep'!$A$7:$P$54,3))","v":""},null,{"$f":"IF($D7=\"\",\"\",VLOOKUP($D7,'Girls Si Qual Draw Prep'!$A$7:$P$54,4))","v":""},null,{"$f":"UPPER(IF(OR(I8=\"a\",I8=\"as\"),E7,IF(OR(I8=\"b\",I8=\"bs\"),E8,)))","v":""},null,null,null,null,null,null,null,null,null,{"$f":"'SetUp Officials'!P21","v":"Umpire"}]
["2",{"$f":"IF($D8=\"\",\"\",VLOOKUP($D8,'Girls Si Qual Draw Prep'!$A$7:$P$54,15))","v":""},{"$f":"IF($D8=\"\",\"\",VLOOKUP($D8,'Girls Si Qual Draw Prep'!$A$7:$P$54,16))","v":""},null,{"$f":"UPPER(IF($D8=\"\",\"\",VLOOKUP($D8,'Girls Si Qual Draw Prep'!$A$7:$P$54,2)))","v":""},{"$f":"IF($D8=\"\",\"\",VLOOKUP($D8,'Girls Si Qual Draw Prep'!$A$7:$P$54,3))","v":""},null,{"$f":"IF($D8=\"\",\"\",VLOOKUP($D8,'Girls Si Qual Draw Prep'!$A$7:$P$54,4))","v":""},null,null,null,{"$f":"UPPER(IF(OR(K8=\"a\",K8=\"as\"),J7,IF(OR(K8=\"b\",K8=\"bs\"),J9,)))","v":""},null,null,null,null,null,null,null,{"$f":"'SetUp Officials'!P22","v":" "}]
["3",{"$f":"IF($D9=\"\",\"\",VLOOKUP($D9,'Girls Si Qual Draw Prep'!$A$7:$P$54,15))","v":""},{"$f":"IF($D9=\"\",\"\",VLOOKUP($D9,'Girls Si Qual Draw Prep'!$A$7:$P$54,16))","v":""},null,{"$f":"UPPER(IF($D9=\"\",\"\",VLOOKUP($D9,'Girls Si Qual Draw Prep'!$A$7:$P$54,2)))","v":""},{"$f":"IF($D9=\"\",\"\",VLOOKUP($D9,'Girls Si Qual Draw Prep'!$A$7:$P$54,3))","v":""},null,{"$f":"IF($D9=\"\",\"\",VLOOKUP($D9,'Girls Si Qual Draw Prep'!$A$7:$P$54,4))","v":""},null,{"$f":"UPPER(IF(OR(I10=\"a\",I10=\"as\"),E9,IF(OR(I10=\"b\",I10=\"bs\"),E10,)))","v":""},null,null,null,null,null,null,null,null,null,{"$f":"'SetUp Officials'!P23","v":" "}]
["4",{"$f":"IF($D10=\"\",\"\",VLOOKUP($D10,'Girls Si Qual Draw Prep'!$A$7:$P$54,15))","v":""},{"$f":"IF($D10=\"\",\"\",VLOOKUP($D10,'Girls Si Qual Draw Prep'!$A$7:$P$54,16))","v":""},null,{"$f":"UPPER(IF($D10=\"\",\"\",VLOOKUP($D10,'Girls Si Qual Draw Prep'!$A$7:$P$54,2)))","v":""},{"$f":"IF($D10=\"\",\"\",VLOOKUP($D10,'Girls Si Qual Draw Prep'!$A$7:$P$54,3))","v":""},null,{"$f":"IF($D10=\"\",\"\",VLOOKUP($D10,'Girls Si Qual Draw Prep'!$A$7:$P$54,4))","v":""},null,null,null,"Umpire",null,{"$f":"UPPER(IF(OR(M10=\"a\",M10=\"as\"),L8,IF(OR(M10=\"b\",M10=\"bs\"),L12,)))","v":""},null,null,null,null,null,{"$f":"'SetUp Officials'!P24","v":" "}]
["5",{"$f":"IF($D11=\"\",\"\",VLOOKUP($D11,'Girls Si Qual Draw Prep'!$A$7:$P$54,15))","v":""},{"$f":"IF($D11=\"\",\"\",VLOOKUP($D11,'Girls Si Qual Draw Prep'!$A$7:$P$54,16))","v":""},null,{"$f":"UPPER(IF($D11=\"\",\"\",VLOOKUP($D11,'Girls Si Qual Draw Prep'!$A$7:$P$54,2)))","v":""},{"$f":"IF($D11=\"\",\"\",VLOOKUP($D11,'Girls Si Qual Draw Prep'!$A$7:$P$54,3))","v":""},null,{"$f":"IF($D11=\"\",\"\",VLOOKUP($D11,'Girls Si Qual Draw Prep'!$A$7:$P$54,4))","v":""},null,{"$f":"UPPER(IF(OR(I12=\"a\",I12=\"as\"),E11,IF(OR(I12=\"b\",I12=\"bs\"),E12,)))","v":""},null,null,null,null,null,null,null,null,null,{"$f":"'SetUp Officials'!P25","v":" "}]
["6",{"$f":"IF($D12=\"\",\"\",VLOOKUP($D12,'Girls Si Qual Draw Prep'!$A$7:$P$54,15))","v":""},{"$f":"IF($D12=\"\",\"\",VLOOKUP($D12,'Girls Si Qual Draw Prep'!$A$7:$P$54,16))","v":""},null,{"$f":"UPPER(IF($D12=\"\",\"\",VLOOKUP($D12,'Girls Si Qual Draw Prep'!$A$7:$P$54,2)))","v":""},{"$f":"IF($D12=\"\",\"\",VLOOKUP($D12,'Girls Si Qual Draw Prep'!$A$7:$P$54,3))","v":""},null,{"$f":"IF($D12=\"\",\"\",VLOOKUP($D12,'Girls Si Qual Draw Prep'!$A$7:$P$54,4))","v":""},null,null,null,{"$f":"UPPER(IF(OR(K12=\"a\",K12=\"as\"),J11,IF(OR(K12=\"b\",K12=\"bs\"),J13,)))","v":""},null,null,null,null,null,null,null,{"$f":"'SetUp Officials'!P26","v":" "}]
["7",{"$f":"IF($D13=\"\",\"\",VLOOKUP($D13,'Girls Si Qual Draw Prep'!$A$7:$P$54,15))","v":""},{"$f":"IF($D13=\"\",\"\",VLOOKUP($D13,'Girls Si Qual Draw Prep'!$A$7:$P$54,16))","v":""},null,{"$f":"UPPER(IF($D13=\"\",\"\",VLOOKUP($D13,'Girls Si Qual Draw Prep'!$A$7:$P$54,2)))","v":""},{"$f":"IF($D13=\"\",\"\",VLOOKUP($D13,'Girls Si Qual Draw Prep'!$A$7:$P$54,3))","v":""},null,{"$f":"IF($D13=\"\",\"\",VLOOKUP($D13,'Girls Si Qual Draw Prep'!$A$7:$P$54,4))","v":""},null,{"$f":"UPPER(IF(OR(I14=\"a\",I14=\"as\"),E13,IF(OR(I14=\"b\",I14=\"bs\"),E14,)))","v":""},null,null,null,null,null,null,null,null,null,{"$f":"'SetUp Officials'!P27","v":" "}]
["8",{"$f":"IF($D14=\"\",\"\",VLOOKUP($D14,'Girls Si Qual Draw Prep'!$A$7:$P$54,15))","v":""},{"$f":"IF($D14=\"\",\"\",VLOOKUP($D14,'Girls Si Qual Draw Prep'!$A$7:$P$54,16))","v":""},null,{"$f":"UPPER(IF($D14=\"\",\"\",VLOOKUP($D14,'Girls Si Qual Draw Prep'!$A$7:$P$54,2)))","v":""},{"$f":"IF($D14=\"\",\"\",VLOOKUP($D14,'Girls Si Qual Draw Prep'!$A$7:$P$54,3))","v":""},null,{"$f":"IF($D14=\"\",\"\",VLOOKUP($D14,'Girls Si Qual Draw Prep'!$A$7:$P$54,4))","v":""},null,null,null,null,null,null,null,null,null,null,null,{"$f":"'SetUp Officials'!P28","v":" "}]
["9",{"$f":"IF($D15=\"\",\"\",VLOOKUP($D15,'Girls Si Qual Draw Prep'!$A$7:$P$54,15))","v":""},{"$f":"IF($D15=\"\",\"\",VLOOKUP($D15,'Girls Si Qual Draw Prep'!$A$7:$P$54,16))","v":""},null,{"$f":"UPPER(IF($D15=\"\",\"\",VLOOKUP($D15,'Girls Si Qual Draw Prep'!$A$7:$P$54,2)))","v":""},{"$f":"IF($D15=\"\",\"\",VLOOKUP($D15,'Girls Si Qual Draw Prep'!$A$7:$P$54,3))","v":""},null,{"$f":"IF($D15=\"\",\"\",VLOOKUP($D15,'Girls Si Qual Draw Prep'!$A$7:$P$54,4))","v":""},null,{"$f":"UPPER(IF(OR(I16=\"a\",I16=\"as\"),E15,IF(OR(I16=\"b\",I16=\"bs\"),E16,)))","v":""},null,null,null,null,null,null,null,null,null,{"$f":"'SetUp Officials'!P29","v":" "}]
["10",{"$f":"IF($D16=\"\",\"\",VLOOKUP($D16,'Girls Si Qual Draw Prep'!$A$7:$P$54,15))","v":""},{"$f":"IF($D16=\"\",\"\",VLOOKUP($D16,'Girls Si Qual Draw Prep'!$A$7:$P$54,16))","v":""},null,{"$f":"UPPER(IF($D16=\"\",\"\",VLOOKUP($D16,'Girls Si Qual Draw Prep'!$A$7:$P$54,2)))","v":""},{"$f":"IF($D16=\"\",\"\",VLOOKUP($D16,'Girls Si Qual Draw Prep'!$A$7:$P$54,3))","v":""},null,{"$f":"IF($D16=\"\",\"\",VLOOKUP($D16,'Girls Si Qual Draw Prep'!$A$7:$P$54,4))","v":""},null,null,null,{"$f":"UPPER(IF(OR(K16=\"a\",K16=\"as\"),J15,IF(OR(K16=\"b\",K16=\"bs\"),J17,)))","v":""},null,null,null,null,null,null,null,{"$f":"'SetUp Officials'!P30","v":"None"}]
["11",{"$f":"IF($D17=\"\",\"\",VLOOKUP($D17,'Girls Si Qual Draw Prep'!$A$7:$P$54,15))","v":""},{"$f":"IF($D17=\"\",\"\",VLOOKUP($D17,'Girls Si Qual Draw Prep'!$A$7:$P$54,16))","v":""},null,{"$f":"UPPER(IF($D17=\"\",\"\",VLOOKUP($D17,'Girls Si Qual Draw Prep'!$A$7:$P$54,2)))","v":""},{"$f":"IF($D17=\"\",\"\",VLOOKUP($D17,'Girls Si Qual Draw Prep'!$A$7:$P$54,3))","v":""},null,{"$f":"IF($D17=\"\",\"\",VLOOKUP($D17,'Girls Si Qual Draw Prep'!$A$7:$P$54,4))","v":""},null,{"$f":"UPPER(IF(OR(I18=\"a\",I18=\"as\"),E17,IF(OR(I18=\"b\",I18=\"bs\"),E18,)))","v":""}]
["12",{"$f":"IF($D18=\"\",\"\",VLOOKUP($D18,'Girls Si Qual Draw Prep'!$A$7:$P$54,15))","v":""},{"$f":"IF($D18=\"\",\"\",VLOOKUP($D18,'Girls Si Qual Draw Prep'!$A$7:$P$54,16))","v":""},null,{"$f":"UPPER(IF($D18=\"\",\"\",VLOOKUP($D18,'Girls Si Qual Draw Prep'!$A$7:$P$54,2)))","v":""},{"$f":"IF($D18=\"\",\"\",VLOOKUP($D18,'Girls Si Qual Draw Prep'!$A$7:$P$54,3))","v":""},null,{"$f":"IF($D18=\"\",\"\",VLOOKUP($D18,'Girls Si Qual Draw Prep'!$A$7:$P$54,4))","v":""},null,null,null,"Umpire",null,{"$f":"UPPER(IF(OR(M18=\"a\",M18=\"as\"),L16,IF(OR(M18=\"b\",M18=\"bs\"),L20,)))","v":""}]
["13",{"$f":"IF($D19=\"\",\"\",VLOOKUP($D19,'Girls Si Qual Draw Prep'!$A$7:$P$54,15))","v":""},{"$f":"IF($D19=\"\",\"\",VLOOKUP($D19,'Girls Si Qual Draw Prep'!$A$7:$P$54,16))","v":""},null,{"$f":"UPPER(IF($D19=\"\",\"\",VLOOKUP($D19,'Girls Si Qual Draw Prep'!$A$7:$P$54,2)))","v":""},{"$f":"IF($D19=\"\",\"\",VLOOKUP($D19,'Girls Si Qual Draw Prep'!$A$7:$P$54,3))","v":""},null,{"$f":"IF($D19=\"\",\"\",VLOOKUP($D19,'Girls Si Qual Draw Prep'!$A$7:$P$54,4))","v":""},null,{"$f":"UPPER(IF(OR(I20=\"a\",I20=\"as\"),E19,IF(OR(I20=\"b\",I20=\"bs\"),E20,)))","v":""}]
["14",{"$f":"IF($D20=\"\",\"\",VLOOKUP($D20,'Girls Si Qual Draw Prep'!$A$7:$P$54,15))","v":""},{"$f":"IF($D20=\"\",\"\",VLOOKUP($D20,'Girls Si Qual Draw Prep'!$A$7:$P$54,16))","v":""},null,{"$f":"UPPER(IF($D20=\"\",\"\",VLOOKUP($D20,'Girls Si Qual Draw Prep'!$A$7:$P$54,2)))","v":""},{"$f":"IF($D20=\"\",\"\",VLOOKUP($D20,'Girls Si Qual Draw Prep'!$A$7:$P$54,3))","v":""},null,{"$f":"IF($D20=\"\",\"\",VLOOKUP($D20,'Girls Si Qual Draw Prep'!$A$7:$P$54,4))","v":""},null,null,null,{"$f":"UPPER(IF(OR(K20=\"a\",K20=\"as\"),J19,IF(OR(K20=\"b\",K20=\"bs\"),J21,)))","v":""}]
["15",{"$f":"IF($D21=\"\",\"\",VLOOKUP($D21,'Girls Si Qual Draw Prep'!$A$7:$P$54,15))","v":""},{"$f":"IF($D21=\"\",\"\",VLOOKUP($D21,'Girls Si Qual Draw Prep'!$A$7:$P$54,16))","v":""},null,{"$f":"UPPER(IF($D21=\"\",\"\",VLOOKUP($D21,'Girls Si Qual Draw Prep'!$A$7:$P$54,2)))","v":""},{"$f":"IF($D21=\"\",\"\",VLOOKUP($D21,'Girls Si Qual Draw Prep'!$A$7:$P$54,3))","v":""},null,{"$f":"IF($D21=\"\",\"\",VLOOKUP($D21,'Girls Si Qual Draw Prep'!$A$7:$P$54,4))","v":""},null,{"$f":"UPPER(IF(OR(I22=\"a\",I22=\"as\"),E21,IF(OR(I22=\"b\",I22=\"bs\"),E22,)))","v":""}]
["16",{"$f":"IF($D22=\"\",\"\",VLOOKUP($D22,'Girls Si Qual Draw Prep'!$A$7:$P$54,15))","v":""},{"$f":"IF($D22=\"\",\"\",VLOOKUP($D22,'Girls Si Qual Draw Prep'!$A$7:$P$54,16))","v":""},null,{"$f":"UPPER(IF($D22=\"\",\"\",VLOOKUP($D22,'Girls Si Qual Draw Prep'!$A$7:$P$54,2)))","v":""},{"$f":"IF($D22=\"\",\"\",VLOOKUP($D22,'Girls Si Qual Draw Prep'!$A$7:$P$54,3))","v":""},null,{"$f":"IF($D22=\"\",\"\",VLOOKUP($D22,'Girls Si Qual Draw Prep'!$A$7:$P$54,4))","v":""}]
["17",{"$f":"IF($D23=\"\",\"\",VLOOKUP($D23,'Girls Si Qual Draw Prep'!$A$7:$P$54,15))","v":""},{"$f":"IF($D23=\"\",\"\",VLOOKUP($D23,'Girls Si Qual Draw Prep'!$A$7:$P$54,16))","v":""},null,{"$f":"UPPER(IF($D23=\"\",\"\",VLOOKUP($D23,'Girls Si Qual Draw Prep'!$A$7:$P$54,2)))","v":""},{"$f":"IF($D23=\"\",\"\",VLOOKUP($D23,'Girls Si Qual Draw Prep'!$A$7:$P$54,3))","v":""},null,{"$f":"IF($D23=\"\",\"\",VLOOKUP($D23,'Girls Si Qual Draw Prep'!$A$7:$P$54,4))","v":""},null,{"$f":"UPPER(IF(OR(I24=\"a\",I24=\"as\"),E23,IF(OR(I24=\"b\",I24=\"bs\"),E24,)))","v":""}]
["18",{"$f":"IF($D24=\"\",\"\",VLOOKUP($D24,'Girls Si Qual Draw Prep'!$A$7:$P$54,15))","v":""},{"$f":"IF($D24=\"\",\"\",VLOOKUP($D24,'Girls Si Qual Draw Prep'!$A$7:$P$54,16))","v":""},null,{"$f":"UPPER(IF($D24=\"\",\"\",VLOOKUP($D24,'Girls Si Qual Draw Prep'!$A$7:$P$54,2)))","v":""},{"$f":"IF($D24=\"\",\"\",VLOOKUP($D24,'Girls Si Qual Draw Prep'!$A$7:$P$54,3))","v":""},null,{"$f":"IF($D24=\"\",\"\",VLOOKUP($D24,'Girls Si Qual Draw Prep'!$A$7:$P$54,4))","v":""},null,null,null,{"$f":"UPPER(IF(OR(K24=\"a\",K24=\"as\"),J23,IF(OR(K24=\"b\",K24=\"bs\"),J25,)))","v":""}]
["19",{"$f":"IF($D25=\"\",\"\",VLOOKUP($D25,'Girls Si Qual Draw Prep'!$A$7:$P$54,15))","v":""},{"$f":"IF($D25=\"\",\"\",VLOOKUP($D25,'Girls Si Qual Draw Prep'!$A$7:$P$54,16))","v":""},null,{"$f":"UPPER(IF($D25=\"\",\"\",VLOOKUP($D25,'Girls Si Qual Draw Prep'!$A$7:$P$54,2)))","v":""},{"$f":"IF($D25=\"\",\"\",VLOOKUP($D25,'Girls Si Qual Draw Prep'!$A$7:$P$54,3))","v":""},null,{"$f":"IF($D25=\"\",\"\",VLOOKUP($D25,'Girls Si Qual Draw Prep'!$A$7:$P$54,4))","v":""},null,{"$f":"UPPER(IF(OR(I26=\"a\",I26=\"as\"),E25,IF(OR(I26=\"b\",I26=\"bs\"),E26,)))","v":""}]
["20",{"$f":"IF($D26=\"\",\"\",VLOOKUP($D26,'Girls Si Qual Draw Prep'!$A$7:$P$54,15))","v":""},{"$f":"IF($D26=\"\",\"\",VLOOKUP($D26,'Girls Si Qual Draw Prep'!$A$7:$P$54,16))","v":""},null,{"$f":"UPPER(IF($D26=\"\",\"\",VLOOKUP($D26,'Girls Si Qual Draw Prep'!$A$7:$P$54,2)))","v":""},{"$f":"IF($D26=\"\",\"\",VLOOKUP($D26,'Girls Si Qual Draw Prep'!$A$7:$P$54,3))","v":""},null,{"$f":"IF($D26=\"\",\"\",VLOOKUP($D26,'Girls Si Qual Draw Prep'!$A$7:$P$54,4))","v":""},null,null,null,"Umpire",null,{"$f":"UPPER(IF(OR(M26=\"a\",M26=\"as\"),L24,IF(OR(M26=\"b\",M26=\"bs\"),L28,)))","v":""}]
["21",{"$f":"IF($D27=\"\",\"\",VLOOKUP($D27,'Girls Si Qual Draw Prep'!$A$7:$P$54,15))","v":""},{"$f":"IF($D27=\"\",\"\",VLOOKUP($D27,'Girls Si Qual Draw Prep'!$A$7:$P$54,16))","v":""},null,{"$f":"UPPER(IF($D27=\"\",\"\",VLOOKUP($D27,'Girls Si Qual Draw Prep'!$A$7:$P$54,2)))","v":""},{"$f":"IF($D27=\"\",\"\",VLOOKUP($D27,'Girls Si Qual Draw Prep'!$A$7:$P$54,3))","v":""},null,{"$f":"IF($D27=\"\",\"\",VLOOKUP($D27,'Girls Si Qual Draw Prep'!$A$7:$P$54,4))","v":""},null,{"$f":"UPPER(IF(OR(I28=\"a\",I28=\"as\"),E27,IF(OR(I28=\"b\",I28=\"bs\"),E28,)))","v":""}]
["22",{"$f":"IF($D28=\"\",\"\",VLOOKUP($D28,'Girls Si Qual Draw Prep'!$A$7:$P$54,15))","v":""},{"$f":"IF($D28=\"\",\"\",VLOOKUP($D28,'Girls Si Qual Draw Prep'!$A$7:$P$54,16))","v":""},null,{"$f":"UPPER(IF($D28=\"\",\"\",VLOOKUP($D28,'Girls Si Qual Draw Prep'!$A$7:$P$54,2)))","v":""},{"$f":"IF($D28=\"\",\"\",VLOOKUP($D28,'Girls Si Qual Draw Prep'!$A$7:$P$54,3))","v":""},null,{"$f":"IF($D28=\"\",\"\",VLOOKUP($D28,'Girls Si Qual Draw Prep'!$A$7:$P$54,4))","v":""},null,null,null,{"$f":"UPPER(IF(OR(K28=\"a\",K28=\"as\"),J27,IF(OR(K28=\"b\",K28=\"bs\"),J29,)))","v":""}]
["23",{"$f":"IF($D29=\"\",\"\",VLOOKUP($D29,'Girls Si Qual Draw Prep'!$A$7:$P$54,15))","v":""},{"$f":"IF($D29=\"\",\"\",VLOOKUP($D29,'Girls Si Qual Draw Prep'!$A$7:$P$54,16))","v":""},null,{"$f":"UPPER(IF($D29=\"\",\"\",VLOOKUP($D29,'Girls Si Qual Draw Prep'!$A$7:$P$54,2)))","v":""},{"$f":"IF($D29=\"\",\"\",VLOOKUP($D29,'Girls Si Qual Draw Prep'!$A$7:$P$54,3))","v":""},null,{"$f":"IF($D29=\"\",\"\",VLOOKUP($D29,'Girls Si Qual Draw Prep'!$A$7:$P$54,4))","v":""},null,{"$f":"UPPER(IF(OR(I30=\"a\",I30=\"as\"),E29,IF(OR(I30=\"b\",I30=\"bs\"),E30,)))","v":""}]
["24",{"$f":"IF($D30=\"\",\"\",VLOOKUP($D30,'Girls Si Qual Draw Prep'!$A$7:$P$54,15))","v":""},{"$f":"IF($D30=\"\",\"\",VLOOKUP($D30,'Girls Si Qual Draw Prep'!$A$7:$P$54,16))","v":""},null,{"$f":"UPPER(IF($D30=\"\",\"\",VLOOKUP($D30,'Girls Si Qual Draw Prep'!$A$7:$P$54,2)))","v":""},{"$f":"IF($D30=\"\",\"\",VLOOKUP($D30,'Girls Si Qual Draw Prep'!$A$7:$P$54,3))","v":""},null,{"$f":"IF($D30=\"\",\"\",VLOOKUP($D30,'Girls Si Qual Draw Prep'!$A$7:$P$54,4))","v":""}]
["25",{"$f":"IF($D31=\"\",\"\",VLOOKUP($D31,'Girls Si Qual Draw Prep'!$A$7:$P$54,15))","v":""},{"$f":"IF($D31=\"\",\"\",VLOOKUP($D31,'Girls Si Qual Draw Prep'!$A$7:$P$54,16))","v":""},null,{"$f":"UPPER(IF($D31=\"\",\"\",VLOOKUP($D31,'Girls Si Qual Draw Prep'!$A$7:$P$54,2)))","v":""},{"$f":"IF($D31=\"\",\"\",VLOOKUP($D31,'Girls Si Qual Draw Prep'!$A$7:$P$54,3))","v":""},null,{"$f":"IF($D31=\"\",\"\",VLOOKUP($D31,'Girls Si Qual Draw Prep'!$A$7:$P$54,4))","v":""},null,{"$f":"UPPER(IF(OR(I32=\"a\",I32=\"as\"),E31,IF(OR(I32=\"b\",I32=\"bs\"),E32,)))","v":""}]
["26",{"$f":"IF($D32=\"\",\"\",VLOOKUP($D32,'Girls Si Qual Draw Prep'!$A$7:$P$54,15))","v":""},{"$f":"IF($D32=\"\",\"\",VLOOKUP($D32,'Girls Si Qual Draw Prep'!$A$7:$P$54,16))","v":""},null,{"$f":"UPPER(IF($D32=\"\",\"\",VLOOKUP($D32,'Girls Si Qual Draw Prep'!$A$7:$P$54,2)))","v":""},{"$f":"IF($D32=\"\",\"\",VLOOKUP($D32,'Girls Si Qual Draw Prep'!$A$7:$P$54,3))","v":""},null,{"$f":"IF($D32=\"\",\"\",VLOOKUP($D32,'Girls Si Qual Draw Prep'!$A$7:$P$54,4))","v":""},null,null,null,{"$f":"UPPER(IF(OR(K32=\"a\",K32=\"as\"),J31,IF(OR(K32=\"b\",K32=\"bs\"),J33,)))","v":""}]
["27",{"$f":"IF($D33=\"\",\"\",VLOOKUP($D33,'Girls Si Qual Draw Prep'!$A$7:$P$54,15))","v":""},{"$f":"IF($D33=\"\",\"\",VLOOKUP($D33,'Girls Si Qual Draw Prep'!$A$7:$P$54,16))","v":""},null,{"$f":"UPPER(IF($D33=\"\",\"\",VLOOKUP($D33,'Girls Si Qual Draw Prep'!$A$7:$P$54,2)))","v":""},{"$f":"IF($D33=\"\",\"\",VLOOKUP($D33,'Girls Si Qual Draw Prep'!$A$7:$P$54,3))","v":""},null,{"$f":"IF($D33=\"\",\"\",VLOOKUP($D33,'Girls Si Qual Draw Prep'!$A$7:$P$54,4))","v":""},null,{"$f":"UPPER(IF(OR(I34=\"a\",I34=\"as\"),E33,IF(OR(I34=\"b\",I34=\"bs\"),E34,)))","v":""}]
["28",{"$f":"IF($D34=\"\",\"\",VLOOKUP($D34,'Girls Si Qual Draw Prep'!$A$7:$P$54,15))","v":""},{"$f":"IF($D34=\"\",\"\",VLOOKUP($D34,'Girls Si Qual Draw Prep'!$A$7:$P$54,16))","v":""},null,{"$f":"UPPER(IF($D34=\"\",\"\",VLOOKUP($D34,'Girls Si Qual Draw Prep'!$A$7:$P$54,2)))","v":""},{"$f":"IF($D34=\"\",\"\",VLOOKUP($D34,'Girls Si Qual Draw Prep'!$A$7:$P$54,3))","v":""},null,{"$f":"IF($D34=\"\",\"\",VLOOKUP($D34,'Girls Si Qual Draw Prep'!$A$7:$P$54,4))","v":""},null,null,null,"Umpire",null,{"$f":"UPPER(IF(OR(M34=\"a\",M34=\"as\"),L32,IF(OR(M34=\"b\",M34=\"bs\"),L36,)))","v":""}]
["29",{"$f":"IF($D35=\"\",\"\",VLOOKUP($D35,'Girls Si Qual Draw Prep'!$A$7:$P$54,15))","v":""},{"$f":"IF($D35=\"\",\"\",VLOOKUP($D35,'Girls Si Qual Draw Prep'!$A$7:$P$54,16))","v":""},null,{"$f":"UPPER(IF($D35=\"\",\"\",VLOOKUP($D35,'Girls Si Qual Draw Prep'!$A$7:$P$54,2)))","v":""},{"$f":"IF($D35=\"\",\"\",VLOOKUP($D35,'Girls Si Qual Draw Prep'!$A$7:$P$54,3))","v":""},null,{"$f":"IF($D35=\"\",\"\",VLOOKUP($D35,'Girls Si Qual Draw Prep'!$A$7:$P$54,4))","v":""},null,{"$f":"UPPER(IF(OR(I36=\"a\",I36=\"as\"),E35,IF(OR(I36=\"b\",I36=\"bs\"),E36,)))","v":""}]
["30",{"$f":"IF($D36=\"\",\"\",VLOOKUP($D36,'Girls Si Qual Draw Prep'!$A$7:$P$54,15))","v":""},{"$f":"IF($D36=\"\",\"\",VLOOKUP($D36,'Girls Si Qual Draw Prep'!$A$7:$P$54,16))","v":""},null,{"$f":"UPPER(IF($D36=\"\",\"\",VLOOKUP($D36,'Girls Si Qual Draw Prep'!$A$7:$P$54,2)))","v":""},{"$f":"IF($D36=\"\",\"\",VLOOKUP($D36,'Girls Si Qual Draw Prep'!$A$7:$P$54,3))","v":""},null,{"$f":"IF($D36=\"\",\"\",VLOOKUP($D36,'Girls Si Qual Draw Prep'!$A$7:$P$54,4))","v":""},null,null,null,{"$f":"UPPER(IF(OR(K36=\"a\",K36=\"as\"),J35,IF(OR(K36=\"b\",K36=\"bs\"),J37,)))","v":""}]
["31",{"$f":"IF($D37=\"\",\"\",VLOOKUP($D37,'Girls Si Qual Draw Prep'!$A$7:$P$54,15))","v":""},{"$f":"IF($D37=\"\",\"\",VLOOKUP($D37,'Girls Si Qual Draw Prep'!$A$7:$P$54,16))","v":""},null,{"$f":"UPPER(IF($D37=\"\",\"\",VLOOKUP($D37,'Girls Si Qual Draw Prep'!$A$7:$P$54,2)))","v":""},{"$f":"IF($D37=\"\",\"\",VLOOKUP($D37,'Girls Si Qual Draw Prep'!$A$7:$P$54,3))","v":""},null,{"$f":"IF($D37=\"\",\"\",VLOOKUP($D37,'Girls Si Qual Draw Prep'!$A$7:$P$54,4))","v":""},null,{"$f":"UPPER(IF(OR(I38=\"a\",I38=\"as\"),E37,IF(OR(I38=\"b\",I38=\"bs\"),E38,)))","v":""}]
["32",{"$f":"IF($D38=\"\",\"\",VLOOKUP($D38,'Girls Si Qual Draw Prep'!$A$7:$P$54,15))","v":""},{"$f":"IF($D38=\"\",\"\",VLOOKUP($D38,'Girls Si Qual Draw Prep'!$A$7:$P$54,16))","v":""},null,{"$f":"UPPER(IF($D38=\"\",\"\",VLOOKUP($D38,'Girls Si Qual Draw Prep'!$A$7:$P$54,2)))","v":""},{"$f":"IF($D38=\"\",\"\",VLOOKUP($D38,'Girls Si Qual Draw Prep'!$A$7:$P$54,3))","v":""},null,{"$f":"IF($D38=\"\",\"\",VLOOKUP($D38,'Girls Si Qual Draw Prep'!$A$7:$P$54,4))","v":""}]
["33",{"$f":"IF($D39=\"\",\"\",VLOOKUP($D39,'Girls Si Qual Draw Prep'!$A$7:$P$54,15))","v":""},{"$f":"IF($D39=\"\",\"\",VLOOKUP($D39,'Girls Si Qual Draw Prep'!$A$7:$P$54,16))","v":""},null,{"$f":"UPPER(IF($D39=\"\",\"\",VLOOKUP($D39,'Girls Si Qual Draw Prep'!$A$7:$P$54,2)))","v":""},{"$f":"IF($D39=\"\",\"\",VLOOKUP($D39,'Girls Si Qual Draw Prep'!$A$7:$P$54,3))","v":""},null,{"$f":"IF($D39=\"\",\"\",VLOOKUP($D39,'Girls Si Qual Draw Prep'!$A$7:$P$54,4))","v":""},null,{"$f":"UPPER(IF(OR(I40=\"a\",I40=\"as\"),E39,IF(OR(I40=\"b\",I40=\"bs\"),E40,)))","v":""}]
["34",{"$f":"IF($D40=\"\",\"\",VLOOKUP($D40,'Girls Si Qual Draw Prep'!$A$7:$P$54,15))","v":""},{"$f":"IF($D40=\"\",\"\",VLOOKUP($D40,'Girls Si Qual Draw Prep'!$A$7:$P$54,16))","v":""},null,{"$f":"UPPER(IF($D40=\"\",\"\",VLOOKUP($D40,'Girls Si Qual Draw Prep'!$A$7:$P$54,2)))","v":""},{"$f":"IF($D40=\"\",\"\",VLOOKUP($D40,'Girls Si Qual Draw Prep'!$A$7:$P$54,3))","v":""},null,{"$f":"IF($D40=\"\",\"\",VLOOKUP($D40,'Girls Si Qual Draw Prep'!$A$7:$P$54,4))","v":""},null,null,null,{"$f":"UPPER(IF(OR(K40=\"a\",K40=\"as\"),J39,IF(OR(K40=\"b\",K40=\"bs\"),J41,)))","v":""}]
["35",{"$f":"IF($D41=\"\",\"\",VLOOKUP($D41,'Girls Si Qual Draw Prep'!$A$7:$P$54,15))","v":""},{"$f":"IF($D41=\"\",\"\",VLOOKUP($D41,'Girls Si Qual Draw Prep'!$A$7:$P$54,16))","v":""},null,{"$f":"UPPER(IF($D41=\"\",\"\",VLOOKUP($D41,'Girls Si Qual Draw Prep'!$A$7:$P$54,2)))","v":""},{"$f":"IF($D41=\"\",\"\",VLOOKUP($D41,'Girls Si Qual Draw Prep'!$A$7:$P$54,3))","v":""},null,{"$f":"IF($D41=\"\",\"\",VLOOKUP($D41,'Girls Si Qual Draw Prep'!$A$7:$P$54,4))","v":""},null,{"$f":"UPPER(IF(OR(I42=\"a\",I42=\"as\"),E41,IF(OR(I42=\"b\",I42=\"bs\"),E42,)))","v":""}]
["36",{"$f":"IF($D42=\"\",\"\",VLOOKUP($D42,'Girls Si Qual Draw Prep'!$A$7:$P$54,15))","v":""},{"$f":"IF($D42=\"\",\"\",VLOOKUP($D42,'Girls Si Qual Draw Prep'!$A$7:$P$54,16))","v":""},null,{"$f":"UPPER(IF($D42=\"\",\"\",VLOOKUP($D42,'Girls Si Qual Draw Prep'!$A$7:$P$54,2)))","v":""},{"$f":"IF($D42=\"\",\"\",VLOOKUP($D42,'Girls Si Qual Draw Prep'!$A$7:$P$54,3))","v":""},null,{"$f":"IF($D42=\"\",\"\",VLOOKUP($D42,'Girls Si Qual Draw Prep'!$A$7:$P$54,4))","v":""},null,null,null,"Umpire",null,{"$f":"UPPER(IF(OR(M42=\"a\",M42=\"as\"),L40,IF(OR(M42=\"b\",M42=\"bs\"),L44,)))","v":""}]
["37",{"$f":"IF($D43=\"\",\"\",VLOOKUP($D43,'Girls Si Qual Draw Prep'!$A$7:$P$54,15))","v":""},{"$f":"IF($D43=\"\",\"\",VLOOKUP($D43,'Girls Si Qual Draw Prep'!$A$7:$P$54,16))","v":""},null,{"$f":"UPPER(IF($D43=\"\",\"\",VLOOKUP($D43,'Girls Si Qual Draw Prep'!$A$7:$P$54,2)))","v":""},{"$f":"IF($D43=\"\",\"\",VLOOKUP($D43,'Girls Si Qual Draw Prep'!$A$7:$P$54,3))","v":""},null,{"$f":"IF($D43=\"\",\"\",VLOOKUP($D43,'Girls Si Qual Draw Prep'!$A$7:$P$54,4))","v":""},null,{"$f":"UPPER(IF(OR(I44=\"a\",I44=\"as\"),E43,IF(OR(I44=\"b\",I44=\"bs\"),E44,)))","v":""}]
["38",{"$f":"IF($D44=\"\",\"\",VLOOKUP($D44,'Girls Si Qual Draw Prep'!$A$7:$P$54,15))","v":""},{"$f":"IF($D44=\"\",\"\",VLOOKUP($D44,'Girls Si Qual Draw Prep'!$A$7:$P$54,16))","v":""},null,{"$f":"UPPER(IF($D44=\"\",\"\",VLOOKUP($D44,'Girls Si Qual Draw Prep'!$A$7:$P$54,2)))","v":""},{"$f":"IF($D44=\"\",\"\",VLOOKUP($D44,'Girls Si Qual Draw Prep'!$A$7:$P$54,3))","v":""},null,{"$f":"IF($D44=\"\",\"\",VLOOKUP($D44,'Girls Si Qual Draw Prep'!$A$7:$P$54,4))","v":""},null,null,null,{"$f":"UPPER(IF(OR(K44=\"a\",K44=\"as\"),J43,IF(OR(K44=\"b\",K44=\"bs\"),J45,)))","v":""}]
["39",{"$f":"IF($D45=\"\",\"\",VLOOKUP($D45,'Girls Si Qual Draw Prep'!$A$7:$P$54,15))","v":""},{"$f":"IF($D45=\"\",\"\",VLOOKUP($D45,'Girls Si Qual Draw Prep'!$A$7:$P$54,16))","v":""},null,{"$f":"UPPER(IF($D45=\"\",\"\",VLOOKUP($D45,'Girls Si Qual Draw Prep'!$A$7:$P$54,2)))","v":""},{"$f":"IF($D45=\"\",\"\",VLOOKUP($D45,'Girls Si Qual Draw Prep'!$A$7:$P$54,3))","v":""},null,{"$f":"IF($D45=\"\",\"\",VLOOKUP($D45,'Girls Si Qual Draw Prep'!$A$7:$P$54,4))","v":""},null,{"$f":"UPPER(IF(OR(I46=\"a\",I46=\"as\"),E45,IF(OR(I46=\"b\",I46=\"bs\"),E46,)))","v":""}]
["40",{"$f":"IF($D46=\"\",\"\",VLOOKUP($D46,'Girls Si Qual Draw Prep'!$A$7:$P$54,15))","v":""},{"$f":"IF($D46=\"\",\"\",VLOOKUP($D46,'Girls Si Qual Draw Prep'!$A$7:$P$54,16))","v":""},null,{"$f":"UPPER(IF($D46=\"\",\"\",VLOOKUP($D46,'Girls Si Qual Draw Prep'!$A$7:$P$54,2)))","v":""},{"$f":"IF($D46=\"\",\"\",VLOOKUP($D46,'Girls Si Qual Draw Prep'!$A$7:$P$54,3))","v":""},null,{"$f":"IF($D46=\"\",\"\",VLOOKUP($D46,'Girls Si Qual Draw Prep'!$A$7:$P$54,4))","v":""}]
["41",{"$f":"IF($D47=\"\",\"\",VLOOKUP($D47,'Girls Si Qual Draw Prep'!$A$7:$P$54,15))","v":""},{"$f":"IF($D47=\"\",\"\",VLOOKUP($D47,'Girls Si Qual Draw Prep'!$A$7:$P$54,16))","v":""},null,{"$f":"UPPER(IF($D47=\"\",\"\",VLOOKUP($D47,'Girls Si Qual Draw Prep'!$A$7:$P$54,2)))","v":""},{"$f":"IF($D47=\"\",\"\",VLOOKUP($D47,'Girls Si Qual Draw Prep'!$A$7:$P$54,3))","v":""},null,{"$f":"IF($D47=\"\",\"\",VLOOKUP($D47,'Girls Si Qual Draw Prep'!$A$7:$P$54,4))","v":""},null,{"$f":"UPPER(IF(OR(I48=\"a\",I48=\"as\"),E47,IF(OR(I48=\"b\",I48=\"bs\"),E48,)))","v":""}]
["42",{"$f":"IF($D48=\"\",\"\",VLOOKUP($D48,'Girls Si Qual Draw Prep'!$A$7:$P$54,15))","v":""},{"$f":"IF($D48=\"\",\"\",VLOOKUP($D48,'Girls Si Qual Draw Prep'!$A$7:$P$54,16))","v":""},null,{"$f":"UPPER(IF($D48=\"\",\"\",VLOOKUP($D48,'Girls Si Qual Draw Prep'!$A$7:$P$54,2)))","v":""},{"$f":"IF($D48=\"\",\"\",VLOOKUP($D48,'Girls Si Qual Draw Prep'!$A$7:$P$54,3))","v":""},null,{"$f":"IF($D48=\"\",\"\",VLOOKUP($D48,'Girls Si Qual Draw Prep'!$A$7:$P$54,4))","v":""},null,null,null,{"$f":"UPPER(IF(OR(K48=\"a\",K48=\"as\"),J47,IF(OR(K48=\"b\",K48=\"bs\"),J49,)))","v":""}]
["43",{"$f":"IF($D49=\"\",\"\",VLOOKUP($D49,'Girls Si Qual Draw Prep'!$A$7:$P$54,15))","v":""},{"$f":"IF($D49=\"\",\"\",VLOOKUP($D49,'Girls Si Qual Draw Prep'!$A$7:$P$54,16))","v":""},null,{"$f":"UPPER(IF($D49=\"\",\"\",VLOOKUP($D49,'Girls Si Qual Draw Prep'!$A$7:$P$54,2)))","v":""},{"$f":"IF($D49=\"\",\"\",VLOOKUP($D49,'Girls Si Qual Draw Prep'!$A$7:$P$54,3))","v":""},null,{"$f":"IF($D49=\"\",\"\",VLOOKUP($D49,'Girls Si Qual Draw Prep'!$A$7:$P$54,4))","v":""},null,{"$f":"UPPER(IF(OR(I50=\"a\",I50=\"as\"),E49,IF(OR(I50=\"b\",I50=\"bs\"),E50,)))","v":""}]
["44",{"$f":"IF($D50=\"\",\"\",VLOOKUP($D50,'Girls Si Qual Draw Prep'!$A$7:$P$54,15))","v":""},{"$f":"IF($D50=\"\",\"\",VLOOKUP($D50,'Girls Si Qual Draw Prep'!$A$7:$P$54,16))","v":""},null,{"$f":"UPPER(IF($D50=\"\",\"\",VLOOKUP($D50,'Girls Si Qual Draw Prep'!$A$7:$P$54,2)))","v":""},{"$f":"IF($D50=\"\",\"\",VLOOKUP($D50,'Girls Si Qual Draw Prep'!$A$7:$P$54,3))","v":""},null,{"$f":"IF($D50=\"\",\"\",VLOOKUP($D50,'Girls Si Qual Draw Prep'!$A$7:$P$54,4))","v":""},null,null,null,"Umpire",null,{"$f":"UPPER(IF(OR(M50=\"a\",M50=\"as\"),L48,IF(OR(M50=\"b\",M50=\"bs\"),L52,)))","v":""}]
["45",{"$f":"IF($D51=\"\",\"\",VLOOKUP($D51,'Girls Si Qual Draw Prep'!$A$7:$P$54,15))","v":""},{"$f":"IF($D51=\"\",\"\",VLOOKUP($D51,'Girls Si Qual Draw Prep'!$A$7:$P$54,16))","v":""},null,{"$f":"UPPER(IF($D51=\"\",\"\",VLOOKUP($D51,'Girls Si Qual Draw Prep'!$A$7:$P$54,2)))","v":""},{"$f":"IF($D51=\"\",\"\",VLOOKUP($D51,'Girls Si Qual Draw Prep'!$A$7:$P$54,3))","v":""},null,{"$f":"IF($D51=\"\",\"\",VLOOKUP($D51,'Girls Si Qual Draw Prep'!$A$7:$P$54,4))","v":""},null,{"$f":"UPPER(IF(OR(I52=\"a\",I52=\"as\"),E51,IF(OR(I52=\"b\",I52=\"bs\"),E52,)))","v":""}]
["46",{"$f":"IF($D52=\"\",\"\",VLOOKUP($D52,'Girls Si Qual Draw Prep'!$A$7:$P$54,15))","v":""},{"$f":"IF($D52=\"\",\"\",VLOOKUP($D52,'Girls Si Qual Draw Prep'!$A$7:$P$54,16))","v":""},null,{"$f":"UPPER(IF($D52=\"\",\"\",VLOOKUP($D52,'Girls Si Qual Draw Prep'!$A$7:$P$54,2)))","v":""},{"$f":"IF($D52=\"\",\"\",VLOOKUP($D52,'Girls Si Qual Draw Prep'!$A$7:$P$54,3))","v":""},null,{"$f":"IF($D52=\"\",\"\",VLOOKUP($D52,'Girls Si Qual Draw Prep'!$A$7:$P$54,4))","v":""},null,null,null,{"$f":"UPPER(IF(OR(K52=\"a\",K52=\"as\"),J51,IF(OR(K52=\"b\",K52=\"bs\"),J53,)))","v":""}]
["47",{"$f":"IF($D53=\"\",\"\",VLOOKUP($D53,'Girls Si Qual Draw Prep'!$A$7:$P$54,15))","v":""},{"$f":"IF($D53=\"\",\"\",VLOOKUP($D53,'Girls Si Qual Draw Prep'!$A$7:$P$54,16))","v":""},null,{"$f":"UPPER(IF($D53=\"\",\"\",VLOOKUP($D53,'Girls Si Qual Draw Prep'!$A$7:$P$54,2)))","v":""},{"$f":"IF($D53=\"\",\"\",VLOOKUP($D53,'Girls Si Qual Draw Prep'!$A$7:$P$54,3))","v":""},null,{"$f":"IF($D53=\"\",\"\",VLOOKUP($D53,'Girls Si Qual Draw Prep'!$A$7:$P$54,4))","v":""},null,{"$f":"UPPER(IF(OR(I54=\"a\",I54=\"as\"),E53,IF(OR(I54=\"b\",I54=\"bs\"),E54,)))","v":""}]
["48",{"$f":"IF($D54=\"\",\"\",VLOOKUP($D54,'Girls Si Qual Draw Prep'!$A$7:$P$54,15))","v":""},{"$f":"IF($D54=\"\",\"\",VLOOKUP($D54,'Girls Si Qual Draw Prep'!$A$7:$P$54,16))","v":""},null,{"$f":"UPPER(IF($D54=\"\",\"\",VLOOKUP($D54,'Girls Si Qual Draw Prep'!$A$7:$P$54,2)))","v":""},{"$f":"IF($D54=\"\",\"\",VLOOKUP($D54,'Girls Si Qual Draw Prep'!$A$7:$P$54,3))","v":""},null,{"$f":"IF($D54=\"\",\"\",VLOOKUP($D54,'Girls Si Qual Draw Prep'!$A$7:$P$54,4))","v":""}]
[null,{"$f":"IF($D55=\"\",\"\",VLOOKUP($D55,'Girls Si Qual Draw Prep'!$A$7:$P$54,15))","v":""},{"$f":"IF($D55=\"\",\"\",VLOOKUP($D55,'Girls Si Qual Draw Prep'!$A$7:$P$54,16))","v":""},null,{"$f":"UPPER(IF($D55=\"\",\"\",VLOOKUP($D55,'Girls Si Qual Draw Prep'!$A$7:$P$54,2)))","v":""},{"$f":"IF($D55=\"\",\"\",VLOOKUP($D55,'Girls Si Qual Draw Prep'!$A$7:$P$54,3))","v":""},null,{"$f":"IF($D55=\"\",\"\",VLOOKUP($D55,'Girls Si Qual Draw Prep'!$A$7:$P$54,4))","v":""},null,{"$f":"UPPER(IF(OR(I56=\"a\",I56=\"as\"),E55,IF(OR(I56=\"b\",I56=\"bs\"),E56,)))","v":""}]
[null,{"$f":"IF($D56=\"\",\"\",VLOOKUP($D56,'Girls Si Qual Draw Prep'!$A$7:$P$54,15))","v":""},{"$f":"IF($D56=\"\",\"\",VLOOKUP($D56,'Girls Si Qual Draw Prep'!$A$7:$P$54,16))","v":""},null,{"$f":"UPPER(IF($D56=\"\",\"\",VLOOKUP($D56,'Girls Si Qual Draw Prep'!$A$7:$P$54,2)))","v":""},{"$f":"IF($D56=\"\",\"\",VLOOKUP($D56,'Girls Si Qual Draw Prep'!$A$7:$P$54,3))","v":""},null,{"$f":"IF($D56=\"\",\"\",VLOOKUP($D56,'Girls Si Qual Draw Prep'!$A$7:$P$54,4))","v":""},null,null,null,{"$f":"UPPER(IF(OR(K56=\"a\",K56=\"as\"),J55,IF(OR(K56=\"b\",K56=\"bs\"),J57,)))","v":""}]
[null,{"$f":"IF($D57=\"\",\"\",VLOOKUP($D57,'Girls Si Qual Draw Prep'!$A$7:$P$54,15))","v":""},{"$f":"IF($D57=\"\",\"\",VLOOKUP($D57,'Girls Si Qual Draw Prep'!$A$7:$P$54,16))","v":""},null,{"$f":"UPPER(IF($D57=\"\",\"\",VLOOKUP($D57,'Girls Si Qual Draw Prep'!$A$7:$P$54,2)))","v":""},{"$f":"IF($D57=\"\",\"\",VLOOKUP($D57,'Girls Si Qual Draw Prep'!$A$7:$P$54,3))","v":""},null,{"$f":"IF($D57=\"\",\"\",VLOOKUP($D57,'Girls Si Qual Draw Prep'!$A$7:$P$54,4))","v":""},null,{"$f":"UPPER(IF(OR(I58=\"a\",I58=\"as\"),E57,IF(OR(I58=\"b\",I58=\"bs\"),E58,)))","v":""}]
[null,{"$f":"IF($D58=\"\",\"\",VLOOKUP($D58,'Girls Si Qual Draw Prep'!$A$7:$P$54,15))","v":""},{"$f":"IF($D58=\"\",\"\",VLOOKUP($D58,'Girls Si Qual Draw Prep'!$A$7:$P$54,16))","v":""},null,{"$f":"UPPER(IF($D58=\"\",\"\",VLOOKUP($D58,'Girls Si Qual Draw Prep'!$A$7:$P$54,2)))","v":""},{"$f":"IF($D58=\"\",\"\",VLOOKUP($D58,'Girls Si Qual Draw Prep'!$A$7:$P$54,3))","v":""},null,{"$f":"IF($D58=\"\",\"\",VLOOKUP($D58,'Girls Si Qual Draw Prep'!$A$7:$P$54,4))","v":""},null,null,null,null,null,{"$f":"UPPER(IF(OR(M58=\"a\",M58=\"as\"),L56,IF(OR(M58=\"b\",M58=\"bs\"),L60,)))","v":""}]
[null,{"$f":"IF($D59=\"\",\"\",VLOOKUP($D59,'Girls Si Qual Draw Prep'!$A$7:$P$54,15))","v":""},{"$f":"IF($D59=\"\",\"\",VLOOKUP($D59,'Girls Si Qual Draw Prep'!$A$7:$P$54,16))","v":""},null,{"$f":"UPPER(IF($D59=\"\",\"\",VLOOKUP($D59,'Girls Si Qual Draw Prep'!$A$7:$P$54,2)))","v":""},{"$f":"IF($D59=\"\",\"\",VLOOKUP($D59,'Girls Si Qual Draw Prep'!$A$7:$P$54,3))","v":""},null,{"$f":"IF($D59=\"\",\"\",VLOOKUP($D59,'Girls Si Qual Draw Prep'!$A$7:$P$54,4))","v":""},null,{"$f":"UPPER(IF(OR(I60=\"a\",I60=\"as\"),E59,IF(OR(I60=\"b\",I60=\"bs\"),E60,)))","v":""}]
[null,{"$f":"IF($D60=\"\",\"\",VLOOKUP($D60,'Girls Si Qual Draw Prep'!$A$7:$P$54,15))","v":""},{"$f":"IF($D60=\"\",\"\",VLOOKUP($D60,'Girls Si Qual Draw Prep'!$A$7:$P$54,16))","v":""},null,{"$f":"UPPER(IF($D60=\"\",\"\",VLOOKUP($D60,'Girls Si Qual Draw Prep'!$A$7:$P$54,2)))","v":""},{"$f":"IF($D60=\"\",\"\",VLOOKUP($D60,'Girls Si Qual Draw Prep'!$A$7:$P$54,3))","v":""},null,{"$f":"IF($D60=\"\",\"\",VLOOKUP($D60,'Girls Si Qual Draw Prep'!$A$7:$P$54,4))","v":""},null,null,null,{"$f":"UPPER(IF(OR(K60=\"a\",K60=\"as\"),J59,IF(OR(K60=\"b\",K60=\"bs\"),J61,)))","v":""}]
[null,{"$f":"IF($D61=\"\",\"\",VLOOKUP($D61,'Girls Si Qual Draw Prep'!$A$7:$P$54,15))","v":""},{"$f":"IF($D61=\"\",\"\",VLOOKUP($D61,'Girls Si Qual Draw Prep'!$A$7:$P$54,16))","v":""},null,{"$f":"UPPER(IF($D61=\"\",\"\",VLOOKUP($D61,'Girls Si Qual Draw Prep'!$A$7:$P$54,2)))","v":""},{"$f":"IF($D61=\"\",\"\",VLOOKUP($D61,'Girls Si Qual Draw Prep'!$A$7:$P$54,3))","v":""},null,{"$f":"IF($D61=\"\",\"\",VLOOKUP($D61,'Girls Si Qual Draw Prep'!$A$7:$P$54,4))","v":""},null,{"$f":"UPPER(IF(OR(I62=\"a\",I62=\"as\"),E61,IF(OR(I62=\"b\",I62=\"bs\"),E62,)))","v":""}]
[null,{"$f":"IF($D62=\"\",\"\",VLOOKUP($D62,'Girls Si Qual Draw Prep'!$A$7:$P$54,15))","v":""},{"$f":"IF($D62=\"\",\"\",VLOOKUP($D62,'Girls Si Qual Draw Prep'!$A$7:$P$54,16))","v":""},null,{"$f":"UPPER(IF($D62=\"\",\"\",VLOOKUP($D62,'Girls Si Qual Draw Prep'!$A$7:$P$54,2)))","v":""},{"$f":"IF($D62=\"\",\"\",VLOOKUP($D62,'Girls Si Qual Draw Prep'!$A$7:$P$54,3))","v":""},null,{"$f":"IF($D62=\"\",\"\",VLOOKUP($D62,'Girls Si Qual Draw Prep'!$A$7:$P$54,4))","v":""}]
[null,{"$f":"IF($D63=\"\",\"\",VLOOKUP($D63,'Girls Si Qual Draw Prep'!$A$7:$P$54,15))","v":""},{"$f":"IF($D63=\"\",\"\",VLOOKUP($D63,'Girls Si Qual Draw Prep'!$A$7:$P$54,16))","v":""},null,{"$f":"UPPER(IF($D63=\"\",\"\",VLOOKUP($D63,'Girls Si Qual Draw Prep'!$A$7:$P$54,2)))","v":""},{"$f":"IF($D63=\"\",\"\",VLOOKUP($D63,'Girls Si Qual Draw Prep'!$A$7:$P$54,3))","v":""},null,{"$f":"IF($D63=\"\",\"\",VLOOKUP($D63,'Girls Si Qual Draw Prep'!$A$7:$P$54,4))","v":""},null,{"$f":"UPPER(IF(OR(I64=\"a\",I64=\"as\"),E63,IF(OR(I64=\"b\",I64=\"bs\"),E64,)))","v":""}]
[null,{"$f":"IF($D64=\"\",\"\",VLOOKUP($D64,'Girls Si Qual Draw Prep'!$A$7:$P$54,15))","v":""},{"$f":"IF($D64=\"\",\"\",VLOOKUP($D64,'Girls Si Qual Draw Prep'!$A$7:$P$54,16))","v":""},null,{"$f":"UPPER(IF($D64=\"\",\"\",VLOOKUP($D64,'Girls Si Qual Draw Prep'!$A$7:$P$54,2)))","v":""},{"$f":"IF($D64=\"\",\"\",VLOOKUP($D64,'Girls Si Qual Draw Prep'!$A$7:$P$54,3))","v":""},null,{"$f":"IF($D64=\"\",\"\",VLOOKUP($D64,'Girls Si Qual Draw Prep'!$A$7:$P$54,4))","v":""},null,null,null,{"$f":"UPPER(IF(OR(K64=\"a\",K64=\"as\"),J63,IF(OR(K64=\"b\",K64=\"bs\"),J65,)))","v":""}]
[null,{"$f":"IF($D65=\"\",\"\",VLOOKUP($D65,'Girls Si Qual Draw Prep'!$A$7:$P$54,15))","v":""},{"$f":"IF($D65=\"\",\"\",VLOOKUP($D65,'Girls Si Qual Draw Prep'!$A$7:$P$54,16))","v":""},null,{"$f":"UPPER(IF($D65=\"\",\"\",VLOOKUP($D65,'Girls Si Qual Draw Prep'!$A$7:$P$54,2)))","v":""},{"$f":"IF($D65=\"\",\"\",VLOOKUP($D65,'Girls Si Qual Draw Prep'!$A$7:$P$54,3))","v":""},null,{"$f":"IF($D65=\"\",\"\",VLOOKUP($D65,'Girls Si Qual Draw Prep'!$A$7:$P$54,4))","v":""},null,{"$f":"UPPER(IF(OR(I66=\"a\",I66=\"as\"),E65,IF(OR(I66=\"b\",I66=\"bs\"),E66,)))","v":""}]
[null,{"$f":"IF($D66=\"\",\"\",VLOOKUP($D66,'Girls Si Qual Draw Prep'!$A$7:$P$54,15))","v":""},{"$f":"IF($D66=\"\",\"\",VLOOKUP($D66,'Girls Si Qual Draw Prep'!$A$7:$P$54,16))","v":""},null,{"$f":"UPPER(IF($D66=\"\",\"\",VLOOKUP($D66,'Girls Si Qual Draw Prep'!$A$7:$P$54,2)))","v":""},{"$f":"IF($D66=\"\",\"\",VLOOKUP($D66,'Girls Si Qual Draw Prep'!$A$7:$P$54,3))","v":""},null,{"$f":"IF($D66=\"\",\"\",VLOOKUP($D66,'Girls Si Qual Draw Prep'!$A$7:$P$54,4))","v":""},null,null,null,null,null,{"$f":"UPPER(IF(OR(M66=\"a\",M66=\"as\"),L64,IF(OR(M66=\"b\",M66=\"bs\"),L68,)))","v":""}]
[null,{"$f":"IF($D67=\"\",\"\",VLOOKUP($D67,'Girls Si Qual Draw Prep'!$A$7:$P$54,15))","v":""},{"$f":"IF($D67=\"\",\"\",VLOOKUP($D67,'Girls Si Qual Draw Prep'!$A$7:$P$54,16))","v":""},null,{"$f":"UPPER(IF($D67=\"\",\"\",VLOOKUP($D67,'Girls Si Qual Draw Prep'!$A$7:$P$54,2)))","v":""},{"$f":"IF($D67=\"\",\"\",VLOOKUP($D67,'Girls Si Qual Draw Prep'!$A$7:$P$54,3))","v":""},null,{"$f":"IF($D67=\"\",\"\",VLOOKUP($D67,'Girls Si Qual Draw Prep'!$A$7:$P$54,4))","v":""},null,{"$f":"UPPER(IF(OR(I68=\"a\",I68=\"as\"),E67,IF(OR(I68=\"b\",I68=\"bs\"),E68,)))","v":""}]
[null,{"$f":"IF($D68=\"\",\"\",VLOOKUP($D68,'Girls Si Qual Draw Prep'!$A$7:$P$54,15))","v":""},{"$f":"IF($D68=\"\",\"\",VLOOKUP($D68,'Girls Si Qual Draw Prep'!$A$7:$P$54,16))","v":""},null,{"$f":"UPPER(IF($D68=\"\",\"\",VLOOKUP($D68,'Girls Si Qual Draw Prep'!$A$7:$P$54,2)))","v":""},{"$f":"IF($D68=\"\",\"\",VLOOKUP($D68,'Girls Si Qual Draw Prep'!$A$7:$P$54,3))","v":""},null,{"$f":"IF($D68=\"\",\"\",VLOOKUP($D68,'Girls Si Qual Draw Prep'!$A$7:$P$54,4))","v":""},null,null,null,{"$f":"UPPER(IF(OR(K68=\"a\",K68=\"as\"),J67,IF(OR(K68=\"b\",K68=\"bs\"),J69,)))","v":""}]
[null,{"$f":"IF($D69=\"\",\"\",VLOOKUP($D69,'Girls Si Qual Draw Prep'!$A$7:$P$54,15))","v":""},{"$f":"IF($D69=\"\",\"\",VLOOKUP($D69,'Girls Si Qual Draw Prep'!$A$7:$P$54,16))","v":""},null,{"$f":"UPPER(IF($D69=\"\",\"\",VLOOKUP($D69,'Girls Si Qual Draw Prep'!$A$7:$P$54,2)))","v":""},{"$f":"IF($D69=\"\",\"\",VLOOKUP($D69,'Girls Si Qual Draw Prep'!$A$7:$P$54,3))","v":""},null,{"$f":"IF($D69=\"\",\"\",VLOOKUP($D69,'Girls Si Qual Draw Prep'!$A$7:$P$54,4))","v":""},null,{"$f":"UPPER(IF(OR(I70=\"a\",I70=\"as\"),E69,IF(OR(I70=\"b\",I70=\"bs\"),E70,)))","v":""}]
[null,{"$f":"IF($D70=\"\",\"\",VLOOKUP($D70,'Girls Si Qual Draw Prep'!$A$7:$P$54,15))","v":""},{"$f":"IF($D70=\"\",\"\",VLOOKUP($D70,'Girls Si Qual Draw Prep'!$A$7:$P$54,16))","v":""},null,{"$f":"UPPER(IF($D70=\"\",\"\",VLOOKUP($D70,'Girls Si Qual Draw Prep'!$A$7:$P$54,2)))","v":""},{"$f":"IF($D70=\"\",\"\",VLOOKUP($D70,'Girls Si Qual Draw Prep'!$A$7:$P$54,3))","v":""},null,{"$f":"IF($D70=\"\",\"\",VLOOKUP($D70,'Girls Si Qual Draw Prep'!$A$7:$P$54,4))","v":""}]
[]
["Acc. Ranking",null,null,"#","Seeded players","#","Seeded players",null,"#","Alternates",null,"Replacing",null,"Draw date/time:"]
["Rkg Date",null,null,1,{"$f":"IF(D73>$Q$80,,UPPER(VLOOKUP(D73,'Girls Si Qual Draw Prep'!$A$7:$R$134,2)))","v":0},9,{"$f":"IF(F73>$Q$80,,UPPER(VLOOKUP(F73,'Girls Si Qual Draw Prep'!$A$7:$R$134,2)))","v":0},null,"1",null,null,null,null,"Last Accepted player"]
["Top DA",null,null,2,{"$f":"IF(D74>$Q$80,,UPPER(VLOOKUP(D74,'Girls Si Qual Draw Prep'!$A$7:$R$134,2)))","v":0},10,{"$f":"IF(F74>$Q$80,,UPPER(VLOOKUP(F74,'Girls Si Qual Draw Prep'!$A$7:$R$134,2)))","v":0},null,"2"]
["Last DA",null,null,3,{"$f":"IF(D75>$Q$80,,UPPER(VLOOKUP(D75,'Girls Si Qual Draw Prep'!$A$7:$R$134,2)))","v":0},11,{"$f":"IF(F75>$Q$80,,UPPER(VLOOKUP(F75,'Girls Si Qual Draw Prep'!$A$7:$R$134,2)))","v":0},null,"3",null,null,null,null,"Player representatives"]
[null,null,null,4,{"$f":"IF(D76>$Q$80,,UPPER(VLOOKUP(D76,'Girls Si Qual Draw Prep'!$A$7:$R$134,2)))","v":0},12,{"$f":"IF(F76>$Q$80,,UPPER(VLOOKUP(F76,'Girls Si Qual Draw Prep'!$A$7:$R$134,2)))","v":0},null,"4"]
["Seed ranking",null,null,5,{"$f":"IF(D77>$Q$80,,UPPER(VLOOKUP(D77,'Girls Si Qual Draw Prep'!$A$7:$R$134,2)))","v":0},null,null,null,"5"]
["Rkg Date",null,null,6,{"$f":"IF(D78>$Q$80,,UPPER(VLOOKUP(D78,'Girls Si Qual Draw Prep'!$A$7:$R$134,2)))","v":0},null,null,null,"6",null,null,null,null,"ITF Referee's signature"]
["Top seed",null,null,7,{"$f":"IF(D79>$Q$80,,UPPER(VLOOKUP(D79,'Girls Si Qual Draw Prep'!$A$7:$R$134,2)))","v":0},null,null,null,"7"]
["Last seed",null,null,8,{"$f":"IF(D80>$Q$80,,UPPER(VLOOKUP(D80,'Girls Si Qual Draw Prep'!$A$7:$R$134,2)))","v":0},null,null,null,"8",null,null,null,null,{"$f":"Q4","v":0},null,null,{"$f":"MIN(12,'Girls Si Qual Draw Prep'!R5)","v":0}]

{"sheet":"Girls Si Qual 64>8","index":39,"n_rows":80,"n_cols":20,"rows_kept":80,"cut":false,"hidden":false,"merged":[[3,0,3,2]]}
[{"$f":"'Week SetUp'!$A$6","v":0},null,null,null,null,null,null,null,null,"GIRLS SINGLES",null,null,null,"CU"]
[{"$f":"'Week SetUp'!$A$8","v":"ITF Junior Circuit"},null,null,null,null,null,null,null,null,"QUALIFYING DRAW (64)"]
["Week of",null,null,null,null,"City, Country",null,null,null,"Group",null,"Tourn. ID",null,null,null,null,"ITF Referee"]
[{"$f":"'Week SetUp'!$A$10","v":"00:00:00"},null,null,null,null,{"$f":"'Week SetUp'!$C$10","v":0},null,null,null,{"$f":"'Week SetUp'!$D$10","v":0},null,{"$f":"'Week SetUp'!$A$12","v":0},null,null,null,null,{"$f":"'Week SetUp'!$E$10","v":0}]
[null,"St.","Rank","Seed","Family Name","First name",null,"Nationality",null,"2nd Round",null,"Finals",null,"Qualifiers"]
[]
["1",{"$f":"IF($D7=\"\",\"\",VLOOKUP($D7,'Girls Si Qual Draw Prep'!$A$7:$P$70,15))","v":""},{"$f":"IF($D7=\"\",\"\",VLOOKUP($D7,'Girls Si Qual Draw Prep'!$A$7:$P$70,16))","v":""},null,{"$f":"UPPER(IF($D7=\"\",\"\",VLOOKUP($D7,'Girls Si Qual Draw Prep'!$A$7:$P$70,2)))","v":""},{"$f":"IF($D7=\"\",\"\",VLOOKUP($D7,'Girls Si Qual Draw Prep'!$A$7:$P$70,3))","v":""},null,{"$f":"IF($D7=\"\",\"\",VLOOKUP($D7,'Girls Si Qual Draw Prep'!$A$7:$P$70,4))","v":""},null,{"$f":"UPPER(IF(OR(I8=\"a\",I8=\"as\"),E7,IF(OR(I8=\"b\",I8=\"bs\"),E8,)))","v":""},null,null,null,null,null,null,null,null,null,{"$f":"'SetUp Officials'!P21","v":"Umpire"}]
["2",{"$f":"IF($D8=\"\",\"\",VLOOKUP($D8,'Girls Si Qual Draw Prep'!$A$7:$P$70,15))","v":""},{"$f":"IF($D8=\"\",\"\",VLOOKUP($D8,'Girls Si Qual Draw Prep'!$A$7:$P$70,16))","v":""},null,{"$f":"UPPER(IF($D8=\"\",\"\",VLOOKUP($D8,'Girls Si Qual Draw Prep'!$A$7:$P$70,2)))","v":""},{"$f":"IF($D8=\"\",\"\",VLOOKUP($D8,'Girls Si Qual Draw Prep'!$A$7:$P$70,3))","v":""},null,{"$f":"IF($D8=\"\",\"\",VLOOKUP($D8,'Girls Si Qual Draw Prep'!$A$7:$P$70,4))","v":""},null,null,null,{"$f":"UPPER(IF(OR(K8=\"a\",K8=\"as\"),J7,IF(OR(K8=\"b\",K8=\"bs\"),J9,)))","v":""},null,null,null,null,null,null,null,{"$f":"'SetUp Officials'!P22","v":" "}]
["3",{"$f":"IF($D9=\"\",\"\",VLOOKUP($D9,'Girls Si Qual Draw Prep'!$A$7:$P$70,15))","v":""},{"$f":"IF($D9=\"\",\"\",VLOOKUP($D9,'Girls Si Qual Draw Prep'!$A$7:$P$70,16))","v":""},null,{"$f":"UPPER(IF($D9=\"\",\"\",VLOOKUP($D9,'Girls Si Qual Draw Prep'!$A$7:$P$70,2)))","v":""},{"$f":"IF($D9=\"\",\"\",VLOOKUP($D9,'Girls Si Qual Draw Prep'!$A$7:$P$70,3))","v":""},null,{"$f":"IF($D9=\"\",\"\",VLOOKUP($D9,'Girls Si Qual Draw Prep'!$A$7:$P$70,4))","v":""},null,{"$f":"UPPER(IF(OR(I10=\"a\",I10=\"as\"),E9,IF(OR(I10=\"b\",I10=\"bs\"),E10,)))","v":""},null,null,null,null,null,null,null,null,null,{"$f":"'SetUp Officials'!P23","v":" "}]
["4",{"$f":"IF($D10=\"\",\"\",VLOOKUP($D10,'Girls Si Qual Draw Prep'!$A$7:$P$70,15))","v":""},{"$f":"IF($D10=\"\",\"\",VLOOKUP($D10,'Girls Si Qual Draw Prep'!$A$7:$P$70,16))","v":""},null,{"$f":"UPPER(IF($D10=\"\",\"\",VLOOKUP($D10,'Girls Si Qual Draw Prep'!$A$7:$P$70,2)))","v":""},{"$f":"IF($D10=\"\",\"\",VLOOKUP($D10,'Girls Si Qual Draw Prep'!$A$7:$P$70,3))","v":""},null,{"$f":"IF($D10=\"\",\"\",VLOOKUP($D10,'Girls Si Qual Draw Prep'!$A$7:$P$70,4))","v":""},null,null,null,"Umpire",null,{"$f":"UPPER(IF(OR(M10=\"a\",M10=\"as\"),L8,IF(OR(M10=\"b\",M10=\"bs\"),L12,)))","v":""},null,null,null,null,null,{"$f":"'SetUp Officials'!P24","v":" "}]
["5",{"$f":"IF($D11=\"\",\"\",VLOOKUP($D11,'Girls Si Qual Draw Prep'!$A$7:$P$70,15))","v":""},{"$f":"IF($D11=\"\",\"\",VLOOKUP($D11,'Girls Si Qual Draw Prep'!$A$7:$P$70,16))","v":""},null,{"$f":"UPPER(IF($D11=\"\",\"\",VLOOKUP($D11,'Girls Si Qual Draw Prep'!$A$7:$P$70,2)))","v":""},{"$f":"IF($D11=\"\",\"\",VLOOKUP($D11,'Girls Si Qual Draw Prep'!$A$7:$P$70,3))","v":""},null,{"$f":"IF($D11=\"\",\"\",VLOOKUP($D11,'Girls Si Qual Draw Prep'!$A$7:$P$70,4))","v":""},null,{"$f":"UPPER(IF(OR(I12=\"a\",I12=\"as\"),E11,IF(OR(I12=\"b\",I12=\"bs\"),E12,)))","v":""},null,null,null,null,null,null,null,null,null,{"$f":"'SetUp Officials'!P25","v":" "}]
["6",{"$f":"IF($D12=\"\",\"\",VLOOKUP($D12,'Girls Si Qual Draw Prep'!$A$7:$P$70,15))","v":""},{"$f":"IF($D12=\"\",\"\",VLOOKUP($D12,'Girls Si Qual Draw Prep'!$A$7:$P$70,16))","v":""},null,{"$f":"UPPER(IF($D12=\"\",\"\",VLOOKUP($D12,'Girls Si Qual Draw Prep'!$A$7:$P$70,2)))","v":""},{"$f":"IF($D12=\"\",\"\",VLOOKUP($D12,'Girls Si Qual Draw Prep'!$A$7:$P$70,3))","v":""},null,{"$f":"IF($D12=\"\",\"\",VLOOKUP($D12,'Girls Si Qual Draw Prep'!$A$7:$P$70,4))","v":""},null,null,null,{"$f":"UPPER(IF(OR(K12=\"a\",K12=\"as\"),J11,IF(OR(K12=\"b\",K12=\"bs\"),J13,)))","v":""},null,null,null,null,null,null,null,{"$f":"'SetUp Officials'!P26","v":" "}]
["7",{"$f":"IF($D13=\"\",\"\",VLOOKUP($D13,'Girls Si Qual Draw Prep'!$A$7:$P$70,15))","v":""},{"$f":"IF($D13=\"\",\"\",VLOOKUP($D13,'Girls Si Qual Draw Prep'!$A$7:$P$70,16))","v":""},null,{"$f":"UPPER(IF($D13=\"\",\"\",VLOOKUP($D13,'Girls Si Qual Draw Prep'!$A$7:$P$70,2)))","v":""},{"$f":"IF($D13=\"\",\"\",VLOOKUP($D13,'Girls Si Qual Draw Prep'!$A$7:$P$70,3))","v":""},null,{"$f":"IF($D13=\"\",\"\",VLOOKUP($D13,'Girls Si Qual Draw Prep'!$A$7:$P$70,4))","v":""},null,{"$f":"UPPER(IF(OR(I14=\"a\",I14=\"as\"),E13,IF(OR(I14=\"b\",I14=\"bs\"),E14,)))","v":""},null,null,null,null,null,null,null,null,null,{"$f":"'SetUp Officials'!P27","v":" "}]
["8",{"$f":"IF($D14=\"\",\"\",VLOOKUP($D14,'Girls Si Qual Draw Prep'!$A$7:$P$70,15))","v":""},{"$f":"IF($D14=\"\",\"\",VLOOKUP($D14,'Girls Si Qual Draw Prep'!$A$7:$P$70,16))","v":""},null,{"$f":"UPPER(IF($D14=\"\",\"\",VLOOKUP($D14,'Girls Si Qual Draw Prep'!$A$7:$P$70,2)))","v":""},{"$f":"IF($D14=\"\",\"\",VLOOKUP($D14,'Girls Si Qual Draw Prep'!$A$7:$P$70,3))","v":""},null,{"$f":"IF($D14=\"\",\"\",VLOOKUP($D14,'Girls Si Qual Draw Prep'!$A$7:$P$70,4))","v":""},null,null,null,null,null,null,null,null,null,null,null,{"$f":"'SetUp Officials'!P28","v":" "}]
["9",{"$f":"IF($D15=\"\",\"\",VLOOKUP($D15,'Girls Si Qual Draw Prep'!$A$7:$P$70,15))","v":""},{"$f":"IF($D15=\"\",\"\",VLOOKUP($D15,'Girls Si Qual Draw Prep'!$A$7:$P$70,16))","v":""},null,{"$f":"UPPER(IF($D15=\"\",\"\",VLOOKUP($D15,'Girls Si Qual Draw Prep'!$A$7:$P$70,2)))","v":""},{"$f":"IF($D15=\"\",\"\",VLOOKUP($D15,'Girls Si Qual Draw Prep'!$A$7:$P$70,3))","v":""},null,{"$f":"IF($D15=\"\",\"\",VLOOKUP($D15,'Girls Si Qual Draw Prep'!$A$7:$P$70,4))","v":""},null,{"$f":"UPPER(IF(OR(I16=\"a\",I16=\"as\"),E15,IF(OR(I16=\"b\",I16=\"bs\"),E16,)))","v":""},null,null,null,null,null,null,null,null,null,{"$f":"'SetUp Officials'!P29","v":" "}]
["10",{"$f":"IF($D16=\"\",\"\",VLOOKUP($D16,'Girls Si Qual Draw Prep'!$A$7:$P$70,15))","v":""},{"$f":"IF($D16=\"\",\"\",VLOOKUP($D16,'Girls Si Qual Draw Prep'!$A$7:$P$70,16))","v":""},null,{"$f":"UPPER(IF($D16=\"\",\"\",VLOOKUP($D16,'Girls Si Qual Draw Prep'!$A$7:$P$70,2)))","v":""},{"$f":"IF($D16=\"\",\"\",VLOOKUP($D16,'Girls Si Qual Draw Prep'!$A$7:$P$70,3))","v":""},null,{"$f":"IF($D16=\"\",\"\",VLOOKUP($D16,'Girls Si Qual Draw Prep'!$A$7:$P$70,4))","v":""},null,null,null,{"$f":"UPPER(IF(OR(K16=\"a\",K16=\"as\"),J15,IF(OR(K16=\"b\",K16=\"bs\"),J17,)))","v":""},null,null,null,null,null,null,null,{"$f":"'SetUp Officials'!P30","v":"None"}]
["11",{"$f":"IF($D17=\"\",\"\",VLOOKUP($D17,'Girls Si Qual Draw Prep'!$A$7:$P$70,15))","v":""},{"$f":"IF($D17=\"\",\"\",VLOOKUP($D17,'Girls Si Qual Draw Prep'!$A$7:$P$70,16))","v":""},null,{"$f":"UPPER(IF($D17=\"\",\"\",VLOOKUP($D17,'Girls Si Qual Draw Prep'!$A$7:$P$70,2)))","v":""},{"$f":"IF($D17=\"\",\"\",VLOOKUP($D17,'Girls Si Qual Draw Prep'!$A$7:$P$70,3))","v":""},null,{"$f":"IF($D17=\"\",\"\",VLOOKUP($D17,'Girls Si Qual Draw Prep'!$A$7:$P$70,4))","v":""},null,{"$f":"UPPER(IF(OR(I18=\"a\",I18=\"as\"),E17,IF(OR(I18=\"b\",I18=\"bs\"),E18,)))","v":""}]
["12",{"$f":"IF($D18=\"\",\"\",VLOOKUP($D18,'Girls Si Qual Draw Prep'!$A$7:$P$70,15))","v":""},{"$f":"IF($D18=\"\",\"\",VLOOKUP($D18,'Girls Si Qual Draw Prep'!$A$7:$P$70,16))","v":""},null,{"$f":"UPPER(IF($D18=\"\",\"\",VLOOKUP($D18,'Girls Si Qual Draw Prep'!$A$7:$P$70,2)))","v":""},{"$f":"IF($D18=\"\",\"\",VLOOKUP($D18,'Girls Si Qual Draw Prep'!$A$7:$P$70,3))","v":""},null,{"$f":"IF($D18=\"\",\"\",VLOOKUP($D18,'Girls Si Qual Draw Prep'!$A$7:$P$70,4))","v":""},null,null,null,"Umpire",null,{"$f":"UPPER(IF(OR(M18=\"a\",M18=\"as\"),L16,IF(OR(M18=\"b\",M18=\"bs\"),L20,)))","v":""}]
["13",{"$f":"IF($D19=\"\",\"\",VLOOKUP($D19,'Girls Si Qual Draw Prep'!$A$7:$P$70,15))","v":""},{"$f":"IF($D19=\"\",\"\",VLOOKUP($D19,'Girls Si Qual Draw Prep'!$A$7:$P$70,16))","v":""},null,{"$f":"UPPER(IF($D19=\"\",\"\",VLOOKUP($D19,'Girls Si Qual Draw Prep'!$A$7:$P$70,2)))","v":""},{"$f":"IF($D19=\"\",\"\",VLOOKUP($D19,'Girls Si Qual Draw Prep'!$A$7:$P$70,3))","v":""},null,{"$f":"IF($D19=\"\",\"\",VLOOKUP($D19,'Girls Si Qual Draw Prep'!$A$7:$P$70,4))","v":""},null,{"$f":"UPPER(IF(OR(I20=\"a\",I20=\"as\"),E19,IF(OR(I20=\"b\",I20=\"bs\"),E20,)))","v":""}]
["14",{"$f":"IF($D20=\"\",\"\",VLOOKUP($D20,'Girls Si Qual Draw Prep'!$A$7:$P$70,15))","v":""},{"$f":"IF($D20=\"\",\"\",VLOOKUP($D20,'Girls Si Qual Draw Prep'!$A$7:$P$70,16))","v":""},null,{"$f":"UPPER(IF($D20=\"\",\"\",VLOOKUP($D20,'Girls Si Qual Draw Prep'!$A$7:$P$70,2)))","v":""},{"$f":"IF($D20=\"\",\"\",VLOOKUP($D20,'Girls Si Qual Draw Prep'!$A$7:$P$70,3))","v":""},null,{"$f":"IF($D20=\"\",\"\",VLOOKUP($D20,'Girls Si Qual Draw Prep'!$A$7:$P$70,4))","v":""},null,null,null,{"$f":"UPPER(IF(OR(K20=\"a\",K20=\"as\"),J19,IF(OR(K20=\"b\",K20=\"bs\"),J21,)))","v":""}]
["15",{"$f":"IF($D21=\"\",\"\",VLOOKUP($D21,'Girls Si Qual Draw Prep'!$A$7:$P$70,15))","v":""},{"$f":"IF($D21=\"\",\"\",VLOOKUP($D21,'Girls Si Qual Draw Prep'!$A$7:$P$70,16))","v":""},null,{"$f":"UPPER(IF($D21=\"\",\"\",VLOOKUP($D21,'Girls Si Qual Draw Prep'!$A$7:$P$70,2)))","v":""},{"$f":"IF($D21=\"\",\"\",VLOOKUP($D21,'Girls Si Qual Draw Prep'!$A$7:$P$70,3))","v":""},null,{"$f":"IF($D21=\"\",\"\",VLOOKUP($D21,'Girls Si Qual Draw Prep'!$A$7:$P$70,4))","v":""},null,{"$f":"UPPER(IF(OR(I22=\"a\",I22=\"as\"),E21,IF(OR(I22=\"b\",I22=\"bs\"),E22,)))","v":""}]
["16",{"$f":"IF($D22=\"\",\"\",VLOOKUP($D22,'Girls Si Qual Draw Prep'!$A$7:$P$70,15))","v":""},{"$f":"IF($D22=\"\",\"\",VLOOKUP($D22,'Girls Si Qual Draw Prep'!$A$7:$P$70,16))","v":""},null,{"$f":"UPPER(IF($D22=\"\",\"\",VLOOKUP($D22,'Girls Si Qual Draw Prep'!$A$7:$P$70,2)))","v":""},{"$f":"IF($D22=\"\",\"\",VLOOKUP($D22,'Girls Si Qual Draw Prep'!$A$7:$P$70,3))","v":""},null,{"$f":"IF($D22=\"\",\"\",VLOOKUP($D22,'Girls Si Qual Draw Prep'!$A$7:$P$70,4))","v":""}]
["17",{"$f":"IF($D23=\"\",\"\",VLOOKUP($D23,'Girls Si Qual Draw Prep'!$A$7:$P$70,15))","v":""},{"$f":"IF($D23=\"\",\"\",VLOOKUP($D23,'Girls Si Qual Draw Prep'!$A$7:$P$70,16))","v":""},null,{"$f":"UPPER(IF($D23=\"\",\"\",VLOOKUP($D23,'Girls Si Qual Draw Prep'!$A$7:$P$70,2)))","v":""},{"$f":"IF($D23=\"\",\"\",VLOOKUP($D23,'Girls Si Qual Draw Prep'!$A$7:$P$70,3))","v":""},null,{"$f":"IF($D23=\"\",\"\",VLOOKUP($D23,'Girls Si Qual Draw Prep'!$A$7:$P$70,4))","v":""},null,{"$f":"UPPER(IF(OR(I24=\"a\",I24=\"as\"),E23,IF(OR(I24=\"b\",I24=\"bs\"),E24,)))","v":""}]
["18",{"$f":"IF($D24=\"\",\"\",VLOOKUP($D24,'Girls Si Qual Draw Prep'!$A$7:$P$70,15))","v":""},{"$f":"IF($D24=\"\",\"\",VLOOKUP($D24,'Girls Si Qual Draw Prep'!$A$7:$P$70,16))","v":""},null,{"$f":"UPPER(IF($D24=\"\",\"\",VLOOKUP($D24,'Girls Si Qual Draw Prep'!$A$7:$P$70,2)))","v":""},{"$f":"IF($D24=\"\",\"\",VLOOKUP($D24,'Girls Si Qual Draw Prep'!$A$7:$P$70,3))","v":""},null,{"$f":"IF($D24=\"\",\"\",VLOOKUP($D24,'Girls Si Qual Draw Prep'!$A$7:$P$70,4))","v":""},null,null,null,{"$f":"UPPER(IF(OR(K24=\"a\",K24=\"as\"),J23,IF(OR(K24=\"b\",K24=\"bs\"),J25,)))","v":""}]
["19",{"$f":"IF($D25=\"\",\"\",VLOOKUP($D25,'Girls Si Qual Draw Prep'!$A$7:$P$70,15))","v":""},{"$f":"IF($D25=\"\",\"\",VLOOKUP($D25,'Girls Si Qual Draw Prep'!$A$7:$P$70,16))","v":""},null,{"$f":"UPPER(IF($D25=\"\",\"\",VLOOKUP($D25,'Girls Si Qual Draw Prep'!$A$7:$P$70,2)))","v":""},{"$f":"IF($D25=\"\",\"\",VLOOKUP($D25,'Girls Si Qual Draw Prep'!$A$7:$P$70,3))","v":""},null,{"$f":"IF($D25=\"\",\"\",VLOOKUP($D25,'Girls Si Qual Draw Prep'!$A$7:$P$70,4))","v":""},null,{"$f":"UPPER(IF(OR(I26=\"a\",I26=\"as\"),E25,IF(OR(I26=\"b\",I26=\"bs\"),E26,)))","v":""}]
["20",{"$f":"IF($D26=\"\",\"\",VLOOKUP($D26,'Girls Si Qual Draw Prep'!$A$7:$P$70,15))","v":""},{"$f":"IF($D26=\"\",\"\",VLOOKUP($D26,'Girls Si Qual Draw Prep'!$A$7:$P$70,16))","v":""},null,{"$f":"UPPER(IF($D26=\"\",\"\",VLOOKUP($D26,'Girls Si Qual Draw Prep'!$A$7:$P$70,2)))","v":""},{"$f":"IF($D26=\"\",\"\",VLOOKUP($D26,'Girls Si Qual Draw Prep'!$A$7:$P$70,3))","v":""},null,{"$f":"IF($D26=\"\",\"\",VLOOKUP($D26,'Girls Si Qual Draw Prep'!$A$7:$P$70,4))","v":""},null,null,null,"Umpire",null,{"$f":"UPPER(IF(OR(M26=\"a\",M26=\"as\"),L24,IF(OR(M26=\"b\",M26=\"bs\"),L28,)))","v":""}]
["21",{"$f":"IF($D27=\"\",\"\",VLOOKUP($D27,'Girls Si Qual Draw Prep'!$A$7:$P$70,15))","v":""},{"$f":"IF($D27=\"\",\"\",VLOOKUP($D27,'Girls Si Qual Draw Prep'!$A$7:$P$70,16))","v":""},null,{"$f":"UPPER(IF($D27=\"\",\"\",VLOOKUP($D27,'Girls Si Qual Draw Prep'!$A$7:$P$70,2)))","v":""},{"$f":"IF($D27=\"\",\"\",VLOOKUP($D27,'Girls Si Qual Draw Prep'!$A$7:$P$70,3))","v":""},null,{"$f":"IF($D27=\"\",\"\",VLOOKUP($D27,'Girls Si Qual Draw Prep'!$A$7:$P$70,4))","v":""},null,{"$f":"UPPER(IF(OR(I28=\"a\",I28=\"as\"),E27,IF(OR(I28=\"b\",I28=\"bs\"),E28,)))","v":""}]
["22",{"$f":"IF($D28=\"\",\"\",VLOOKUP($D28,'Girls Si Qual Draw Prep'!$A$7:$P$70,15))","v":""},{"$f":"IF($D28=\"\",\"\",VLOOKUP($D28,'Girls Si Qual Draw Prep'!$A$7:$P$70,16))","v":""},null,{"$f":"UPPER(IF($D28=\"\",\"\",VLOOKUP($D28,'Girls Si Qual Draw Prep'!$A$7:$P$70,2)))","v":""},{"$f":"IF($D28=\"\",\"\",VLOOKUP($D28,'Girls Si Qual Draw Prep'!$A$7:$P$70,3))","v":""},null,{"$f":"IF($D28=\"\",\"\",VLOOKUP($D28,'Girls Si Qual Draw Prep'!$A$7:$P$70,4))","v":""},null,null,null,{"$f":"UPPER(IF(OR(K28=\"a\",K28=\"as\"),J27,IF(OR(K28=\"b\",K28=\"bs\"),J29,)))","v":""}]
["23",{"$f":"IF($D29=\"\",\"\",VLOOKUP($D29,'Girls Si Qual Draw Prep'!$A$7:$P$70,15))","v":""},{"$f":"IF($D29=\"\",\"\",VLOOKUP($D29,'Girls Si Qual Draw Prep'!$A$7:$P$70,16))","v":""},null,{"$f":"UPPER(IF($D29=\"\",\"\",VLOOKUP($D29,'Girls Si Qual Draw Prep'!$A$7:$P$70,2)))","v":""},{"$f":"IF($D29=\"\",\"\",VLOOKUP($D29,'Girls Si Qual Draw Prep'!$A$7:$P$70,3))","v":""},null,{"$f":"IF($D29=\"\",\"\",VLOOKUP($D29,'Girls Si Qual Draw Prep'!$A$7:$P$70,4))","v":""},null,{"$f":"UPPER(IF(OR(I30=\"a\",I30=\"as\"),E29,IF(OR(I30=\"b\",I30=\"bs\"),E30,)))","v":""}]
["24",{"$f":"IF($D30=\"\",\"\",VLOOKUP($D30,'Girls Si Qual Draw Prep'!$A$7:$P$70,15))","v":""},{"$f":"IF($D30=\"\",\"\",VLOOKUP($D30,'Girls Si Qual Draw Prep'!$A$7:$P$70,16))","v":""},null,{"$f":"UPPER(IF($D30=\"\",\"\",VLOOKUP($D30,'Girls Si Qual Draw Prep'!$A$7:$P$70,2)))","v":""},{"$f":"IF($D30=\"\",\"\",VLOOKUP($D30,'Girls Si Qual Draw Prep'!$A$7:$P$70,3))","v":""},null,{"$f":"IF($D30=\"\",\"\",VLOOKUP($D30,'Girls Si Qual Draw Prep'!$A$7:$P$70,4))","v":""}]
["25",{"$f":"IF($D31=\"\",\"\",VLOOKUP($D31,'Girls Si Qual Draw Prep'!$A$7:$P$70,15))","v":""},{"$f":"IF($D31=\"\",\"\",VLOOKUP($D31,'Girls Si Qual Draw Prep'!$A$7:$P$70,16))","v":""},null,{"$f":"UPPER(IF($D31=\"\",\"\",VLOOKUP($D31,'Girls Si Qual Draw Prep'!$A$7:$P$70,2)))","v":""},{"$f":"IF($D31=\"\",\"\",VLOOKUP($D31,'Girls Si Qual Draw Prep'!$A$7:$P$70,3))","v":""},null,{"$f":"IF($D31=\"\",\"\",VLOOKUP($D31,'Girls Si Qual Draw Prep'!$A$7:$P$70,4))","v":""},null,{"$f":"UPPER(IF(OR(I32=\"a\",I32=\"as\"),E31,IF(OR(I32=\"b\",I32=\"bs\"),E32,)))","v":""}]
["26",{"$f":"IF($D32=\"\",\"\",VLOOKUP($D32,'Girls Si Qual Draw Prep'!$A$7:$P$70,15))","v":""},{"$f":"IF($D32=\"\",\"\",VLOOKUP($D32,'Girls Si Qual Draw Prep'!$A$7:$P$70,16))","v":""},null,{"$f":"UPPER(IF($D32=\"\",\"\",VLOOKUP($D32,'Girls Si Qual Draw Prep'!$A$7:$P$70,2)))","v":""},{"$f":"IF($D32=\"\",\"\",VLOOKUP($D32,'Girls Si Qual Draw Prep'!$A$7:$P$70,3))","v":""},null,{"$f":"IF($D32=\"\",\"\",VLOOKUP($D32,'Girls Si Qual Draw Prep'!$A$7:$P$70,4))","v":""},null,null,null,{"$f":"UPPER(IF(OR(K32=\"a\",K32=\"as\"),J31,IF(OR(K32=\"b\",K32=\"bs\"),J33,)))","v":""}]
["27",{"$f":"IF($D33=\"\",\"\",VLOOKUP($D33,'Girls Si Qual Draw Prep'!$A$7:$P$70,15))","v":""},{"$f":"IF($D33=\"\",\"\",VLOOKUP($D33,'Girls Si Qual Draw Prep'!$A$7:$P$70,16))","v":""},null,{"$f":"UPPER(IF($D33=\"\",\"\",VLOOKUP($D33,'Girls Si Qual Draw Prep'!$A$7:$P$70,2)))","v":""},{"$f":"IF($D33=\"\",\"\",VLOOKUP($D33,'Girls Si Qual Draw Prep'!$A$7:$P$70,3))","v":""},null,{"$f":"IF($D33=\"\",\"\",VLOOKUP($D33,'Girls Si Qual Draw Prep'!$A$7:$P$70,4))","v":""},null,{"$f":"UPPER(IF(OR(I34=\"a\",I34=\"as\"),E33,IF(OR(I34=\"b\",I34=\"bs\"),E34,)))","v":""}]
["28",{"$f":"IF($D34=\"\",\"\",VLOOKUP($D34,'Girls Si Qual Draw Prep'!$A$7:$P$70,15))","v":""},{"$f":"IF($D34=\"\",\"\",VLOOKUP($D34,'Girls Si Qual Draw Prep'!$A$7:$P$70,16))","v":""},null,{"$f":"UPPER(IF($D34=\"\",\"\",VLOOKUP($D34,'Girls Si Qual Draw Prep'!$A$7:$P$70,2)))","v":""},{"$f":"IF($D34=\"\",\"\",VLOOKUP($D34,'Girls Si Qual Draw Prep'!$A$7:$P$70,3))","v":""},null,{"$f":"IF($D34=\"\",\"\",VLOOKUP($D34,'Girls Si Qual Draw Prep'!$A$7:$P$70,4))","v":""},null,null,null,"Umpire",null,{"$f":"UPPER(IF(OR(M34=\"a\",M34=\"as\"),L32,IF(OR(M34=\"b\",M34=\"bs\"),L36,)))","v":""}]
["29",{"$f":"IF($D35=\"\",\"\",VLOOKUP($D35,'Girls Si Qual Draw Prep'!$A$7:$P$70,15))","v":""},{"$f":"IF($D35=\"\",\"\",VLOOKUP($D35,'Girls Si Qual Draw Prep'!$A$7:$P$70,16))","v":""},null,{"$f":"UPPER(IF($D35=\"\",\"\",VLOOKUP($D35,'Girls Si Qual Draw Prep'!$A$7:$P$70,2)))","v":""},{"$f":"IF($D35=\"\",\"\",VLOOKUP($D35,'Girls Si Qual Draw Prep'!$A$7:$P$70,3))","v":""},null,{"$f":"IF($D35=\"\",\"\",VLOOKUP($D35,'Girls Si Qual Draw Prep'!$A$7:$P$70,4))","v":""},null,{"$f":"UPPER(IF(OR(I36=\"a\",I36=\"as\"),E35,IF(OR(I36=\"b\",I36=\"bs\"),E36,)))","v":""}]
["30",{"$f":"IF($D36=\"\",\"\",VLOOKUP($D36,'Girls Si Qual Draw Prep'!$A$7:$P$70,15))","v":""},{"$f":"IF($D36=\"\",\"\",VLOOKUP($D36,'Girls Si Qual Draw Prep'!$A$7:$P$70,16))","v":""},null,{"$f":"UPPER(IF($D36=\"\",\"\",VLOOKUP($D36,'Girls Si Qual Draw Prep'!$A$7:$P$70,2)))","v":""},{"$f":"IF($D36=\"\",\"\",VLOOKUP($D36,'Girls Si Qual Draw Prep'!$A$7:$P$70,3))","v":""},null,{"$f":"IF($D36=\"\",\"\",VLOOKUP($D36,'Girls Si Qual Draw Prep'!$A$7:$P$70,4))","v":""},null,null,null,{"$f":"UPPER(IF(OR(K36=\"a\",K36=\"as\"),J35,IF(OR(K36=\"b\",K36=\"bs\"),J37,)))","v":""}]
["31",{"$f":"IF($D37=\"\",\"\",VLOOKUP($D37,'Girls Si Qual Draw Prep'!$A$7:$P$70,15))","v":""},{"$f":"IF($D37=\"\",\"\",VLOOKUP($D37,'Girls Si Qual Draw Prep'!$A$7:$P$70,16))","v":""},null,{"$f":"UPPER(IF($D37=\"\",\"\",VLOOKUP($D37,'Girls Si Qual Draw Prep'!$A$7:$P$70,2)))","v":""},{"$f":"IF($D37=\"\",\"\",VLOOKUP($D37,'Girls Si Qual Draw Prep'!$A$7:$P$70,3))","v":""},null,{"$f":"IF($D37=\"\",\"\",VLOOKUP($D37,'Girls Si Qual Draw Prep'!$A$7:$P$70,4))","v":""},null,{"$f":"UPPER(IF(OR(I38=\"a\",I38=\"as\"),E37,IF(OR(I38=\"b\",I38=\"bs\"),E38,)))","v":""}]
["32",{"$f":"IF($D38=\"\",\"\",VLOOKUP($D38,'Girls Si Qual Draw Prep'!$A$7:$P$70,15))","v":""},{"$f":"IF($D38=\"\",\"\",VLOOKUP($D38,'Girls Si Qual Draw Prep'!$A$7:$P$70,16))","v":""},null,{"$f":"UPPER(IF($D38=\"\",\"\",VLOOKUP($D38,'Girls Si Qual Draw Prep'!$A$7:$P$70,2)))","v":""},{"$f":"IF($D38=\"\",\"\",VLOOKUP($D38,'Girls Si Qual Draw Prep'!$A$7:$P$70,3))","v":""},null,{"$f":"IF($D38=\"\",\"\",VLOOKUP($D38,'Girls Si Qual Draw Prep'!$A$7:$P$70,4))","v":""}]
["33",{"$f":"IF($D39=\"\",\"\",VLOOKUP($D39,'Girls Si Qual Draw Prep'!$A$7:$P$70,15))","v":""},{"$f":"IF($D39=\"\",\"\",VLOOKUP($D39,'Girls Si Qual Draw Prep'!$A$7:$P$70,16))","v":""},null,{"$f":"UPPER(IF($D39=\"\",\"\",VLOOKUP($D39,'Girls Si Qual Draw Prep'!$A$7:$P$70,2)))","v":""},{"$f":"IF($D39=\"\",\"\",VLOOKUP($D39,'Girls Si Qual Draw Prep'!$A$7:$P$70,3))","v":""},null,{"$f":"IF($D39=\"\",\"\",VLOOKUP($D39,'Girls Si Qual Draw Prep'!$A$7:$P$70,4))","v":""},null,{"$f":"UPPER(IF(OR(I40=\"a\",I40=\"as\"),E39,IF(OR(I40=\"b\",I40=\"bs\"),E40,)))","v":""}]
["34",{"$f":"IF($D40=\"\",\"\",VLOOKUP($D40,'Girls Si Qual Draw Prep'!$A$7:$P$70,15))","v":""},{"$f":"IF($D40=\"\",\"\",VLOOKUP($D40,'Girls Si Qual Draw Prep'!$A$7:$P$70,16))","v":""},null,{"$f":"UPPER(IF($D40=\"\",\"\",VLOOKUP($D40,'Girls Si Qual Draw Prep'!$A$7:$P$70,2)))","v":""},{"$f":"IF($D40=\"\",\"\",VLOOKUP($D40,'Girls Si Qual Draw Prep'!$A$7:$P$70,3))","v":""},null,{"$f":"IF($D40=\"\",\"\",VLOOKUP($D40,'Girls Si Qual Draw Prep'!$A$7:$P$70,4))","v":""},null,null,null,{"$f":"UPPER(IF(OR(K40=\"a\",K40=\"as\"),J39,IF(OR(K40=\"b\",K40=\"bs\"),J41,)))","v":""}]
["35",{"$f":"IF($D41=\"\",\"\",VLOOKUP($D41,'Girls Si Qual Draw Prep'!$A$7:$P$70,15))","v":""},{"$f":"IF($D41=\"\",\"\",VLOOKUP($D41,'Girls Si Qual Draw Prep'!$A$7:$P$70,16))","v":""},null,{"$f":"UPPER(IF($D41=\"\",\"\",VLOOKUP($D41,'Girls Si Qual Draw Prep'!$A$7:$P$70,2)))","v":""},{"$f":"IF($D41=\"\",\"\",VLOOKUP($D41,'Girls Si Qual Draw Prep'!$A$7:$P$70,3))","v":""},null,{"$f":"IF($D41=\"\",\"\",VLOOKUP($D41,'Girls Si Qual Draw Prep'!$A$7:$P$70,4))","v":""},null,{"$f":"UPPER(IF(OR(I42=\"a\",I42=\"as\"),E41,IF(OR(I42=\"b\",I42=\"bs\"),E42,)))","v":""}]
["36",{"$f":"IF($D42=\"\",\"\",VLOOKUP($D42,'Girls Si Qual Draw Prep'!$A$7:$P$70,15))","v":""},{"$f":"IF($D42=\"\",\"\",VLOOKUP($D42,'Girls Si Qual Draw Prep'!$A$7:$P$70,16))","v":""},null,{"$f":"UPPER(IF($D42=\"\",\"\",VLOOKUP($D42,'Girls Si Qual Draw Prep'!$A$7:$P$70,2)))","v":""},{"$f":"IF($D42=\"\",\"\",VLOOKUP($D42,'Girls Si Qual Draw Prep'!$A$7:$P$70,3))","v":""},null,{"$f":"IF($D42=\"\",\"\",VLOOKUP($D42,'Girls Si Qual Draw Prep'!$A$7:$P$70,4))","v":""},null,null,null,"Umpire",null,{"$f":"UPPER(IF(OR(M42=\"a\",M42=\"as\"),L40,IF(OR(M42=\"b\",M42=\"bs\"),L44,)))","v":""}]
["37",{"$f":"IF($D43=\"\",\"\",VLOOKUP($D43,'Girls Si Qual Draw Prep'!$A$7:$P$70,15))","v":""},{"$f":"IF($D43=\"\",\"\",VLOOKUP($D43,'Girls Si Qual Draw Prep'!$A$7:$P$70,16))","v":""},null,{"$f":"UPPER(IF($D43=\"\",\"\",VLOOKUP($D43,'Girls Si Qual Draw Prep'!$A$7:$P$70,2)))","v":""},{"$f":"IF($D43=\"\",\"\",VLOOKUP($D43,'Girls Si Qual Draw Prep'!$A$7:$P$70,3))","v":""},null,{"$f":"IF($D43=\"\",\"\",VLOOKUP($D43,'Girls Si Qual Draw Prep'!$A$7:$P$70,4))","v":""},null,{"$f":"UPPER(IF(OR(I44=\"a\",I44=\"as\"),E43,IF(OR(I44=\"b\",I44=\"bs\"),E44,)))","v":""}]
["38",{"$f":"IF($D44=\"\",\"\",VLOOKUP($D44,'Girls Si Qual Draw Prep'!$A$7:$P$70,15))","v":""},{"$f":"IF($D44=\"\",\"\",VLOOKUP($D44,'Girls Si Qual Draw Prep'!$A$7:$P$70,16))","v":""},null,{"$f":"UPPER(IF($D44=\"\",\"\",VLOOKUP($D44,'Girls Si Qual Draw Prep'!$A$7:$P$70,2)))","v":""},{"$f":"IF($D44=\"\",\"\",VLOOKUP($D44,'Girls Si Qual Draw Prep'!$A$7:$P$70,3))","v":""},null,{"$f":"IF($D44=\"\",\"\",VLOOKUP($D44,'Girls Si Qual Draw Prep'!$A$7:$P$70,4))","v":""},null,null,null,{"$f":"UPPER(IF(OR(K44=\"a\",K44=\"as\"),J43,IF(OR(K44=\"b\",K44=\"bs\"),J45,)))","v":""}]
["39",{"$f":"IF($D45=\"\",\"\",VLOOKUP($D45,'Girls Si Qual Draw Prep'!$A$7:$P$70,15))","v":""},{"$f":"IF($D45=\"\",\"\",VLOOKUP($D45,'Girls Si Qual Draw Prep'!$A$7:$P$70,16))","v":""},null,{"$f":"UPPER(IF($D45=\"\",\"\",VLOOKUP($D45,'Girls Si Qual Draw Prep'!$A$7:$P$70,2)))","v":""},{"$f":"IF($D45=\"\",\"\",VLOOKUP($D45,'Girls Si Qual Draw Prep'!$A$7:$P$70,3))","v":""},null,{"$f":"IF($D45=\"\",\"\",VLOOKUP($D45,'Girls Si Qual Draw Prep'!$A$7:$P$70,4))","v":""},null,{"$f":"UPPER(IF(OR(I46=\"a\",I46=\"as\"),E45,IF(OR(I46=\"b\",I46=\"bs\"),E46,)))","v":""}]
["40",{"$f":"IF($D46=\"\",\"\",VLOOKUP($D46,'Girls Si Qual Draw Prep'!$A$7:$P$70,15))","v":""},{"$f":"IF($D46=\"\",\"\",VLOOKUP($D46,'Girls Si Qual Draw Prep'!$A$7:$P$70,16))","v":""},null,{"$f":"UPPER(IF($D46=\"\",\"\",VLOOKUP($D46,'Girls Si Qual Draw Prep'!$A$7:$P$70,2)))","v":""},{"$f":"IF($D46=\"\",\"\",VLOOKUP($D46,'Girls Si Qual Draw Prep'!$A$7:$P$70,3))","v":""},null,{"$f":"IF($D46=\"\",\"\",VLOOKUP($D46,'Girls Si Qual Draw Prep'!$A$7:$P$70,4))","v":""}]
["41",{"$f":"IF($D47=\"\",\"\",VLOOKUP($D47,'Girls Si Qual Draw Prep'!$A$7:$P$70,15))","v":""},{"$f":"IF($D47=\"\",\"\",VLOOKUP($D47,'Girls Si Qual Draw Prep'!$A$7:$P$70,16))","v":""},null,{"$f":"UPPER(IF($D47=\"\",\"\",VLOOKUP($D47,'Girls Si Qual Draw Prep'!$A$7:$P$70,2)))","v":""},{"$f":"IF($D47=\"\",\"\",VLOOKUP($D47,'Girls Si Qual Draw Prep'!$A$7:$P$70,3))","v":""},null,{"$f":"IF($D47=\"\",\"\",VLOOKUP($D47,'Girls Si Qual Draw Prep'!$A$7:$P$70,4))","v":""},null,{"$f":"UPPER(IF(OR(I48=\"a\",I48=\"as\"),E47,IF(OR(I48=\"b\",I48=\"bs\"),E48,)))","v":""}]
["42",{"$f":"IF($D48=\"\",\"\",VLOOKUP($D48,'Girls Si Qual Draw Prep'!$A$7:$P$70,15))","v":""},{"$f":"IF($D48=\"\",\"\",VLOOKUP($D48,'Girls Si Qual Draw Prep'!$A$7:$P$70,16))","v":""},null,{"$f":"UPPER(IF($D48=\"\",\"\",VLOOKUP($D48,'Girls Si Qual Draw Prep'!$A$7:$P$70,2)))","v":""},{"$f":"IF($D48=\"\",\"\",VLOOKUP($D48,'Girls Si Qual Draw Prep'!$A$7:$P$70,3))","v":""},null,{"$f":"IF($D48=\"\",\"\",VLOOKUP($D48,'Girls Si Qual Draw Prep'!$A$7:$P$70,4))","v":""},null,null,null,{"$f":"UPPER(IF(OR(K48=\"a\",K48=\"as\"),J47,IF(OR(K48=\"b\",K48=\"bs\"),J49,)))","v":""}]
["43",{"$f":"IF($D49=\"\",\"\",VLOOKUP($D49,'Girls Si Qual Draw Prep'!$A$7:$P$70,15))","v":""},{"$f":"IF($D49=\"\",\"\",VLOOKUP($D49,'Girls Si Qual Draw Prep'!$A$7:$P$70,16))","v":""},null,{"$f":"UPPER(IF($D49=\"\",\"\",VLOOKUP($D49,'Girls Si Qual Draw Prep'!$A$7:$P$70,2)))","v":""},{"$f":"IF($D49=\"\",\"\",VLOOKUP($D49,'Girls Si Qual Draw Prep'!$A$7:$P$70,3))","v":""},null,{"$f":"IF($D49=\"\",\"\",VLOOKUP($D49,'Girls Si Qual Draw Prep'!$A$7:$P$70,4))","v":""},null,{"$f":"UPPER(IF(OR(I50=\"a\",I50=\"as\"),E49,IF(OR(I50=\"b\",I50=\"bs\"),E50,)))","v":""}]
["44",{"$f":"IF($D50=\"\",\"\",VLOOKUP($D50,'Girls Si Qual Draw Prep'!$A$7:$P$70,15))","v":""},{"$f":"IF($D50=\"\",\"\",VLOOKUP($D50,'Girls Si Qual Draw Prep'!$A$7:$P$70,16))","v":""},null,{"$f":"UPPER(IF($D50=\"\",\"\",VLOOKUP($D50,'Girls Si Qual Draw Prep'!$A$7:$P$70,2)))","v":""},{"$f":"IF($D50=\"\",\"\",VLOOKUP($D50,'Girls Si Qual Draw Prep'!$A$7:$P$70,3))","v":""},null,{"$f":"IF($D50=\"\",\"\",VLOOKUP($D50,'Girls Si Qual Draw Prep'!$A$7:$P$70,4))","v":""},null,null,null,"Umpire",null,{"$f":"UPPER(IF(OR(M50=\"a\",M50=\"as\"),L48,IF(OR(M50=\"b\",M50=\"bs\"),L52,)))","v":""}]
["45",{"$f":"IF($D51=\"\",\"\",VLOOKUP($D51,'Girls Si Qual Draw Prep'!$A$7:$P$70,15))","v":""},{"$f":"IF($D51=\"\",\"\",VLOOKUP($D51,'Girls Si Qual Draw Prep'!$A$7:$P$70,16))","v":""},null,{"$f":"UPPER(IF($D51=\"\",\"\",VLOOKUP($D51,'Girls Si Qual Draw Prep'!$A$7:$P$70,2)))","v":""},{"$f":"IF($D51=\"\",\"\",VLOOKUP($D51,'Girls Si Qual Draw Prep'!$A$7:$P$70,3))","v":""},null,{"$f":"IF($D51=\"\",\"\",VLOOKUP($D51,'Girls Si Qual Draw Prep'!$A$7:$P$70,4))","v":""},null,{"$f":"UPPER(IF(OR(I52=\"a\",I52=\"as\"),E51,IF(OR(I52=\"b\",I52=\"bs\"),E52,)))","v":""}]
["46",{"$f":"IF($D52=\"\",\"\",VLOOKUP($D52,'Girls Si Qual Draw Prep'!$A$7:$P$70,15))","v":""},{"$f":"IF($D52=\"\",\"\",VLOOKUP($D52,'Girls Si Qual Draw Prep'!$A$7:$P$70,16))","v":""},null,{"$f":"UPPER(IF($D52=\"\",\"\",VLOOKUP($D52,'Girls Si Qual Draw Prep'!$A$7:$P$70,2)))","v":""},{"$f":"IF($D52=\"\",\"\",VLOOKUP($D52,'Girls Si Qual Draw Prep'!$A$7:$P$70,3))","v":""},null,{"$f":"IF($D52=\"\",\"\",VLOOKUP($D52,'Girls Si Qual Draw Prep'!$A$7:$P$70,4))","v":""},null,null,null,{"$f":"UPPER(IF(OR(K52=\"a\",K52=\"as\"),J51,IF(OR(K52=\"b\",K52=\"bs\"),J53,)))","v":""}]
["47",{"$f":"IF($D53=\"\",\"\",VLOOKUP($D53,'Girls Si Qual Draw Prep'!$A$7:$P$70,15))","v":""},{"$f":"IF($D53=\"\",\"\",VLOOKUP($D53,'Girls Si Qual Draw Prep'!$A$7:$P$70,16))","v":""},null,{"$f":"UPPER(IF($D53=\"\",\"\",VLOOKUP($D53,'Girls Si Qual Draw Prep'!$A$7:$P$70,2)))","v":""},{"$f":"IF($D53=\"\",\"\",VLOOKUP($D53,'Girls Si Qual Draw Prep'!$A$7:$P$70,3))","v":""},null,{"$f":"IF($D53=\"\",\"\",VLOOKUP($D53,'Girls Si Qual Draw Prep'!$A$7:$P$70,4))","v":""},null,{"$f":"UPPER(IF(OR(I54=\"a\",I54=\"as\"),E53,IF(OR(I54=\"b\",I54=\"bs\"),E54,)))","v":""}]
["48",{"$f":"IF($D54=\"\",\"\",VLOOKUP($D54,'Girls Si Qual Draw Prep'!$A$7:$P$70,15))","v":""},{"$f":"IF($D54=\"\",\"\",VLOOKUP($D54,'Girls Si Qual Draw Prep'!$A$7:$P$70,16))","v":""},null,{"$f":"UPPER(IF($D54=\"\",\"\",VLOOKUP($D54,'Girls Si Qual Draw Prep'!$A$7:$P$70,2)))","v":""},{"$f":"IF($D54=\"\",\"\",VLOOKUP($D54,'Girls Si Qual Draw Prep'!$A$7:$P$70,3))","v":""},null,{"$f":"IF($D54=\"\",\"\",VLOOKUP($D54,'Girls Si Qual Draw Prep'!$A$7:$P$70,4))","v":""}]
["49",{"$f":"IF($D55=\"\",\"\",VLOOKUP($D55,'Girls Si Qual Draw Prep'!$A$7:$P$70,15))","v":""},{"$f":"IF($D55=\"\",\"\",VLOOKUP($D55,'Girls Si Qual Draw Prep'!$A$7:$P$70,16))","v":""},null,{"$f":"UPPER(IF($D55=\"\",\"\",VLOOKUP($D55,'Girls Si Qual Draw Prep'!$A$7:$P$70,2)))","v":""},{"$f":"IF($D55=\"\",\"\",VLOOKUP($D55,'Girls Si Qual Draw Prep'!$A$7:$P$70,3))","v":""},null,{"$f":"IF($D55=\"\",\"\",VLOOKUP($D55,'Girls Si Qual Draw Prep'!$A$7:$P$70,4))","v":""},null,{"$f":"UPPER(IF(OR(I56=\"a\",I56=\"as\"),E55,IF(OR(I56=\"b\",I56=\"bs\"),E56,)))","v":""}]
["50",{"$f":"IF($D56=\"\",\"\",VLOOKUP($D56,'Girls Si Qual Draw Prep'!$A$7:$P$70,15))","v":""},{"$f":"IF($D56=\"\",\"\",VLOOKUP($D56,'Girls Si Qual Draw Prep'!$A$7:$P$70,16))","v":""},null,{"$f":"UPPER(IF($D56=\"\",\"\",VLOOKUP($D56,'Girls Si Qual Draw Prep'!$A$7:$P$70,2)))","v":""},{"$f":"IF($D56=\"\",\"\",VLOOKUP($D56,'Girls Si Qual Draw Prep'!$A$7:$P$70,3))","v":""},null,{"$f":"IF($D56=\"\",\"\",VLOOKUP($D56,'Girls Si Qual Draw Prep'!$A$7:$P$70,4))","v":""},null,null,null,{"$f":"UPPER(IF(OR(K56=\"a\",K56=\"as\"),J55,IF(OR(K56=\"b\",K56=\"bs\"),J57,)))","v":""}]
["51",{"$f":"IF($D57=\"\",\"\",VLOOKUP($D57,'Girls Si Qual Draw Prep'!$A$7:$P$70,15))","v":""},{"$f":"IF($D57=\"\",\"\",VLOOKUP($D57,'Girls Si Qual Draw Prep'!$A$7:$P$70,16))","v":""},null,{"$f":"UPPER(IF($D57=\"\",\"\",VLOOKUP($D57,'Girls Si Qual Draw Prep'!$A$7:$P$70,2)))","v":""},{"$f":"IF($D57=\"\",\"\",VLOOKUP($D57,'Girls Si Qual Draw Prep'!$A$7:$P$70,3))","v":""},null,{"$f":"IF($D57=\"\",\"\",VLOOKUP($D57,'Girls Si Qual Draw Prep'!$A$7:$P$70,4))","v":""},null,{"$f":"UPPER(IF(OR(I58=\"a\",I58=\"as\"),E57,IF(OR(I58=\"b\",I58=\"bs\"),E58,)))","v":""}]
["52",{"$f":"IF($D58=\"\",\"\",VLOOKUP($D58,'Girls Si Qual Draw Prep'!$A$7:$P$70,15))","v":""},{"$f":"IF($D58=\"\",\"\",VLOOKUP($D58,'Girls Si Qual Draw Prep'!$A$7:$P$70,16))","v":""},null,{"$f":"UPPER(IF($D58=\"\",\"\",VLOOKUP($D58,'Girls Si Qual Draw Prep'!$A$7:$P$70,2)))","v":""},{"$f":"IF($D58=\"\",\"\",VLOOKUP($D58,'Girls Si Qual Draw Prep'!$A$7:$P$70,3))","v":""},null,{"$f":"IF($D58=\"\",\"\",VLOOKUP($D58,'Girls Si Qual Draw Prep'!$A$7:$P$70,4))","v":""},null,null,null,"Umpire",null,{"$f":"UPPER(IF(OR(M58=\"a\",M58=\"as\"),L56,IF(OR(M58=\"b\",M58=\"bs\"),L60,)))","v":""}]
["53",{"$f":"IF($D59=\"\",\"\",VLOOKUP($D59,'Girls Si Qual Draw Prep'!$A$7:$P$70,15))","v":""},{"$f":"IF($D59=\"\",\"\",VLOOKUP($D59,'Girls Si Qual Draw Prep'!$A$7:$P$70,16))","v":""},null,{"$f":"UPPER(IF($D59=\"\",\"\",VLOOKUP($D59,'Girls Si Qual Draw Prep'!$A$7:$P$70,2)))","v":""},{"$f":"IF($D59=\"\",\"\",VLOOKUP($D59,'Girls Si Qual Draw Prep'!$A$7:$P$70,3))","v":""},null,{"$f":"IF($D59=\"\",\"\",VLOOKUP($D59,'Girls Si Qual Draw Prep'!$A$7:$P$70,4))","v":""},null,{"$f":"UPPER(IF(OR(I60=\"a\",I60=\"as\"),E59,IF(OR(I60=\"b\",I60=\"bs\"),E60,)))","v":""}]
["54",{"$f":"IF($D60=\"\",\"\",VLOOKUP($D60,'Girls Si Qual Draw Prep'!$A$7:$P$70,15))","v":""},{"$f":"IF($D60=\"\",\"\",VLOOKUP($D60,'Girls Si Qual Draw Prep'!$A$7:$P$70,16))","v":""},null,{"$f":"UPPER(IF($D60=\"\",\"\",VLOOKUP($D60,'Girls Si Qual Draw Prep'!$A$7:$P$70,2)))","v":""},{"$f":"IF($D60=\"\",\"\",VLOOKUP($D60,'Girls Si Qual Draw Prep'!$A$7:$P$70,3))","v":""},null,{"$f":"IF($D60=\"\",\"\",VLOOKUP($D60,'Girls Si Qual Draw Prep'!$A$7:$P$70,4))","v":""},null,null,null,{"$f":"UPPER(IF(OR(K60=\"a\",K60=\"as\"),J59,IF(OR(K60=\"b\",K60=\"bs\"),J61,)))","v":""}]
["55",{"$f":"IF($D61=\"\",\"\",VLOOKUP($D61,'Girls Si Qual Draw Prep'!$A$7:$P$70,15))","v":""},{"$f":"IF($D61=\"\",\"\",VLOOKUP($D61,'Girls Si Qual Draw Prep'!$A$7:$P$70,16))","v":""},null,{"$f":"UPPER(IF($D61=\"\",\"\",VLOOKUP($D61,'Girls Si Qual Draw Prep'!$A$7:$P$70,2)))","v":""},{"$f":"IF($D61=\"\",\"\",VLOOKUP($D61,'Girls Si Qual Draw Prep'!$A$7:$P$70,3))","v":""},null,{"$f":"IF($D61=\"\",\"\",VLOOKUP($D61,'Girls Si Qual Draw Prep'!$A$7:$P$70,4))","v":""},null,{"$f":"UPPER(IF(OR(I62=\"a\",I62=\"as\"),E61,IF(OR(I62=\"b\",I62=\"bs\"),E62,)))","v":""}]
["56",{"$f":"IF($D62=\"\",\"\",VLOOKUP($D62,'Girls Si Qual Draw Prep'!$A$7:$P$70,15))","v":""},{"$f":"IF($D62=\"\",\"\",VLOOKUP($D62,'Girls Si Qual Draw Prep'!$A$7:$P$70,16))","v":""},null,{"$f":"UPPER(IF($D62=\"\",\"\",VLOOKUP($D62,'Girls Si Qual Draw Prep'!$A$7:$P$70,2)))","v":""},{"$f":"IF($D62=\"\",\"\",VLOOKUP($D62,'Girls Si Qual Draw Prep'!$A$7:$P$70,3))","v":""},null,{"$f":"IF($D62=\"\",\"\",VLOOKUP($D62,'Girls Si Qual Draw Prep'!$A$7:$P$70,4))","v":""}]
["57",{"$f":"IF($D63=\"\",\"\",VLOOKUP($D63,'Girls Si Qual Draw Prep'!$A$7:$P$70,15))","v":""},{"$f":"IF($D63=\"\",\"\",VLOOKUP($D63,'Girls Si Qual Draw Prep'!$A$7:$P$70,16))","v":""},null,{"$f":"UPPER(IF($D63=\"\",\"\",VLOOKUP($D63,'Girls Si Qual Draw Prep'!$A$7:$P$70,2)))","v":""},{"$f":"IF($D63=\"\",\"\",VLOOKUP($D63,'Girls Si Qual Draw Prep'!$A$7:$P$70,3))","v":""},null,{"$f":"IF($D63=\"\",\"\",VLOOKUP($D63,'Girls Si Qual Draw Prep'!$A$7:$P$70,4))","v":""},null,{"$f":"UPPER(IF(OR(I64=\"a\",I64=\"as\"),E63,IF(OR(I64=\"b\",I64=\"bs\"),E64,)))","v":""}]
["58",{"$f":"IF($D64=\"\",\"\",VLOOKUP($D64,'Girls Si Qual Draw Prep'!$A$7:$P$70,15))","v":""},{"$f":"IF($D64=\"\",\"\",VLOOKUP($D64,'Girls Si Qual Draw Prep'!$A$7:$P$70,16))","v":""},null,{"$f":"UPPER(IF($D64=\"\",\"\",VLOOKUP($D64,'Girls Si Qual Draw Prep'!$A$7:$P$70,2)))","v":""},{"$f":"IF($D64=\"\",\"\",VLOOKUP($D64,'Girls Si Qual Draw Prep'!$A$7:$P$70,3))","v":""},null,{"$f":"IF($D64=\"\",\"\",VLOOKUP($D64,'Girls Si Qual Draw Prep'!$A$7:$P$70,4))","v":""},null,null,null,{"$f":"UPPER(IF(OR(K64=\"a\",K64=\"as\"),J63,IF(OR(K64=\"b\",K64=\"bs\"),J65,)))","v":""}]
["59",{"$f":"IF($D65=\"\",\"\",VLOOKUP($D65,'Girls Si Qual Draw Prep'!$A$7:$P$70,15))","v":""},{"$f":"IF($D65=\"\",\"\",VLOOKUP($D65,'Girls Si Qual Draw Prep'!$A$7:$P$70,16))","v":""},null,{"$f":"UPPER(IF($D65=\"\",\"\",VLOOKUP($D65,'Girls Si Qual Draw Prep'!$A$7:$P$70,2)))","v":""},{"$f":"IF($D65=\"\",\"\",VLOOKUP($D65,'Girls Si Qual Draw Prep'!$A$7:$P$70,3))","v":""},null,{"$f":"IF($D65=\"\",\"\",VLOOKUP($D65,'Girls Si Qual Draw Prep'!$A$7:$P$70,4))","v":""},null,{"$f":"UPPER(IF(OR(I66=\"a\",I66=\"as\"),E65,IF(OR(I66=\"b\",I66=\"bs\"),E66,)))","v":""}]
["60",{"$f":"IF($D66=\"\",\"\",VLOOKUP($D66,'Girls Si Qual Draw Prep'!$A$7:$P$70,15))","v":""},{"$f":"IF($D66=\"\",\"\",VLOOKUP($D66,'Girls Si Qual Draw Prep'!$A$7:$P$70,16))","v":""},null,{"$f":"UPPER(IF($D66=\"\",\"\",VLOOKUP($D66,'Girls Si Qual Draw Prep'!$A$7:$P$70,2)))","v":""},{"$f":"IF($D66=\"\",\"\",VLOOKUP($D66,'Girls Si Qual Draw Prep'!$A$7:$P$70,3))","v":""},null,{"$f":"IF($D66=\"\",\"\",VLOOKUP($D66,'Girls Si Qual Draw Prep'!$A$7:$P$70,4))","v":""},null,null,null,"Umpire",null,{"$f":"UPPER(IF(OR(M66=\"a\",M66=\"as\"),L64,IF(OR(M66=\"b\",M66=\"bs\"),L68,)))","v":""}]
["61",{"$f":"IF($D67=\"\",\"\",VLOOKUP($D67,'Girls Si Qual Draw Prep'!$A$7:$P$70,15))","v":""},{"$f":"IF($D67=\"\",\"\",VLOOKUP($D67,'Girls Si Qual Draw Prep'!$A$7:$P$70,16))","v":""},null,{"$f":"UPPER(IF($D67=\"\",\"\",VLOOKUP($D67,'Girls Si Qual Draw Prep'!$A$7:$P$70,2)))","v":""},{"$f":"IF($D67=\"\",\"\",VLOOKUP($D67,'Girls Si Qual Draw Prep'!$A$7:$P$70,3))","v":""},null,{"$f":"IF($D67=\"\",\"\",VLOOKUP($D67,'Girls Si Qual Draw Prep'!$A$7:$P$70,4))","v":""},null,{"$f":"UPPER(IF(OR(I68=\"a\",I68=\"as\"),E67,IF(OR(I68=\"b\",I68=\"bs\"),E68,)))","v":""}]
["62",{"$f":"IF($D68=\"\",\"\",VLOOKUP($D68,'Girls Si Qual Draw Prep'!$A$7:$P$70,15))","v":""},{"$f":"IF($D68=\"\",\"\",VLOOKUP($D68,'Girls Si Qual Draw Prep'!$A$7:$P$70,16))","v":""},null,{"$f":"UPPER(IF($D68=\"\",\"\",VLOOKUP($D68,'Girls Si Qual Draw Prep'!$A$7:$P$70,2)))","v":""},{"$f":"IF($D68=\"\",\"\",VLOOKUP($D68,'Girls Si Qual Draw Prep'!$A$7:$P$70,3))","v":""},null,{"$f":"IF($D68=\"\",\"\",VLOOKUP($D68,'Girls Si Qual Draw Prep'!$A$7:$P$70,4))","v":""},null,null,null,{"$f":"UPPER(IF(OR(K68=\"a\",K68=\"as\"),J67,IF(OR(K68=\"b\",K68=\"bs\"),J69,)))","v":""}]
["63",{"$f":"IF($D69=\"\",\"\",VLOOKUP($D69,'Girls Si Qual Draw Prep'!$A$7:$P$70,15))","v":""},{"$f":"IF($D69=\"\",\"\",VLOOKUP($D69,'Girls Si Qual Draw Prep'!$A$7:$P$70,16))","v":""},null,{"$f":"UPPER(IF($D69=\"\",\"\",VLOOKUP($D69,'Girls Si Qual Draw Prep'!$A$7:$P$70,2)))","v":""},{"$f":"IF($D69=\"\",\"\",VLOOKUP($D69,'Girls Si Qual Draw Prep'!$A$7:$P$70,3))","v":""},null,{"$f":"IF($D69=\"\",\"\",VLOOKUP($D69,'Girls Si Qual Draw Prep'!$A$7:$P$70,4))","v":""},null,{"$f":"UPPER(IF(OR(I70=\"a\",I70=\"as\"),E69,IF(OR(I70=\"b\",I70=\"bs\"),E70,)))","v":""}]
["64",{"$f":"IF($D70=\"\",\"\",VLOOKUP($D70,'Girls Si Qual Draw Prep'!$A$7:$P$70,15))","v":""},{"$f":"IF($D70=\"\",\"\",VLOOKUP($D70,'Girls Si Qual Draw Prep'!$A$7:$P$70,16))","v":""},null,{"$f":"UPPER(IF($D70=\"\",\"\",VLOOKUP($D70,'Girls Si Qual Draw Prep'!$A$7:$P$70,2)))","v":""},{"$f":"IF($D70=\"\",\"\",VLOOKUP($D70,'Girls Si Qual Draw Prep'!$A$7:$P$70,3))","v":""},null,{"$f":"IF($D70=\"\",\"\",VLOOKUP($D70,'Girls Si Qual Draw Prep'!$A$7:$P$70,4))","v":""}]
[]
["Acc. Ranking",null,null,"#","Seeded players","#","Seeded players",null,"#","Alternates",null,"Replacing",null,"Draw date/time:"]
["Rkg Date",null,null,1,{"$f":"IF(D73>$Q$80,,UPPER(VLOOKUP(D73,'Girls Si Qual Draw Prep'!$A$7:$R$134,2)))","v":0},9,{"$f":"IF(F73>$Q$80,,UPPER(VLOOKUP(F73,'Girls Si Qual Draw Prep'!$A$7:$R$134,2)))","v":0},null,"1",null,null,null,null,"Last Accepted player"]
["Top DA",null,null,2,{"$f":"IF(D74>$Q$80,,UPPER(VLOOKUP(D74,'Girls Si Qual Draw Prep'!$A$7:$R$134,2)))","v":0},10,{"$f":"IF(F74>$Q$80,,UPPER(VLOOKUP(F74,'Girls Si Qual Draw Prep'!$A$7:$R$134,2)))","v":0},null,"2"]
["Last DA",null,null,3,{"$f":"IF(D75>$Q$80,,UPPER(VLOOKUP(D75,'Girls Si Qual Draw Prep'!$A$7:$R$134,2)))","v":0},11,{"$f":"IF(F75>$Q$80,,UPPER(VLOOKUP(F75,'Girls Si Qual Draw Prep'!$A$7:$R$134,2)))","v":0},null,"3",null,null,null,null,"Player representatives"]
[null,null,null,4,{"$f":"IF(D76>$Q$80,,UPPER(VLOOKUP(D76,'Girls Si Qual Draw Prep'!$A$7:$R$134,2)))","v":0},12,{"$f":"IF(F76>$Q$80,,UPPER(VLOOKUP(F76,'Girls Si Qual Draw Prep'!$A$7:$R$134,2)))","v":0},null,"4"]
["Seed ranking",null,null,5,{"$f":"IF(D77>$Q$80,,UPPER(VLOOKUP(D77,'Girls Si Qual Draw Prep'!$A$7:$R$134,2)))","v":0},13,{"$f":"IF(F77>$Q$80,,UPPER(VLOOKUP(F77,'Girls Si Qual Draw Prep'!$A$7:$R$134,2)))","v":0},null,"5"]
["Rkg Date",null,null,6,{"$f":"IF(D78>$Q$80,,UPPER(VLOOKUP(D78,'Girls Si Qual Draw Prep'!$A$7:$R$134,2)))","v":0},14,{"$f":"IF(F78>$Q$80,,UPPER(VLOOKUP(F78,'Girls Si Qual Draw Prep'!$A$7:$R$134,2)))","v":0},null,"6",null,null,null,null,"ITF Referee's signature"]
["Top seed",null,null,7,{"$f":"IF(D79>$Q$80,,UPPER(VLOOKUP(D79,'Girls Si Qual Draw Prep'!$A$7:$R$134,2)))","v":0},15,{"$f":"IF(F79>$Q$80,,UPPER(VLOOKUP(F79,'Girls Si Qual Draw Prep'!$A$7:$R$134,2)))","v":0},null,"7"]
["Last seed",null,null,8,{"$f":"IF(D80>$Q$80,,UPPER(VLOOKUP(D80,'Girls Si Qual Draw Prep'!$A$7:$R$134,2)))","v":0},16,{"$f":"IF(F80>$Q$80,,UPPER(VLOOKUP(F80,'Girls Si Qual Draw Prep'!$A$7:$R$134,2)))","v":0},null,"8",null,null,null,null,{"$f":"Q4","v":0},null,null,{"$f":"MIN(16,'Girls Si Qual Draw Prep'!R5)","v":0}]

{"sheet":"Girls Si Qual 96&128>8","index":40,"n_rows":156,"n_cols":20,"rows_kept":156,"cut":false,"hidden":false,"merged":[[3,0,3,2]]}
[{"$f":"'Week SetUp'!$A$6","v":0},null,null,null,null,null,null,null,null,"GIRLS SINGLES",null,null,null,"CU"]
[{"$f":"'Week SetUp'!$A$8","v":"ITF Junior Circuit"},null,null,null,null,null,null,null,null,"QUALIFYING DRAW (96&128)"]
["Week of",null,null,null,null,"City, Country",null,null,null,"Group",null,"Tourn. ID",null,null,null,null,"ITF Referee"]
[{"$f":"'Week SetUp'!$A$10","v":"00:00:00"},null,null,null,null,{"$f":"'Week SetUp'!$C$10","v":0},null,null,null,{"$f":"'Week SetUp'!$D$10","v":0},null,{"$f":"'Week SetUp'!$A$12","v":0},null,null,null,null,{"$f":"'Week SetUp'!$E$10","v":0}]
[null,"St.","Rank","Seed","Family Name","First name",null,"Nationality",null,"2nd Round",null,"3rd Round",null,"Finals",null,"Qualifiers"]
[]
["1",{"$f":"IF($D7=\"\",\"\",VLOOKUP($D7,'Girls Si Qual Draw Prep'!$A$7:$P$102,15))","v":""},{"$f":"IF($D7=\"\",\"\",VLOOKUP($D7,'Girls Si Qual Draw Prep'!$A$7:$P$102,16))","v":""},null,{"$f":"UPPER(IF($D7=\"\",\"\",VLOOKUP($D7,'Girls Si Qual Draw Prep'!$A$7:$P$102,2)))","v":""},{"$f":"IF($D7=\"\",\"\",VLOOKUP($D7,'Girls Si Qual Draw Prep'!$A$7:$P$102,3))","v":""},null,{"$f":"IF($D7=\"\",\"\",VLOOKUP($D7,'Girls Si Qual Draw Prep'!$A$7:$P$102,4))","v":""},null,{"$f":"UPPER(IF(OR(I8=\"a\",I8=\"as\"),E7,IF(OR(I8=\"b\",I8=\"bs\"),E8,)))","v":""},null,null,null,null,null,null,"Page 1(2)",null,null,{"$f":"'SetUp Officials'!P21","v":"Umpire"}]
["2",{"$f":"IF($D8=\"\",\"\",VLOOKUP($D8,'Girls Si Qual Draw Prep'!$A$7:$P$102,15))","v":""},{"$f":"IF($D8=\"\",\"\",VLOOKUP($D8,'Girls Si Qual Draw Prep'!$A$7:$P$102,16))","v":""},null,{"$f":"UPPER(IF($D8=\"\",\"\",VLOOKUP($D8,'Girls Si Qual Draw Prep'!$A$7:$P$102,2)))","v":""},{"$f":"IF($D8=\"\",\"\",VLOOKUP($D8,'Girls Si Qual Draw Prep'!$A$7:$P$102,3))","v":""},null,{"$f":"IF($D8=\"\",\"\",VLOOKUP($D8,'Girls Si Qual Draw Prep'!$A$7:$P$102,4))","v":""},null,null,null,{"$f":"UPPER(IF(OR(K8=\"a\",K8=\"as\"),J7,IF(OR(K8=\"b\",K8=\"bs\"),J9,)))","v":""},null,null,null,null,null,null,null,{"$f":"'SetUp Officials'!P22","v":" "}]
["3",{"$f":"IF($D9=\"\",\"\",VLOOKUP($D9,'Girls Si Qual Draw Prep'!$A$7:$P$102,15))","v":""},{"$f":"IF($D9=\"\",\"\",VLOOKUP($D9,'Girls Si Qual Draw Prep'!$A$7:$P$102,16))","v":""},null,{"$f":"UPPER(IF($D9=\"\",\"\",VLOOKUP($D9,'Girls Si Qual Draw Prep'!$A$7:$P$102,2)))","v":""},{"$f":"IF($D9=\"\",\"\",VLOOKUP($D9,'Girls Si Qual Draw Prep'!$A$7:$P$102,3))","v":""},null,{"$f":"IF($D9=\"\",\"\",VLOOKUP($D9,'Girls Si Qual Draw Prep'!$A$7:$P$102,4))","v":""},null,{"$f":"UPPER(IF(OR(I10=\"a\",I10=\"as\"),E9,IF(OR(I10=\"b\",I10=\"bs\"),E10,)))","v":""},null,null,null,null,null,null,null,null,null,{"$f":"'SetUp Officials'!P23","v":" "}]
["4",{"$f":"IF($D10=\"\",\"\",VLOOKUP($D10,'Girls Si Qual Draw Prep'!$A$7:$P$102,15))","v":""},{"$f":"IF($D10=\"\",\"\",VLOOKUP($D10,'Girls Si Qual Draw Prep'!$A$7:$P$102,16))","v":""},null,{"$f":"UPPER(IF($D10=\"\",\"\",VLOOKUP($D10,'Girls Si Qual Draw Prep'!$A$7:$P$102,2)))","v":""},{"$f":"IF($D10=\"\",\"\",VLOOKUP($D10,'Girls Si Qual Draw Prep'!$A$7:$P$102,3))","v":""},null,{"$f":"IF($D10=\"\",\"\",VLOOKUP($D10,'Girls Si Qual Draw Prep'!$A$7:$P$102,4))","v":""},null,null,null,"Umpire",null,{"$f":"UPPER(IF(OR(M10=\"a\",M10=\"as\"),L8,IF(OR(M10=\"b\",M10=\"bs\"),L12,)))","v":""},null,null,null,null,null,{"$f":"'SetUp Officials'!P24","v":" "}]
["5",{"$f":"IF($D11=\"\",\"\",VLOOKUP($D11,'Girls Si Qual Draw Prep'!$A$7:$P$102,15))","v":""},{"$f":"IF($D11=\"\",\"\",VLOOKUP($D11,'Girls Si Qual Draw Prep'!$A$7:$P$102,16))","v":""},null,{"$f":"UPPER(IF($D11=\"\",\"\",VLOOKUP($D11,'Girls Si Qual Draw Prep'!$A$7:$P$102,2)))","v":""},{"$f":"IF($D11=\"\",\"\",VLOOKUP($D11,'Girls Si Qual Draw Prep'!$A$7:$P$102,3))","v":""},null,{"$f":"IF($D11=\"\",\"\",VLOOKUP($D11,'Girls Si Qual Draw Prep'!$A$7:$P$102,4))","v":""},null,{"$f":"UPPER(IF(OR(I12=\"a\",I12=\"as\"),E11,IF(OR(I12=\"b\",I12=\"bs\"),E12,)))","v":""},null,null,null,null,null,null,null,null,null,{"$f":"'SetUp Officials'!P25","v":" "}]
["6",{"$f":"IF($D12=\"\",\"\",VLOOKUP($D12,'Girls Si Qual Draw Prep'!$A$7:$P$102,15))","v":""},{"$f":"IF($D12=\"\",\"\",VLOOKUP($D12,'Girls Si Qual Draw Prep'!$A$7:$P$102,16))","v":""},null,{"$f":"UPPER(IF($D12=\"\",\"\",VLOOKUP($D12,'Girls Si Qual Draw Prep'!$A$7:$P$102,2)))","v":""},{"$f":"IF($D12=\"\",\"\",VLOOKUP($D12,'Girls Si Qual Draw Prep'!$A$7:$P$102,3))","v":""},null,{"$f":"IF($D12=\"\",\"\",VLOOKUP($D12,'Girls Si Qual Draw Prep'!$A$7:$P$102,4))","v":""},null,null,null,{"$f":"UPPER(IF(OR(K12=\"a\",K12=\"as\"),J11,IF(OR(K12=\"b\",K12=\"bs\"),J13,)))","v":""},null,null,null,null,null,null,null,{"$f":"'SetUp Officials'!P26","v":" "}]
["7",{"$f":"IF($D13=\"\",\"\",VLOOKUP($D13,'Girls Si Qual Draw Prep'!$A$7:$P$102,15))","v":""},{"$f":"IF($D13=\"\",\"\",VLOOKUP($D13,'Girls Si Qual Draw Prep'!$A$7:$P$102,16))","v":""},null,{"$f":"UPPER(IF($D13=\"\",\"\",VLOOKUP($D13,'Girls Si Qual Draw Prep'!$A$7:$P$102,2)))","v":""},{"$f":"IF($D13=\"\",\"\",VLOOKUP($D13,'Girls Si Qual Draw Prep'!$A$7:$P$102,3))","v":""},null,{"$f":"IF($D13=\"\",\"\",VLOOKUP($D13,'Girls Si Qual Draw Prep'!$A$7:$P$102,4))","v":""},null,{"$f":"UPPER(IF(OR(I14=\"a\",I14=\"as\"),E13,IF(OR(I14=\"b\",I14=\"bs\"),E14,)))","v":""},null,null,null,null,null,null,null,null,null,{"$f":"'SetUp Officials'!P27","v":" "}]
["8",{"$f":"IF($D14=\"\",\"\",VLOOKUP($D14,'Girls Si Qual Draw Prep'!$A$7:$P$102,15))","v":""},{"$f":"IF($D14=\"\",\"\",VLOOKUP($D14,'Girls Si Qual Draw Prep'!$A$7:$P$102,16))","v":""},null,{"$f":"UPPER(IF($D14=\"\",\"\",VLOOKUP($D14,'Girls Si Qual Draw Prep'!$A$7:$P$102,2)))","v":""},{"$f":"IF($D14=\"\",\"\",VLOOKUP($D14,'Girls Si Qual Draw Prep'!$A$7:$P$102,3))","v":""},null,{"$f":"IF($D14=\"\",\"\",VLOOKUP($D14,'Girls Si Qual Draw Prep'!$A$7:$P$102,4))","v":""},null,null,null,null,null,"Umpire",null,{"$f":"UPPER(IF(OR(O14=\"a\",O14=\"as\"),N10,IF(OR(O14=\"b\",O14=\"bs\"),N18,)))","v":""},null,null,null,{"$f":"'SetUp Officials'!P28","v":" "}]
["9",{"$f":"IF($D15=\"\",\"\",VLOOKUP($D15,'Girls Si Qual Draw Prep'!$A$7:$P$102,15))","v":""},{"$f":"IF($D15=\"\",\"\",VLOOKUP($D15,'Girls Si Qual Draw Prep'!$A$7:$P$102,16))","v":""},null,{"$f":"UPPER(IF($D15=\"\",\"\",VLOOKUP($D15,'Girls Si Qual Draw Prep'!$A$7:$P$102,2)))","v":""},{"$f":"IF($D15=\"\",\"\",VLOOKUP($D15,'Girls Si Qual Draw Prep'!$A$7:$P$102,3))","v":""},null,{"$f":"IF($D15=\"\",\"\",VLOOKUP($D15,'Girls Si Qual Draw Prep'!$A$7:$P$102,4))","v":""},null,{"$f":"UPPER(IF(OR(I16=\"a\",I16=\"as\"),E15,IF(OR(I16=\"b\",I16=\"bs\"),E16,)))","v":""},null,null,null,null,null,null,null,null,null,{"$f":"'SetUp Officials'!P29","v":" "}]
["10",{"$f":"IF($D16=\"\",\"\",VLOOKUP($D16,'Girls Si Qual Draw Prep'!$A$7:$P$102,15))","v":""},{"$f":"IF($D16=\"\",\"\",VLOOKUP($D16,'Girls Si Qual Draw Prep'!$A$7:$P$102,16))","v":""},null,{"$f":"UPPER(IF($D16=\"\",\"\",VLOOKUP($D16,'Girls Si Qual Draw Prep'!$A$7:$P$102,2)))","v":""},{"$f":"IF($D16=\"\",\"\",VLOOKUP($D16,'Girls Si Qual Draw Prep'!$A$7:$P$102,3))","v":""},null,{"$f":"IF($D16=\"\",\"\",VLOOKUP($D16,'Girls Si Qual Draw Prep'!$A$7:$P$102,4))","v":""},null,null,null,{"$f":"UPPER(IF(OR(K16=\"a\",K16=\"as\"),J15,IF(OR(K16=\"b\",K16=\"bs\"),J17,)))","v":""},null,null,null,null,null,null,null,{"$f":"'SetUp Officials'!P30","v":"None"}]
["11",{"$f":"IF($D17=\"\",\"\",VLOOKUP($D17,'Girls Si Qual Draw Prep'!$A$7:$P$102,15))","v":""},{"$f":"IF($D17=\"\",\"\",VLOOKUP($D17,'Girls Si Qual Draw Prep'!$A$7:$P$102,16))","v":""},null,{"$f":"UPPER(IF($D17=\"\",\"\",VLOOKUP($D17,'Girls Si Qual Draw Prep'!$A$7:$P$102,2)))","v":""},{"$f":"IF($D17=\"\",\"\",VLOOKUP($D17,'Girls Si Qual Draw Prep'!$A$7:$P$102,3))","v":""},null,{"$f":"IF($D17=\"\",\"\",VLOOKUP($D17,'Girls Si Qual Draw Prep'!$A$7:$P$102,4))","v":""},null,{"$f":"UPPER(IF(OR(I18=\"a\",I18=\"as\"),E17,IF(OR(I18=\"b\",I18=\"bs\"),E18,)))","v":""}]
["12",{"$f":"IF($D18=\"\",\"\",VLOOKUP($D18,'Girls Si Qual Draw Prep'!$A$7:$P$102,15))","v":""},{"$f":"IF($D18=\"\",\"\",VLOOKUP($D18,'Girls Si Qual Draw Prep'!$A$7:$P$102,16))","v":""},null,{"$f":"UPPER(IF($D18=\"\",\"\",VLOOKUP($D18,'Girls Si Qual Draw Prep'!$A$7:$P$102,2)))","v":""},{"$f":"IF($D18=\"\",\"\",VLOOKUP($D18,'Girls Si Qual Draw Prep'!$A$7:$P$102,3))","v":""},null,{"$f":"IF($D18=\"\",\"\",VLOOKUP($D18,'Girls Si Qual Draw Prep'!$A$7:$P$102,4))","v":""},null,null,null,"Umpire",null,{"$f":"UPPER(IF(OR(M18=\"a\",M18=\"as\"),L16,IF(OR(M18=\"b\",M18=\"bs\"),L20,)))","v":""}]
["13",{"$f":"IF($D19=\"\",\"\",VLOOKUP($D19,'Girls Si Qual Draw Prep'!$A$7:$P$102,15))","v":""},{"$f":"IF($D19=\"\",\"\",VLOOKUP($D19,'Girls Si Qual Draw Prep'!$A$7:$P$102,16))","v":""},null,{"$f":"UPPER(IF($D19=\"\",\"\",VLOOKUP($D19,'Girls Si Qual Draw Prep'!$A$7:$P$102,2)))","v":""},{"$f":"IF($D19=\"\",\"\",VLOOKUP($D19,'Girls Si Qual Draw Prep'!$A$7:$P$102,3))","v":""},null,{"$f":"IF($D19=\"\",\"\",VLOOKUP($D19,'Girls Si Qual Draw Prep'!$A$7:$P$102,4))","v":""},null,{"$f":"UPPER(IF(OR(I20=\"a\",I20=\"as\"),E19,IF(OR(I20=\"b\",I20=\"bs\"),E20,)))","v":""}]
["14",{"$f":"IF($D20=\"\",\"\",VLOOKUP($D20,'Girls Si Qual Draw Prep'!$A$7:$P$102,15))","v":""},{"$f":"IF($D20=\"\",\"\",VLOOKUP($D20,'Girls Si Qual Draw Prep'!$A$7:$P$102,16))","v":""},null,{"$f":"UPPER(IF($D20=\"\",\"\",VLOOKUP($D20,'Girls Si Qual Draw Prep'!$A$7:$P$102,2)))","v":""},{"$f":"IF($D20=\"\",\"\",VLOOKUP($D20,'Girls Si Qual Draw Prep'!$A$7:$P$102,3))","v":""},null,{"$f":"IF($D20=\"\",\"\",VLOOKUP($D20,'Girls Si Qual Draw Prep'!$A$7:$P$102,4))","v":""},null,null,null,{"$f":"UPPER(IF(OR(K20=\"a\",K20=\"as\"),J19,IF(OR(K20=\"b\",K20=\"bs\"),J21,)))","v":""}]
["15",{"$f":"IF($D21=\"\",\"\",VLOOKUP($D21,'Girls Si Qual Draw Prep'!$A$7:$P$102,15))","v":""},{"$f":"IF($D21=\"\",\"\",VLOOKUP($D21,'Girls Si Qual Draw Prep'!$A$7:$P$102,16))","v":""},null,{"$f":"UPPER(IF($D21=\"\",\"\",VLOOKUP($D21,'Girls Si Qual Draw Prep'!$A$7:$P$102,2)))","v":""},{"$f":"IF($D21=\"\",\"\",VLOOKUP($D21,'Girls Si Qual Draw Prep'!$A$7:$P$102,3))","v":""},null,{"$f":"IF($D21=\"\",\"\",VLOOKUP($D21,'Girls Si Qual Draw Prep'!$A$7:$P$102,4))","v":""},null,{"$f":"UPPER(IF(OR(I22=\"a\",I22=\"as\"),E21,IF(OR(I22=\"b\",I22=\"bs\"),E22,)))","v":""}]
["16",{"$f":"IF($D22=\"\",\"\",VLOOKUP($D22,'Girls Si Qual Draw Prep'!$A$7:$P$102,15))","v":""},{"$f":"IF($D22=\"\",\"\",VLOOKUP($D22,'Girls Si Qual Draw Prep'!$A$7:$P$102,16))","v":""},null,{"$f":"UPPER(IF($D22=\"\",\"\",VLOOKUP($D22,'Girls Si Qual Draw Prep'!$A$7:$P$102,2)))","v":""},{"$f":"IF($D22=\"\",\"\",VLOOKUP($D22,'Girls Si Qual Draw Prep'!$A$7:$P$102,3))","v":""},null,{"$f":"IF($D22=\"\",\"\",VLOOKUP($D22,'Girls Si Qual Draw Prep'!$A$7:$P$102,4))","v":""}]
["17",{"$f":"IF($D23=\"\",\"\",VLOOKUP($D23,'Girls Si Qual Draw Prep'!$A$7:$P$102,15))","v":""},{"$f":"IF($D23=\"\",\"\",VLOOKUP($D23,'Girls Si Qual Draw Prep'!$A$7:$P$102,16))","v":""},null,{"$f":"UPPER(IF($D23=\"\",\"\",VLOOKUP($D23,'Girls Si Qual Draw Prep'!$A$7:$P$102,2)))","v":""},{"$f":"IF($D23=\"\",\"\",VLOOKUP($D23,'Girls Si Qual Draw Prep'!$A$7:$P$102,3))","v":""},null,{"$f":"IF($D23=\"\",\"\",VLOOKUP($D23,'Girls Si Qual Draw Prep'!$A$7:$P$102,4))","v":""},null,{"$f":"UPPER(IF(OR(I24=\"a\",I24=\"as\"),E23,IF(OR(I24=\"b\",I24=\"bs\"),E24,)))","v":""}]
["18",{"$f":"IF($D24=\"\",\"\",VLOOKUP($D24,'Girls Si Qual Draw Prep'!$A$7:$P$102,15))","v":""},{"$f":"IF($D24=\"\",\"\",VLOOKUP($D24,'Girls Si Qual Draw Prep'!$A$7:$P$102,16))","v":""},null,{"$f":"UPPER(IF($D24=\"\",\"\",VLOOKUP($D24,'Girls Si Qual Draw Prep'!$A$7:$P$102,2)))","v":""},{"$f":"IF($D24=\"\",\"\",VLOOKUP($D24,'Girls Si Qual Draw Prep'!$A$7:$P$102,3))","v":""},null,{"$f":"IF($D24=\"\",\"\",VLOOKUP($D24,'Girls Si Qual Draw Prep'!$A$7:$P$102,4))","v":""},null,null,null,{"$f":"UPPER(IF(OR(K24=\"a\",K24=\"as\"),J23,IF(OR(K24=\"b\",K24=\"bs\"),J25,)))","v":""}]
["19",{"$f":"IF($D25=\"\",\"\",VLOOKUP($D25,'Girls Si Qual Draw Prep'!$A$7:$P$102,15))","v":""},{"$f":"IF($D25=\"\",\"\",VLOOKUP($D25,'Girls Si Qual Draw Prep'!$A$7:$P$102,16))","v":""},null,{"$f":"UPPER(IF($D25=\"\",\"\",VLOOKUP($D25,'Girls Si Qual Draw Prep'!$A$7:$P$102,2)))","v":""},{"$f":"IF($D25=\"\",\"\",VLOOKUP($D25,'Girls Si Qual Draw Prep'!$A$7:$P$102,3))","v":""},null,{"$f":"IF($D25=\"\",\"\",VLOOKUP($D25,'Girls Si Qual Draw Prep'!$A$7:$P$102,4))","v":""},null,{"$f":"UPPER(IF(OR(I26=\"a\",I26=\"as\"),E25,IF(OR(I26=\"b\",I26=\"bs\"),E26,)))","v":""}]
["20",{"$f":"IF($D26=\"\",\"\",VLOOKUP($D26,'Girls Si Qual Draw Prep'!$A$7:$P$102,15))","v":""},{"$f":"IF($D26=\"\",\"\",VLOOKUP($D26,'Girls Si Qual Draw Prep'!$A$7:$P$102,16))","v":""},null,{"$f":"UPPER(IF($D26=\"\",\"\",VLOOKUP($D26,'Girls Si Qual Draw Prep'!$A$7:$P$102,2)))","v":""},{"$f":"IF($D26=\"\",\"\",VLOOKUP($D26,'Girls Si Qual Draw Prep'!$A$7:$P$102,3))","v":""},null,{"$f":"IF($D26=\"\",\"\",VLOOKUP($D26,'Girls Si Qual Draw Prep'!$A$7:$P$102,4))","v":""},null,null,null,"Umpire",null,{"$f":"UPPER(IF(OR(M26=\"a\",M26=\"as\"),L24,IF(OR(M26=\"b\",M26=\"bs\"),L28,)))","v":""}]
["21",{"$f":"IF($D27=\"\",\"\",VLOOKUP($D27,'Girls Si Qual Draw Prep'!$A$7:$P$102,15))","v":""},{"$f":"IF($D27=\"\",\"\",VLOOKUP($D27,'Girls Si Qual Draw Prep'!$A$7:$P$102,16))","v":""},null,{"$f":"UPPER(IF($D27=\"\",\"\",VLOOKUP($D27,'Girls Si Qual Draw Prep'!$A$7:$P$102,2)))","v":""},{"$f":"IF($D27=\"\",\"\",VLOOKUP($D27,'Girls Si Qual Draw Prep'!$A$7:$P$102,3))","v":""},null,{"$f":"IF($D27=\"\",\"\",VLOOKUP($D27,'Girls Si Qual Draw Prep'!$A$7:$P$102,4))","v":""},null,{"$f":"UPPER(IF(OR(I28=\"a\",I28=\"as\"),E27,IF(OR(I28=\"b\",I28=\"bs\"),E28,)))","v":""}]
["22",{"$f":"IF($D28=\"\",\"\",VLOOKUP($D28,'Girls Si Qual Draw Prep'!$A$7:$P$102,15))","v":""},{"$f":"IF($D28=\"\",\"\",VLOOKUP($D28,'Girls Si Qual Draw Prep'!$A$7:$P$102,16))","v":""},null,{"$f":"UPPER(IF($D28=\"\",\"\",VLOOKUP($D28,'Girls Si Qual Draw Prep'!$A$7:$P$102,2)))","v":""},{"$f":"IF($D28=\"\",\"\",VLOOKUP($D28,'Girls Si Qual Draw Prep'!$A$7:$P$102,3))","v":""},null,{"$f":"IF($D28=\"\",\"\",VLOOKUP($D28,'Girls Si Qual Draw Prep'!$A$7:$P$102,4))","v":""},null,null,null,{"$f":"UPPER(IF(OR(K28=\"a\",K28=\"as\"),J27,IF(OR(K28=\"b\",K28=\"bs\"),J29,)))","v":""}]
["23",{"$f":"IF($D29=\"\",\"\",VLOOKUP($D29,'Girls Si Qual Draw Prep'!$A$7:$P$102,15))","v":""},{"$f":"IF($D29=\"\",\"\",VLOOKUP($D29,'Girls Si Qual Draw Prep'!$A$7:$P$102,16))","v":""},null,{"$f":"UPPER(IF($D29=\"\",\"\",VLOOKUP($D29,'Girls Si Qual Draw Prep'!$A$7:$P$102,2)))","v":""},{"$f":"IF($D29=\"\",\"\",VLOOKUP($D29,'Girls Si Qual Draw Prep'!$A$7:$P$102,3))","v":""},null,{"$f":"IF($D29=\"\",\"\",VLOOKUP($D29,'Girls Si Qual Draw Prep'!$A$7:$P$102,4))","v":""},null,{"$f":"UPPER(IF(OR(I30=\"a\",I30=\"as\"),E29,IF(OR(I30=\"b\",I30=\"bs\"),E30,)))","v":""}]
["24",{"$f":"IF($D30=\"\",\"\",VLOOKUP($D30,'Girls Si Qual Draw Prep'!$A$7:$P$102,15))","v":""},{"$f":"IF($D30=\"\",\"\",VLOOKUP($D30,'Girls Si Qual Draw Prep'!$A$7:$P$102,16))","v":""},null,{"$f":"UPPER(IF($D30=\"\",\"\",VLOOKUP($D30,'Girls Si Qual Draw Prep'!$A$7:$P$102,2)))","v":""},{"$f":"IF($D30=\"\",\"\",VLOOKUP($D30,'Girls Si Qual Draw Prep'!$A$7:$P$102,3))","v":""},null,{"$f":"IF($D30=\"\",\"\",VLOOKUP($D30,'Girls Si Qual Draw Prep'!$A$7:$P$102,4))","v":""},null,null,null,null,null,"Umpire",null,{"$f":"UPPER(IF(OR(O30=\"a\",O30=\"as\"),N26,IF(OR(O30=\"b\",O30=\"bs\"),N34,)))","v":""}]
["25",{"$f":"IF($D31=\"\",\"\",VLOOKUP($D31,'Girls Si Qual Draw Prep'!$A$7:$P$102,15))","v":""},{"$f":"IF($D31=\"\",\"\",VLOOKUP($D31,'Girls Si Qual Draw Prep'!$A$7:$P$102,16))","v":""},null,{"$f":"UPPER(IF($D31=\"\",\"\",VLOOKUP($D31,'Girls Si Qual Draw Prep'!$A$7:$P$102,2)))","v":""},{"$f":"IF($D31=\"\",\"\",VLOOKUP($D31,'Girls Si Qual Draw Prep'!$A$7:$P$102,3))","v":""},null,{"$f":"IF($D31=\"\",\"\",VLOOKUP($D31,'Girls Si Qual Draw Prep'!$A$7:$P$102,4))","v":""},null,{"$f":"UPPER(IF(OR(I32=\"a\",I32=\"as\"),E31,IF(OR(I32=\"b\",I32=\"bs\"),E32,)))","v":""}]
["26",{"$f":"IF($D32=\"\",\"\",VLOOKUP($D32,'Girls Si Qual Draw Prep'!$A$7:$P$102,15))","v":""},{"$f":"IF($D32=\"\",\"\",VLOOKUP($D32,'Girls Si Qual Draw Prep'!$A$7:$P$102,16))","v":""},null,{"$f":"UPPER(IF($D32=\"\",\"\",VLOOKUP($D32,'Girls Si Qual Draw Prep'!$A$7:$P$102,2)))","v":""},{"$f":"IF($D32=\"\",\"\",VLOOKUP($D32,'Girls Si Qual Draw Prep'!$A$7:$P$102,3))","v":""},null,{"$f":"IF($D32=\"\",\"\",VLOOKUP($D32,'Girls Si Qual Draw Prep'!$A$7:$P$102,4))","v":""},null,null,null,{"$f":"UPPER(IF(OR(K32=\"a\",K32=\"as\"),J31,IF(OR(K32=\"b\",K32=\"bs\"),J33,)))","v":""}]
["27",{"$f":"IF($D33=\"\",\"\",VLOOKUP($D33,'Girls Si Qual Draw Prep'!$A$7:$P$102,15))","v":""},{"$f":"IF($D33=\"\",\"\",VLOOKUP($D33,'Girls Si Qual Draw Prep'!$A$7:$P$102,16))","v":""},null,{"$f":"UPPER(IF($D33=\"\",\"\",VLOOKUP($D33,'Girls Si Qual Draw Prep'!$A$7:$P$102,2)))","v":""},{"$f":"IF($D33=\"\",\"\",VLOOKUP($D33,'Girls Si Qual Draw Prep'!$A$7:$P$102,3))","v":""},null,{"$f":"IF($D33=\"\",\"\",VLOOKUP($D33,'Girls Si Qual Draw Prep'!$A$7:$P$102,4))","v":""},null,{"$f":"UPPER(IF(OR(I34=\"a\",I34=\"as\"),E33,IF(OR(I34=\"b\",I34=\"bs\"),E34,)))","v":""}]
["28",{"$f":"IF($D34=\"\",\"\",VLOOKUP($D34,'Girls Si Qual Draw Prep'!$A$7:$P$102,15))","v":""},{"$f":"IF($D34=\"\",\"\",VLOOKUP($D34,'Girls Si Qual Draw Prep'!$A$7:$P$102,16))","v":""},null,{"$f":"UPPER(IF($D34=\"\",\"\",VLOOKUP($D34,'Girls Si Qual Draw Prep'!$A$7:$P$102,2)))","v":""},{"$f":"IF($D34=\"\",\"\",VLOOKUP($D34,'Girls Si Qual Draw Prep'!$A$7:$P$102,3))","v":""},null,{"$f":"IF($D34=\"\",\"\",VLOOKUP($D34,'Girls Si Qual Draw Prep'!$A$7:$P$102,4))","v":""},null,null,null,"Umpire",null,{"$f":"UPPER(IF(OR(M34=\"a\",M34=\"as\"),L32,IF(OR(M34=\"b\",M34=\"bs\"),L36,)))","v":""}]
["29",{"$f":"IF($D35=\"\",\"\",VLOOKUP($D35,'Girls Si Qual Draw Prep'!$A$7:$P$102,15))","v":""},{"$f":"IF($D35=\"\",\"\",VLOOKUP($D35,'Girls Si Qual Draw Prep'!$A$7:$P$102,16))","v":""},null,{"$f":"UPPER(IF($D35=\"\",\"\",VLOOKUP($D35,'Girls Si Qual Draw Prep'!$A$7:$P$102,2)))","v":""},{"$f":"IF($D35=\"\",\"\",VLOOKUP($D35,'Girls Si Qual Draw Prep'!$A$7:$P$102,3))","v":""},null,{"$f":"IF($D35=\"\",\"\",VLOOKUP($D35,'Girls Si Qual Draw Prep'!$A$7:$P$102,4))","v":""},null,{"$f":"UPPER(IF(OR(I36=\"a\",I36=\"as\"),E35,IF(OR(I36=\"b\",I36=\"bs\"),E36,)))","v":""}]
["30",{"$f":"IF($D36=\"\",\"\",VLOOKUP($D36,'Girls Si Qual Draw Prep'!$A$7:$P$102,15))","v":""},{"$f":"IF($D36=\"\",\"\",VLOOKUP($D36,'Girls Si Qual Draw Prep'!$A$7:$P$102,16))","v":""},null,{"$f":"UPPER(IF($D36=\"\",\"\",VLOOKUP($D36,'Girls Si Qual Draw Prep'!$A$7:$P$102,2)))","v":""},{"$f":"IF($D36=\"\",\"\",VLOOKUP($D36,'Girls Si Qual Draw Prep'!$A$7:$P$102,3))","v":""},null,{"$f":"IF($D36=\"\",\"\",VLOOKUP($D36,'Girls Si Qual Draw Prep'!$A$7:$P$102,4))","v":""},null,null,null,{"$f":"UPPER(IF(OR(K36=\"a\",K36=\"as\"),J35,IF(OR(K36=\"b\",K36=\"bs\"),J37,)))","v":""}]
["31",{"$f":"IF($D37=\"\",\"\",VLOOKUP($D37,'Girls Si Qual Draw Prep'!$A$7:$P$102,15))","v":""},{"$f":"IF($D37=\"\",\"\",VLOOKUP($D37,'Girls Si Qual Draw Prep'!$A$7:$P$102,16))","v":""},null,{"$f":"UPPER(IF($D37=\"\",\"\",VLOOKUP($D37,'Girls Si Qual Draw Prep'!$A$7:$P$102,2)))","v":""},{"$f":"IF($D37=\"\",\"\",VLOOKUP($D37,'Girls Si Qual Draw Prep'!$A$7:$P$102,3))","v":""},null,{"$f":"IF($D37=\"\",\"\",VLOOKUP($D37,'Girls Si Qual Draw Prep'!$A$7:$P$102,4))","v":""},null,{"$f":"UPPER(IF(OR(I38=\"a\",I38=\"as\"),E37,IF(OR(I38=\"b\",I38=\"bs\"),E38,)))","v":""}]
["32",{"$f":"IF($D38=\"\",\"\",VLOOKUP($D38,'Girls Si Qual Draw Prep'!$A$7:$P$102,15))","v":""},{"$f":"IF($D38=\"\",\"\",VLOOKUP($D38,'Girls Si Qual Draw Prep'!$A$7:$P$102,16))","v":""},null,{"$f":"UPPER(IF($D38=\"\",\"\",VLOOKUP($D38,'Girls Si Qual Draw Prep'!$A$7:$P$102,2)))","v":""},{"$f":"IF($D38=\"\",\"\",VLOOKUP($D38,'Girls Si Qual Draw Prep'!$A$7:$P$102,3))","v":""},null,{"$f":"IF($D38=\"\",\"\",VLOOKUP($D38,'Girls Si Qual Draw Prep'!$A$7:$P$102,4))","v":""}]
["33",{"$f":"IF($D39=\"\",\"\",VLOOKUP($D39,'Girls Si Qual Draw Prep'!$A$7:$P$102,15))","v":""},{"$f":"IF($D39=\"\",\"\",VLOOKUP($D39,'Girls Si Qual Draw Prep'!$A$7:$P$102,16))","v":""},null,{"$f":"UPPER(IF($D39=\"\",\"\",VLOOKUP($D39,'Girls Si Qual Draw Prep'!$A$7:$P$102,2)))","v":""},{"$f":"IF($D39=\"\",\"\",VLOOKUP($D39,'Girls Si Qual Draw Prep'!$A$7:$P$102,3))","v":""},null,{"$f":"IF($D39=\"\",\"\",VLOOKUP($D39,'Girls Si Qual Draw Prep'!$A$7:$P$102,4))","v":""},null,{"$f":"UPPER(IF(OR(I40=\"a\",I40=\"as\"),E39,IF(OR(I40=\"b\",I40=\"bs\"),E40,)))","v":""}]
["34",{"$f":"IF($D40=\"\",\"\",VLOOKUP($D40,'Girls Si Qual Draw Prep'!$A$7:$P$102,15))","v":""},{"$f":"IF($D40=\"\",\"\",VLOOKUP($D40,'Girls Si Qual Draw Prep'!$A$7:$P$102,16))","v":""},null,{"$f":"UPPER(IF($D40=\"\",\"\",VLOOKUP($D40,'Girls Si Qual Draw Prep'!$A$7:$P$102,2)))","v":""},{"$f":"IF($D40=\"\",\"\",VLOOKUP($D40,'Girls Si Qual Draw Prep'!$A$7:$P$102,3))","v":""},null,{"$f":"IF($D40=\"\",\"\",VLOOKUP($D40,'Girls Si Qual Draw Prep'!$A$7:$P$102,4))","v":""},null,null,null,{"$f":"UPPER(IF(OR(K40=\"a\",K40=\"as\"),J39,IF(OR(K40=\"b\",K40=\"bs\"),J41,)))","v":""}]
["35",{"$f":"IF($D41=\"\",\"\",VLOOKUP($D41,'Girls Si Qual Draw Prep'!$A$7:$P$102,15))","v":""},{"$f":"IF($D41=\"\",\"\",VLOOKUP($D41,'Girls Si Qual Draw Prep'!$A$7:$P$102,16))","v":""},null,{"$f":"UPPER(IF($D41=\"\",\"\",VLOOKUP($D41,'Girls Si Qual Draw Prep'!$A$7:$P$102,2)))","v":""},{"$f":"IF($D41=\"\",\"\",VLOOKUP($D41,'Girls Si Qual Draw Prep'!$A$7:$P$102,3))","v":""},null,{"$f":"IF($D41=\"\",\"\",VLOOKUP($D41,'Girls Si Qual Draw Prep'!$A$7:$P$102,4))","v":""},null,{"$f":"UPPER(IF(OR(I42=\"a\",I42=\"as\"),E41,IF(OR(I42=\"b\",I42=\"bs\"),E42,)))","v":""}]
["36",{"$f":"IF($D42=\"\",\"\",VLOOKUP($D42,'Girls Si Qual Draw Prep'!$A$7:$P$102,15))","v":""},{"$f":"IF($D42=\"\",\"\",VLOOKUP($D42,'Girls Si Qual Draw Prep'!$A$7:$P$102,16))","v":""},null,{"$f":"UPPER(IF($D42=\"\",\"\",VLOOKUP($D42,'Girls Si Qual Draw Prep'!$A$7:$P$102,2)))","v":""},{"$f":"IF($D42=\"\",\"\",VLOOKUP($D42,'Girls Si Qual Draw Prep'!$A$7:$P$102,3))","v":""},null,{"$f":"IF($D42=\"\",\"\",VLOOKUP($D42,'Girls Si Qual Draw Prep'!$A$7:$P$102,4))","v":""},null,null,null,"Umpire",null,{"$f":"UPPER(IF(OR(M42=\"a\",M42=\"as\"),L40,IF(OR(M42=\"b\",M42=\"bs\"),L44,)))","v":""}]
["37",{"$f":"IF($D43=\"\",\"\",VLOOKUP($D43,'Girls Si Qual Draw Prep'!$A$7:$P$102,15))","v":""},{"$f":"IF($D43=\"\",\"\",VLOOKUP($D43,'Girls Si Qual Draw Prep'!$A$7:$P$102,16))","v":""},null,{"$f":"UPPER(IF($D43=\"\",\"\",VLOOKUP($D43,'Girls Si Qual Draw Prep'!$A$7:$P$102,2)))","v":""},{"$f":"IF($D43=\"\",\"\",VLOOKUP($D43,'Girls Si Qual Draw Prep'!$A$7:$P$102,3))","v":""},null,{"$f":"IF($D43=\"\",\"\",VLOOKUP($D43,'Girls Si Qual Draw Prep'!$A$7:$P$102,4))","v":""},null,{"$f":"UPPER(IF(OR(I44=\"a\",I44=\"as\"),E43,IF(OR(I44=\"b\",I44=\"bs\"),E44,)))","v":""}]
["38",{"$f":"IF($D44=\"\",\"\",VLOOKUP($D44,'Girls Si Qual Draw Prep'!$A$7:$P$102,15))","v":""},{"$f":"IF($D44=\"\",\"\",VLOOKUP($D44,'Girls Si Qual Draw Prep'!$A$7:$P$102,16))","v":""},null,{"$f":"UPPER(IF($D44=\"\",\"\",VLOOKUP($D44,'Girls Si Qual Draw Prep'!$A$7:$P$102,2)))","v":""},{"$f":"IF($D44=\"\",\"\",VLOOKUP($D44,'Girls Si Qual Draw Prep'!$A$7:$P$102,3))","v":""},null,{"$f":"IF($D44=\"\",\"\",VLOOKUP($D44,'Girls Si Qual Draw Prep'!$A$7:$P$102,4))","v":""},null,null,null,{"$f":"UPPER(IF(OR(K44=\"a\",K44=\"as\"),J43,IF(OR(K44=\"b\",K44=\"bs\"),J45,)))","v":""}]
["39",{"$f":"IF($D45=\"\",\"\",VLOOKUP($D45,'Girls Si Qual Draw Prep'!$A$7:$P$102,15))","v":""},{"$f":"IF($D45=\"\",\"\",VLOOKUP($D45,'Girls Si Qual Draw Prep'!$A$7:$P$102,16))","v":""},null,{"$f":"UPPER(IF($D45=\"\",\"\",VLOOKUP($D45,'Girls Si Qual Draw Prep'!$A$7:$P$102,2)))","v":""},{"$f":"IF($D45=\"\",\"\",VLOOKUP($D45,'Girls Si Qual Draw Prep'!$A$7:$P$102,3))","v":""},null,{"$f":"IF($D45=\"\",\"\",VLOOKUP($D45,'Girls Si Qual Draw Prep'!$A$7:$P$102,4))","v":""},null,{"$f":"UPPER(IF(OR(I46=\"a\",I46=\"as\"),E45,IF(OR(I46=\"b\",I46=\"bs\"),E46,)))","v":""}]
["40",{"$f":"IF($D46=\"\",\"\",VLOOKUP($D46,'Girls Si Qual Draw Prep'!$A$7:$P$102,15))","v":""},{"$f":"IF($D46=\"\",\"\",VLOOKUP($D46,'Girls Si Qual Draw Prep'!$A$7:$P$102,16))","v":""},null,{"$f":"UPPER(IF($D46=\"\",\"\",VLOOKUP($D46,'Girls Si Qual Draw Prep'!$A$7:$P$102,2)))","v":""},{"$f":"IF($D46=\"\",\"\",VLOOKUP($D46,'Girls Si Qual Draw Prep'!$A$7:$P$102,3))","v":""},null,{"$f":"IF($D46=\"\",\"\",VLOOKUP($D46,'Girls Si Qual Draw Prep'!$A$7:$P$102,4))","v":""},null,null,null,null,null,"Umpire",null,{"$f":"UPPER(IF(OR(O46=\"a\",O46=\"as\"),N42,IF(OR(O46=\"b\",O46=\"bs\"),N50,)))","v":""}]
["41",{"$f":"IF($D47=\"\",\"\",VLOOKUP($D47,'Girls Si Qual Draw Prep'!$A$7:$P$102,15))","v":""},{"$f":"IF($D47=\"\",\"\",VLOOKUP($D47,'Girls Si Qual Draw Prep'!$A$7:$P$102,16))","v":""},null,{"$f":"UPPER(IF($D47=\"\",\"\",VLOOKUP($D47,'Girls Si Qual Draw Prep'!$A$7:$P$102,2)))","v":""},{"$f":"IF($D47=\"\",\"\",VLOOKUP($D47,'Girls Si Qual Draw Prep'!$A$7:$P$102,3))","v":""},null,{"$f":"IF($D47=\"\",\"\",VLOOKUP($D47,'Girls Si Qual Draw Prep'!$A$7:$P$102,4))","v":""},null,{"$f":"UPPER(IF(OR(I48=\"a\",I48=\"as\"),E47,IF(OR(I48=\"b\",I48=\"bs\"),E48,)))","v":""}]
["42",{"$f":"IF($D48=\"\",\"\",VLOOKUP($D48,'Girls Si Qual Draw Prep'!$A$7:$P$102,15))","v":""},{"$f":"IF($D48=\"\",\"\",VLOOKUP($D48,'Girls Si Qual Draw Prep'!$A$7:$P$102,16))","v":""},null,{"$f":"UPPER(IF($D48=\"\",\"\",VLOOKUP($D48,'Girls Si Qual Draw Prep'!$A$7:$P$102,2)))","v":""},{"$f":"IF($D48=\"\",\"\",VLOOKUP($D48,'Girls Si Qual Draw Prep'!$A$7:$P$102,3))","v":""},null,{"$f":"IF($D48=\"\",\"\",VLOOKUP($D48,'Girls Si Qual Draw Prep'!$A$7:$P$102,4))","v":""},null,null,null,{"$f":"UPPER(IF(OR(K48=\"a\",K48=\"as\"),J47,IF(OR(K48=\"b\",K48=\"bs\"),J49,)))","v":""}]
["43",{"$f":"IF($D49=\"\",\"\",VLOOKUP($D49,'Girls Si Qual Draw Prep'!$A$7:$P$102,15))","v":""},{"$f":"IF($D49=\"\",\"\",VLOOKUP($D49,'Girls Si Qual Draw Prep'!$A$7:$P$102,16))","v":""},null,{"$f":"UPPER(IF($D49=\"\",\"\",VLOOKUP($D49,'Girls Si Qual Draw Prep'!$A$7:$P$102,2)))","v":""},{"$f":"IF($D49=\"\",\"\",VLOOKUP($D49,'Girls Si Qual Draw Prep'!$A$7:$P$102,3))","v":""},null,{"$f":"IF($D49=\"\",\"\",VLOOKUP($D49,'Girls Si Qual Draw Prep'!$A$7:$P$102,4))","v":""},null,{"$f":"UPPER(IF(OR(I50=\"a\",I50=\"as\"),E49,IF(OR(I50=\"b\",I50=\"bs\"),E50,)))","v":""}]
["44",{"$f":"IF($D50=\"\",\"\",VLOOKUP($D50,'Girls Si Qual Draw Prep'!$A$7:$P$102,15))","v":""},{"$f":"IF($D50=\"\",\"\",VLOOKUP($D50,'Girls Si Qual Draw Prep'!$A$7:$P$102,16))","v":""},null,{"$f":"UPPER(IF($D50=\"\",\"\",VLOOKUP($D50,'Girls Si Qual Draw Prep'!$A$7:$P$102,2)))","v":""},{"$f":"IF($D50=\"\",\"\",VLOOKUP($D50,'Girls Si Qual Draw Prep'!$A$7:$P$102,3))","v":""},null,{"$f":"IF($D50=\"\",\"\",VLOOKUP($D50,'Girls Si Qual Draw Prep'!$A$7:$P$102,4))","v":""},null,null,null,"Umpire",null,{"$f":"UPPER(IF(OR(M50=\"a\",M50=\"as\"),L48,IF(OR(M50=\"b\",M50=\"bs\"),L52,)))","v":""}]
["45",{"$f":"IF($D51=\"\",\"\",VLOOKUP($D51,'Girls Si Qual Draw Prep'!$A$7:$P$102,15))","v":""},{"$f":"IF($D51=\"\",\"\",VLOOKUP($D51,'Girls Si Qual Draw Prep'!$A$7:$P$102,16))","v":""},null,{"$f":"UPPER(IF($D51=\"\",\"\",VLOOKUP($D51,'Girls Si Qual Draw Prep'!$A$7:$P$102,2)))","v":""},{"$f":"IF($D51=\"\",\"\",VLOOKUP($D51,'Girls Si Qual Draw Prep'!$A$7:$P$102,3))","v":""},null,{"$f":"IF($D51=\"\",\"\",VLOOKUP($D51,'Girls Si Qual Draw Prep'!$A$7:$P$102,4))","v":""},null,{"$f":"UPPER(IF(OR(I52=\"a\",I52=\"as\"),E51,IF(OR(I52=\"b\",I52=\"bs\"),E52,)))","v":""}]
["46",{"$f":"IF($D52=\"\",\"\",VLOOKUP($D52,'Girls Si Qual Draw Prep'!$A$7:$P$102,15))","v":""},{"$f":"IF($D52=\"\",\"\",VLOOKUP($D52,'Girls Si Qual Draw Prep'!$A$7:$P$102,16))","v":""},null,{"$f":"UPPER(IF($D52=\"\",\"\",VLOOKUP($D52,'Girls Si Qual Draw Prep'!$A$7:$P$102,2)))","v":""},{"$f":"IF($D52=\"\",\"\",VLOOKUP($D52,'Girls Si Qual Draw Prep'!$A$7:$P$102,3))","v":""},null,{"$f":"IF($D52=\"\",\"\",VLOOKUP($D52,'Girls Si Qual Draw Prep'!$A$7:$P$102,4))","v":""},null,null,null,{"$f":"UPPER(IF(OR(K52=\"a\",K52=\"as\"),J51,IF(OR(K52=\"b\",K52=\"bs\"),J53,)))","v":""}]
["47",{"$f":"IF($D53=\"\",\"\",VLOOKUP($D53,'Girls Si Qual Draw Prep'!$A$7:$P$102,15))","v":""},{"$f":"IF($D53=\"\",\"\",VLOOKUP($D53,'Girls Si Qual Draw Prep'!$A$7:$P$102,16))","v":""},null,{"$f":"UPPER(IF($D53=\"\",\"\",VLOOKUP($D53,'Girls Si Qual Draw Prep'!$A$7:$P$102,2)))","v":""},{"$f":"IF($D53=\"\",\"\",VLOOKUP($D53,'Girls Si Qual Draw Prep'!$A$7:$P$102,3))","v":""},null,{"$f":"IF($D53=\"\",\"\",VLOOKUP($D53,'Girls Si Qual Draw Prep'!$A$7:$P$102,4))","v":""},null,{"$f":"UPPER(IF(OR(I54=\"a\",I54=\"as\"),E53,IF(OR(I54=\"b\",I54=\"bs\"),E54,)))","v":""}]
["48",{"$f":"IF($D54=\"\",\"\",VLOOKUP($D54,'Girls Si Qual Draw Prep'!$A$7:$P$102,15))","v":""},{"$f":"IF($D54=\"\",\"\",VLOOKUP($D54,'Girls Si Qual Draw Prep'!$A$7:$P$102,16))","v":""},null,{"$f":"UPPER(IF($D54=\"\",\"\",VLOOKUP($D54,'Girls Si Qual Draw Prep'!$A$7:$P$102,2)))","v":""},{"$f":"IF($D54=\"\",\"\",VLOOKUP($D54,'Girls Si Qual Draw Prep'!$A$7:$P$102,3))","v":""},null,{"$f":"IF($D54=\"\",\"\",VLOOKUP($D54,'Girls Si Qual Draw Prep'!$A$7:$P$102,4))","v":""}]
["49",{"$f":"IF($D55=\"\",\"\",VLOOKUP($D55,'Girls Si Qual Draw Prep'!$A$7:$P$102,15))","v":""},{"$f":"IF($D55=\"\",\"\",VLOOKUP($D55,'Girls Si Qual Draw Prep'!$A$7:$P$102,16))","v":""},null,{"$f":"UPPER(IF($D55=\"\",\"\",VLOOKUP($D55,'Girls Si Qual Draw Prep'!$A$7:$P$102,2)))","v":""},{"$f":"IF($D55=\"\",\"\",VLOOKUP($D55,'Girls Si Qual Draw Prep'!$A$7:$P$102,3))","v":""},null,{"$f":"IF($D55=\"\",\"\",VLOOKUP($D55,'Girls Si Qual Draw Prep'!$A$7:$P$102,4))","v":""},null,{"$f":"UPPER(IF(OR(I56=\"a\",I56=\"as\"),E55,IF(OR(I56=\"b\",I56=\"bs\"),E56,)))","v":""}]
["50",{"$f":"IF($D56=\"\",\"\",VLOOKUP($D56,'Girls Si Qual Draw Prep'!$A$7:$P$102,15))","v":""},{"$f":"IF($D56=\"\",\"\",VLOOKUP($D56,'Girls Si Qual Draw Prep'!$A$7:$P$102,16))","v":""},null,{"$f":"UPPER(IF($D56=\"\",\"\",VLOOKUP($D56,'Girls Si Qual Draw Prep'!$A$7:$P$102,2)))","v":""},{"$f":"IF($D56=\"\",\"\",VLOOKUP($D56,'Girls Si Qual Draw Prep'!$A$7:$P$102,3))","v":""},null,{"$f":"IF($D56=\"\",\"\",VLOOKUP($D56,'Girls Si Qual Draw Prep'!$A$7:$P$102,4))","v":""},null,null,null,{"$f":"UPPER(IF(OR(K56=\"a\",K56=\"as\"),J55,IF(OR(K56=\"b\",K56=\"bs\"),J57,)))","v":""}]
["51",{"$f":"IF($D57=\"\",\"\",VLOOKUP($D57,'Girls Si Qual Draw Prep'!$A$7:$P$102,15))","v":""},{"$f":"IF($D57=\"\",\"\",VLOOKUP($D57,'Girls Si Qual Draw Prep'!$A$7:$P$102,16))","v":""},null,{"$f":"UPPER(IF($D57=\"\",\"\",VLOOKUP($D57,'Girls Si Qual Draw Prep'!$A$7:$P$102,2)))","v":""},{"$f":"IF($D57=\"\",\"\",VLOOKUP($D57,'Girls Si Qual Draw Prep'!$A$7:$P$102,3))","v":""},null,{"$f":"IF($D57=\"\",\"\",VLOOKUP($D57,'Girls Si Qual Draw Prep'!$A$7:$P$102,4))","v":""},null,{"$f":"UPPER(IF(OR(I58=\"a\",I58=\"as\"),E57,IF(OR(I58=\"b\",I58=\"bs\"),E58,)))","v":""}]
["52",{"$f":"IF($D58=\"\",\"\",VLOOKUP($D58,'Girls Si Qual Draw Prep'!$A$7:$P$102,15))","v":""},{"$f":"IF($D58=\"\",\"\",VLOOKUP($D58,'Girls Si Qual Draw Prep'!$A$7:$P$102,16))","v":""},null,{"$f":"UPPER(IF($D58=\"\",\"\",VLOOKUP($D58,'Girls Si Qual Draw Prep'!$A$7:$P$102,2)))","v":""},{"$f":"IF($D58=\"\",\"\",VLOOKUP($D58,'Girls Si Qual Draw Prep'!$A$7:$P$102,3))","v":""},null,{"$f":"IF($D58=\"\",\"\",VLOOKUP($D58,'Girls Si Qual Draw Prep'!$A$7:$P$102,4))","v":""},null,null,null,"Umpire",null,{"$f":"UPPER(IF(OR(M58=\"a\",M58=\"as\"),L56,IF(OR(M58=\"b\",M58=\"bs\"),L60,)))","v":""}]
["53",{"$f":"IF($D59=\"\",\"\",VLOOKUP($D59,'Girls Si Qual Draw Prep'!$A$7:$P$102,15))","v":""},{"$f":"IF($D59=\"\",\"\",VLOOKUP($D59,'Girls Si Qual Draw Prep'!$A$7:$P$102,16))","v":""},null,{"$f":"UPPER(IF($D59=\"\",\"\",VLOOKUP($D59,'Girls Si Qual Draw Prep'!$A$7:$P$102,2)))","v":""},{"$f":"IF($D59=\"\",\"\",VLOOKUP($D59,'Girls Si Qual Draw Prep'!$A$7:$P$102,3))","v":""},null,{"$f":"IF($D59=\"\",\"\",VLOOKUP($D59,'Girls Si Qual Draw Prep'!$A$7:$P$102,4))","v":""},null,{"$f":"UPPER(IF(OR(I60=\"a\",I60=\"as\"),E59,IF(OR(I60=\"b\",I60=\"bs\"),E60,)))","v":""}]
["54",{"$f":"IF($D60=\"\",\"\",VLOOKUP($D60,'Girls Si Qual Draw Prep'!$A$7:$P$102,15))","v":""},{"$f":"IF($D60=\"\",\"\",VLOOKUP($D60,'Girls Si Qual Draw Prep'!$A$7:$P$102,16))","v":""},null,{"$f":"UPPER(IF($D60=\"\",\"\",VLOOKUP($D60,'Girls Si Qual Draw Prep'!$A$7:$P$102,2)))","v":""},{"$f":"IF($D60=\"\",\"\",VLOOKUP($D60,'Girls Si Qual Draw Prep'!$A$7:$P$102,3))","v":""},null,{"$f":"IF($D60=\"\",\"\",VLOOKUP($D60,'Girls Si Qual Draw Prep'!$A$7:$P$102,4))","v":""},null,null,null,{"$f":"UPPER(IF(OR(K60=\"a\",K60=\"as\"),J59,IF(OR(K60=\"b\",K60=\"bs\"),J61,)))","v":""}]
["55",{"$f":"IF($D61=\"\",\"\",VLOOKUP($D61,'Girls Si Qual Draw Prep'!$A$7:$P$102,15))","v":""},{"$f":"IF($D61=\"\",\"\",VLOOKUP($D61,'Girls Si Qual Draw Prep'!$A$7:$P$102,16))","v":""},null,{"$f":"UPPER(IF($D61=\"\",\"\",VLOOKUP($D61,'Girls Si Qual Draw Prep'!$A$7:$P$102,2)))","v":""},{"$f":"IF($D61=\"\",\"\",VLOOKUP($D61,'Girls Si Qual Draw Prep'!$A$7:$P$102,3))","v":""},null,{"$f":"IF($D61=\"\",\"\",VLOOKUP($D61,'Girls Si Qual Draw Prep'!$A$7:$P$102,4))","v":""},null,{"$f":"UPPER(IF(OR(I62=\"a\",I62=\"as\"),E61,IF(OR(I62=\"b\",I62=\"bs\"),E62,)))","v":""}]
["56",{"$f":"IF($D62=\"\",\"\",VLOOKUP($D62,'Girls Si Qual Draw Prep'!$A$7:$P$102,15))","v":""},{"$f":"IF($D62=\"\",\"\",VLOOKUP($D62,'Girls Si Qual Draw Prep'!$A$7:$P$102,16))","v":""},null,{"$f":"UPPER(IF($D62=\"\",\"\",VLOOKUP($D62,'Girls Si Qual Draw Prep'!$A$7:$P$102,2)))","v":""},{"$f":"IF($D62=\"\",\"\",VLOOKUP($D62,'Girls Si Qual Draw Prep'!$A$7:$P$102,3))","v":""},null,{"$f":"IF($D62=\"\",\"\",VLOOKUP($D62,'Girls Si Qual Draw Prep'!$A$7:$P$102,4))","v":""},null,null,null,null,null,"Umpire",null,{"$f":"UPPER(IF(OR(O62=\"a\",O62=\"as\"),N58,IF(OR(O62=\"b\",O62=\"bs\"),N66,)))","v":""}]
["57",{"$f":"IF($D63=\"\",\"\",VLOOKUP($D63,'Girls Si Qual Draw Prep'!$A$7:$P$102,15))","v":""},{"$f":"IF($D63=\"\",\"\",VLOOKUP($D63,'Girls Si Qual Draw Prep'!$A$7:$P$102,16))","v":""},null,{"$f":"UPPER(IF($D63=\"\",\"\",VLOOKUP($D63,'Girls Si Qual Draw Prep'!$A$7:$P$102,2)))","v":""},{"$f":"IF($D63=\"\",\"\",VLOOKUP($D63,'Girls Si Qual Draw Prep'!$A$7:$P$102,3))","v":""},null,{"$f":"IF($D63=\"\",\"\",VLOOKUP($D63,'Girls Si Qual Draw Prep'!$A$7:$P$102,4))","v":""},null,{"$f":"UPPER(IF(OR(I64=\"a\",I64=\"as\"),E63,IF(OR(I64=\"b\",I64=\"bs\"),E64,)))","v":""}]
["58",{"$f":"IF($D64=\"\",\"\",VLOOKUP($D64,'Girls Si Qual Draw Prep'!$A$7:$P$102,15))","v":""},{"$f":"IF($D64=\"\",\"\",VLOOKUP($D64,'Girls Si Qual Draw Prep'!$A$7:$P$102,16))","v":""},null,{"$f":"UPPER(IF($D64=\"\",\"\",VLOOKUP($D64,'Girls Si Qual Draw Prep'!$A$7:$P$102,2)))","v":""},{"$f":"IF($D64=\"\",\"\",VLOOKUP($D64,'Girls Si Qual Draw Prep'!$A$7:$P$102,3))","v":""},null,{"$f":"IF($D64=\"\",\"\",VLOOKUP($D64,'Girls Si Qual Draw Prep'!$A$7:$P$102,4))","v":""},null,null,null,{"$f":"UPPER(IF(OR(K64=\"a\",K64=\"as\"),J63,IF(OR(K64=\"b\",K64=\"bs\"),J65,)))","v":""}]
["59",{"$f":"IF($D65=\"\",\"\",VLOOKUP($D65,'Girls Si Qual Draw Prep'!$A$7:$P$102,15))","v":""},{"$f":"IF($D65=\"\",\"\",VLOOKUP($D65,'Girls Si Qual Draw Prep'!$A$7:$P$102,16))","v":""},null,{"$f":"UPPER(IF($D65=\"\",\"\",VLOOKUP($D65,'Girls Si Qual Draw Prep'!$A$7:$P$102,2)))","v":""},{"$f":"IF($D65=\"\",\"\",VLOOKUP($D65,'Girls Si Qual Draw Prep'!$A$7:$P$102,3))","v":""},null,{"$f":"IF($D65=\"\",\"\",VLOOKUP($D65,'Girls Si Qual Draw Prep'!$A$7:$P$102,4))","v":""},null,{"$f":"UPPER(IF(OR(I66=\"a\",I66=\"as\"),E65,IF(OR(I66=\"b\",I66=\"bs\"),E66,)))","v":""}]
["60",{"$f":"IF($D66=\"\",\"\",VLOOKUP($D66,'Girls Si Qual Draw Prep'!$A$7:$P$102,15))","v":""},{"$f":"IF($D66=\"\",\"\",VLOOKUP($D66,'Girls Si Qual Draw Prep'!$A$7:$P$102,16))","v":""},null,{"$f":"UPPER(IF($D66=\"\",\"\",VLOOKUP($D66,'Girls Si Qual Draw Prep'!$A$7:$P$102,2)))","v":""},{"$f":"IF($D66=\"\",\"\",VLOOKUP($D66,'Girls Si Qual Draw Prep'!$A$7:$P$102,3))","v":""},null,{"$f":"IF($D66=\"\",\"\",VLOOKUP($D66,'Girls Si Qual Draw Prep'!$A$7:$P$102,4))","v":""},null,null,null,"Umpire",null,{"$f":"UPPER(IF(OR(M66=\"a\",M66=\"as\"),L64,IF(OR(M66=\"b\",M66=\"bs\"),L68,)))","v":""}]
["61",{"$f":"IF($D67=\"\",\"\",VLOOKUP($D67,'Girls Si Qual Draw Prep'!$A$7:$P$102,15))","v":""},{"$f":"IF($D67=\"\",\"\",VLOOKUP($D67,'Girls Si Qual Draw Prep'!$A$7:$P$102,16))","v":""},null,{"$f":"UPPER(IF($D67=\"\",\"\",VLOOKUP($D67,'Girls Si Qual Draw Prep'!$A$7:$P$102,2)))","v":""},{"$f":"IF($D67=\"\",\"\",VLOOKUP($D67,'Girls Si Qual Draw Prep'!$A$7:$P$102,3))","v":""},null,{"$f":"IF($D67=\"\",\"\",VLOOKUP($D67,'Girls Si Qual Draw Prep'!$A$7:$P$102,4))","v":""},null,{"$f":"UPPER(IF(OR(I68=\"a\",I68=\"as\"),E67,IF(OR(I68=\"b\",I68=\"bs\"),E68,)))","v":""}]
["62",{"$f":"IF($D68=\"\",\"\",VLOOKUP($D68,'Girls Si Qual Draw Prep'!$A$7:$P$102,15))","v":""},{"$f":"IF($D68=\"\",\"\",VLOOKUP($D68,'Girls Si Qual Draw Prep'!$A$7:$P$102,16))","v":""},null,{"$f":"UPPER(IF($D68=\"\",\"\",VLOOKUP($D68,'Girls Si Qual Draw Prep'!$A$7:$P$102,2)))","v":""},{"$f":"IF($D68=\"\",\"\",VLOOKUP($D68,'Girls Si Qual Draw Prep'!$A$7:$P$102,3))","v":""},null,{"$f":"IF($D68=\"\",\"\",VLOOKUP($D68,'Girls Si Qual Draw Prep'!$A$7:$P$102,4))","v":""},null,null,null,{"$f":"UPPER(IF(OR(K68=\"a\",K68=\"as\"),J67,IF(OR(K68=\"b\",K68=\"bs\"),J69,)))","v":""}]
["63",{"$f":"IF($D69=\"\",\"\",VLOOKUP($D69,'Girls Si Qual Draw Prep'!$A$7:$P$102,15))","v":""},{"$f":"IF($D69=\"\",\"\",VLOOKUP($D69,'Girls Si Qual Draw Prep'!$A$7:$P$102,16))","v":""},null,{"$f":"UPPER(IF($D69=\"\",\"\",VLOOKUP($D69,'Girls Si Qual Draw Prep'!$A$7:$P$102,2)))","v":""},{"$f":"IF($D69=\"\",\"\",VLOOKUP($D69,'Girls Si Qual Draw Prep'!$A$7:$P$102,3))","v":""},null,{"$f":"IF($D69=\"\",\"\",VLOOKUP($D69,'Girls Si Qual Draw Prep'!$A$7:$P$102,4))","v":""},null,{"$f":"UPPER(IF(OR(I70=\"a\",I70=\"as\"),E69,IF(OR(I70=\"b\",I70=\"bs\"),E70,)))","v":""}]
["64",{"$f":"IF($D70=\"\",\"\",VLOOKUP($D70,'Girls Si Qual Draw Prep'!$A$7:$P$102,15))","v":""},{"$f":"IF($D70=\"\",\"\",VLOOKUP($D70,'Girls Si Qual Draw Prep'!$A$7:$P$102,16))","v":""},null,{"$f":"UPPER(IF($D70=\"\",\"\",VLOOKUP($D70,'Girls Si Qual Draw Prep'!$A$7:$P$102,2)))","v":""},{"$f":"IF($D70=\"\",\"\",VLOOKUP($D70,'Girls Si Qual Draw Prep'!$A$7:$P$102,3))","v":""},null,{"$f":"IF($D70=\"\",\"\",VLOOKUP($D70,'Girls Si Qual Draw Prep'!$A$7:$P$102,4))","v":""}]
[]
["Acc. Ranking",null,null,"#","Seeded players","#","Seeded players",null,"#","Alternates",null,"Replacing",null,"Draw date/time:"]
["Rkg Date",null,null,1,{"$f":"IF(D73>$Q$80,,UPPER(VLOOKUP(D73,'Girls Si Qual Draw Prep'!$A$7:$R$134,2)))","v":0},9,{"$f":"IF(F73>$Q$80,,UPPER(VLOOKUP(F73,'Girls Si Qual Draw Prep'!$A$7:$R$134,2)))","v":0},null,"1",null,null,null,null,"Last Accepted player"]
["Top DA",null,null,2,{"$f":"IF(D74>$Q$80,,UPPER(VLOOKUP(D74,'Girls Si Qual Draw Prep'!$A$7:$R$134,2)))","v":0},10,{"$f":"IF(F74>$Q$80,,UPPER(VLOOKUP(F74,'Girls Si Qual Draw Prep'!$A$7:$R$134,2)))","v":0},null,"2"]
["Last DA",null,null,3,{"$f":"IF(D75>$Q$80,,UPPER(VLOOKUP(D75,'Girls Si Qual Draw Prep'!$A$7:$R$134,2)))","v":0},11,{"$f":"IF(F75>$Q$80,,UPPER(VLOOKUP(F75,'Girls Si Qual Draw Prep'!$A$7:$R$134,2)))","v":0},null,"3",null,null,null,null,"Player representatives"]
[null,null,null,4,{"$f":"IF(D76>$Q$80,,UPPER(VLOOKUP(D76,'Girls Si Qual Draw Prep'!$A$7:$R$134,2)))","v":0},12,{"$f":"IF(F76>$Q$80,,UPPER(VLOOKUP(F76,'Girls Si Qual Draw Prep'!$A$7:$R$134,2)))","v":0},null,"4"]
["Seed ranking",null,null,5,{"$f":"IF(D77>$Q$80,,UPPER(VLOOKUP(D77,'Girls Si Qual Draw Prep'!$A$7:$R$134,2)))","v":0},13,{"$f":"IF(F77>$Q$80,,UPPER(VLOOKUP(F77,'Girls Si Qual Draw Prep'!$A$7:$R$134,2)))","v":0},null,"5"]
["Rkg Date",null,null,6,{"$f":"IF(D78>$Q$80,,UPPER(VLOOKUP(D78,'Girls Si Qual Draw Prep'!$A$7:$R$134,2)))","v":0},14,{"$f":"IF(F78>$Q$80,,UPPER(VLOOKUP(F78,'Girls Si Qual Draw Prep'!$A$7:$R$134,2)))","v":0},null,"6",null,null,null,null,"ITF Referee's signature"]
["Top seed",null,null,7,{"$f":"IF(D79>$Q$80,,UPPER(VLOOKUP(D79,'Girls Si Qual Draw Prep'!$A$7:$R$134,2)))","v":0},15,{"$f":"IF(F79>$Q$80,,UPPER(VLOOKUP(F79,'Girls Si Qual Draw Prep'!$A$7:$R$134,2)))","v":0},null,"7"]
["Last seed",null,null,8,{"$f":"IF(D80>$Q$80,,UPPER(VLOOKUP(D80,'Girls Si Qual Draw Prep'!$A$7:$R$134,2)))","v":0},16,{"$f":"IF(F80>$Q$80,,UPPER(VLOOKUP(F80,'Girls Si Qual Draw Prep'!$A$7:$R$134,2)))","v":0},null,"8",null,null,null,null,{"$f":"Q4","v":0},null,null,{"$f":"MIN(16,'Girls Si Qual Draw Prep'!R5)","v":0}]
[null,"St.","Rank","Seed","Family Name","First name",null,"Nationality",null,"2nd Round",null,"3rd Round",null,"Finals",null,"Qualifiers"]
[]
["65",{"$f":"IF($D83=\"\",\"\",VLOOKUP($D83,'Girls Si Qual Draw Prep'!$A$7:$P$102,15))","v":""},{"$f":"IF($D83=\"\",\"\",VLOOKUP($D83,'Girls Si Qual Draw Prep'!$A$7:$P$102,16))","v":""},null,{"$f":"UPPER(IF($D83=\"\",\"\",VLOOKUP($D83,'Girls Si Qual Draw Prep'!$A$7:$P$102,2)))","v":""},{"$f":"IF($D83=\"\",\"\",VLOOKUP($D83,'Girls Si Qual Draw Prep'!$A$7:$P$102,3))","v":""},null,{"$f":"IF($D83=\"\",\"\",VLOOKUP($D83,'Girls Si Qual Draw Prep'!$A$7:$P$102,4))","v":""},null,{"$f":"UPPER(IF(OR(I84=\"a\",I84=\"as\"),E83,IF(OR(I84=\"b\",I84=\"bs\"),E84,)))","v":""},null,null,null,null,null,null,"Page 2(2)"]
["66",{"$f":"IF($D84=\"\",\"\",VLOOKUP($D84,'Girls Si Qual Draw Prep'!$A$7:$P$102,15))","v":""},{"$f":"IF($D84=\"\",\"\",VLOOKUP($D84,'Girls Si Qual Draw Prep'!$A$7:$P$102,16))","v":""},null,{"$f":"UPPER(IF($D84=\"\",\"\",VLOOKUP($D84,'Girls Si Qual Draw Prep'!$A$7:$P$102,2)))","v":""},{"$f":"IF($D84=\"\",\"\",VLOOKUP($D84,'Girls Si Qual Draw Prep'!$A$7:$P$102,3))","v":""},null,{"$f":"IF($D84=\"\",\"\",VLOOKUP($D84,'Girls Si Qual Draw Prep'!$A$7:$P$102,4))","v":""},null,null,null,{"$f":"UPPER(IF(OR(K84=\"a\",K84=\"as\"),J83,IF(OR(K84=\"b\",K84=\"bs\"),J85,)))","v":""}]
["67",{"$f":"IF($D85=\"\",\"\",VLOOKUP($D85,'Girls Si Qual Draw Prep'!$A$7:$P$102,15))","v":""},{"$f":"IF($D85=\"\",\"\",VLOOKUP($D85,'Girls Si Qual Draw Prep'!$A$7:$P$102,16))","v":""},null,{"$f":"UPPER(IF($D85=\"\",\"\",VLOOKUP($D85,'Girls Si Qual Draw Prep'!$A$7:$P$102,2)))","v":""},{"$f":"IF($D85=\"\",\"\",VLOOKUP($D85,'Girls Si Qual Draw Prep'!$A$7:$P$102,3))","v":""},null,{"$f":"IF($D85=\"\",\"\",VLOOKUP($D85,'Girls Si Qual Draw Prep'!$A$7:$P$102,4))","v":""},null,{"$f":"UPPER(IF(OR(I86=\"a\",I86=\"as\"),E85,IF(OR(I86=\"b\",I86=\"bs\"),E86,)))","v":""}]
["68",{"$f":"IF($D86=\"\",\"\",VLOOKUP($D86,'Girls Si Qual Draw Prep'!$A$7:$P$102,15))","v":""},{"$f":"IF($D86=\"\",\"\",VLOOKUP($D86,'Girls Si Qual Draw Prep'!$A$7:$P$102,16))","v":""},null,{"$f":"UPPER(IF($D86=\"\",\"\",VLOOKUP($D86,'Girls Si Qual Draw Prep'!$A$7:$P$102,2)))","v":""},{"$f":"IF($D86=\"\",\"\",VLOOKUP($D86,'Girls Si Qual Draw Prep'!$A$7:$P$102,3))","v":""},null,{"$f":"IF($D86=\"\",\"\",VLOOKUP($D86,'Girls Si Qual Draw Prep'!$A$7:$P$102,4))","v":""},null,null,null,"Umpire",null,{"$f":"UPPER(IF(OR(M86=\"a\",M86=\"as\"),L84,IF(OR(M86=\"b\",M86=\"bs\"),L88,)))","v":""}]
["69",{"$f":"IF($D87=\"\",\"\",VLOOKUP($D87,'Girls Si Qual Draw Prep'!$A$7:$P$102,15))","v":""},{"$f":"IF($D87=\"\",\"\",VLOOKUP($D87,'Girls Si Qual Draw Prep'!$A$7:$P$102,16))","v":""},null,{"$f":"UPPER(IF($D87=\"\",\"\",VLOOKUP($D87,'Girls Si Qual Draw Prep'!$A$7:$P$102,2)))","v":""},{"$f":"IF($D87=\"\",\"\",VLOOKUP($D87,'Girls Si Qual Draw Prep'!$A$7:$P$102,3))","v":""},null,{"$f":"IF($D87=\"\",\"\",VLOOKUP($D87,'Girls Si Qual Draw Prep'!$A$7:$P$102,4))","v":""},null,{"$f":"UPPER(IF(OR(I88=\"a\",I88=\"as\"),E87,IF(OR(I88=\"b\",I88=\"bs\"),E88,)))","v":""}]
["70",{"$f":"IF($D88=\"\",\"\",VLOOKUP($D88,'Girls Si Qual Draw Prep'!$A$7:$P$102,15))","v":""},{"$f":"IF($D88=\"\",\"\",VLOOKUP($D88,'Girls Si Qual Draw Prep'!$A$7:$P$102,16))","v":""},null,{"$f":"UPPER(IF($D88=\"\",\"\",VLOOKUP($D88,'Girls Si Qual Draw Prep'!$A$7:$P$102,2)))","v":""},{"$f":"IF($D88=\"\",\"\",VLOOKUP($D88,'Girls Si Qual Draw Prep'!$A$7:$P$102,3))","v":""},null,{"$f":"IF($D88=\"\",\"\",VLOOKUP($D88,'Girls Si Qual Draw Prep'!$A$7:$P$102,4))","v":""},null,null,null,{"$f":"UPPER(IF(OR(K88=\"a\",K88=\"as\"),J87,IF(OR(K88=\"b\",K88=\"bs\"),J89,)))","v":""}]
["71",{"$f":"IF($D89=\"\",\"\",VLOOKUP($D89,'Girls Si Qual Draw Prep'!$A$7:$P$102,15))","v":""},{"$f":"IF($D89=\"\",\"\",VLOOKUP($D89,'Girls Si Qual Draw Prep'!$A$7:$P$102,16))","v":""},null,{"$f":"UPPER(IF($D89=\"\",\"\",VLOOKUP($D89,'Girls Si Qual Draw Prep'!$A$7:$P$102,2)))","v":""},{"$f":"IF($D89=\"\",\"\",VLOOKUP($D89,'Girls Si Qual Draw Prep'!$A$7:$P$102,3))","v":""},null,{"$f":"IF($D89=\"\",\"\",VLOOKUP($D89,'Girls Si Qual Draw Prep'!$A$7:$P$102,4))","v":""},null,{"$f":"UPPER(IF(OR(I90=\"a\",I90=\"as\"),E89,IF(OR(I90=\"b\",I90=\"bs\"),E90,)))","v":""}]
["72",{"$f":"IF($D90=\"\",\"\",VLOOKUP($D90,'Girls Si Qual Draw Prep'!$A$7:$P$102,15))","v":""},{"$f":"IF($D90=\"\",\"\",VLOOKUP($D90,'Girls Si Qual Draw Prep'!$A$7:$P$102,16))","v":""},null,{"$f":"UPPER(IF($D90=\"\",\"\",VLOOKUP($D90,'Girls Si Qual Draw Prep'!$A$7:$P$102,2)))","v":""},{"$f":"IF($D90=\"\",\"\",VLOOKUP($D90,'Girls Si Qual Draw Prep'!$A$7:$P$102,3))","v":""},null,{"$f":"IF($D90=\"\",\"\",VLOOKUP($D90,'Girls Si Qual Draw Prep'!$A$7:$P$102,4))","v":""},null,null,null,null,null,"Umpire",null,{"$f":"UPPER(IF(OR(O90=\"a\",O90=\"as\"),N86,IF(OR(O90=\"b\",O90=\"bs\"),N94,)))","v":""}]
["73",{"$f":"IF($D91=\"\",\"\",VLOOKUP($D91,'Girls Si Qual Draw Prep'!$A$7:$P$102,15))","v":""},{"$f":"IF($D91=\"\",\"\",VLOOKUP($D91,'Girls Si Qual Draw Prep'!$A$7:$P$102,16))","v":""},null,{"$f":"UPPER(IF($D91=\"\",\"\",VLOOKUP($D91,'Girls Si Qual Draw Prep'!$A$7:$P$102,2)))","v":""},{"$f":"IF($D91=\"\",\"\",VLOOKUP($D91,'Girls Si Qual Draw Prep'!$A$7:$P$102,3))","v":""},null,{"$f":"IF($D91=\"\",\"\",VLOOKUP($D91,'Girls Si Qual Draw Prep'!$A$7:$P$102,4))","v":""},null,{"$f":"UPPER(IF(OR(I92=\"a\",I92=\"as\"),E91,IF(OR(I92=\"b\",I92=\"bs\"),E92,)))","v":""}]
["74",{"$f":"IF($D92=\"\",\"\",VLOOKUP($D92,'Girls Si Qual Draw Prep'!$A$7:$P$102,15))","v":""},{"$f":"IF($D92=\"\",\"\",VLOOKUP($D92,'Girls Si Qual Draw Prep'!$A$7:$P$102,16))","v":""},null,{"$f":"UPPER(IF($D92=\"\",\"\",VLOOKUP($D92,'Girls Si Qual Draw Prep'!$A$7:$P$102,2)))","v":""},{"$f":"IF($D92=\"\",\"\",VLOOKUP($D92,'Girls Si Qual Draw Prep'!$A$7:$P$102,3))","v":""},null,{"$f":"IF($D92=\"\",\"\",VLOOKUP($D92,'Girls Si Qual Draw Prep'!$A$7:$P$102,4))","v":""},null,null,null,{"$f":"UPPER(IF(OR(K92=\"a\",K92=\"as\"),J91,IF(OR(K92=\"b\",K92=\"bs\"),J93,)))","v":""}]
["75",{"$f":"IF($D93=\"\",\"\",VLOOKUP($D93,'Girls Si Qual Draw Prep'!$A$7:$P$102,15))","v":""},{"$f":"IF($D93=\"\",\"\",VLOOKUP($D93,'Girls Si Qual Draw Prep'!$A$7:$P$102,16))","v":""},null,{"$f":"UPPER(IF($D93=\"\",\"\",VLOOKUP($D93,'Girls Si Qual Draw Prep'!$A$7:$P$102,2)))","v":""},{"$f":"IF($D93=\"\",\"\",VLOOKUP($D93,'Girls Si Qual Draw Prep'!$A$7:$P$102,3))","v":""},null,{"$f":"IF($D93=\"\",\"\",VLOOKUP($D93,'Girls Si Qual Draw Prep'!$A$7:$P$102,4))","v":""},null,{"$f":"UPPER(IF(OR(I94=\"a\",I94=\"as\"),E93,IF(OR(I94=\"b\",I94=\"bs\"),E94,)))","v":""}]
["76",{"$f":"IF($D94=\"\",\"\",VLOOKUP($D94,'Girls Si Qual Draw Prep'!$A$7:$P$102,15))","v":""},{"$f":"IF($D94=\"\",\"\",VLOOKUP($D94,'Girls Si Qual Draw Prep'!$A$7:$P$102,16))","v":""},null,{"$f":"UPPER(IF($D94=\"\",\"\",VLOOKUP($D94,'Girls Si Qual Draw Prep'!$A$7:$P$102,2)))","v":""},{"$f":"IF($D94=\"\",\"\",VLOOKUP($D94,'Girls Si Qual Draw Prep'!$A$7:$P$102,3))","v":""},null,{"$f":"IF($D94=\"\",\"\",VLOOKUP($D94,'Girls Si Qual Draw Prep'!$A$7:$P$102,4))","v":""},null,null,null,"Umpire",null,{"$f":"UPPER(IF(OR(M94=\"a\",M94=\"as\"),L92,IF(OR(M94=\"b\",M94=\"bs\"),L96,)))","v":""}]
["77",{"$f":"IF($D95=\"\",\"\",VLOOKUP($D95,'Girls Si Qual Draw Prep'!$A$7:$P$102,15))","v":""},{"$f":"IF($D95=\"\",\"\",VLOOKUP($D95,'Girls Si Qual Draw Prep'!$A$7:$P$102,16))","v":""},null,{"$f":"UPPER(IF($D95=\"\",\"\",VLOOKUP($D95,'Girls Si Qual Draw Prep'!$A$7:$P$102,2)))","v":""},{"$f":"IF($D95=\"\",\"\",VLOOKUP($D95,'Girls Si Qual Draw Prep'!$A$7:$P$102,3))","v":""},null,{"$f":"IF($D95=\"\",\"\",VLOOKUP($D95,'Girls Si Qual Draw Prep'!$A$7:$P$102,4))","v":""},null,{"$f":"UPPER(IF(OR(I96=\"a\",I96=\"as\"),E95,IF(OR(I96=\"b\",I96=\"bs\"),E96,)))","v":""}]
["78",{"$f":"IF($D96=\"\",\"\",VLOOKUP($D96,'Girls Si Qual Draw Prep'!$A$7:$P$102,15))","v":""},{"$f":"IF($D96=\"\",\"\",VLOOKUP($D96,'Girls Si Qual Draw Prep'!$A$7:$P$102,16))","v":""},null,{"$f":"UPPER(IF($D96=\"\",\"\",VLOOKUP($D96,'Girls Si Qual Draw Prep'!$A$7:$P$102,2)))","v":""},{"$f":"IF($D96=\"\",\"\",VLOOKUP($D96,'Girls Si Qual Draw Prep'!$A$7:$P$102,3))","v":""},null,{"$f":"IF($D96=\"\",\"\",VLOOKUP($D96,'Girls Si Qual Draw Prep'!$A$7:$P$102,4))","v":""},null,null,null,{"$f":"UPPER(IF(OR(K96=\"a\",K96=\"as\"),J95,IF(OR(K96=\"b\",K96=\"bs\"),J97,)))","v":""}]
["79",{"$f":"IF($D97=\"\",\"\",VLOOKUP($D97,'Girls Si Qual Draw Prep'!$A$7:$P$102,15))","v":""},{"$f":"IF($D97=\"\",\"\",VLOOKUP($D97,'Girls Si Qual Draw Prep'!$A$7:$P$102,16))","v":""},null,{"$f":"UPPER(IF($D97=\"\",\"\",VLOOKUP($D97,'Girls Si Qual Draw Prep'!$A$7:$P$102,2)))","v":""},{"$f":"IF($D97=\"\",\"\",VLOOKUP($D97,'Girls Si Qual Draw Prep'!$A$7:$P$102,3))","v":""},null,{"$f":"IF($D97=\"\",\"\",VLOOKUP($D97,'Girls Si Qual Draw Prep'!$A$7:$P$102,4))","v":""},null,{"$f":"UPPER(IF(OR(I98=\"a\",I98=\"as\"),E97,IF(OR(I98=\"b\",I98=\"bs\"),E98,)))","v":""}]
["80",{"$f":"IF($D98=\"\",\"\",VLOOKUP($D98,'Girls Si Qual Draw Prep'!$A$7:$P$102,15))","v":""},{"$f":"IF($D98=\"\",\"\",VLOOKUP($D98,'Girls Si Qual Draw Prep'!$A$7:$P$102,16))","v":""},null,{"$f":"UPPER(IF($D98=\"\",\"\",VLOOKUP($D98,'Girls Si Qual Draw Prep'!$A$7:$P$102,2)))","v":""},{"$f":"IF($D98=\"\",\"\",VLOOKUP($D98,'Girls Si Qual Draw Prep'!$A$7:$P$102,3))","v":""},null,{"$f":"IF($D98=\"\",\"\",VLOOKUP($D98,'Girls Si Qual Draw Prep'!$A$7:$P$102,4))","v":""}]
["81",{"$f":"IF($D99=\"\",\"\",VLOOKUP($D99,'Girls Si Qual Draw Prep'!$A$7:$P$102,15))","v":""},{"$f":"IF($D99=\"\",\"\",VLOOKUP($D99,'Girls Si Qual Draw Prep'!$A$7:$P$102,16))","v":""},null,{"$f":"UPPER(IF($D99=\"\",\"\",VLOOKUP($D99,'Girls Si Qual Draw Prep'!$A$7:$P$102,2)))","v":""},{"$f":"IF($D99=\"\",\"\",VLOOKUP($D99,'Girls Si Qual Draw Prep'!$A$7:$P$102,3))","v":""},null,{"$f":"IF($D99=\"\",\"\",VLOOKUP($D99,'Girls Si Qual Draw Prep'!$A$7:$P$102,4))","v":""},null,{"$f":"UPPER(IF(OR(I100=\"a\",I100=\"as\"),E99,IF(OR(I100=\"b\",I100=\"bs\"),E100,)))","v":""}]
["82",{"$f":"IF($D100=\"\",\"\",VLOOKUP($D100,'Girls Si Qual Draw Prep'!$A$7:$P$102,15))","v":""},{"$f":"IF($D100=\"\",\"\",VLOOKUP($D100,'Girls Si Qual Draw Prep'!$A$7:$P$102,16))","v":""},null,{"$f":"UPPER(IF($D100=\"\",\"\",VLOOKUP($D100,'Girls Si Qual Draw Prep'!$A$7:$P$102,2)))","v":""},{"$f":"IF($D100=\"\",\"\",VLOOKUP($D100,'Girls Si Qual Draw Prep'!$A$7:$P$102,3))","v":""},null,{"$f":"IF($D100=\"\",\"\",VLOOKUP($D100,'Girls Si Qual Draw Prep'!$A$7:$P$102,4))","v":""},null,null,null,{"$f":"UPPER(IF(OR(K100=\"a\",K100=\"as\"),J99,IF(OR(K100=\"b\",K100=\"bs\"),J101,)))","v":""}]
["83",{"$f":"IF($D101=\"\",\"\",VLOOKUP($D101,'Girls Si Qual Draw Prep'!$A$7:$P$102,15))","v":""},{"$f":"IF($D101=\"\",\"\",VLOOKUP($D101,'Girls Si Qual Draw Prep'!$A$7:$P$102,16))","v":""},null,{"$f":"UPPER(IF($D101=\"\",\"\",VLOOKUP($D101,'Girls Si Qual Draw Prep'!$A$7:$P$102,2)))","v":""},{"$f":"IF($D101=\"\",\"\",VLOOKUP($D101,'Girls Si Qual Draw Prep'!$A$7:$P$102,3))","v":""},null,{"$f":"IF($D101=\"\",\"\",VLOOKUP($D101,'Girls Si Qual Draw Prep'!$A$7:$P$102,4))","v":""},null,{"$f":"UPPER(IF(OR(I102=\"a\",I102=\"as\"),E101,IF(OR(I102=\"b\",I102=\"bs\"),E102,)))","v":""}]
["84",{"$f":"IF($D102=\"\",\"\",VLOOKUP($D102,'Girls Si Qual Draw Prep'!$A$7:$P$102,15))","v":""},{"$f":"IF($D102=\"\",\"\",VLOOKUP($D102,'Girls Si Qual Draw Prep'!$A$7:$P$102,16))","v":""},null,{"$f":"UPPER(IF($D102=\"\",\"\",VLOOKUP($D102,'Girls Si Qual Draw Prep'!$A$7:$P$102,2)))","v":""},{"$f":"IF($D102=\"\",\"\",VLOOKUP($D102,'Girls Si Qual Draw Prep'!$A$7:$P$102,3))","v":""},null,{"$f":"IF($D102=\"\",\"\",VLOOKUP($D102,'Girls Si Qual Draw Prep'!$A$7:$P$102,4))","v":""},null,null,null,"Umpire",null,{"$f":"UPPER(IF(OR(M102=\"a\",M102=\"as\"),L100,IF(OR(M102=\"b\",M102=\"bs\"),L104,)))","v":""}]
["85",{"$f":"IF($D103=\"\",\"\",VLOOKUP($D103,'Girls Si Qual Draw Prep'!$A$7:$P$102,15))","v":""},{"$f":"IF($D103=\"\",\"\",VLOOKUP($D103,'Girls Si Qual Draw Prep'!$A$7:$P$102,16))","v":""},null,{"$f":"UPPER(IF($D103=\"\",\"\",VLOOKUP($D103,'Girls Si Qual Draw Prep'!$A$7:$P$102,2)))","v":""},{"$f":"IF($D103=\"\",\"\",VLOOKUP($D103,'Girls Si Qual Draw Prep'!$A$7:$P$102,3))","v":""},null,{"$f":"IF($D103=\"\",\"\",VLOOKUP($D103,'Girls Si Qual Draw Prep'!$A$7:$P$102,4))","v":""},null,{"$f":"UPPER(IF(OR(I104=\"a\",I104=\"as\"),E103,IF(OR(I104=\"b\",I104=\"bs\"),E104,)))","v":""}]
["86",{"$f":"IF($D104=\"\",\"\",VLOOKUP($D104,'Girls Si Qual Draw Prep'!$A$7:$P$102,15))","v":""},{"$f":"IF($D104=\"\",\"\",VLOOKUP($D104,'Girls Si Qual Draw Prep'!$A$7:$P$102,16))","v":""},null,{"$f":"UPPER(IF($D104=\"\",\"\",VLOOKUP($D104,'Girls Si Qual Draw Prep'!$A$7:$P$102,2)))","v":""},{"$f":"IF($D104=\"\",\"\",VLOOKUP($D104,'Girls Si Qual Draw Prep'!$A$7:$P$102,3))","v":""},null,{"$f":"IF($D104=\"\",\"\",VLOOKUP($D104,'Girls Si Qual Draw Prep'!$A$7:$P$102,4))","v":""},null,null,null,{"$f":"UPPER(IF(OR(K104=\"a\",K104=\"as\"),J103,IF(OR(K104=\"b\",K104=\"bs\"),J105,)))","v":""}]
["87",{"$f":"IF($D105=\"\",\"\",VLOOKUP($D105,'Girls Si Qual Draw Prep'!$A$7:$P$102,15))","v":""},{"$f":"IF($D105=\"\",\"\",VLOOKUP($D105,'Girls Si Qual Draw Prep'!$A$7:$P$102,16))","v":""},null,{"$f":"UPPER(IF($D105=\"\",\"\",VLOOKUP($D105,'Girls Si Qual Draw Prep'!$A$7:$P$102,2)))","v":""},{"$f":"IF($D105=\"\",\"\",VLOOKUP($D105,'Girls Si Qual Draw Prep'!$A$7:$P$102,3))","v":""},null,{"$f":"IF($D105=\"\",\"\",VLOOKUP($D105,'Girls Si Qual Draw Prep'!$A$7:$P$102,4))","v":""},null,{"$f":"UPPER(IF(OR(I106=\"a\",I106=\"as\"),E105,IF(OR(I106=\"b\",I106=\"bs\"),E106,)))","v":""}]
["88",{"$f":"IF($D106=\"\",\"\",VLOOKUP($D106,'Girls Si Qual Draw Prep'!$A$7:$P$102,15))","v":""},{"$f":"IF($D106=\"\",\"\",VLOOKUP($D106,'Girls Si Qual Draw Prep'!$A$7:$P$102,16))","v":""},null,{"$f":"UPPER(IF($D106=\"\",\"\",VLOOKUP($D106,'Girls Si Qual Draw Prep'!$A$7:$P$102,2)))","v":""},{"$f":"IF($D106=\"\",\"\",VLOOKUP($D106,'Girls Si Qual Draw Prep'!$A$7:$P$102,3))","v":""},null,{"$f":"IF($D106=\"\",\"\",VLOOKUP($D106,'Girls Si Qual Draw Prep'!$A$7:$P$102,4))","v":""},null,null,null,null,null,"Umpire",null,{"$f":"UPPER(IF(OR(O106=\"a\",O106=\"as\"),N102,IF(OR(O106=\"b\",O106=\"bs\"),N110,)))","v":""}]
["89",{"$f":"IF($D107=\"\",\"\",VLOOKUP($D107,'Girls Si Qual Draw Prep'!$A$7:$P$102,15))","v":""},{"$f":"IF($D107=\"\",\"\",VLOOKUP($D107,'Girls Si Qual Draw Prep'!$A$7:$P$102,16))","v":""},null,{"$f":"UPPER(IF($D107=\"\",\"\",VLOOKUP($D107,'Girls Si Qual Draw Prep'!$A$7:$P$102,2)))","v":""},{"$f":"IF($D107=\"\",\"\",VLOOKUP($D107,'Girls Si Qual Draw Prep'!$A$7:$P$102,3))","v":""},null,{"$f":"IF($D107=\"\",\"\",VLOOKUP($D107,'Girls Si Qual Draw Prep'!$A$7:$P$102,4))","v":""},null,{"$f":"UPPER(IF(OR(I108=\"a\",I108=\"as\"),E107,IF(OR(I108=\"b\",I108=\"bs\"),E108,)))","v":""}]
["90",{"$f":"IF($D108=\"\",\"\",VLOOKUP($D108,'Girls Si Qual Draw Prep'!$A$7:$P$102,15))","v":""},{"$f":"IF($D108=\"\",\"\",VLOOKUP($D108,'Girls Si Qual Draw Prep'!$A$7:$P$102,16))","v":""},null,{"$f":"UPPER(IF($D108=\"\",\"\",VLOOKUP($D108,'Girls Si Qual Draw Prep'!$A$7:$P$102,2)))","v":""},{"$f":"IF($D108=\"\",\"\",VLOOKUP($D108,'Girls Si Qual Draw Prep'!$A$7:$P$102,3))","v":""},null,{"$f":"IF($D108=\"\",\"\",VLOOKUP($D108,'Girls Si Qual Draw Prep'!$A$7:$P$102,4))","v":""},null,null,null,{"$f":"UPPER(IF(OR(K108=\"a\",K108=\"as\"),J107,IF(OR(K108=\"b\",K108=\"bs\"),J109,)))","v":""}]
["91",{"$f":"IF($D109=\"\",\"\",VLOOKUP($D109,'Girls Si Qual Draw Prep'!$A$7:$P$102,15))","v":""},{"$f":"IF($D109=\"\",\"\",VLOOKUP($D109,'Girls Si Qual Draw Prep'!$A$7:$P$102,16))","v":""},null,{"$f":"UPPER(IF($D109=\"\",\"\",VLOOKUP($D109,'Girls Si Qual Draw Prep'!$A$7:$P$102,2)))","v":""},{"$f":"IF($D109=\"\",\"\",VLOOKUP($D109,'Girls Si Qual Draw Prep'!$A$7:$P$102,3))","v":""},null,{"$f":"IF($D109=\"\",\"\",VLOOKUP($D109,'Girls Si Qual Draw Prep'!$A$7:$P$102,4))","v":""},null,{"$f":"UPPER(IF(OR(I110=\"a\",I110=\"as\"),E109,IF(OR(I110=\"b\",I110=\"bs\"),E110,)))","v":""}]
["92",{"$f":"IF($D110=\"\",\"\",VLOOKUP($D110,'Girls Si Qual Draw Prep'!$A$7:$P$102,15))","v":""},{"$f":"IF($D110=\"\",\"\",VLOOKUP($D110,'Girls Si Qual Draw Prep'!$A$7:$P$102,16))","v":""},null,{"$f":"UPPER(IF($D110=\"\",\"\",VLOOKUP($D110,'Girls Si Qual Draw Prep'!$A$7:$P$102,2)))","v":""},{"$f":"IF($D110=\"\",\"\",VLOOKUP($D110,'Girls Si Qual Draw Prep'!$A$7:$P$102,3))","v":""},null,{"$f":"IF($D110=\"\",\"\",VLOOKUP($D110,'Girls Si Qual Draw Prep'!$A$7:$P$102,4))","v":""},null,null,null,"Umpire",null,{"$f":"UPPER(IF(OR(M110=\"a\",M110=\"as\"),L108,IF(OR(M110=\"b\",M110=\"bs\"),L112,)))","v":""}]
["93",{"$f":"IF($D111=\"\",\"\",VLOOKUP($D111,'Girls Si Qual Draw Prep'!$A$7:$P$102,15))","v":""},{"$f":"IF($D111=\"\",\"\",VLOOKUP($D111,'Girls Si Qual Draw Prep'!$A$7:$P$102,16))","v":""},null,{"$f":"UPPER(IF($D111=\"\",\"\",VLOOKUP($D111,'Girls Si Qual Draw Prep'!$A$7:$P$102,2)))","v":""},{"$f":"IF($D111=\"\",\"\",VLOOKUP($D111,'Girls Si Qual Draw Prep'!$A$7:$P$102,3))","v":""},null,{"$f":"IF($D111=\"\",\"\",VLOOKUP($D111,'Girls Si Qual Draw Prep'!$A$7:$P$102,4))","v":""},null,{"$f":"UPPER(IF(OR(I112=\"a\",I112=\"as\"),E111,IF(OR(I112=\"b\",I112=\"bs\"),E112,)))","v":""}]
["94",{"$f":"IF($D112=\"\",\"\",VLOOKUP($D112,'Girls Si Qual Draw Prep'!$A$7:$P$102,15))","v":""},{"$f":"IF($D112=\"\",\"\",VLOOKUP($D112,'Girls Si Qual Draw Prep'!$A$7:$P$102,16))","v":""},null,{"$f":"UPPER(IF($D112=\"\",\"\",VLOOKUP($D112,'Girls Si Qual Draw Prep'!$A$7:$P$102,2)))","v":""},{"$f":"IF($D112=\"\",\"\",VLOOKUP($D112,'Girls Si Qual Draw Prep'!$A$7:$P$102,3))","v":""},null,{"$f":"IF($D112=\"\",\"\",VLOOKUP($D112,'Girls Si Qual Draw Prep'!$A$7:$P$102,4))","v":""},null,null,null,{"$f":"UPPER(IF(OR(K112=\"a\",K112=\"as\"),J111,IF(OR(K112=\"b\",K112=\"bs\"),J113,)))","v":""}]
["95",{"$f":"IF($D113=\"\",\"\",VLOOKUP($D113,'Girls Si Qual Draw Prep'!$A$7:$P$102,15))","v":""},{"$f":"IF($D113=\"\",\"\",VLOOKUP($D113,'Girls Si Qual Draw Prep'!$A$7:$P$102,16))","v":""},null,{"$f":"UPPER(IF($D113=\"\",\"\",VLOOKUP($D113,'Girls Si Qual Draw Prep'!$A$7:$P$102,2)))","v":""},{"$f":"IF($D113=\"\",\"\",VLOOKUP($D113,'Girls Si Qual Draw Prep'!$A$7:$P$102,3))","v":""},null,{"$f":"IF($D113=\"\",\"\",VLOOKUP($D113,'Girls Si Qual Draw Prep'!$A$7:$P$102,4))","v":""},null,{"$f":"UPPER(IF(OR(I114=\"a\",I114=\"as\"),E113,IF(OR(I114=\"b\",I114=\"bs\"),E114,)))","v":""}]
["96",{"$f":"IF($D114=\"\",\"\",VLOOKUP($D114,'Girls Si Qual Draw Prep'!$A$7:$P$102,15))","v":""},{"$f":"IF($D114=\"\",\"\",VLOOKUP($D114,'Girls Si Qual Draw Prep'!$A$7:$P$102,16))","v":""},null,{"$f":"UPPER(IF($D114=\"\",\"\",VLOOKUP($D114,'Girls Si Qual Draw Prep'!$A$7:$P$102,2)))","v":""},{"$f":"IF($D114=\"\",\"\",VLOOKUP($D114,'Girls Si Qual Draw Prep'!$A$7:$P$102,3))","v":""},null,{"$f":"IF($D114=\"\",\"\",VLOOKUP($D114,'Girls Si Qual Draw Prep'!$A$7:$P$102,4))","v":""}]
["97",{"$f":"IF($D115=\"\",\"\",VLOOKUP($D115,'Girls Si Qual Draw Prep'!$A$7:$P$102,15))","v":""},{"$f":"IF($D115=\"\",\"\",VLOOKUP($D115,'Girls Si Qual Draw Prep'!$A$7:$P$102,16))","v":""},null,{"$f":"UPPER(IF($D115=\"\",\"\",VLOOKUP($D115,'Girls Si Qual Draw Prep'!$A$7:$P$102,2)))","v":""},{"$f":"IF($D115=\"\",\"\",VLOOKUP($D115,'Girls Si Qual Draw Prep'!$A$7:$P$102,3))","v":""},null,{"$f":"IF($D115=\"\",\"\",VLOOKUP($D115,'Girls Si Qual Draw Prep'!$A$7:$P$102,4))","v":""},null,{"$f":"UPPER(IF(OR(I116=\"a\",I116=\"as\"),E115,IF(OR(I116=\"b\",I116=\"bs\"),E116,)))","v":""}]
["98",{"$f":"IF($D116=\"\",\"\",VLOOKUP($D116,'Girls Si Qual Draw Prep'!$A$7:$P$102,15))","v":""},{"$f":"IF($D116=\"\",\"\",VLOOKUP($D116,'Girls Si Qual Draw Prep'!$A$7:$P$102,16))","v":""},null,{"$f":"UPPER(IF($D116=\"\",\"\",VLOOKUP($D116,'Girls Si Qual Draw Prep'!$A$7:$P$102,2)))","v":""},{"$f":"IF($D116=\"\",\"\",VLOOKUP($D116,'Girls Si Qual Draw Prep'!$A$7:$P$102,3))","v":""},null,{"$f":"IF($D116=\"\",\"\",VLOOKUP($D116,'Girls Si Qual Draw Prep'!$A$7:$P$102,4))","v":""},null,null,null,{"$f":"UPPER(IF(OR(K116=\"a\",K116=\"as\"),J115,IF(OR(K116=\"b\",K116=\"bs\"),J117,)))","v":""}]
["99",{"$f":"IF($D117=\"\",\"\",VLOOKUP($D117,'Girls Si Qual Draw Prep'!$A$7:$P$102,15))","v":""},{"$f":"IF($D117=\"\",\"\",VLOOKUP($D117,'Girls Si Qual Draw Prep'!$A$7:$P$102,16))","v":""},null,{"$f":"UPPER(IF($D117=\"\",\"\",VLOOKUP($D117,'Girls Si Qual Draw Prep'!$A$7:$P$102,2)))","v":""},{"$f":"IF($D117=\"\",\"\",VLOOKUP($D117,'Girls Si Qual Draw Prep'!$A$7:$P$102,3))","v":""},null,{"$f":"IF($D117=\"\",\"\",VLOOKUP($D117,'Girls Si Qual Draw Prep'!$A$7:$P$102,4))","v":""},null,{"$f":"UPPER(IF(OR(I118=\"a\",I118=\"as\"),E117,IF(OR(I118=\"b\",I118=\"bs\"),E118,)))","v":""}]
["100",{"$f":"IF($D118=\"\",\"\",VLOOKUP($D118,'Girls Si Qual Draw Prep'!$A$7:$P$102,15))","v":""},{"$f":"IF($D118=\"\",\"\",VLOOKUP($D118,'Girls Si Qual Draw Prep'!$A$7:$P$102,16))","v":""},null,{"$f":"UPPER(IF($D118=\"\",\"\",VLOOKUP($D118,'Girls Si Qual Draw Prep'!$A$7:$P$102,2)))","v":""},{"$f":"IF($D118=\"\",\"\",VLOOKUP($D118,'Girls Si Qual Draw Prep'!$A$7:$P$102,3))","v":""},null,{"$f":"IF($D118=\"\",\"\",VLOOKUP($D118,'Girls Si Qual Draw Prep'!$A$7:$P$102,4))","v":""},null,null,null,"Umpire",null,{"$f":"UPPER(IF(OR(M118=\"a\",M118=\"as\"),L116,IF(OR(M118=\"b\",M118=\"bs\"),L120,)))","v":""}]
["101",{"$f":"IF($D119=\"\",\"\",VLOOKUP($D119,'Girls Si Qual Draw Prep'!$A$7:$P$102,15))","v":""},{"$f":"IF($D119=\"\",\"\",VLOOKUP($D119,'Girls Si Qual Draw Prep'!$A$7:$P$102,16))","v":""},null,{"$f":"UPPER(IF($D119=\"\",\"\",VLOOKUP($D119,'Girls Si Qual Draw Prep'!$A$7:$P$102,2)))","v":""},{"$f":"IF($D119=\"\",\"\",VLOOKUP($D119,'Girls Si Qual Draw Prep'!$A$7:$P$102,3))","v":""},null,{"$f":"IF($D119=\"\",\"\",VLOOKUP($D119,'Girls Si Qual Draw Prep'!$A$7:$P$102,4))","v":""},null,{"$f":"UPPER(IF(OR(I120=\"a\",I120=\"as\"),E119,IF(OR(I120=\"b\",I120=\"bs\"),E120,)))","v":""}]
["102",{"$f":"IF($D120=\"\",\"\",VLOOKUP($D120,'Girls Si Qual Draw Prep'!$A$7:$P$102,15))","v":""},{"$f":"IF($D120=\"\",\"\",VLOOKUP($D120,'Girls Si Qual Draw Prep'!$A$7:$P$102,16))","v":""},null,{"$f":"UPPER(IF($D120=\"\",\"\",VLOOKUP($D120,'Girls Si Qual Draw Prep'!$A$7:$P$102,2)))","v":""},{"$f":"IF($D120=\"\",\"\",VLOOKUP($D120,'Girls Si Qual Draw Prep'!$A$7:$P$102,3))","v":""},null,{"$f":"IF($D120=\"\",\"\",VLOOKUP($D120,'Girls Si Qual Draw Prep'!$A$7:$P$102,4))","v":""},null,null,null,{"$f":"UPPER(IF(OR(K120=\"a\",K120=\"as\"),J119,IF(OR(K120=\"b\",K120=\"bs\"),J121,)))","v":""}]
["103",{"$f":"IF($D121=\"\",\"\",VLOOKUP($D121,'Girls Si Qual Draw Prep'!$A$7:$P$102,15))","v":""},{"$f":"IF($D121=\"\",\"\",VLOOKUP($D121,'Girls Si Qual Draw Prep'!$A$7:$P$102,16))","v":""},null,{"$f":"UPPER(IF($D121=\"\",\"\",VLOOKUP($D121,'Girls Si Qual Draw Prep'!$A$7:$P$102,2)))","v":""},{"$f":"IF($D121=\"\",\"\",VLOOKUP($D121,'Girls Si Qual Draw Prep'!$A$7:$P$102,3))","v":""},null,{"$f":"IF($D121=\"\",\"\",VLOOKUP($D121,'Girls Si Qual Draw Prep'!$A$7:$P$102,4))","v":""},null,{"$f":"UPPER(IF(OR(I122=\"a\",I122=\"as\"),E121,IF(OR(I122=\"b\",I122=\"bs\"),E122,)))","v":""}]
["104",{"$f":"IF($D122=\"\",\"\",VLOOKUP($D122,'Girls Si Qual Draw Prep'!$A$7:$P$102,15))","v":""},{"$f":"IF($D122=\"\",\"\",VLOOKUP($D122,'Girls Si Qual Draw Prep'!$A$7:$P$102,16))","v":""},null,{"$f":"UPPER(IF($D122=\"\",\"\",VLOOKUP($D122,'Girls Si Qual Draw Prep'!$A$7:$P$102,2)))","v":""},{"$f":"IF($D122=\"\",\"\",VLOOKUP($D122,'Girls Si Qual Draw Prep'!$A$7:$P$102,3))","v":""},null,{"$f":"IF($D122=\"\",\"\",VLOOKUP($D122,'Girls Si Qual Draw Prep'!$A$7:$P$102,4))","v":""},null,null,null,null,null,"Umpire",null,{"$f":"UPPER(IF(OR(O122=\"a\",O122=\"as\"),N118,IF(OR(O122=\"b\",O122=\"bs\"),N126,)))","v":""}]
["105",{"$f":"IF($D123=\"\",\"\",VLOOKUP($D123,'Girls Si Qual Draw Prep'!$A$7:$P$102,15))","v":""},{"$f":"IF($D123=\"\",\"\",VLOOKUP($D123,'Girls Si Qual Draw Prep'!$A$7:$P$102,16))","v":""},null,{"$f":"UPPER(IF($D123=\"\",\"\",VLOOKUP($D123,'Girls Si Qual Draw Prep'!$A$7:$P$102,2)))","v":""},{"$f":"IF($D123=\"\",\"\",VLOOKUP($D123,'Girls Si Qual Draw Prep'!$A$7:$P$102,3))","v":""},null,{"$f":"IF($D123=\"\",\"\",VLOOKUP($D123,'Girls Si Qual Draw Prep'!$A$7:$P$102,4))","v":""},null,{"$f":"UPPER(IF(OR(I124=\"a\",I124=\"as\"),E123,IF(OR(I124=\"b\",I124=\"bs\"),E124,)))","v":""}]
["106",{"$f":"IF($D124=\"\",\"\",VLOOKUP($D124,'Girls Si Qual Draw Prep'!$A$7:$P$102,15))","v":""},{"$f":"IF($D124=\"\",\"\",VLOOKUP($D124,'Girls Si Qual Draw Prep'!$A$7:$P$102,16))","v":""},null,{"$f":"UPPER(IF($D124=\"\",\"\",VLOOKUP($D124,'Girls Si Qual Draw Prep'!$A$7:$P$102,2)))","v":""},{"$f":"IF($D124=\"\",\"\",VLOOKUP($D124,'Girls Si Qual Draw Prep'!$A$7:$P$102,3))","v":""},null,{"$f":"IF($D124=\"\",\"\",VLOOKUP($D124,'Girls Si Qual Draw Prep'!$A$7:$P$102,4))","v":""},null,null,null,{"$f":"UPPER(IF(OR(K124=\"a\",K124=\"as\"),J123,IF(OR(K124=\"b\",K124=\"bs\"),J125,)))","v":""}]
["107",{"$f":"IF($D125=\"\",\"\",VLOOKUP($D125,'Girls Si Qual Draw Prep'!$A$7:$P$102,15))","v":""},{"$f":"IF($D125=\"\",\"\",VLOOKUP($D125,'Girls Si Qual Draw Prep'!$A$7:$P$102,16))","v":""},null,{"$f":"UPPER(IF($D125=\"\",\"\",VLOOKUP($D125,'Girls Si Qual Draw Prep'!$A$7:$P$102,2)))","v":""},{"$f":"IF($D125=\"\",\"\",VLOOKUP($D125,'Girls Si Qual Draw Prep'!$A$7:$P$102,3))","v":""},null,{"$f":"IF($D125=\"\",\"\",VLOOKUP($D125,'Girls Si Qual Draw Prep'!$A$7:$P$102,4))","v":""},null,{"$f":"UPPER(IF(OR(I126=\"a\",I126=\"as\"),E125,IF(OR(I126=\"b\",I126=\"bs\"),E126,)))","v":""}]
["108",{"$f":"IF($D126=\"\",\"\",VLOOKUP($D126,'Girls Si Qual Draw Prep'!$A$7:$P$102,15))","v":""},{"$f":"IF($D126=\"\",\"\",VLOOKUP($D126,'Girls Si Qual Draw Prep'!$A$7:$P$102,16))","v":""},null,{"$f":"UPPER(IF($D126=\"\",\"\",VLOOKUP($D126,'Girls Si Qual Draw Prep'!$A$7:$P$102,2)))","v":""},{"$f":"IF($D126=\"\",\"\",VLOOKUP($D126,'Girls Si Qual Draw Prep'!$A$7:$P$102,3))","v":""},null,{"$f":"IF($D126=\"\",\"\",VLOOKUP($D126,'Girls Si Qual Draw Prep'!$A$7:$P$102,4))","v":""},null,null,null,"Umpire",null,{"$f":"UPPER(IF(OR(M126=\"a\",M126=\"as\"),L124,IF(OR(M126=\"b\",M126=\"bs\"),L128,)))","v":""}]
["109",{"$f":"IF($D127=\"\",\"\",VLOOKUP($D127,'Girls Si Qual Draw Prep'!$A$7:$P$102,15))","v":""},{"$f":"IF($D127=\"\",\"\",VLOOKUP($D127,'Girls Si Qual Draw Prep'!$A$7:$P$102,16))","v":""},null,{"$f":"UPPER(IF($D127=\"\",\"\",VLOOKUP($D127,'Girls Si Qual Draw Prep'!$A$7:$P$102,2)))","v":""},{"$f":"IF($D127=\"\",\"\",VLOOKUP($D127,'Girls Si Qual Draw Prep'!$A$7:$P$102,3))","v":""},null,{"$f":"IF($D127=\"\",\"\",VLOOKUP($D127,'Girls Si Qual Draw Prep'!$A$7:$P$102,4))","v":""},null,{"$f":"UPPER(IF(OR(I128=\"a\",I128=\"as\"),E127,IF(OR(I128=\"b\",I128=\"bs\"),E128,)))","v":""}]
["110",{"$f":"IF($D128=\"\",\"\",VLOOKUP($D128,'Girls Si Qual Draw Prep'!$A$7:$P$102,15))","v":""},{"$f":"IF($D128=\"\",\"\",VLOOKUP($D128,'Girls Si Qual Draw Prep'!$A$7:$P$102,16))","v":""},null,{"$f":"UPPER(IF($D128=\"\",\"\",VLOOKUP($D128,'Girls Si Qual Draw Prep'!$A$7:$P$102,2)))","v":""},{"$f":"IF($D128=\"\",\"\",VLOOKUP($D128,'Girls Si Qual Draw Prep'!$A$7:$P$102,3))","v":""},null,{"$f":"IF($D128=\"\",\"\",VLOOKUP($D128,'Girls Si Qual Draw Prep'!$A$7:$P$102,4))","v":""},null,null,null,{"$f":"UPPER(IF(OR(K128=\"a\",K128=\"as\"),J127,IF(OR(K128=\"b\",K128=\"bs\"),J129,)))","v":""}]
["111",{"$f":"IF($D129=\"\",\"\",VLOOKUP($D129,'Girls Si Qual Draw Prep'!$A$7:$P$102,15))","v":""},{"$f":"IF($D129=\"\",\"\",VLOOKUP($D129,'Girls Si Qual Draw Prep'!$A$7:$P$102,16))","v":""},null,{"$f":"UPPER(IF($D129=\"\",\"\",VLOOKUP($D129,'Girls Si Qual Draw Prep'!$A$7:$P$102,2)))","v":""},{"$f":"IF($D129=\"\",\"\",VLOOKUP($D129,'Girls Si Qual Draw Prep'!$A$7:$P$102,3))","v":""},null,{"$f":"IF($D129=\"\",\"\",VLOOKUP($D129,'Girls Si Qual Draw Prep'!$A$7:$P$102,4))","v":""},null,{"$f":"UPPER(IF(OR(I130=\"a\",I130=\"as\"),E129,IF(OR(I130=\"b\",I130=\"bs\"),E130,)))","v":""}]
["112",{"$f":"IF($D130=\"\",\"\",VLOOKUP($D130,'Girls Si Qual Draw Prep'!$A$7:$P$102,15))","v":""},{"$f":"IF($D130=\"\",\"\",VLOOKUP($D130,'Girls Si Qual Draw Prep'!$A$7:$P$102,16))","v":""},null,{"$f":"UPPER(IF($D130=\"\",\"\",VLOOKUP($D130,'Girls Si Qual Draw Prep'!$A$7:$P$102,2)))","v":""},{"$f":"IF($D130=\"\",\"\",VLOOKUP($D130,'Girls Si Qual Draw Prep'!$A$7:$P$102,3))","v":""},null,{"$f":"IF($D130=\"\",\"\",VLOOKUP($D130,'Girls Si Qual Draw Prep'!$A$7:$P$102,4))","v":""}]
["113",{"$f":"IF($D131=\"\",\"\",VLOOKUP($D131,'Girls Si Qual Draw Prep'!$A$7:$P$102,15))","v":""},{"$f":"IF($D131=\"\",\"\",VLOOKUP($D131,'Girls Si Qual Draw Prep'!$A$7:$P$102,16))","v":""},null,{"$f":"UPPER(IF($D131=\"\",\"\",VLOOKUP($D131,'Girls Si Qual Draw Prep'!$A$7:$P$102,2)))","v":""},{"$f":"IF($D131=\"\",\"\",VLOOKUP($D131,'Girls Si Qual Draw Prep'!$A$7:$P$102,3))","v":""},null,{"$f":"IF($D131=\"\",\"\",VLOOKUP($D131,'Girls Si Qual Draw Prep'!$A$7:$P$102,4))","v":""},null,{"$f":"UPPER(IF(OR(I132=\"a\",I132=\"as\"),E131,IF(OR(I132=\"b\",I132=\"bs\"),E132,)))","v":""}]
["114",{"$f":"IF($D132=\"\",\"\",VLOOKUP($D132,'Girls Si Qual Draw Prep'!$A$7:$P$102,15))","v":""},{"$f":"IF($D132=\"\",\"\",VLOOKUP($D132,'Girls Si Qual Draw Prep'!$A$7:$P$102,16))","v":""},null,{"$f":"UPPER(IF($D132=\"\",\"\",VLOOKUP($D132,'Girls Si Qual Draw Prep'!$A$7:$P$102,2)))","v":""},{"$f":"IF($D132=\"\",\"\",VLOOKUP($D132,'Girls Si Qual Draw Prep'!$A$7:$P$102,3))","v":""},null,{"$f":"IF($D132=\"\",\"\",VLOOKUP($D132,'Girls Si Qual Draw Prep'!$A$7:$P$102,4))","v":""},null,null,null,{"$f":"UPPER(IF(OR(K132=\"a\",K132=\"as\"),J131,IF(OR(K132=\"b\",K132=\"bs\"),J133,)))","v":""}]
["115",{"$f":"IF($D133=\"\",\"\",VLOOKUP($D133,'Girls Si Qual Draw Prep'!$A$7:$P$102,15))","v":""},{"$f":"IF($D133=\"\",\"\",VLOOKUP($D133,'Girls Si Qual Draw Prep'!$A$7:$P$102,16))","v":""},null,{"$f":"UPPER(IF($D133=\"\",\"\",VLOOKUP($D133,'Girls Si Qual Draw Prep'!$A$7:$P$102,2)))","v":""},{"$f":"IF($D133=\"\",\"\",VLOOKUP($D133,'Girls Si Qual Draw Prep'!$A$7:$P$102,3))","v":""},null,{"$f":"IF($D133=\"\",\"\",VLOOKUP($D133,'Girls Si Qual Draw Prep'!$A$7:$P$102,4))","v":""},null,{"$f":"UPPER(IF(OR(I134=\"a\",I134=\"as\"),E133,IF(OR(I134=\"b\",I134=\"bs\"),E134,)))","v":""}]
["116",{"$f":"IF($D134=\"\",\"\",VLOOKUP($D134,'Girls Si Qual Draw Prep'!$A$7:$P$102,15))","v":""},{"$f":"IF($D134=\"\",\"\",VLOOKUP($D134,'Girls Si Qual Draw Prep'!$A$7:$P$102,16))","v":""},null,{"$f":"UPPER(IF($D134=\"\",\"\",VLOOKUP($D134,'Girls Si Qual Draw Prep'!$A$7:$P$102,2)))","v":""},{"$f":"IF($D134=\"\",\"\",VLOOKUP($D134,'Girls Si Qual Draw Prep'!$A$7:$P$102,3))","v":""},null,{"$f":"IF($D134=\"\",\"\",VLOOKUP($D134,'Girls Si Qual Draw Prep'!$A$7:$P$102,4))","v":""},null,null,null,"Umpire",null,{"$f":"UPPER(IF(OR(M134=\"a\",M134=\"as\"),L132,IF(OR(M134=\"b\",M134=\"bs\"),L136,)))","v":""}]
["117",{"$f":"IF($D135=\"\",\"\",VLOOKUP($D135,'Girls Si Qual Draw Prep'!$A$7:$P$102,15))","v":""},{"$f":"IF($D135=\"\",\"\",VLOOKUP($D135,'Girls Si Qual Draw Prep'!$A$7:$P$102,16))","v":""},null,{"$f":"UPPER(IF($D135=\"\",\"\",VLOOKUP($D135,'Girls Si Qual Draw Prep'!$A$7:$P$102,2)))","v":""},{"$f":"IF($D135=\"\",\"\",VLOOKUP($D135,'Girls Si Qual Draw Prep'!$A$7:$P$102,3))","v":""},null,{"$f":"IF($D135=\"\",\"\",VLOOKUP($D135,'Girls Si Qual Draw Prep'!$A$7:$P$102,4))","v":""},null,{"$f":"UPPER(IF(OR(I136=\"a\",I136=\"as\"),E135,IF(OR(I136=\"b\",I136=\"bs\"),E136,)))","v":""}]
["118",{"$f":"IF($D136=\"\",\"\",VLOOKUP($D136,'Girls Si Qual Draw Prep'!$A$7:$P$102,15))","v":""},{"$f":"IF($D136=\"\",\"\",VLOOKUP($D136,'Girls Si Qual Draw Prep'!$A$7:$P$102,16))","v":""},null,{"$f":"UPPER(IF($D136=\"\",\"\",VLOOKUP($D136,'Girls Si Qual Draw Prep'!$A$7:$P$102,2)))","v":""},{"$f":"IF($D136=\"\",\"\",VLOOKUP($D136,'Girls Si Qual Draw Prep'!$A$7:$P$102,3))","v":""},null,{"$f":"IF($D136=\"\",\"\",VLOOKUP($D136,'Girls Si Qual Draw Prep'!$A$7:$P$102,4))","v":""},null,null,null,{"$f":"UPPER(IF(OR(K136=\"a\",K136=\"as\"),J135,IF(OR(K136=\"b\",K136=\"bs\"),J137,)))","v":""}]
["119",{"$f":"IF($D137=\"\",\"\",VLOOKUP($D137,'Girls Si Qual Draw Prep'!$A$7:$P$102,15))","v":""},{"$f":"IF($D137=\"\",\"\",VLOOKUP($D137,'Girls Si Qual Draw Prep'!$A$7:$P$102,16))","v":""},null,{"$f":"UPPER(IF($D137=\"\",\"\",VLOOKUP($D137,'Girls Si Qual Draw Prep'!$A$7:$P$102,2)))","v":""},{"$f":"IF($D137=\"\",\"\",VLOOKUP($D137,'Girls Si Qual Draw Prep'!$A$7:$P$102,3))","v":""},null,{"$f":"IF($D137=\"\",\"\",VLOOKUP($D137,'Girls Si Qual Draw Prep'!$A$7:$P$102,4))","v":""},null,{"$f":"UPPER(IF(OR(I138=\"a\",I138=\"as\"),E137,IF(OR(I138=\"b\",I138=\"bs\"),E138,)))","v":""}]
["120",{"$f":"IF($D138=\"\",\"\",VLOOKUP($D138,'Girls Si Qual Draw Prep'!$A$7:$P$102,15))","v":""},{"$f":"IF($D138=\"\",\"\",VLOOKUP($D138,'Girls Si Qual Draw Prep'!$A$7:$P$102,16))","v":""},null,{"$f":"UPPER(IF($D138=\"\",\"\",VLOOKUP($D138,'Girls Si Qual Draw Prep'!$A$7:$P$102,2)))","v":""},{"$f":"IF($D138=\"\",\"\",VLOOKUP($D138,'Girls Si Qual Draw Prep'!$A$7:$P$102,3))","v":""},null,{"$f":"IF($D138=\"\",\"\",VLOOKUP($D138,'Girls Si Qual Draw Prep'!$A$7:$P$102,4))","v":""},null,null,null,null,null,"Umpire",null,{"$f":"UPPER(IF(OR(O138=\"a\",O138=\"as\"),N134,IF(OR(O138=\"b\",O138=\"bs\"),N142,)))","v":""}]
["121",{"$f":"IF($D139=\"\",\"\",VLOOKUP($D139,'Girls Si Qual Draw Prep'!$A$7:$P$102,15))","v":""},{"$f":"IF($D139=\"\",\"\",VLOOKUP($D139,'Girls Si Qual Draw Prep'!$A$7:$P$102,16))","v":""},null,{"$f":"UPPER(IF($D139=\"\",\"\",VLOOKUP($D139,'Girls Si Qual Draw Prep'!$A$7:$P$102,2)))","v":""},{"$f":"IF($D139=\"\",\"\",VLOOKUP($D139,'Girls Si Qual Draw Prep'!$A$7:$P$102,3))","v":""},null,{"$f":"IF($D139=\"\",\"\",VLOOKUP($D139,'Girls Si Qual Draw Prep'!$A$7:$P$102,4))","v":""},null,{"$f":"UPPER(IF(OR(I140=\"a\",I140=\"as\"),E139,IF(OR(I140=\"b\",I140=\"bs\"),E140,)))","v":""}]
["122",{"$f":"IF($D140=\"\",\"\",VLOOKUP($D140,'Girls Si Qual Draw Prep'!$A$7:$P$102,15))","v":""},{"$f":"IF($D140=\"\",\"\",VLOOKUP($D140,'Girls Si Qual Draw Prep'!$A$7:$P$102,16))","v":""},null,{"$f":"UPPER(IF($D140=\"\",\"\",VLOOKUP($D140,'Girls Si Qual Draw Prep'!$A$7:$P$102,2)))","v":""},{"$f":"IF($D140=\"\",\"\",VLOOKUP($D140,'Girls Si Qual Draw Prep'!$A$7:$P$102,3))","v":""},null,{"$f":"IF($D140=\"\",\"\",VLOOKUP($D140,'Girls Si Qual Draw Prep'!$A$7:$P$102,4))","v":""},null,null,null,{"$f":"UPPER(IF(OR(K140=\"a\",K140=\"as\"),J139,IF(OR(K140=\"b\",K140=\"bs\"),J141,)))","v":""}]
["123",{"$f":"IF($D141=\"\",\"\",VLOOKUP($D141,'Girls Si Qual Draw Prep'!$A$7:$P$102,15))","v":""},{"$f":"IF($D141=\"\",\"\",VLOOKUP($D141,'Girls Si Qual Draw Prep'!$A$7:$P$102,16))","v":""},null,{"$f":"UPPER(IF($D141=\"\",\"\",VLOOKUP($D141,'Girls Si Qual Draw Prep'!$A$7:$P$102,2)))","v":""},{"$f":"IF($D141=\"\",\"\",VLOOKUP($D141,'Girls Si Qual Draw Prep'!$A$7:$P$102,3))","v":""},null,{"$f":"IF($D141=\"\",\"\",VLOOKUP($D141,'Girls Si Qual Draw Prep'!$A$7:$P$102,4))","v":""},null,{"$f":"UPPER(IF(OR(I142=\"a\",I142=\"as\"),E141,IF(OR(I142=\"b\",I142=\"bs\"),E142,)))","v":""}]
["124",{"$f":"IF($D142=\"\",\"\",VLOOKUP($D142,'Girls Si Qual Draw Prep'!$A$7:$P$102,15))","v":""},{"$f":"IF($D142=\"\",\"\",VLOOKUP($D142,'Girls Si Qual Draw Prep'!$A$7:$P$102,16))","v":""},null,{"$f":"UPPER(IF($D142=\"\",\"\",VLOOKUP($D142,'Girls Si Qual Draw Prep'!$A$7:$P$102,2)))","v":""},{"$f":"IF($D142=\"\",\"\",VLOOKUP($D142,'Girls Si Qual Draw Prep'!$A$7:$P$102,3))","v":""},null,{"$f":"IF($D142=\"\",\"\",VLOOKUP($D142,'Girls Si Qual Draw Prep'!$A$7:$P$102,4))","v":""},null,null,null,"Umpire",null,{"$f":"UPPER(IF(OR(M142=\"a\",M142=\"as\"),L140,IF(OR(M142=\"b\",M142=\"bs\"),L144,)))","v":""}]
["125",{"$f":"IF($D143=\"\",\"\",VLOOKUP($D143,'Girls Si Qual Draw Prep'!$A$7:$P$102,15))","v":""},{"$f":"IF($D143=\"\",\"\",VLOOKUP($D143,'Girls Si Qual Draw Prep'!$A$7:$P$102,16))","v":""},null,{"$f":"UPPER(IF($D143=\"\",\"\",VLOOKUP($D143,'Girls Si Qual Draw Prep'!$A$7:$P$102,2)))","v":""},{"$f":"IF($D143=\"\",\"\",VLOOKUP($D143,'Girls Si Qual Draw Prep'!$A$7:$P$102,3))","v":""},null,{"$f":"IF($D143=\"\",\"\",VLOOKUP($D143,'Girls Si Qual Draw Prep'!$A$7:$P$102,4))","v":""},null,{"$f":"UPPER(IF(OR(I144=\"a\",I144=\"as\"),E143,IF(OR(I144=\"b\",I144=\"bs\"),E144,)))","v":""}]
["126",{"$f":"IF($D144=\"\",\"\",VLOOKUP($D144,'Girls Si Qual Draw Prep'!$A$7:$P$102,15))","v":""},{"$f":"IF($D144=\"\",\"\",VLOOKUP($D144,'Girls Si Qual Draw Prep'!$A$7:$P$102,16))","v":""},null,{"$f":"UPPER(IF($D144=\"\",\"\",VLOOKUP($D144,'Girls Si Qual Draw Prep'!$A$7:$P$102,2)))","v":""},{"$f":"IF($D144=\"\",\"\",VLOOKUP($D144,'Girls Si Qual Draw Prep'!$A$7:$P$102,3))","v":""},null,{"$f":"IF($D144=\"\",\"\",VLOOKUP($D144,'Girls Si Qual Draw Prep'!$A$7:$P$102,4))","v":""},null,null,null,{"$f":"UPPER(IF(OR(K144=\"a\",K144=\"as\"),J143,IF(OR(K144=\"b\",K144=\"bs\"),J145,)))","v":""}]
["127",{"$f":"IF($D145=\"\",\"\",VLOOKUP($D145,'Girls Si Qual Draw Prep'!$A$7:$P$102,15))","v":""},{"$f":"IF($D145=\"\",\"\",VLOOKUP($D145,'Girls Si Qual Draw Prep'!$A$7:$P$102,16))","v":""},null,{"$f":"UPPER(IF($D145=\"\",\"\",VLOOKUP($D145,'Girls Si Qual Draw Prep'!$A$7:$P$102,2)))","v":""},{"$f":"IF($D145=\"\",\"\",VLOOKUP($D145,'Girls Si Qual Draw Prep'!$A$7:$P$102,3))","v":""},null,{"$f":"IF($D145=\"\",\"\",VLOOKUP($D145,'Girls Si Qual Draw Prep'!$A$7:$P$102,4))","v":""},null,{"$f":"UPPER(IF(OR(I146=\"a\",I146=\"as\"),E145,IF(OR(I146=\"b\",I146=\"bs\"),E146,)))","v":""}]
["128",{"$f":"IF($D146=\"\",\"\",VLOOKUP($D146,'Girls Si Qual Draw Prep'!$A$7:$P$102,15))","v":""},{"$f":"IF($D146=\"\",\"\",VLOOKUP($D146,'Girls Si Qual Draw Prep'!$A$7:$P$102,16))","v":""},null,{"$f":"UPPER(IF($D146=\"\",\"\",VLOOKUP($D146,'Girls Si Qual Draw Prep'!$A$7:$P$102,2)))","v":""},{"$f":"IF($D146=\"\",\"\",VLOOKUP($D146,'Girls Si Qual Draw Prep'!$A$7:$P$102,3))","v":""},null,{"$f":"IF($D146=\"\",\"\",VLOOKUP($D146,'Girls Si Qual Draw Prep'!$A$7:$P$102,4))","v":""}]
[]
["Acc. Ranking",null,null,"#","Seeded players","#","Seeded players",null,"#","Alternates",null,"Replacing",null,"Draw date/time:"]
["Rkg Date",null,{"$f":"'Girls Si Qual 96&128>8'!C73","v":0},{"$f":"'Girls Si Qual 96&128>8'!D73","v":1},{"$f":"'Girls Si Qual 96&128>8'!E73","v":0},{"$f":"'Girls Si Qual 96&128>8'!F73","v":9},{"$f":"'Girls Si Qual 96&128>8'!G73","v":0},{"$f":"'Girls Si Qual 96&128>8'!H73","v":0},"1",{"$f":"'Girls Si Qual 96&128>8'!J73","v":0},null,{"$f":"'Girls Si Qual 96&128>8'!L73","v":0},null,"Last Accepted player"]
["Top DA",null,{"$f":"'Girls Si Qual 96&128>8'!C74","v":0},{"$f":"'Girls Si Qual 96&128>8'!D74","v":2},{"$f":"'Girls Si Qual 96&128>8'!E74","v":0},{"$f":"'Girls Si Qual 96&128>8'!F74","v":10},{"$f":"'Girls Si Qual 96&128>8'!G74","v":0},{"$f":"'Girls Si Qual 96&128>8'!H74","v":0},"2",{"$f":"'Girls Si Qual 96&128>8'!J74","v":0},null,{"$f":"'Girls Si Qual 96&128>8'!L74","v":0},null,{"$f":"'Girls Si Qual 96&128>8'!$N$74","v":0}]
["Last DA",null,{"$f":"'Girls Si Qual 96&128>8'!C75","v":0},{"$f":"'Girls Si Qual 96&128>8'!D75","v":3},{"$f":"'Girls Si Qual 96&128>8'!E75","v":0},{"$f":"'Girls Si Qual 96&128>8'!F75","v":11},{"$f":"'Girls Si Qual 96&128>8'!G75","v":0},{"$f":"'Girls Si Qual 96&128>8'!H75","v":0},"3",{"$f":"'Girls Si Qual 96&128>8'!J75","v":0},null,{"$f":"'Girls Si Qual 96&128>8'!L75","v":0},null,"Player representatives"]
[null,null,{"$f":"'Girls Si Qual 96&128>8'!C76","v":0},{"$f":"'Girls Si Qual 96&128>8'!D76","v":4},{"$f":"'Girls Si Qual 96&128>8'!E76","v":0},{"$f":"'Girls Si Qual 96&128>8'!F76","v":12},{"$f":"'Girls Si Qual 96&128>8'!G76","v":0},{"$f":"'Girls Si Qual 96&128>8'!H76","v":0},"4",{"$f":"'Girls Si Qual 96&128>8'!J76","v":0},null,{"$f":"'Girls Si Qual 96&128>8'!L76","v":0}]
["Seed ranking",null,null,{"$f":"'Girls Si Qual 96&128>8'!D77","v":5},{"$f":"'Girls Si Qual 96&128>8'!E77","v":0},{"$f":"'Girls Si Qual 96&128>8'!F77","v":13},{"$f":"'Girls Si Qual 96&128>8'!G77","v":0},{"$f":"'Girls Si Qual 96&128>8'!H77","v":0},"5",{"$f":"'Girls Si Qual 96&128>8'!J77","v":0},null,{"$f":"'Girls Si Qual 96&128>8'!L77","v":0}]
["Rkg Date",null,{"$f":"'Girls Si Qual 96&128>8'!C78","v":0},{"$f":"'Girls Si Qual 96&128>8'!D78","v":6},{"$f":"'Girls Si Qual 96&128>8'!E78","v":0},{"$f":"'Girls Si Qual 96&128>8'!F78","v":14},{"$f":"'Girls Si Qual 96&128>8'!G78","v":0},{"$f":"'Girls Si Qual 96&128>8'!H78","v":0},"6",{"$f":"'Girls Si Qual 96&128>8'!J78","v":0},null,{"$f":"'Girls Si Qual 96&128>8'!L78","v":0},null,"ITF Referee's signature"]
["Top seed",null,{"$f":"'Girls Si Qual 96&128>8'!C79","v":0},{"$f":"'Girls Si Qual 96&128>8'!D79","v":7},{"$f":"'Girls Si Qual 96&128>8'!E79","v":0},{"$f":"'Girls Si Qual 96&128>8'!F79","v":15},{"$f":"'Girls Si Qual 96&128>8'!G79","v":0},{"$f":"'Girls Si Qual 96&128>8'!H79","v":0},"7",{"$f":"'Girls Si Qual 96&128>8'!J79","v":0},null,{"$f":"'Girls Si Qual 96&128>8'!L79","v":0}]
["Last seed",null,{"$f":"'Girls Si Qual 96&128>8'!C80","v":0},{"$f":"'Girls Si Qual 96&128>8'!D80","v":8},{"$f":"'Girls Si Qual 96&128>8'!E80","v":0},{"$f":"'Girls Si Qual 96&128>8'!F80","v":16},{"$f":"'Girls Si Qual 96&128>8'!G80","v":0},{"$f":"'Girls Si Qual 96&128>8'!H80","v":0},"8",{"$f":"'Girls Si Qual 96&128>8'!J80","v":0},null,{"$f":"'Girls Si Qual 96&128>8'!L80","v":0},null,{"$f":"'Girls Si Qual 96&128>8'!N80","v":0}]

{"sheet":"Boys Do Sign-in sheet","index":41,"n_rows":166,"n_cols":12,"rows_kept":166,"cut":false,"hidden":false,"merged":[[3,0,3,1]]}
[{"$f":"'Week SetUp'!$A$6","v":0},null,null,null,"BOYS DOUBLES SIGN-IN"]
[{"$f":"'Week SetUp'!$A$8","v":"ITF Junior Circuit"},null,null,null,{"$f":"IF(OR($E$4=75000,$E$4=50000),\"(or telephone sign-in/registration)\",\"\")","v":""}]
["Week of",null,"City, Country",null,"Group","Tourn. ID",null,null,"ITF Referee","ITF Referee's signature"]
[{"$f":"'Week SetUp'!$A$10","v":"00:00:00"},null,{"$f":"'Week SetUp'!$C$10","v":0},null,{"$f":"'Week SetUp'!$D$10","v":0},{"$f":"'Week SetUp'!$A$12","v":0},null,null,{"$f":"'Week SetUp'!$E$10","v":0}]
[null,null,"Day","Date",null,"Time",null,"Place"]
["Sign-in deadline:"]
["Line","Family name","First name","Nat.","Date of birth Day/Mth/Yr","Signatures\n(both players must sign-in)",null,"ITF 18\nRanking","Si Main\nDA or Q","Accepted","Seed\nPosition","Draw\nchip"]
[1]
[]
[2]
[]
[3]
[]
[4]
[]
[5]
[]
[6]
[]
[7]
[]
[8]
[]
[9]
[]
[10]
[]
[11]
[]
[12]
[]
[13]
[]
[14]
[]
[15]
[]
[16]
[]
[17]
[]
[18]
[]
[19]
[]
[20]
[]
[21]
[]
[22]
[]
[23]
[]
[24]
[]
[25]
[]
[26]
[]
[27]
[]
[28]
[]
[29]
[]
[30]
[]
[31]
[]
[32]
[]
[33]
[]
[34]
[]
[35]
[]
[36]
[]
[37]
[]
[38]
[]
[39]
[]
[40]
[]
[41]
[]
[42]
[]
[43]
[]
[44]
[]
[45]
[]
[46]
[]
[47]
[]
[48]
[]
[49]
[]
[50]
[]
[51]
[]
[52]
[]
[53]
[]
[54]
[]
[55]
[]
[56]
[]
[57]
[]
[58]
[]
[59]
[]
[60]
[]
[61]
[]
[62]
[]
[63]
[]
[64]
[]
[65]
[]
[66]
[]
[67]
[]
[68]
[]
[69]
[]
[70]
[]
[71]
[]
[72]
[]
[73]
[]
[74]
[]
[75]
[]
[76]
[]
[77]
[]
[78]
[]
[79]
[]
[80]

{"sheet":"Boys Do Main Draw Prep","index":42,"n_rows":87,"n_cols":22,"rows_kept":87,"cut":false,"hidden":false,"merged":[[4,0,4,1],[5,1,5,5],[5,6,5,13],[5,16,5,21]]}
[{"$f":"'Week SetUp'!$A$6","v":0},null,null,null,null,null,"BOYS DOUBLES MAIN DRAW "]
[{"$f":"'Week SetUp'!$A$8","v":"ITF Junior Circuit"},null,null,null,null,null,"PREPARATION LIST"]
["DO NO DELETE THIS PAGE IF YOU ARE USING LINK-IN'S TO THE DRAW",null,null,null,null,null,null,null,null,null,null,null,null,null,null,null,null,null,"ITF Referee's signature"]
["Week of",null,"City, Country",null,null,null,"Group","Tourn. ID",null,"ITF Supervisor/Referee",null,null,null,"ITF Referee"]
[{"$f":"'Week SetUp'!$A$10","v":"00:00:00"},null,{"$f":"'Week SetUp'!$C$10","v":0},null,null,null,{"$f":"'Week SetUp'!$D$10","v":0},{"$f":"'Week SetUp'!$A$12","v":0},null,{"$f":"'Week SetUp'!$E$10","v":0},null,null,null,{"$f":"'Week SetUp'!$E$10","v":0},null,null,null,null,null,null,null,{"$f":"COUNTA(V8:V87)","v":0}]
[null,"Player 1",null,null,null,null,"Player 2",null,null,null,null,null,null,null,null,null,"Team"]
["Line","Family name","First name","Nat.","ITF 18\nRank","Si Main\nDA, SE, Q","Family name","First name","Nat.",null,null,"Status\nNo","ITF 18\nRank","Si Main\nDA, SE, Q","Seq\n123","Seq\nabc","Acc\nPri-\nority","Comb\nRanking","Acc.\nTie-\nBreak","Do Acc\nstatus\nDA,WC\nA","Display\nRank\nITF18","Seed Pos"]
[1,null,null,null,null,null,null,null,null,null,null,{"$f":"IF(OR(OR(B8=\"\",C8=\"\",D8=\"\"),OR(G8=\"\",H8=\"\",I8=\"\")),,IF(T8=\"DA\",1,IF(T8=\"WC\",2,IF(T8=\"A\",3,999))))","v":0},null,null,{"$f":"IF(OR(OR(B8=\"\",C8=\"\",D8=\"\"),OR(G8=\"\",H8=\"\",I8=\"\")),,IF(AND(OR(F8=\"DA\",F8=\"SE\",F8=\"Q\"),OR(N8=\"DA\",N8=\"SE\",N8=\"Q\")),\"1\",IF(OR(OR(F8=\"DA\",F8=\"SE\",F8=\"Q\"),OR(N8=\"DA\",N8=\"SE\",N8=\"Q\")),\"2\",\"3\")))","v":0},{"$f":"IF(OR(OR(B8=\"\",C8=\"\",D8=\"\"),OR(G8=\"\",H8=\"\",I8=\"\")),,IF(AND(E8>0,M8>0),\"a\",IF(OR(E8>0,M8>0),\"b\",\"c\")))","v":0},{"$f":"IF(OR(OR(B8=\"\",C8=\"\",D8=\"\"),OR(G8=\"\",H8=\"\",I8=\"\")),,O8&P8)","v":0},{"$f":"IF(OR(OR(B8=\"\",C8=\"\",D8=\"\"),OR(G8=\"\",H8=\"\",I8=\"\")),,IF(OR(E8>0,M8>0),E8+M8))","v":0},null,null,{"$f":"IF(OR(OR(B8=\"\",C8=\"\",D8=\"\"),OR(G8=\"\",H8=\"\",I8=\"\")),,IF(AND(E8>0,M8>0),E8+M8,))","v":0}]
[2,null,null,null,null,null,null,null,null,null,null,{"$f":"IF(OR(OR(B9=\"\",C9=\"\",D9=\"\"),OR(G9=\"\",H9=\"\",I9=\"\")),,IF(T9=\"DA\",1,IF(T9=\"WC\",2,IF(T9=\"A\",3,999))))","v":0},null,null,{"$f":"IF(OR(OR(B9=\"\",C9=\"\",D9=\"\"),OR(G9=\"\",H9=\"\",I9=\"\")),,IF(AND(OR(F9=\"DA\",F9=\"SE\",F9=\"Q\"),OR(N9=\"DA\",N9=\"SE\",N9=\"Q\")),\"1\",IF(OR(OR(F9=\"DA\",F9=\"SE\",F9=\"Q\"),OR(N9=\"DA\",N9=\"SE\",N9=\"Q\")),\"2\",\"3\")))","v":0},{"$f":"IF(OR(OR(B9=\"\",C9=\"\",D9=\"\"),OR(G9=\"\",H9=\"\",I9=\"\")),,IF(AND(E9>0,M9>0),\"a\",IF(OR(E9>0,M9>0),\"b\",\"c\")))","v":0},{"$f":"IF(OR(OR(B9=\"\",C9=\"\",D9=\"\"),OR(G9=\"\",H9=\"\",I9=\"\")),,O9&P9)","v":0},{"$f":"IF(OR(OR(B9=\"\",C9=\"\",D9=\"\"),OR(G9=\"\",H9=\"\",I9=\"\")),,IF(OR(E9>0,M9>0),E9+M9))","v":0},null,null,{"$f":"IF(OR(OR(B9=\"\",C9=\"\",D9=\"\"),OR(G9=\"\",H9=\"\",I9=\"\")),,IF(AND(E9>0,M9>0),E9+M9,))","v":0}]
[3,null,null,null,null,null,null,null,null,null,null,0,null,null,0,0,0,0,null,null,0]
[4,null,null,null,null,null,null,null,null,null,null,0,null,null,0,0,0,0,null,null,0]
[5,null,null,null,null,null,null,null,null,null,null,0,null,null,0,0,0,0,null,null,0]
[6,null,null,null,null,null,null,null,null,null,null,0,null,null,0,0,0,0,null,null,0]
[7,null,null,null,null,null,null,null,null,null,null,0,null,null,0,0,0,0,null,null,0]
[8,null,null,null,null,null,null,null,null,null,null,0,null,null,0,0,0,0,null,null,0]
[9,null,null,null,null,null,null,null,null,null,null,0,null,null,0,0,0,0,null,null,0]
[10,null,null,null,null,null,null,null,null,null,null,0,null,null,0,0,0,0,null,null,0]
[11,null,null,null,null,null,null,null,null,null,null,0,null,null,0,0,0,0,null,null,0]
[12,null,null,null,null,null,null,null,null,null,null,0,null,null,0,0,0,0,null,null,0]
[13,null,null,null,null,null,null,null,null,null,null,0,null,null,0,0,0,0,null,null,0]
[14,null,null,null,null,null,null,null,null,null,null,0,null,null,0,0,0,0,null,null,0]
[15,null,null,null,null,null,null,null,null,null,null,0,null,null,0,0,0,0,null,null,0]
[16,null,null,null,null,null,null,null,null,null,null,0,null,null,0,0,0,0,null,null,0]
[17,null,null,null,null,null,null,null,null,null,null,0,null,null,0,0,0,0,null,null,0]
[18,null,null,null,null,null,null,null,null,null,null,0,null,null,0,0,0,0,null,null,0]
[19,null,null,null,null,null,null,null,null,null,null,0,null,null,0,0,0,0,null,null,0]
[20,null,null,null,null,null,null,null,null,null,null,0,null,null,0,0,0,0,null,null,0]
[21,null,null,null,null,null,null,null,null,null,null,0,null,null,0,0,0,0,null,null,0]
[22,null,null,null,null,null,null,null,null,null,null,0,null,null,0,0,0,0,null,null,0]
[23,null,null,null,null,null,null,null,null,null,null,0,null,null,0,0,0,0,null,null,0]
[24,null,null,null,null,null,null,null,null,null,null,0,null,null,0,0,0,0,null,null,0]
[25,null,null,null,null,null,null,null,null,null,null,0,null,null,0,0,0,0,null,null,0]
[26,null,null,null,null,null,null,null,null,null,null,0,null,null,0,0,0,0,null,null,0]
[27,null,null,null,null,null,null,null,null,null,null,0,null,null,0,0,0,0,null,null,0]
[28,null,null,null,null,null,null,null,null,null,null,0,null,null,0,0,0,0,null,null,0]
[29,null,null,null,null,null,null,null,null,null,null,0,null,null,0,0,0,0,null,null,0]
[30,null,null,null,null,null,null,null,null,null,null,0,null,null,0,0,0,0,null,null,0]
[31,null,null,null,null,null,null,null,null,null,null,0,null,null,0,0,0,0,null,null,0]
[32,null,null,null,null,null,null,null,null,null,null,0,null,null,0,0,0,0,null,null,0]
[33,null,null,null,null,null,null,null,null,null,null,0,null,null,0,0,0,0,null,null,0]
[34,null,null,null,null,null,null,null,null,null,null,0,null,null,0,0,0,0,null,null,0]
[35,null,null,null,null,null,null,null,null,null,null,0,null,null,0,0,0,0,null,null,0]
[36,null,null,null,null,null,null,null,null,null,null,0,null,null,0,0,0,0,null,null,0]
[37,null,null,null,null,null,null,null,null,null,null,0,null,null,0,0,0,0,null,null,0]
[38,null,null,null,null,null,null,null,null,null,null,0,null,null,0,0,0,0,null,null,0]
[39,null,null,null,null,null,null,null,null,null,null,0,null,null,0,0,0,0,null,null,0]
[40,null,null,null,null,null,null,null,null,null,null,0,null,null,0,0,0,0,null,null,0]
[41,null,null,null,null,null,null,null,null,null,null,0,null,null,0,0,0,0,null,null,0]
[42,null,null,null,null,null,null,null,null,null,null,0,null,null,0,0,0,0,null,null,0]
[43,null,null,null,null,null,null,null,null,null,null,0,null,null,0,0,0,0,null,null,0]
[44,null,null,null,null,null,null,null,null,null,null,0,null,null,0,0,0,0,null,null,0]
[45,null,null,null,null,null,null,null,null,null,null,0,null,null,0,0,0,0,null,null,0]
[46,null,null,null,null,null,null,null,null,null,null,0,null,null,0,0,0,0,null,null,0]
[47,null,null,null,null,null,null,null,null,null,null,0,null,null,0,0,0,0,null,null,0]
[48,null,null,null,null,null,null,null,null,null,null,0,null,null,0,0,0,0,null,null,0]
[49,null,null,null,null,null,null,null,null,null,null,0,null,null,0,0,0,0,null,null,0]
[50,null,null,null,null,null,null,null,null,null,null,0,null,null,0,0,0,0,null,null,0]
[51,null,null,null,null,null,null,null,null,null,null,0,null,null,0,0,0,0,null,null,0]
[52,null,null,null,null,null,null,null,null,null,null,0,null,null,0,0,0,0,null,null,0]
[53,null,null,null,null,null,null,null,null,null,null,0,null,null,0,0,0,0,null,null,0]
[54,null,null,null,null,null,null,null,null,null,null,0,null,null,0,0,0,0,null,null,0]
[55,null,null,null,null,null,null,null,null,null,null,0,null,null,0,0,0,0,null,null,0]
[56,null,null,null,null,null,null,null,null,null,null,0,null,null,0,0,0,0,null,null,0]
[57,null,null,null,null,null,null,null,null,null,null,0,null,null,0,0,0,0,null,null,0]
[58,null,null,null,null,null,null,null,null,null,null,0,null,null,0,0,0,0,null,null,0]
[59,null,null,null,null,null,null,null,null,null,null,0,null,null,0,0,0,0,null,null,0]
[60,null,null,null,null,null,null,null,null,null,null,0,null,null,0,0,0,0,null,null,0]
[61,null,null,null,null,null,null,null,null,null,null,0,null,null,0,0,0,0,null,null,0]
[62,null,null,null,null,null,null,null,null,null,null,0,null,null,0,0,0,0,null,null,0]
[63,null,null,null,null,null,null,null,null,null,null,0,null,null,0,0,0,0,null,null,0]
[64,null,null,null,null,null,null,null,null,null,null,0,null,null,0,0,0,0,null,null,0]
[65,null,null,null,null,null,null,null,null,null,null,0,null,null,0,0,0,0,null,null,0]
[66,null,null,null,null,null,null,null,null,null,null,{"$f":"IF(OR(OR(B73=\"\",C73=\"\",D73=\"\"),OR(G73=\"\",H73=\"\",I73=\"\")),,IF(T73=\"DA\",1,IF(T73=\"WC\",2,IF(T73=\"A\",3,999))))","v":0},null,null,{"$f":"IF(OR(OR(B73=\"\",C73=\"\",D73=\"\"),OR(G73=\"\",H73=\"\",I73=\"\")),,IF(AND(OR(F73=\"DA\",F73=\"SE\",F73=\"Q\"),OR(N73=\"DA\",N73=\"SE\",N73=\"Q\")),\"1\",IF(OR(OR(F73=\"DA\",F73=\"SE\",F73=\"Q\"),OR(N73=\"DA\",N73=\"SE\",N73=\"Q\")),\"2\",\"3\")))","v":0},{"$f":"IF(OR(OR(B73=\"\",C73=\"\",D73=\"\"),OR(G73=\"\",H73=\"\",I73=\"\")),,IF(AND(E73>0,M73>0),\"a\",IF(OR(E73>0,M73>0),\"b\",\"c\")))","v":0},{"$f":"IF(OR(OR(B73=\"\",C73=\"\",D73=\"\"),OR(G73=\"\",H73=\"\",I73=\"\")),,O73&P73)","v":0},{"$f":"IF(OR(OR(B73=\"\",C73=\"\",D73=\"\"),OR(G73=\"\",H73=\"\",I73=\"\")),,IF(OR(E73>0,M73>0),E73+M73))","v":0},null,null,{"$f":"IF(OR(OR(B73=\"\",C73=\"\",D73=\"\"),OR(G73=\"\",H73=\"\",I73=\"\")),,IF(AND(E73>0,M73>0),E73+M73,))","v":0}]
[67,null,null,null,null,null,null,null,null,null,null,0,null,null,0,0,0,0,null,null,0]
[68,null,null,null,null,null,null,null,null,null,null,0,null,null,0,0,0,0,null,null,0]
[69,null,null,null,null,null,null,null,null,null,null,0,null,null,0,0,0,0,null,null,0]
[70,null,null,null,null,null,null,null,null,null,null,0,null,null,0,0,0,0,null,null,0]
[71,null,null,null,null,null,null,null,null,null,null,0,null,null,0,0,0,0,null,null,0]
[72,null,null,null,null,null,null,null,null,null,null,0,null,null,0,0,0,0,null,null,0]
[73,null,null,null,null,null,null,null,null,null,null,0,null,null,0,0,0,0,null,null,0]
[74,null,null,null,null,null,null,null,null,null,null,0,null,null,0,0,0,0,null,null,0]
[75,null,null,null,null,null,null,null,null,null,null,0,null,null,0,0,0,0,null,null,0]
[76,null,null,null,null,null,null,null,null,null,null,0,null,null,0,0,0,0,null,null,0]
[77,null,null,null,null,null,null,null,null,null,null,0,null,null,0,0,0,0,null,null,0]
[78,null,null,null,null,null,null,null,null,null,null,0,null,null,0,0,0,0,null,null,0]
[79,null,null,null,null,null,null,null,null,null,null,0,null,null,0,0,0,0,null,null,0]
[80,null,null,null,null,null,null,null,null,null,null,0,null,null,0,0,0,0,null,null,0]

{"sheet":"Boys Do Main 16","index":43,"n_rows":79,"n_cols":20,"rows_kept":79,"cut":false,"hidden":false,"merged":[[3,0,3,2]]}
[{"$f":"'Week SetUp'!$A$6","v":0},null,null,null,null,null,null,null,null,"BOYS DOUBLES",null,null,null,"CU"]
[{"$f":"'Week SetUp'!$A$8","v":"ITF Junior Circuit"},null,null,null,null,null,null,null,null,"MAIN DRAW (16)"]
["Week of",null,null,null,null,"City, Country",null,null,null,"Group",null,"Tourn. ID",null,null,null,null,"ITF Referee"]
[{"$f":"'Week SetUp'!$A$10","v":"00:00:00"},null,null,null,null,{"$f":"'Week SetUp'!$C$10","v":0},null,null,null,{"$f":"'Week SetUp'!$D$10","v":0},null,{"$f":"'Week SetUp'!$A$12","v":0},null,null,null,null,{"$f":"'Week SetUp'!$E$10","v":0}]
[null,"St.",{"$f":"IF(OR(F2=\"Week 3\",F2=\"Masters\"),\"CP\",\"Rank\")","v":"Rank"},"Seed","Family Name","First name",null,"Nationality",null,"2nd Round",null,"Semifinals",null,"Final",null,"Winners"]
[]
[1,{"$f":"IF($D7=\"\",\"\",VLOOKUP($D7,'Boys Do Main Draw Prep'!$A$7:$V$23,20))","v":""},{"$f":"IF($D7=\"\",\"\",VLOOKUP($D7,'Boys Do Main Draw Prep'!$A$7:$V$23,21))","v":""},null,{"$f":"UPPER(IF($D7=\"\",\"\",VLOOKUP($D7,'Boys Do Main Draw Prep'!$A$7:$V$23,2)))","v":""},{"$f":"IF($D7=\"\",\"\",VLOOKUP($D7,'Boys Do Main Draw Prep'!$A$7:$V$23,3))","v":""},null,{"$f":"IF($D7=\"\",\"\",VLOOKUP($D7,'Boys Do Main Draw Prep'!$A$7:$V$23,4))","v":""},null,null,null,null,null,null,null,null,null,null,null,{"$f":"'SetUp Officials'!P21","v":"Umpire"}]
[null,null,null,null,{"$f":"UPPER(IF($D7=\"\",\"\",VLOOKUP($D7,'Boys Do Main Draw Prep'!$A$7:$V$23,7)))","v":""},{"$f":"IF($D7=\"\",\"\",VLOOKUP($D7,'Boys Do Main Draw Prep'!$A$7:$V$23,8))","v":""},null,{"$f":"IF($D7=\"\",\"\",VLOOKUP($D7,'Boys Do Main Draw Prep'!$A$7:$V$23,9))","v":""},null,{"$f":"IF(I8=\"a\",E7,IF(I8=\"b\",E9,\"\"))","v":""},null,null,null,null,null,null,null,null,null,{"$f":"'SetUp Officials'!P22","v":" "}]
[null,null,null,null,null,null,null,null,null,{"$f":"UPPER(IF(OR(I10=\"a\",I10=\"as\"),E7,IF(OR(I10=\"b\",I10=\"bs\"),E11,)))","v":""},null,null,null,null,null,null,null,null,null,{"$f":"'SetUp Officials'!P23","v":" "}]
[null,null,null,null,null,null,null,"Umpire",null,{"$f":"UPPER(IF(OR(I10=\"a\",I10=\"as\"),E8,IF(OR(I10=\"b\",I10=\"bs\"),E12,)))","v":""},null,null,null,null,null,null,null,null,null,{"$f":"'SetUp Officials'!P24","v":" "}]
[2,{"$f":"IF($D11=\"\",\"\",VLOOKUP($D11,'Boys Do Main Draw Prep'!$A$7:$V$23,20))","v":""},{"$f":"IF($D11=\"\",\"\",VLOOKUP($D11,'Boys Do Main Draw Prep'!$A$7:$V$23,21))","v":""},null,{"$f":"UPPER(IF($D11=\"\",\"\",VLOOKUP($D11,'Boys Do Main Draw Prep'!$A$7:$V$23,2)))","v":""},{"$f":"IF($D11=\"\",\"\",VLOOKUP($D11,'Boys Do Main Draw Prep'!$A$7:$V$23,3))","v":""},null,{"$f":"IF($D11=\"\",\"\",VLOOKUP($D11,'Boys Do Main Draw Prep'!$A$7:$V$23,4))","v":""},null,null,null,null,null,null,null,null,null,null,null,{"$f":"'SetUp Officials'!P25","v":" "}]
[null,null,null,null,{"$f":"UPPER(IF($D11=\"\",\"\",VLOOKUP($D11,'Boys Do Main Draw Prep'!$A$7:$V$23,7)))","v":""},{"$f":"IF($D11=\"\",\"\",VLOOKUP($D11,'Boys Do Main Draw Prep'!$A$7:$V$23,8))","v":""},null,{"$f":"IF($D11=\"\",\"\",VLOOKUP($D11,'Boys Do Main Draw Prep'!$A$7:$V$23,9))","v":""},null,null,null,null,null,null,null,null,null,null,null,{"$f":"'SetUp Officials'!P26","v":" "}]
[null,null,null,null,null,null,null,null,null,null,null,{"$f":"UPPER(IF(OR(K14=\"a\",K14=\"as\"),J9,IF(OR(K14=\"b\",K14=\"bs\"),J17,)))","v":""},null,null,null,null,null,null,null,{"$f":"'SetUp Officials'!P27","v":" "}]
[null,null,null,null,null,null,null,null,null,"Umpire",null,{"$f":"UPPER(IF(OR(K14=\"a\",K14=\"as\"),J10,IF(OR(K14=\"b\",K14=\"bs\"),J18,)))","v":""},null,null,null,null,null,null,null,{"$f":"'SetUp Officials'!P28","v":" "}]
[3,{"$f":"IF($D15=\"\",\"\",VLOOKUP($D15,'Boys Do Main Draw Prep'!$A$7:$V$23,20))","v":""},{"$f":"IF($D15=\"\",\"\",VLOOKUP($D15,'Boys Do Main Draw Prep'!$A$7:$V$23,21))","v":""},null,{"$f":"UPPER(IF($D15=\"\",\"\",VLOOKUP($D15,'Boys Do Main Draw Prep'!$A$7:$V$23,2)))","v":""},{"$f":"IF($D15=\"\",\"\",VLOOKUP($D15,'Boys Do Main Draw Prep'!$A$7:$V$23,3))","v":""},null,{"$f":"IF($D15=\"\",\"\",VLOOKUP($D15,'Boys Do Main Draw Prep'!$A$7:$V$23,4))","v":""},null,null,null,null,null,null,null,null,null,null,null,{"$f":"'SetUp Officials'!P29","v":" "}]
[null,null,null,null,{"$f":"UPPER(IF($D15=\"\",\"\",VLOOKUP($D15,'Boys Do Main Draw Prep'!$A$7:$V$23,7)))","v":""},{"$f":"IF($D15=\"\",\"\",VLOOKUP($D15,'Boys Do Main Draw Prep'!$A$7:$V$23,8))","v":""},null,{"$f":"IF($D15=\"\",\"\",VLOOKUP($D15,'Boys Do Main Draw Prep'!$A$7:$V$23,9))","v":""},null,{"$f":"IF(I16=\"a\",E15,IF(I16=\"b\",E17,\"\"))","v":""},null,null,null,null,null,null,null,null,null,{"$f":"'SetUp Officials'!P30","v":"None"}]
[null,null,null,null,null,null,null,null,null,{"$f":"UPPER(IF(OR(I18=\"a\",I18=\"as\"),E15,IF(OR(I18=\"b\",I18=\"bs\"),E19,)))","v":""}]
[null,null,null,null,null,null,null,"Umpire",null,{"$f":"UPPER(IF(OR(I18=\"a\",I18=\"as\"),E16,IF(OR(I18=\"b\",I18=\"bs\"),E20,)))","v":""}]
[4,{"$f":"IF($D19=\"\",\"\",VLOOKUP($D19,'Boys Do Main Draw Prep'!$A$7:$V$23,20))","v":""},{"$f":"IF($D19=\"\",\"\",VLOOKUP($D19,'Boys Do Main Draw Prep'!$A$7:$V$23,21))","v":""},null,{"$f":"UPPER(IF($D19=\"\",\"\",VLOOKUP($D19,'Boys Do Main Draw Prep'!$A$7:$V$23,2)))","v":""},{"$f":"IF($D19=\"\",\"\",VLOOKUP($D19,'Boys Do Main Draw Prep'!$A$7:$V$23,3))","v":""},null,{"$f":"IF($D19=\"\",\"\",VLOOKUP($D19,'Boys Do Main Draw Prep'!$A$7:$V$23,4))","v":""}]
[null,null,null,null,{"$f":"UPPER(IF($D19=\"\",\"\",VLOOKUP($D19,'Boys Do Main Draw Prep'!$A$7:$V$23,7)))","v":""},{"$f":"IF($D19=\"\",\"\",VLOOKUP($D19,'Boys Do Main Draw Prep'!$A$7:$V$23,8))","v":""},null,{"$f":"IF($D19=\"\",\"\",VLOOKUP($D19,'Boys Do Main Draw Prep'!$A$7:$V$23,9))","v":""}]
[null,null,null,null,null,null,null,null,null,null,null,null,null,{"$f":"UPPER(IF(OR(M22=\"a\",M22=\"as\"),L13,IF(OR(M22=\"b\",M22=\"bs\"),L29,)))","v":""}]
[null,null,null,null,null,null,null,null,null,null,null,"Umpire",null,{"$f":"UPPER(IF(OR(M22=\"a\",M22=\"as\"),L14,IF(OR(M22=\"b\",M22=\"bs\"),L30,)))","v":""}]
[5,{"$f":"IF($D23=\"\",\"\",VLOOKUP($D23,'Boys Do Main Draw Prep'!$A$7:$V$23,20))","v":""},{"$f":"IF($D23=\"\",\"\",VLOOKUP($D23,'Boys Do Main Draw Prep'!$A$7:$V$23,21))","v":""},null,{"$f":"UPPER(IF($D23=\"\",\"\",VLOOKUP($D23,'Boys Do Main Draw Prep'!$A$7:$V$23,2)))","v":""},{"$f":"IF($D23=\"\",\"\",VLOOKUP($D23,'Boys Do Main Draw Prep'!$A$7:$V$23,3))","v":""},null,{"$f":"IF($D23=\"\",\"\",VLOOKUP($D23,'Boys Do Main Draw Prep'!$A$7:$V$23,4))","v":""}]
[null,null,null,null,{"$f":"UPPER(IF($D23=\"\",\"\",VLOOKUP($D23,'Boys Do Main Draw Prep'!$A$7:$V$23,7)))","v":""},{"$f":"IF($D23=\"\",\"\",VLOOKUP($D23,'Boys Do Main Draw Prep'!$A$7:$V$23,8))","v":""},null,{"$f":"IF($D23=\"\",\"\",VLOOKUP($D23,'Boys Do Main Draw Prep'!$A$7:$V$23,9))","v":""},null,{"$f":"IF(I24=\"a\",E23,IF(I24=\"b\",E25,\"\"))","v":""}]
[null,null,null,null,null,null,null,null,null,{"$f":"UPPER(IF(OR(I26=\"a\",I26=\"as\"),E23,IF(OR(I26=\"b\",I26=\"bs\"),E27,)))","v":""}]
[null,null,null,null,null,null,null,"Umpire",null,{"$f":"UPPER(IF(OR(I26=\"a\",I26=\"as\"),E24,IF(OR(I26=\"b\",I26=\"bs\"),E28,)))","v":""}]
[6,{"$f":"IF($D27=\"\",\"\",VLOOKUP($D27,'Boys Do Main Draw Prep'!$A$7:$V$23,20))","v":""},{"$f":"IF($D27=\"\",\"\",VLOOKUP($D27,'Boys Do Main Draw Prep'!$A$7:$V$23,21))","v":""},null,{"$f":"UPPER(IF($D27=\"\",\"\",VLOOKUP($D27,'Boys Do Main Draw Prep'!$A$7:$V$23,2)))","v":""},{"$f":"IF($D27=\"\",\"\",VLOOKUP($D27,'Boys Do Main Draw Prep'!$A$7:$V$23,3))","v":""},null,{"$f":"IF($D27=\"\",\"\",VLOOKUP($D27,'Boys Do Main Draw Prep'!$A$7:$V$23,4))","v":""}]
[null,null,null,null,{"$f":"UPPER(IF($D27=\"\",\"\",VLOOKUP($D27,'Boys Do Main Draw Prep'!$A$7:$V$23,7)))","v":""},{"$f":"IF($D27=\"\",\"\",VLOOKUP($D27,'Boys Do Main Draw Prep'!$A$7:$V$23,8))","v":""},null,{"$f":"IF($D27=\"\",\"\",VLOOKUP($D27,'Boys Do Main Draw Prep'!$A$7:$V$23,9))","v":""}]
[null,null,null,null,null,null,null,null,null,null,null,{"$f":"UPPER(IF(OR(K30=\"a\",K30=\"as\"),J25,IF(OR(K30=\"b\",K30=\"bs\"),J33,)))","v":""}]
[null,null,null,null,null,null,null,null,null,"Umpire",null,{"$f":"UPPER(IF(OR(K30=\"a\",K30=\"as\"),J26,IF(OR(K30=\"b\",K30=\"bs\"),J34,)))","v":""}]
[7,{"$f":"IF($D31=\"\",\"\",VLOOKUP($D31,'Boys Do Main Draw Prep'!$A$7:$V$23,20))","v":""},{"$f":"IF($D31=\"\",\"\",VLOOKUP($D31,'Boys Do Main Draw Prep'!$A$7:$V$23,21))","v":""},null,{"$f":"UPPER(IF($D31=\"\",\"\",VLOOKUP($D31,'Boys Do Main Draw Prep'!$A$7:$V$23,2)))","v":""},{"$f":"IF($D31=\"\",\"\",VLOOKUP($D31,'Boys Do Main Draw Prep'!$A$7:$V$23,3))","v":""},null,{"$f":"IF($D31=\"\",\"\",VLOOKUP($D31,'Boys Do Main Draw Prep'!$A$7:$V$23,4))","v":""}]
[null,null,null,null,{"$f":"UPPER(IF($D31=\"\",\"\",VLOOKUP($D31,'Boys Do Main Draw Prep'!$A$7:$V$23,7)))","v":""},{"$f":"IF($D31=\"\",\"\",VLOOKUP($D31,'Boys Do Main Draw Prep'!$A$7:$V$23,8))","v":""},null,{"$f":"IF($D31=\"\",\"\",VLOOKUP($D31,'Boys Do Main Draw Prep'!$A$7:$V$23,9))","v":""},null,{"$f":"IF(I32=\"a\",E31,IF(I32=\"b\",E33,\"\"))","v":""}]
[null,null,null,null,null,null,null,null,null,{"$f":"UPPER(IF(OR(I34=\"a\",I34=\"as\"),E31,IF(OR(I34=\"b\",I34=\"bs\"),E35,)))","v":""}]
[null,null,null,null,null,null,null,"Umpire",null,{"$f":"UPPER(IF(OR(I34=\"a\",I34=\"as\"),E32,IF(OR(I34=\"b\",I34=\"bs\"),E36,)))","v":""}]
[8,{"$f":"IF($D35=\"\",\"\",VLOOKUP($D35,'Boys Do Main Draw Prep'!$A$7:$V$23,20))","v":""},{"$f":"IF($D35=\"\",\"\",VLOOKUP($D35,'Boys Do Main Draw Prep'!$A$7:$V$23,21))","v":""},null,{"$f":"UPPER(IF($D35=\"\",\"\",VLOOKUP($D35,'Boys Do Main Draw Prep'!$A$7:$V$23,2)))","v":""},{"$f":"IF($D35=\"\",\"\",VLOOKUP($D35,'Boys Do Main Draw Prep'!$A$7:$V$23,3))","v":""},null,{"$f":"IF($D35=\"\",\"\",VLOOKUP($D35,'Boys Do Main Draw Prep'!$A$7:$V$23,4))","v":""}]
[null,null,null,null,{"$f":"UPPER(IF($D35=\"\",\"\",VLOOKUP($D35,'Boys Do Main Draw Prep'!$A$7:$V$23,7)))","v":""},{"$f":"IF($D35=\"\",\"\",VLOOKUP($D35,'Boys Do Main Draw Prep'!$A$7:$V$23,8))","v":""},null,{"$f":"IF($D35=\"\",\"\",VLOOKUP($D35,'Boys Do Main Draw Prep'!$A$7:$V$23,9))","v":""}]
[null,null,null,null,null,null,null,null,null,null,null,null,null,null,null,{"$f":"UPPER(IF(OR(O38=\"a\",O38=\"as\"),N21,IF(OR(O38=\"b\",O38=\"bs\"),N53,)))","v":""}]
[null,null,null,null,null,null,null,null,null,null,null,null,null,"Umpire",null,{"$f":"UPPER(IF(OR(O38=\"a\",O38=\"as\"),N22,IF(OR(O38=\"b\",O38=\"bs\"),N54,)))","v":""}]
[9,{"$f":"IF($D39=\"\",\"\",VLOOKUP($D39,'Boys Do Main Draw Prep'!$A$7:$V$23,20))","v":""},{"$f":"IF($D39=\"\",\"\",VLOOKUP($D39,'Boys Do Main Draw Prep'!$A$7:$V$23,21))","v":""},null,{"$f":"UPPER(IF($D39=\"\",\"\",VLOOKUP($D39,'Boys Do Main Draw Prep'!$A$7:$V$23,2)))","v":""},{"$f":"IF($D39=\"\",\"\",VLOOKUP($D39,'Boys Do Main Draw Prep'!$A$7:$V$23,3))","v":""},null,{"$f":"IF($D39=\"\",\"\",VLOOKUP($D39,'Boys Do Main Draw Prep'!$A$7:$V$23,4))","v":""}]
[null,null,null,null,{"$f":"UPPER(IF($D39=\"\",\"\",VLOOKUP($D39,'Boys Do Main Draw Prep'!$A$7:$V$23,7)))","v":""},{"$f":"IF($D39=\"\",\"\",VLOOKUP($D39,'Boys Do Main Draw Prep'!$A$7:$V$23,8))","v":""},null,{"$f":"IF($D39=\"\",\"\",VLOOKUP($D39,'Boys Do Main Draw Prep'!$A$7:$V$23,9))","v":""},null,{"$f":"IF(I40=\"a\",E39,IF(I40=\"b\",E41,\"\"))","v":""}]
[null,null,null,null,null,null,null,null,null,{"$f":"UPPER(IF(OR(I42=\"a\",I42=\"as\"),E39,IF(OR(I42=\"b\",I42=\"bs\"),E43,)))","v":""}]
[null,null,null,null,null,null,null,"Umpire",null,{"$f":"UPPER(IF(OR(I42=\"a\",I42=\"as\"),E40,IF(OR(I42=\"b\",I42=\"bs\"),E44,)))","v":""}]
[10,{"$f":"IF($D43=\"\",\"\",VLOOKUP($D43,'Boys Do Main Draw Prep'!$A$7:$V$23,20))","v":""},{"$f":"IF($D43=\"\",\"\",VLOOKUP($D43,'Boys Do Main Draw Prep'!$A$7:$V$23,21))","v":""},null,{"$f":"UPPER(IF($D43=\"\",\"\",VLOOKUP($D43,'Boys Do Main Draw Prep'!$A$7:$V$23,2)))","v":""},{"$f":"IF($D43=\"\",\"\",VLOOKUP($D43,'Boys Do Main Draw Prep'!$A$7:$V$23,3))","v":""},null,{"$f":"IF($D43=\"\",\"\",VLOOKUP($D43,'Boys Do Main Draw Prep'!$A$7:$V$23,4))","v":""}]
[null,null,null,null,{"$f":"UPPER(IF($D43=\"\",\"\",VLOOKUP($D43,'Boys Do Main Draw Prep'!$A$7:$V$23,7)))","v":""},{"$f":"IF($D43=\"\",\"\",VLOOKUP($D43,'Boys Do Main Draw Prep'!$A$7:$V$23,8))","v":""},null,{"$f":"IF($D43=\"\",\"\",VLOOKUP($D43,'Boys Do Main Draw Prep'!$A$7:$V$23,9))","v":""}]
[null,null,null,null,null,null,null,null,null,null,null,{"$f":"UPPER(IF(OR(K46=\"a\",K46=\"as\"),J41,IF(OR(K46=\"b\",K46=\"bs\"),J49,)))","v":""}]
[null,null,null,null,null,null,null,null,null,"Umpire",null,{"$f":"UPPER(IF(OR(K46=\"a\",K46=\"as\"),J42,IF(OR(K46=\"b\",K46=\"bs\"),J50,)))","v":""}]
[11,{"$f":"IF($D47=\"\",\"\",VLOOKUP($D47,'Boys Do Main Draw Prep'!$A$7:$V$23,20))","v":""},{"$f":"IF($D47=\"\",\"\",VLOOKUP($D47,'Boys Do Main Draw Prep'!$A$7:$V$23,21))","v":""},null,{"$f":"UPPER(IF($D47=\"\",\"\",VLOOKUP($D47,'Boys Do Main Draw Prep'!$A$7:$V$23,2)))","v":""},{"$f":"IF($D47=\"\",\"\",VLOOKUP($D47,'Boys Do Main Draw Prep'!$A$7:$V$23,3))","v":""},null,{"$f":"IF($D47=\"\",\"\",VLOOKUP($D47,'Boys Do Main Draw Prep'!$A$7:$V$23,4))","v":""}]
[null,null,null,null,{"$f":"UPPER(IF($D47=\"\",\"\",VLOOKUP($D47,'Boys Do Main Draw Prep'!$A$7:$V$23,7)))","v":""},{"$f":"IF($D47=\"\",\"\",VLOOKUP($D47,'Boys Do Main Draw Prep'!$A$7:$V$23,8))","v":""},null,{"$f":"IF($D47=\"\",\"\",VLOOKUP($D47,'Boys Do Main Draw Prep'!$A$7:$V$23,9))","v":""},null,{"$f":"IF(I48=\"a\",E47,IF(I48=\"b\",E49,\"\"))","v":""}]
[null,null,null,null,null,null,null,null,null,{"$f":"UPPER(IF(OR(I50=\"a\",I50=\"as\"),E47,IF(OR(I50=\"b\",I50=\"bs\"),E51,)))","v":""}]
[null,null,null,null,null,null,null,"Umpire",null,{"$f":"UPPER(IF(OR(I50=\"a\",I50=\"as\"),E48,IF(OR(I50=\"b\",I50=\"bs\"),E52,)))","v":""}]
[12,{"$f":"IF($D51=\"\",\"\",VLOOKUP($D51,'Boys Do Main Draw Prep'!$A$7:$V$23,20))","v":""},{"$f":"IF($D51=\"\",\"\",VLOOKUP($D51,'Boys Do Main Draw Prep'!$A$7:$V$23,21))","v":""},null,{"$f":"UPPER(IF($D51=\"\",\"\",VLOOKUP($D51,'Boys Do Main Draw Prep'!$A$7:$V$23,2)))","v":""},{"$f":"IF($D51=\"\",\"\",VLOOKUP($D51,'Boys Do Main Draw Prep'!$A$7:$V$23,3))","v":""},null,{"$f":"IF($D51=\"\",\"\",VLOOKUP($D51,'Boys Do Main Draw Prep'!$A$7:$V$23,4))","v":""}]
[null,null,null,null,{"$f":"UPPER(IF($D51=\"\",\"\",VLOOKUP($D51,'Boys Do Main Draw Prep'!$A$7:$V$23,7)))","v":""},{"$f":"IF($D51=\"\",\"\",VLOOKUP($D51,'Boys Do Main Draw Prep'!$A$7:$V$23,8))","v":""},null,{"$f":"IF($D51=\"\",\"\",VLOOKUP($D51,'Boys Do Main Draw Prep'!$A$7:$V$23,9))","v":""}]
[null,null,null,null,null,null,null,null,null,null,null,null,null,{"$f":"UPPER(IF(OR(M54=\"a\",M54=\"as\"),L45,IF(OR(M54=\"b\",M54=\"bs\"),L61,)))","v":""}]
[null,null,null,null,null,null,null,null,null,null,null,"Umpire",null,{"$f":"UPPER(IF(OR(M54=\"a\",M54=\"as\"),L46,IF(OR(M54=\"b\",M54=\"bs\"),L62,)))","v":""}]
[13,{"$f":"IF($D55=\"\",\"\",VLOOKUP($D55,'Boys Do Main Draw Prep'!$A$7:$V$23,20))","v":""},{"$f":"IF($D55=\"\",\"\",VLOOKUP($D55,'Boys Do Main Draw Prep'!$A$7:$V$23,21))","v":""},null,{"$f":"UPPER(IF($D55=\"\",\"\",VLOOKUP($D55,'Boys Do Main Draw Prep'!$A$7:$V$23,2)))","v":""},{"$f":"IF($D55=\"\",\"\",VLOOKUP($D55,'Boys Do Main Draw Prep'!$A$7:$V$23,3))","v":""},null,{"$f":"IF($D55=\"\",\"\",VLOOKUP($D55,'Boys Do Main Draw Prep'!$A$7:$V$23,4))","v":""}]
[null,null,null,null,{"$f":"UPPER(IF($D55=\"\",\"\",VLOOKUP($D55,'Boys Do Main Draw Prep'!$A$7:$V$23,7)))","v":""},{"$f":"IF($D55=\"\",\"\",VLOOKUP($D55,'Boys Do Main Draw Prep'!$A$7:$V$23,8))","v":""},null,{"$f":"IF($D55=\"\",\"\",VLOOKUP($D55,'Boys Do Main Draw Prep'!$A$7:$V$23,9))","v":""},null,{"$f":"IF(I56=\"a\",E55,IF(I56=\"b\",E57,\"\"))","v":""}]
[null,null,null,null,null,null,null,null,null,{"$f":"UPPER(IF(OR(I58=\"a\",I58=\"as\"),E55,IF(OR(I58=\"b\",I58=\"bs\"),E59,)))","v":""}]
[null,null,null,null,null,null,null,"Umpire",null,{"$f":"UPPER(IF(OR(I58=\"a\",I58=\"as\"),E56,IF(OR(I58=\"b\",I58=\"bs\"),E60,)))","v":""}]
[14,{"$f":"IF($D59=\"\",\"\",VLOOKUP($D59,'Boys Do Main Draw Prep'!$A$7:$V$23,20))","v":""},{"$f":"IF($D59=\"\",\"\",VLOOKUP($D59,'Boys Do Main Draw Prep'!$A$7:$V$23,21))","v":""},null,{"$f":"UPPER(IF($D59=\"\",\"\",VLOOKUP($D59,'Boys Do Main Draw Prep'!$A$7:$V$23,2)))","v":""},{"$f":"IF($D59=\"\",\"\",VLOOKUP($D59,'Boys Do Main Draw Prep'!$A$7:$V$23,3))","v":""},null,{"$f":"IF($D59=\"\",\"\",VLOOKUP($D59,'Boys Do Main Draw Prep'!$A$7:$V$23,4))","v":""}]
[null,null,null,null,{"$f":"UPPER(IF($D59=\"\",\"\",VLOOKUP($D59,'Boys Do Main Draw Prep'!$A$7:$V$23,7)))","v":""},{"$f":"IF($D59=\"\",\"\",VLOOKUP($D59,'Boys Do Main Draw Prep'!$A$7:$V$23,8))","v":""},null,{"$f":"IF($D59=\"\",\"\",VLOOKUP($D59,'Boys Do Main Draw Prep'!$A$7:$V$23,9))","v":""}]
[null,null,null,null,null,null,null,null,null,null,null,{"$f":"UPPER(IF(OR(K62=\"a\",K62=\"as\"),J57,IF(OR(K62=\"b\",K62=\"bs\"),J65,)))","v":""}]
[null,null,null,null,null,null,null,null,null,"Umpire",null,{"$f":"UPPER(IF(OR(K62=\"a\",K62=\"as\"),J58,IF(OR(K62=\"b\",K62=\"bs\"),J66,)))","v":""}]
[15,{"$f":"IF($D63=\"\",\"\",VLOOKUP($D63,'Boys Do Main Draw Prep'!$A$7:$V$23,20))","v":""},{"$f":"IF($D63=\"\",\"\",VLOOKUP($D63,'Boys Do Main Draw Prep'!$A$7:$V$23,21))","v":""},null,{"$f":"UPPER(IF($D63=\"\",\"\",VLOOKUP($D63,'Boys Do Main Draw Prep'!$A$7:$V$23,2)))","v":""},{"$f":"IF($D63=\"\",\"\",VLOOKUP($D63,'Boys Do Main Draw Prep'!$A$7:$V$23,3))","v":""},null,{"$f":"IF($D63=\"\",\"\",VLOOKUP($D63,'Boys Do Main Draw Prep'!$A$7:$V$23,4))","v":""}]
[null,null,null,null,{"$f":"UPPER(IF($D63=\"\",\"\",VLOOKUP($D63,'Boys Do Main Draw Prep'!$A$7:$V$23,7)))","v":""},{"$f":"IF($D63=\"\",\"\",VLOOKUP($D63,'Boys Do Main Draw Prep'!$A$7:$V$23,8))","v":""},null,{"$f":"IF($D63=\"\",\"\",VLOOKUP($D63,'Boys Do Main Draw Prep'!$A$7:$V$23,9))","v":""},null,{"$f":"IF(I64=\"a\",E63,IF(I64=\"b\",E65,\"\"))","v":""}]
[null,null,null,null,null,null,null,null,null,{"$f":"UPPER(IF(OR(I66=\"a\",I66=\"as\"),E63,IF(OR(I66=\"b\",I66=\"bs\"),E67,)))","v":""}]
[null,null,null,null,null,null,null,"Umpire",null,{"$f":"UPPER(IF(OR(I66=\"a\",I66=\"as\"),E64,IF(OR(I66=\"b\",I66=\"bs\"),E68,)))","v":""}]
[16,{"$f":"IF($D67=\"\",\"\",VLOOKUP($D67,'Boys Do Main Draw Prep'!$A$7:$V$23,20))","v":""},{"$f":"IF($D67=\"\",\"\",VLOOKUP($D67,'Boys Do Main Draw Prep'!$A$7:$V$23,21))","v":""},null,{"$f":"UPPER(IF($D67=\"\",\"\",VLOOKUP($D67,'Boys Do Main Draw Prep'!$A$7:$V$23,2)))","v":""},{"$f":"IF($D67=\"\",\"\",VLOOKUP($D67,'Boys Do Main Draw Prep'!$A$7:$V$23,3))","v":""},null,{"$f":"IF($D67=\"\",\"\",VLOOKUP($D67,'Boys Do Main Draw Prep'!$A$7:$V$23,4))","v":""}]
[null,null,null,null,{"$f":"UPPER(IF($D67=\"\",\"\",VLOOKUP($D67,'Boys Do Main Draw Prep'!$A$7:$V$23,7)))","v":""},{"$f":"IF($D67=\"\",\"\",VLOOKUP($D67,'Boys Do Main Draw Prep'!$A$7:$V$23,8))","v":""},null,{"$f":"IF($D67=\"\",\"\",VLOOKUP($D67,'Boys Do Main Draw Prep'!$A$7:$V$23,9))","v":""}]
[]
[]
["Acc. Ranking",null,null,"#","Seeded teams",null,null,null,"#","Alternates",null,"Replacing",null,"Draw date/time:"]
["Rkg Date",null,null,1,{"$f":"IF(D72>$Q$79,,UPPER(VLOOKUP(D72,'Boys Do Main Draw Prep'!$A$7:$R$23,2)))","v":0},null,null,null,"1",null,null,null,null,"Last Accepted team"]
["Top DA",null,null,null,{"$f":"IF(D72>$Q$79,,UPPER(VLOOKUP(D72,'Boys Do Main Draw Prep'!$A$7:$R$23,7)))","v":0}]
["Last DA",null,null,2,{"$f":"IF(D74>$Q$79,,UPPER(VLOOKUP(D74,'Boys Do Main Draw Prep'!$A$7:$R$23,2)))","v":0},null,null,null,"2",null,null,null,null,"Player representatives"]
[null,null,null,null,{"$f":"IF(D74>$Q$79,,UPPER(VLOOKUP(D74,'Boys Do Main Draw Prep'!$A$7:$R$23,7)))","v":0}]
["Seed ranking",null,null,3,{"$f":"IF(D76>$Q$79,,UPPER(VLOOKUP(D76,'Boys Do Main Draw Prep'!$A$7:$R$23,2)))","v":0},null,null,null,"3"]
["Rkg Date",null,null,null,{"$f":"IF(D76>$Q$79,,UPPER(VLOOKUP(D76,'Boys Do Main Draw Prep'!$A$7:$R$23,7)))","v":0},null,null,null,null,null,null,null,null,"ITF Referee's signature"]
["Top seed",null,null,4,{"$f":"IF(D78>$Q$79,,UPPER(VLOOKUP(D78,'Boys Do Main Draw Prep'!$A$7:$R$23,2)))","v":0},null,null,null,"4"]
["Last seed",null,null,null,{"$f":"IF(D78>$Q$79,,UPPER(VLOOKUP(D78,'Boys Do Main Draw Prep'!$A$7:$R$23,7)))","v":0},null,null,null,null,null,null,null,null,{"$f":"Q4","v":0},null,null,{"$f":"MIN(4,'Boys Do Main Draw Prep'!$V$5)","v":0}]

{"sheet":"Boys Do Main 24&32","index":44,"n_rows":154,"n_cols":20,"rows_kept":154,"cut":false,"hidden":false,"merged":[[3,0,3,2]]}
[{"$f":"'Week SetUp'!$A$6","v":0},null,null,null,null,null,null,null,null,"BOYS DOUBLES",null,null,null,"CU"]
[{"$f":"'Week SetUp'!$A$8","v":"ITF Junior Circuit"},null,null,null,null,null,null,null,null,"MAIN DRAW (24&32)"]
["Week of",null,null,null,null,"City, Country",null,null,null,"Group",null,"Tourn. ID",null,null,null,null,"ITF Referee"]
[{"$f":"'Week SetUp'!$A$10","v":"00:00:00"},null,null,null,null,{"$f":"'Week SetUp'!$C$10","v":0},null,null,null,{"$f":"'Week SetUp'!$D$10","v":0},null,{"$f":"'Week SetUp'!$A$12","v":0},null,null,null,null,{"$f":"'Week SetUp'!$E$10","v":0}]
[null,"St.",{"$f":"IF(OR(F2=\"Week 3\",F2=\"Masters\"),\"CP\",\"Rank\")","v":"Rank"},"Seed","Family Name","First name",null,"Nationality",null,"2nd Round",null,"Quarterfinals",null,"Semifinals",null,"Finalists"]
[]
[1,{"$f":"IF($D7=\"\",\"\",VLOOKUP($D7,'Boys Do Main Draw Prep'!$A$7:$V$39,20))","v":""},{"$f":"IF($D7=\"\",\"\",VLOOKUP($D7,'Boys Do Main Draw Prep'!$A$7:$V$39,21))","v":""},null,{"$f":"UPPER(IF($D7=\"\",\"\",VLOOKUP($D7,'Boys Do Main Draw Prep'!$A$7:$V$39,2)))","v":""},{"$f":"IF($D7=\"\",\"\",VLOOKUP($D7,'Boys Do Main Draw Prep'!$A$7:$V$39,3))","v":""},null,{"$f":"IF($D7=\"\",\"\",VLOOKUP($D7,'Boys Do Main Draw Prep'!$A$7:$V$39,4))","v":""},null,null,null,null,null,null,null,null,"Page 1(2)",null,null,{"$f":"'SetUp Officials'!P21","v":"Umpire"}]
[null,null,null,null,{"$f":"UPPER(IF($D7=\"\",\"\",VLOOKUP($D7,'Boys Do Main Draw Prep'!$A$7:$V$39,7)))","v":""},{"$f":"IF($D7=\"\",\"\",VLOOKUP($D7,'Boys Do Main Draw Prep'!$A$7:$V$39,8))","v":""},null,{"$f":"IF($D7=\"\",\"\",VLOOKUP($D7,'Boys Do Main Draw Prep'!$A$7:$V$39,9))","v":""},null,{"$f":"IF(I8=\"a\",E7,IF(I8=\"b\",E9,\"\"))","v":""},null,null,null,null,null,null,null,null,null,{"$f":"'SetUp Officials'!P22","v":" "}]
[null,null,null,null,null,null,null,null,null,{"$f":"UPPER(IF(OR(I10=\"a\",I10=\"as\"),E7,IF(OR(I10=\"b\",I10=\"bs\"),E11,)))","v":""},null,null,null,null,null,null,null,null,null,{"$f":"'SetUp Officials'!P23","v":" "}]
[null,null,null,null,null,null,null,"Umpire",null,{"$f":"UPPER(IF(OR(I10=\"a\",I10=\"as\"),E8,IF(OR(I10=\"b\",I10=\"bs\"),E12,)))","v":""},null,null,null,null,null,null,null,null,null,{"$f":"'SetUp Officials'!P24","v":" "}]
[2,{"$f":"IF($D11=\"\",\"\",VLOOKUP($D11,'Boys Do Main Draw Prep'!$A$7:$V$39,20))","v":""},{"$f":"IF($D11=\"\",\"\",VLOOKUP($D11,'Boys Do Main Draw Prep'!$A$7:$V$39,21))","v":""},null,{"$f":"UPPER(IF($D11=\"\",\"\",VLOOKUP($D11,'Boys Do Main Draw Prep'!$A$7:$V$39,2)))","v":""},{"$f":"IF($D11=\"\",\"\",VLOOKUP($D11,'Boys Do Main Draw Prep'!$A$7:$V$39,3))","v":""},null,{"$f":"IF($D11=\"\",\"\",VLOOKUP($D11,'Boys Do Main Draw Prep'!$A$7:$V$39,4))","v":""},null,null,null,null,null,null,null,null,null,null,null,{"$f":"'SetUp Officials'!P25","v":" "}]
[null,null,null,null,{"$f":"UPPER(IF($D11=\"\",\"\",VLOOKUP($D11,'Boys Do Main Draw Prep'!$A$7:$V$39,7)))","v":""},{"$f":"IF($D11=\"\",\"\",VLOOKUP($D11,'Boys Do Main Draw Prep'!$A$7:$V$39,8))","v":""},null,{"$f":"IF($D11=\"\",\"\",VLOOKUP($D11,'Boys Do Main Draw Prep'!$A$7:$V$39,9))","v":""},null,null,null,null,null,null,null,null,null,null,null,{"$f":"'SetUp Officials'!P26","v":" "}]
[null,null,null,null,null,null,null,null,null,null,null,{"$f":"UPPER(IF(OR(K14=\"a\",K14=\"as\"),J9,IF(OR(K14=\"b\",K14=\"bs\"),J17,)))","v":""},null,null,null,null,null,null,null,{"$f":"'SetUp Officials'!P27","v":" "}]
[null,null,null,null,null,null,null,null,null,"Umpire",null,{"$f":"UPPER(IF(OR(K14=\"a\",K14=\"as\"),J10,IF(OR(K14=\"b\",K14=\"bs\"),J18,)))","v":""},null,null,null,null,null,null,null,{"$f":"'SetUp Officials'!P28","v":" "}]
[3,{"$f":"IF($D15=\"\",\"\",VLOOKUP($D15,'Boys Do Main Draw Prep'!$A$7:$V$39,20))","v":""},{"$f":"IF($D15=\"\",\"\",VLOOKUP($D15,'Boys Do Main Draw Prep'!$A$7:$V$39,21))","v":""},null,{"$f":"UPPER(IF($D15=\"\",\"\",VLOOKUP($D15,'Boys Do Main Draw Prep'!$A$7:$V$39,2)))","v":""},{"$f":"IF($D15=\"\",\"\",VLOOKUP($D15,'Boys Do Main Draw Prep'!$A$7:$V$39,3))","v":""},null,{"$f":"IF($D15=\"\",\"\",VLOOKUP($D15,'Boys Do Main Draw Prep'!$A$7:$V$39,4))","v":""},null,null,null,null,null,null,null,null,null,null,null,{"$f":"'SetUp Officials'!P29","v":" "}]
[null,null,null,null,{"$f":"UPPER(IF($D15=\"\",\"\",VLOOKUP($D15,'Boys Do Main Draw Prep'!$A$7:$V$39,7)))","v":""},{"$f":"IF($D15=\"\",\"\",VLOOKUP($D15,'Boys Do Main Draw Prep'!$A$7:$V$39,8))","v":""},null,{"$f":"IF($D15=\"\",\"\",VLOOKUP($D15,'Boys Do Main Draw Prep'!$A$7:$V$39,9))","v":""},null,{"$f":"IF(I16=\"a\",E15,IF(I16=\"b\",E17,\"\"))","v":""},null,null,null,null,null,null,null,null,null,{"$f":"'SetUp Officials'!P30","v":"None"}]
[null,null,null,null,null,null,null,null,null,{"$f":"UPPER(IF(OR(I18=\"a\",I18=\"as\"),E15,IF(OR(I18=\"b\",I18=\"bs\"),E19,)))","v":""}]
[null,null,null,null,null,null,null,"Umpire",null,{"$f":"UPPER(IF(OR(I18=\"a\",I18=\"as\"),E16,IF(OR(I18=\"b\",I18=\"bs\"),E20,)))","v":""}]
[4,{"$f":"IF($D19=\"\",\"\",VLOOKUP($D19,'Boys Do Main Draw Prep'!$A$7:$V$39,20))","v":""},{"$f":"IF($D19=\"\",\"\",VLOOKUP($D19,'Boys Do Main Draw Prep'!$A$7:$V$39,21))","v":""},null,{"$f":"UPPER(IF($D19=\"\",\"\",VLOOKUP($D19,'Boys Do Main Draw Prep'!$A$7:$V$39,2)))","v":""},{"$f":"IF($D19=\"\",\"\",VLOOKUP($D19,'Boys Do Main Draw Prep'!$A$7:$V$39,3))","v":""},null,{"$f":"IF($D19=\"\",\"\",VLOOKUP($D19,'Boys Do Main Draw Prep'!$A$7:$V$39,4))","v":""}]
[null,null,null,null,{"$f":"UPPER(IF($D19=\"\",\"\",VLOOKUP($D19,'Boys Do Main Draw Prep'!$A$7:$V$39,7)))","v":""},{"$f":"IF($D19=\"\",\"\",VLOOKUP($D19,'Boys Do Main Draw Prep'!$A$7:$V$39,8))","v":""},null,{"$f":"IF($D19=\"\",\"\",VLOOKUP($D19,'Boys Do Main Draw Prep'!$A$7:$V$39,9))","v":""}]
[null,null,null,null,null,null,null,null,null,null,null,null,null,{"$f":"UPPER(IF(OR(M22=\"a\",M22=\"as\"),L13,IF(OR(M22=\"b\",M22=\"bs\"),L29,)))","v":""}]
[null,null,null,null,null,null,null,null,null,null,null,"Umpire",null,{"$f":"UPPER(IF(OR(M22=\"a\",M22=\"as\"),L14,IF(OR(M22=\"b\",M22=\"bs\"),L30,)))","v":""}]
[5,{"$f":"IF($D23=\"\",\"\",VLOOKUP($D23,'Boys Do Main Draw Prep'!$A$7:$V$39,20))","v":""},{"$f":"IF($D23=\"\",\"\",VLOOKUP($D23,'Boys Do Main Draw Prep'!$A$7:$V$39,21))","v":""},null,{"$f":"UPPER(IF($D23=\"\",\"\",VLOOKUP($D23,'Boys Do Main Draw Prep'!$A$7:$V$39,2)))","v":""},{"$f":"IF($D23=\"\",\"\",VLOOKUP($D23,'Boys Do Main Draw Prep'!$A$7:$V$39,3))","v":""},null,{"$f":"IF($D23=\"\",\"\",VLOOKUP($D23,'Boys Do Main Draw Prep'!$A$7:$V$39,4))","v":""}]
[null,null,null,null,{"$f":"UPPER(IF($D23=\"\",\"\",VLOOKUP($D23,'Boys Do Main Draw Prep'!$A$7:$V$39,7)))","v":""},{"$f":"IF($D23=\"\",\"\",VLOOKUP($D23,'Boys Do Main Draw Prep'!$A$7:$V$39,8))","v":""},null,{"$f":"IF($D23=\"\",\"\",VLOOKUP($D23,'Boys Do Main Draw Prep'!$A$7:$V$39,9))","v":""},null,{"$f":"IF(I24=\"a\",E23,IF(I24=\"b\",E25,\"\"))","v":""}]
[null,null,null,null,null,null,null,null,null,{"$f":"UPPER(IF(OR(I26=\"a\",I26=\"as\"),E23,IF(OR(I26=\"b\",I26=\"bs\"),E27,)))","v":""}]
[null,null,null,null,null,null,null,"Umpire",null,{"$f":"UPPER(IF(OR(I26=\"a\",I26=\"as\"),E24,IF(OR(I26=\"b\",I26=\"bs\"),E28,)))","v":""}]
[6,{"$f":"IF($D27=\"\",\"\",VLOOKUP($D27,'Boys Do Main Draw Prep'!$A$7:$V$39,20))","v":""},{"$f":"IF($D27=\"\",\"\",VLOOKUP($D27,'Boys Do Main Draw Prep'!$A$7:$V$39,21))","v":""},null,{"$f":"UPPER(IF($D27=\"\",\"\",VLOOKUP($D27,'Boys Do Main Draw Prep'!$A$7:$V$39,2)))","v":""},{"$f":"IF($D27=\"\",\"\",VLOOKUP($D27,'Boys Do Main Draw Prep'!$A$7:$V$39,3))","v":""},null,{"$f":"IF($D27=\"\",\"\",VLOOKUP($D27,'Boys Do Main Draw Prep'!$A$7:$V$39,4))","v":""}]
[null,null,null,null,{"$f":"UPPER(IF($D27=\"\",\"\",VLOOKUP($D27,'Boys Do Main Draw Prep'!$A$7:$V$39,7)))","v":""},{"$f":"IF($D27=\"\",\"\",VLOOKUP($D27,'Boys Do Main Draw Prep'!$A$7:$V$39,8))","v":""},null,{"$f":"IF($D27=\"\",\"\",VLOOKUP($D27,'Boys Do Main Draw Prep'!$A$7:$V$39,9))","v":""}]
[null,null,null,null,null,null,null,null,null,null,null,{"$f":"UPPER(IF(OR(K30=\"a\",K30=\"as\"),J25,IF(OR(K30=\"b\",K30=\"bs\"),J33,)))","v":""}]
[null,null,null,null,null,null,null,null,null,"Umpire",null,{"$f":"UPPER(IF(OR(K30=\"a\",K30=\"as\"),J26,IF(OR(K30=\"b\",K30=\"bs\"),J34,)))","v":""}]
[7,{"$f":"IF($D31=\"\",\"\",VLOOKUP($D31,'Boys Do Main Draw Prep'!$A$7:$V$39,20))","v":""},{"$f":"IF($D31=\"\",\"\",VLOOKUP($D31,'Boys Do Main Draw Prep'!$A$7:$V$39,21))","v":""},null,{"$f":"UPPER(IF($D31=\"\",\"\",VLOOKUP($D31,'Boys Do Main Draw Prep'!$A$7:$V$39,2)))","v":""},{"$f":"IF($D31=\"\",\"\",VLOOKUP($D31,'Boys Do Main Draw Prep'!$A$7:$V$39,3))","v":""},null,{"$f":"IF($D31=\"\",\"\",VLOOKUP($D31,'Boys Do Main Draw Prep'!$A$7:$V$39,4))","v":""}]
[null,null,null,null,{"$f":"UPPER(IF($D31=\"\",\"\",VLOOKUP($D31,'Boys Do Main Draw Prep'!$A$7:$V$39,7)))","v":""},{"$f":"IF($D31=\"\",\"\",VLOOKUP($D31,'Boys Do Main Draw Prep'!$A$7:$V$39,8))","v":""},null,{"$f":"IF($D31=\"\",\"\",VLOOKUP($D31,'Boys Do Main Draw Prep'!$A$7:$V$39,9))","v":""},null,{"$f":"IF(I32=\"a\",E31,IF(I32=\"b\",E33,\"\"))","v":""}]
[null,null,null,null,null,null,null,null,null,{"$f":"UPPER(IF(OR(I34=\"a\",I34=\"as\"),E31,IF(OR(I34=\"b\",I34=\"bs\"),E35,)))","v":""}]
[null,null,null,null,null,null,null,"Umpire",null,{"$f":"UPPER(IF(OR(I34=\"a\",I34=\"as\"),E32,IF(OR(I34=\"b\",I34=\"bs\"),E36,)))","v":""}]
[8,{"$f":"IF($D35=\"\",\"\",VLOOKUP($D35,'Boys Do Main Draw Prep'!$A$7:$V$39,20))","v":""},{"$f":"IF($D35=\"\",\"\",VLOOKUP($D35,'Boys Do Main Draw Prep'!$A$7:$V$39,21))","v":""},null,{"$f":"UPPER(IF($D35=\"\",\"\",VLOOKUP($D35,'Boys Do Main Draw Prep'!$A$7:$V$39,2)))","v":""},{"$f":"IF($D35=\"\",\"\",VLOOKUP($D35,'Boys Do Main Draw Prep'!$A$7:$V$39,3))","v":""},null,{"$f":"IF($D35=\"\",\"\",VLOOKUP($D35,'Boys Do Main Draw Prep'!$A$7:$V$39,4))","v":""}]
[null,null,null,null,{"$f":"UPPER(IF($D35=\"\",\"\",VLOOKUP($D35,'Boys Do Main Draw Prep'!$A$7:$V$39,7)))","v":""},{"$f":"IF($D35=\"\",\"\",VLOOKUP($D35,'Boys Do Main Draw Prep'!$A$7:$V$39,8))","v":""},null,{"$f":"IF($D35=\"\",\"\",VLOOKUP($D35,'Boys Do Main Draw Prep'!$A$7:$V$39,9))","v":""}]
[null,null,null,null,null,null,null,null,null,null,null,null,null,null,null,{"$f":"UPPER(IF(OR(O38=\"a\",O38=\"as\"),N21,IF(OR(O38=\"b\",O38=\"bs\"),N53,)))","v":""}]
[null,null,null,null,null,null,null,null,null,null,null,null,null,"Umpire",null,{"$f":"UPPER(IF(OR(O38=\"a\",O38=\"as\"),N22,IF(OR(O38=\"b\",O38=\"bs\"),N54,)))","v":""}]
[9,{"$f":"IF($D39=\"\",\"\",VLOOKUP($D39,'Boys Do Main Draw Prep'!$A$7:$V$39,20))","v":""},{"$f":"IF($D39=\"\",\"\",VLOOKUP($D39,'Boys Do Main Draw Prep'!$A$7:$V$39,21))","v":""},null,{"$f":"UPPER(IF($D39=\"\",\"\",VLOOKUP($D39,'Boys Do Main Draw Prep'!$A$7:$V$39,2)))","v":""},{"$f":"IF($D39=\"\",\"\",VLOOKUP($D39,'Boys Do Main Draw Prep'!$A$7:$V$39,3))","v":""},null,{"$f":"IF($D39=\"\",\"\",VLOOKUP($D39,'Boys Do Main Draw Prep'!$A$7:$V$39,4))","v":""}]
[null,null,null,null,{"$f":"UPPER(IF($D39=\"\",\"\",VLOOKUP($D39,'Boys Do Main Draw Prep'!$A$7:$V$39,7)))","v":""},{"$f":"IF($D39=\"\",\"\",VLOOKUP($D39,'Boys Do Main Draw Prep'!$A$7:$V$39,8))","v":""},null,{"$f":"IF($D39=\"\",\"\",VLOOKUP($D39,'Boys Do Main Draw Prep'!$A$7:$V$39,9))","v":""},null,{"$f":"IF(I40=\"a\",E39,IF(I40=\"b\",E41,\"\"))","v":""}]
[null,null,null,null,null,null,null,null,null,{"$f":"UPPER(IF(OR(I42=\"a\",I42=\"as\"),E39,IF(OR(I42=\"b\",I42=\"bs\"),E43,)))","v":""}]
[null,null,null,null,null,null,null,"Umpire",null,{"$f":"UPPER(IF(OR(I42=\"a\",I42=\"as\"),E40,IF(OR(I42=\"b\",I42=\"bs\"),E44,)))","v":""}]
[10,{"$f":"IF($D43=\"\",\"\",VLOOKUP($D43,'Boys Do Main Draw Prep'!$A$7:$V$39,20))","v":""},{"$f":"IF($D43=\"\",\"\",VLOOKUP($D43,'Boys Do Main Draw Prep'!$A$7:$V$39,21))","v":""},null,{"$f":"UPPER(IF($D43=\"\",\"\",VLOOKUP($D43,'Boys Do Main Draw Prep'!$A$7:$V$39,2)))","v":""},{"$f":"IF($D43=\"\",\"\",VLOOKUP($D43,'Boys Do Main Draw Prep'!$A$7:$V$39,3))","v":""},null,{"$f":"IF($D43=\"\",\"\",VLOOKUP($D43,'Boys Do Main Draw Prep'!$A$7:$V$39,4))","v":""}]
[null,null,null,null,{"$f":"UPPER(IF($D43=\"\",\"\",VLOOKUP($D43,'Boys Do Main Draw Prep'!$A$7:$V$39,7)))","v":""},{"$f":"IF($D43=\"\",\"\",VLOOKUP($D43,'Boys Do Main Draw Prep'!$A$7:$V$39,8))","v":""},null,{"$f":"IF($D43=\"\",\"\",VLOOKUP($D43,'Boys Do Main Draw Prep'!$A$7:$V$39,9))","v":""}]
[null,null,null,null,null,null,null,null,null,null,null,{"$f":"UPPER(IF(OR(K46=\"a\",K46=\"as\"),J41,IF(OR(K46=\"b\",K46=\"bs\"),J49,)))","v":""}]
[null,null,null,null,null,null,null,null,null,"Umpire",null,{"$f":"UPPER(IF(OR(K46=\"a\",K46=\"as\"),J42,IF(OR(K46=\"b\",K46=\"bs\"),J50,)))","v":""}]
[11,{"$f":"IF($D47=\"\",\"\",VLOOKUP($D47,'Boys Do Main Draw Prep'!$A$7:$V$39,20))","v":""},{"$f":"IF($D47=\"\",\"\",VLOOKUP($D47,'Boys Do Main Draw Prep'!$A$7:$V$39,21))","v":""},null,{"$f":"UPPER(IF($D47=\"\",\"\",VLOOKUP($D47,'Boys Do Main Draw Prep'!$A$7:$V$39,2)))","v":""},{"$f":"IF($D47=\"\",\"\",VLOOKUP($D47,'Boys Do Main Draw Prep'!$A$7:$V$39,3))","v":""},null,{"$f":"IF($D47=\"\",\"\",VLOOKUP($D47,'Boys Do Main Draw Prep'!$A$7:$V$39,4))","v":""}]
[null,null,null,null,{"$f":"UPPER(IF($D47=\"\",\"\",VLOOKUP($D47,'Boys Do Main Draw Prep'!$A$7:$V$39,7)))","v":""},{"$f":"IF($D47=\"\",\"\",VLOOKUP($D47,'Boys Do Main Draw Prep'!$A$7:$V$39,8))","v":""},null,{"$f":"IF($D47=\"\",\"\",VLOOKUP($D47,'Boys Do Main Draw Prep'!$A$7:$V$39,9))","v":""},null,{"$f":"IF(I48=\"a\",E47,IF(I48=\"b\",E49,\"\"))","v":""}]
[null,null,null,null,null,null,null,null,null,{"$f":"UPPER(IF(OR(I50=\"a\",I50=\"as\"),E47,IF(OR(I50=\"b\",I50=\"bs\"),E51,)))","v":""}]
[null,null,null,null,null,null,null,"Umpire",null,{"$f":"UPPER(IF(OR(I50=\"a\",I50=\"as\"),E48,IF(OR(I50=\"b\",I50=\"bs\"),E52,)))","v":""}]
[12,{"$f":"IF($D51=\"\",\"\",VLOOKUP($D51,'Boys Do Main Draw Prep'!$A$7:$V$39,20))","v":""},{"$f":"IF($D51=\"\",\"\",VLOOKUP($D51,'Boys Do Main Draw Prep'!$A$7:$V$39,21))","v":""},null,{"$f":"UPPER(IF($D51=\"\",\"\",VLOOKUP($D51,'Boys Do Main Draw Prep'!$A$7:$V$39,2)))","v":""},{"$f":"IF($D51=\"\",\"\",VLOOKUP($D51,'Boys Do Main Draw Prep'!$A$7:$V$39,3))","v":""},null,{"$f":"IF($D51=\"\",\"\",VLOOKUP($D51,'Boys Do Main Draw Prep'!$A$7:$V$39,4))","v":""}]
[null,null,null,null,{"$f":"UPPER(IF($D51=\"\",\"\",VLOOKUP($D51,'Boys Do Main Draw Prep'!$A$7:$V$39,7)))","v":""},{"$f":"IF($D51=\"\",\"\",VLOOKUP($D51,'Boys Do Main Draw Prep'!$A$7:$V$39,8))","v":""},null,{"$f":"IF($D51=\"\",\"\",VLOOKUP($D51,'Boys Do Main Draw Prep'!$A$7:$V$39,9))","v":""}]
[null,null,null,null,null,null,null,null,null,null,null,null,null,{"$f":"UPPER(IF(OR(M54=\"a\",M54=\"as\"),L45,IF(OR(M54=\"b\",M54=\"bs\"),L61,)))","v":""}]
[null,null,null,null,null,null,null,null,null,null,null,"Umpire",null,{"$f":"UPPER(IF(OR(M54=\"a\",M54=\"as\"),L46,IF(OR(M54=\"b\",M54=\"bs\"),L62,)))","v":""}]
[13,{"$f":"IF($D55=\"\",\"\",VLOOKUP($D55,'Boys Do Main Draw Prep'!$A$7:$V$39,20))","v":""},{"$f":"IF($D55=\"\",\"\",VLOOKUP($D55,'Boys Do Main Draw Prep'!$A$7:$V$39,21))","v":""},null,{"$f":"UPPER(IF($D55=\"\",\"\",VLOOKUP($D55,'Boys Do Main Draw Prep'!$A$7:$V$39,2)))","v":""},{"$f":"IF($D55=\"\",\"\",VLOOKUP($D55,'Boys Do Main Draw Prep'!$A$7:$V$39,3))","v":""},null,{"$f":"IF($D55=\"\",\"\",VLOOKUP($D55,'Boys Do Main Draw Prep'!$A$7:$V$39,4))","v":""}]
[null,null,null,null,{"$f":"UPPER(IF($D55=\"\",\"\",VLOOKUP($D55,'Boys Do Main Draw Prep'!$A$7:$V$39,7)))","v":""},{"$f":"IF($D55=\"\",\"\",VLOOKUP($D55,'Boys Do Main Draw Prep'!$A$7:$V$39,8))","v":""},null,{"$f":"IF($D55=\"\",\"\",VLOOKUP($D55,'Boys Do Main Draw Prep'!$A$7:$V$39,9))","v":""},null,{"$f":"IF(I56=\"a\",E55,IF(I56=\"b\",E57,\"\"))","v":""}]
[null,null,null,null,null,null,null,null,null,{"$f":"UPPER(IF(OR(I58=\"a\",I58=\"as\"),E55,IF(OR(I58=\"b\",I58=\"bs\"),E59,)))","v":""}]
[null,null,null,null,null,null,null,"Umpire",null,{"$f":"UPPER(IF(OR(I58=\"a\",I58=\"as\"),E56,IF(OR(I58=\"b\",I58=\"bs\"),E60,)))","v":""}]
[14,{"$f":"IF($D59=\"\",\"\",VLOOKUP($D59,'Boys Do Main Draw Prep'!$A$7:$V$39,20))","v":""},{"$f":"IF($D59=\"\",\"\",VLOOKUP($D59,'Boys Do Main Draw Prep'!$A$7:$V$39,21))","v":""},null,{"$f":"UPPER(IF($D59=\"\",\"\",VLOOKUP($D59,'Boys Do Main Draw Prep'!$A$7:$V$39,2)))","v":""},{"$f":"IF($D59=\"\",\"\",VLOOKUP($D59,'Boys Do Main Draw Prep'!$A$7:$V$39,3))","v":""},null,{"$f":"IF($D59=\"\",\"\",VLOOKUP($D59,'Boys Do Main Draw Prep'!$A$7:$V$39,4))","v":""}]
[null,null,null,null,{"$f":"UPPER(IF($D59=\"\",\"\",VLOOKUP($D59,'Boys Do Main Draw Prep'!$A$7:$V$39,7)))","v":""},{"$f":"IF($D59=\"\",\"\",VLOOKUP($D59,'Boys Do Main Draw Prep'!$A$7:$V$39,8))","v":""},null,{"$f":"IF($D59=\"\",\"\",VLOOKUP($D59,'Boys Do Main Draw Prep'!$A$7:$V$39,9))","v":""}]
[null,null,null,null,null,null,null,null,null,null,null,{"$f":"UPPER(IF(OR(K62=\"a\",K62=\"as\"),J57,IF(OR(K62=\"b\",K62=\"bs\"),J65,)))","v":""}]
[null,null,null,null,null,null,null,null,null,"Umpire",null,{"$f":"UPPER(IF(OR(K62=\"a\",K62=\"as\"),J58,IF(OR(K62=\"b\",K62=\"bs\"),J66,)))","v":""}]
[15,{"$f":"IF($D63=\"\",\"\",VLOOKUP($D63,'Boys Do Main Draw Prep'!$A$7:$V$39,20))","v":""},{"$f":"IF($D63=\"\",\"\",VLOOKUP($D63,'Boys Do Main Draw Prep'!$A$7:$V$39,21))","v":""},null,{"$f":"UPPER(IF($D63=\"\",\"\",VLOOKUP($D63,'Boys Do Main Draw Prep'!$A$7:$V$39,2)))","v":""},{"$f":"IF($D63=\"\",\"\",VLOOKUP($D63,'Boys Do Main Draw Prep'!$A$7:$V$39,3))","v":""},null,{"$f":"IF($D63=\"\",\"\",VLOOKUP($D63,'Boys Do Main Draw Prep'!$A$7:$V$39,4))","v":""},null,null,null,null,null,"Final",null,"Winners"]
[null,null,null,null,{"$f":"UPPER(IF($D63=\"\",\"\",VLOOKUP($D63,'Boys Do Main Draw Prep'!$A$7:$V$39,7)))","v":""},{"$f":"IF($D63=\"\",\"\",VLOOKUP($D63,'Boys Do Main Draw Prep'!$A$7:$V$39,8))","v":""},null,{"$f":"IF($D63=\"\",\"\",VLOOKUP($D63,'Boys Do Main Draw Prep'!$A$7:$V$39,9))","v":""},null,{"$f":"IF(I64=\"a\",E63,IF(I64=\"b\",E65,\"\"))","v":""},null,null,null,{"$f":"UPPER(IF(OR(O38=\"a\",O38=\"as\"),N21,IF(OR(O38=\"b\",O38=\"bs\"),N53,)))","v":""}]
[null,null,null,null,null,null,null,null,null,{"$f":"UPPER(IF(OR(I66=\"a\",I66=\"as\"),E63,IF(OR(I66=\"b\",I66=\"bs\"),E67,)))","v":""},null,null,null,{"$f":"UPPER(IF(OR(O38=\"a\",O38=\"as\"),N22,IF(OR(O38=\"b\",O38=\"bs\"),N54,)))","v":""}]
[null,null,null,null,null,null,null,"Umpire",null,{"$f":"UPPER(IF(OR(I66=\"a\",I66=\"as\"),E64,IF(OR(I66=\"b\",I66=\"bs\"),E68,)))","v":""},null,null,null,null,null,{"$f":"UPPER(IF(OR(O67=\"a\",O67=\"as\"),N64,IF(OR(O67=\"b\",O67=\"bs\"),N68,)))","v":""}]
[16,{"$f":"IF($D67=\"\",\"\",VLOOKUP($D67,'Boys Do Main Draw Prep'!$A$7:$V$39,20))","v":""},{"$f":"IF($D67=\"\",\"\",VLOOKUP($D67,'Boys Do Main Draw Prep'!$A$7:$V$39,21))","v":""},null,{"$f":"UPPER(IF($D67=\"\",\"\",VLOOKUP($D67,'Boys Do Main Draw Prep'!$A$7:$V$39,2)))","v":""},{"$f":"IF($D67=\"\",\"\",VLOOKUP($D67,'Boys Do Main Draw Prep'!$A$7:$V$39,3))","v":""},null,{"$f":"IF($D67=\"\",\"\",VLOOKUP($D67,'Boys Do Main Draw Prep'!$A$7:$V$39,4))","v":""},null,null,null,null,null,"Umpire",null,{"$f":"UPPER(IF(OR(O67=\"a\",O67=\"as\"),N65,IF(OR(O67=\"b\",O67=\"bs\"),N69,)))","v":""}]
[null,null,null,null,{"$f":"UPPER(IF($D67=\"\",\"\",VLOOKUP($D67,'Boys Do Main Draw Prep'!$A$7:$V$39,7)))","v":""},{"$f":"IF($D67=\"\",\"\",VLOOKUP($D67,'Boys Do Main Draw Prep'!$A$7:$V$39,8))","v":""},null,{"$f":"IF($D67=\"\",\"\",VLOOKUP($D67,'Boys Do Main Draw Prep'!$A$7:$V$39,9))","v":""},null,null,null,null,null,{"$f":"UPPER(IF(OR(O113=\"a\",O113=\"as\"),N96,IF(OR(O113=\"b\",O113=\"bs\"),N128,)))","v":""}]
[null,null,null,null,null,null,null,null,null,null,null,null,null,{"$f":"UPPER(IF(OR(O113=\"a\",O113=\"as\"),N97,IF(OR(O113=\"b\",O113=\"bs\"),N129,)))","v":""}]
[]
["Acc. Ranking",null,null,"#","Seeded teams","#","Seeded teams",null,"#","Alternates",null,"Replacing",null,"Draw date/time:"]
["Rkg Date",null,null,1,{"$f":"IF(D72>$Q$79,,UPPER(VLOOKUP(D72,'Boys Do Main Draw Prep'!$A$7:$R$23,2)))","v":0},5,{"$f":"IF(F72>$Q$79,,UPPER(VLOOKUP(F72,'Boys Do Main Draw Prep'!$A$7:$R$23,2)))","v":0},null,"1",null,null,null,null,"Last Accepted team"]
["Top DA",null,null,null,{"$f":"IF(D72>$Q$79,,UPPER(VLOOKUP(D72,'Boys Do Main Draw Prep'!$A$7:$R$23,7)))","v":0},null,{"$f":"IF(F72>$Q$79,,UPPER(VLOOKUP(F72,'Boys Do Main Draw Prep'!$A$7:$R$23,7)))","v":0}]
["Last DA",null,null,2,{"$f":"IF(D74>$Q$79,,UPPER(VLOOKUP(D74,'Boys Do Main Draw Prep'!$A$7:$R$23,2)))","v":0},6,{"$f":"IF(F74>$Q$79,,UPPER(VLOOKUP(F74,'Boys Do Main Draw Prep'!$A$7:$R$23,2)))","v":0},null,"2",null,null,null,null,"Player representatives"]
[null,null,null,null,{"$f":"IF(D74>$Q$79,,UPPER(VLOOKUP(D74,'Boys Do Main Draw Prep'!$A$7:$R$23,7)))","v":0},null,{"$f":"IF(F74>$Q$79,,UPPER(VLOOKUP(F74,'Boys Do Main Draw Prep'!$A$7:$R$23,7)))","v":0}]
["Seed ranking",null,null,3,{"$f":"IF(D76>$Q$79,,UPPER(VLOOKUP(D76,'Boys Do Main Draw Prep'!$A$7:$R$23,2)))","v":0},7,{"$f":"IF(F76>$Q$79,,UPPER(VLOOKUP(F76,'Boys Do Main Draw Prep'!$A$7:$R$23,2)))","v":0},null,"3"]
["Rkg Date",null,null,null,{"$f":"IF(D76>$Q$79,,UPPER(VLOOKUP(D76,'Boys Do Main Draw Prep'!$A$7:$R$23,7)))","v":0},null,{"$f":"IF(F76>$Q$79,,UPPER(VLOOKUP(F76,'Boys Do Main Draw Prep'!$A$7:$R$23,7)))","v":0},null,null,null,null,null,null,"ITF Referee's signature"]
["Top seed",null,null,4,{"$f":"IF(D78>$Q$79,,UPPER(VLOOKUP(D78,'Boys Do Main Draw Prep'!$A$7:$R$23,2)))","v":0},8,{"$f":"IF(F78>$Q$79,,UPPER(VLOOKUP(F78,'Boys Do Main Draw Prep'!$A$7:$R$23,2)))","v":0},null,"4"]
["Last seed",null,null,null,{"$f":"IF(D78>$Q$79,,UPPER(VLOOKUP(D78,'Boys Do Main Draw Prep'!$A$7:$R$23,7)))","v":0},null,{"$f":"IF(F78>$Q$79,,UPPER(VLOOKUP(F78,'Boys Do Main Draw Prep'!$A$7:$R$23,7)))","v":0},null,null,null,null,null,null,{"$f":"Q4","v":0},null,null,{"$f":"'Boys Do Main Draw Prep'!$V$5","v":0}]
[null,"St.",{"$f":"IF(OR(F78=\"Week 3\",F78=\"Masters\"),\"CP\",\"Rank\")","v":"Rank"},"Seed","Family Name","First name",null,"Nationality",null,"2nd Round",null,"Quarterfinals",null,"Semifinals",null,"Finalists"]
[]
[17,{"$f":"IF($D82=\"\",\"\",VLOOKUP($D82,'Boys Do Main Draw Prep'!$A$7:$V$39,20))","v":""},{"$f":"IF($D82=\"\",\"\",VLOOKUP($D82,'Boys Do Main Draw Prep'!$A$7:$V$39,21))","v":""},null,{"$f":"UPPER(IF($D82=\"\",\"\",VLOOKUP($D82,'Boys Do Main Draw Prep'!$A$7:$V$39,2)))","v":""},{"$f":"IF($D82=\"\",\"\",VLOOKUP($D82,'Boys Do Main Draw Prep'!$A$7:$V$39,3))","v":""},null,{"$f":"IF($D82=\"\",\"\",VLOOKUP($D82,'Boys Do Main Draw Prep'!$A$7:$V$39,4))","v":""},null,null,null,null,null,null,null,null,"Page 2(2)",null,null,{"$f":"'SetUp Officials'!P60","v":0}]
[null,null,null,null,{"$f":"UPPER(IF($D82=\"\",\"\",VLOOKUP($D82,'Boys Do Main Draw Prep'!$A$7:$V$39,7)))","v":""},{"$f":"IF($D82=\"\",\"\",VLOOKUP($D82,'Boys Do Main Draw Prep'!$A$7:$V$39,8))","v":""},null,{"$f":"IF($D82=\"\",\"\",VLOOKUP($D82,'Boys Do Main Draw Prep'!$A$7:$V$39,9))","v":""},null,{"$f":"IF(I83=\"a\",E82,IF(I83=\"b\",E84,\"\"))","v":""},null,null,null,null,null,null,null,null,null,{"$f":"'SetUp Officials'!P61","v":0}]
[null,null,null,null,null,null,null,null,null,{"$f":"UPPER(IF(OR(I85=\"a\",I85=\"as\"),E82,IF(OR(I85=\"b\",I85=\"bs\"),E86,)))","v":""},null,null,null,null,null,null,null,null,null,{"$f":"'SetUp Officials'!P62","v":0}]
[null,null,null,null,null,null,null,"Umpire",null,{"$f":"UPPER(IF(OR(I85=\"a\",I85=\"as\"),E83,IF(OR(I85=\"b\",I85=\"bs\"),E87,)))","v":""},null,null,null,null,null,null,null,null,null,{"$f":"'SetUp Officials'!P63","v":0}]
[18,{"$f":"IF($D86=\"\",\"\",VLOOKUP($D86,'Boys Do Main Draw Prep'!$A$7:$V$39,20))","v":""},{"$f":"IF($D86=\"\",\"\",VLOOKUP($D86,'Boys Do Main Draw Prep'!$A$7:$V$39,21))","v":""},null,{"$f":"UPPER(IF($D86=\"\",\"\",VLOOKUP($D86,'Boys Do Main Draw Prep'!$A$7:$V$39,2)))","v":""},{"$f":"IF($D86=\"\",\"\",VLOOKUP($D86,'Boys Do Main Draw Prep'!$A$7:$V$39,3))","v":""},null,{"$f":"IF($D86=\"\",\"\",VLOOKUP($D86,'Boys Do Main Draw Prep'!$A$7:$V$39,4))","v":""},null,null,null,null,null,null,null,null,null,null,null,{"$f":"'SetUp Officials'!P64","v":0}]
[null,null,null,null,{"$f":"UPPER(IF($D86=\"\",\"\",VLOOKUP($D86,'Boys Do Main Draw Prep'!$A$7:$V$39,7)))","v":""},{"$f":"IF($D86=\"\",\"\",VLOOKUP($D86,'Boys Do Main Draw Prep'!$A$7:$V$39,8))","v":""},null,{"$f":"IF($D86=\"\",\"\",VLOOKUP($D86,'Boys Do Main Draw Prep'!$A$7:$V$39,9))","v":""},null,null,null,null,null,null,null,null,null,null,null,{"$f":"'SetUp Officials'!P65","v":0}]
[null,null,null,null,null,null,null,null,null,null,null,{"$f":"UPPER(IF(OR(K89=\"a\",K89=\"as\"),J84,IF(OR(K89=\"b\",K89=\"bs\"),J92,)))","v":""},null,null,null,null,null,null,null,{"$f":"'SetUp Officials'!P66","v":0}]
[null,null,null,null,null,null,null,null,null,"Umpire",null,{"$f":"UPPER(IF(OR(K89=\"a\",K89=\"as\"),J85,IF(OR(K89=\"b\",K89=\"bs\"),J93,)))","v":""},null,null,null,null,null,null,null,{"$f":"'SetUp Officials'!P67","v":0}]
[19,{"$f":"IF($D90=\"\",\"\",VLOOKUP($D90,'Boys Do Main Draw Prep'!$A$7:$V$39,20))","v":""},{"$f":"IF($D90=\"\",\"\",VLOOKUP($D90,'Boys Do Main Draw Prep'!$A$7:$V$39,21))","v":""},null,{"$f":"UPPER(IF($D90=\"\",\"\",VLOOKUP($D90,'Boys Do Main Draw Prep'!$A$7:$V$39,2)))","v":""},{"$f":"IF($D90=\"\",\"\",VLOOKUP($D90,'Boys Do Main Draw Prep'!$A$7:$V$39,3))","v":""},null,{"$f":"IF($D90=\"\",\"\",VLOOKUP($D90,'Boys Do Main Draw Prep'!$A$7:$V$39,4))","v":""},null,null,null,null,null,null,null,null,null,null,null,{"$f":"'SetUp Officials'!P68","v":0}]
[null,null,null,null,{"$f":"UPPER(IF($D90=\"\",\"\",VLOOKUP($D90,'Boys Do Main Draw Prep'!$A$7:$V$39,7)))","v":""},{"$f":"IF($D90=\"\",\"\",VLOOKUP($D90,'Boys Do Main Draw Prep'!$A$7:$V$39,8))","v":""},null,{"$f":"IF($D90=\"\",\"\",VLOOKUP($D90,'Boys Do Main Draw Prep'!$A$7:$V$39,9))","v":""},null,{"$f":"IF(I91=\"a\",E90,IF(I91=\"b\",E92,\"\"))","v":""},null,null,null,null,null,null,null,null,null,{"$f":"'SetUp Officials'!P69","v":0}]
[null,null,null,null,null,null,null,null,null,{"$f":"UPPER(IF(OR(I93=\"a\",I93=\"as\"),E90,IF(OR(I93=\"b\",I93=\"bs\"),E94,)))","v":""}]
[null,null,null,null,null,null,null,"Umpire",null,{"$f":"UPPER(IF(OR(I93=\"a\",I93=\"as\"),E91,IF(OR(I93=\"b\",I93=\"bs\"),E95,)))","v":""}]
[20,{"$f":"IF($D94=\"\",\"\",VLOOKUP($D94,'Boys Do Main Draw Prep'!$A$7:$V$39,20))","v":""},{"$f":"IF($D94=\"\",\"\",VLOOKUP($D94,'Boys Do Main Draw Prep'!$A$7:$V$39,21))","v":""},null,{"$f":"UPPER(IF($D94=\"\",\"\",VLOOKUP($D94,'Boys Do Main Draw Prep'!$A$7:$V$39,2)))","v":""},{"$f":"IF($D94=\"\",\"\",VLOOKUP($D94,'Boys Do Main Draw Prep'!$A$7:$V$39,3))","v":""},null,{"$f":"IF($D94=\"\",\"\",VLOOKUP($D94,'Boys Do Main Draw Prep'!$A$7:$V$39,4))","v":""}]
[null,null,null,null,{"$f":"UPPER(IF($D94=\"\",\"\",VLOOKUP($D94,'Boys Do Main Draw Prep'!$A$7:$V$39,7)))","v":""},{"$f":"IF($D94=\"\",\"\",VLOOKUP($D94,'Boys Do Main Draw Prep'!$A$7:$V$39,8))","v":""},null,{"$f":"IF($D94=\"\",\"\",VLOOKUP($D94,'Boys Do Main Draw Prep'!$A$7:$V$39,9))","v":""}]
[null,null,null,null,null,null,null,null,null,null,null,null,null,{"$f":"UPPER(IF(OR(M97=\"a\",M97=\"as\"),L88,IF(OR(M97=\"b\",M97=\"bs\"),L104,)))","v":""}]
[null,null,null,null,null,null,null,null,null,null,null,"Umpire",null,{"$f":"UPPER(IF(OR(M97=\"a\",M97=\"as\"),L89,IF(OR(M97=\"b\",M97=\"bs\"),L105,)))","v":""}]
[21,{"$f":"IF($D98=\"\",\"\",VLOOKUP($D98,'Boys Do Main Draw Prep'!$A$7:$V$39,20))","v":""},{"$f":"IF($D98=\"\",\"\",VLOOKUP($D98,'Boys Do Main Draw Prep'!$A$7:$V$39,21))","v":""},null,{"$f":"UPPER(IF($D98=\"\",\"\",VLOOKUP($D98,'Boys Do Main Draw Prep'!$A$7:$V$39,2)))","v":""},{"$f":"IF($D98=\"\",\"\",VLOOKUP($D98,'Boys Do Main Draw Prep'!$A$7:$V$39,3))","v":""},null,{"$f":"IF($D98=\"\",\"\",VLOOKUP($D98,'Boys Do Main Draw Prep'!$A$7:$V$39,4))","v":""}]
[null,null,null,null,{"$f":"UPPER(IF($D98=\"\",\"\",VLOOKUP($D98,'Boys Do Main Draw Prep'!$A$7:$V$39,7)))","v":""},{"$f":"IF($D98=\"\",\"\",VLOOKUP($D98,'Boys Do Main Draw Prep'!$A$7:$V$39,8))","v":""},null,{"$f":"IF($D98=\"\",\"\",VLOOKUP($D98,'Boys Do Main Draw Prep'!$A$7:$V$39,9))","v":""},null,{"$f":"IF(I99=\"a\",E98,IF(I99=\"b\",E100,\"\"))","v":""}]
[null,null,null,null,null,null,null,null,null,{"$f":"UPPER(IF(OR(I101=\"a\",I101=\"as\"),E98,IF(OR(I101=\"b\",I101=\"bs\"),E102,)))","v":""}]
[null,null,null,null,null,null,null,"Umpire",null,{"$f":"UPPER(IF(OR(I101=\"a\",I101=\"as\"),E99,IF(OR(I101=\"b\",I101=\"bs\"),E103,)))","v":""}]
[22,{"$f":"IF($D102=\"\",\"\",VLOOKUP($D102,'Boys Do Main Draw Prep'!$A$7:$V$39,20))","v":""},{"$f":"IF($D102=\"\",\"\",VLOOKUP($D102,'Boys Do Main Draw Prep'!$A$7:$V$39,21))","v":""},null,{"$f":"UPPER(IF($D102=\"\",\"\",VLOOKUP($D102,'Boys Do Main Draw Prep'!$A$7:$V$39,2)))","v":""},{"$f":"IF($D102=\"\",\"\",VLOOKUP($D102,'Boys Do Main Draw Prep'!$A$7:$V$39,3))","v":""},null,{"$f":"IF($D102=\"\",\"\",VLOOKUP($D102,'Boys Do Main Draw Prep'!$A$7:$V$39,4))","v":""}]
[null,null,null,null,{"$f":"UPPER(IF($D102=\"\",\"\",VLOOKUP($D102,'Boys Do Main Draw Prep'!$A$7:$V$39,7)))","v":""},{"$f":"IF($D102=\"\",\"\",VLOOKUP($D102,'Boys Do Main Draw Prep'!$A$7:$V$39,8))","v":""},null,{"$f":"IF($D102=\"\",\"\",VLOOKUP($D102,'Boys Do Main Draw Prep'!$A$7:$V$39,9))","v":""}]
[null,null,null,null,null,null,null,null,null,null,null,{"$f":"UPPER(IF(OR(K105=\"a\",K105=\"as\"),J100,IF(OR(K105=\"b\",K105=\"bs\"),J108,)))","v":""}]
[null,null,null,null,null,null,null,null,null,"Umpire",null,{"$f":"UPPER(IF(OR(K105=\"a\",K105=\"as\"),J101,IF(OR(K105=\"b\",K105=\"bs\"),J109,)))","v":""}]
[23,{"$f":"IF($D106=\"\",\"\",VLOOKUP($D106,'Boys Do Main Draw Prep'!$A$7:$V$39,20))","v":""},{"$f":"IF($D106=\"\",\"\",VLOOKUP($D106,'Boys Do Main Draw Prep'!$A$7:$V$39,21))","v":""},null,{"$f":"UPPER(IF($D106=\"\",\"\",VLOOKUP($D106,'Boys Do Main Draw Prep'!$A$7:$V$39,2)))","v":""},{"$f":"IF($D106=\"\",\"\",VLOOKUP($D106,'Boys Do Main Draw Prep'!$A$7:$V$39,3))","v":""},null,{"$f":"IF($D106=\"\",\"\",VLOOKUP($D106,'Boys Do Main Draw Prep'!$A$7:$V$39,4))","v":""}]
[null,null,null,null,{"$f":"UPPER(IF($D106=\"\",\"\",VLOOKUP($D106,'Boys Do Main Draw Prep'!$A$7:$V$39,7)))","v":""},{"$f":"IF($D106=\"\",\"\",VLOOKUP($D106,'Boys Do Main Draw Prep'!$A$7:$V$39,8))","v":""},null,{"$f":"IF($D106=\"\",\"\",VLOOKUP($D106,'Boys Do Main Draw Prep'!$A$7:$V$39,9))","v":""},null,{"$f":"IF(I107=\"a\",E106,IF(I107=\"b\",E108,\"\"))","v":""}]
[null,null,null,null,null,null,null,null,null,{"$f":"UPPER(IF(OR(I109=\"a\",I109=\"as\"),E106,IF(OR(I109=\"b\",I109=\"bs\"),E110,)))","v":""}]
[null,null,null,null,null,null,null,"Umpire",null,{"$f":"UPPER(IF(OR(I109=\"a\",I109=\"as\"),E107,IF(OR(I109=\"b\",I109=\"bs\"),E111,)))","v":""}]
[24,{"$f":"IF($D110=\"\",\"\",VLOOKUP($D110,'Boys Do Main Draw Prep'!$A$7:$V$39,20))","v":""},{"$f":"IF($D110=\"\",\"\",VLOOKUP($D110,'Boys Do Main Draw Prep'!$A$7:$V$39,21))","v":""},null,{"$f":"UPPER(IF($D110=\"\",\"\",VLOOKUP($D110,'Boys Do Main Draw Prep'!$A$7:$V$39,2)))","v":""},{"$f":"IF($D110=\"\",\"\",VLOOKUP($D110,'Boys Do Main Draw Prep'!$A$7:$V$39,3))","v":""},null,{"$f":"IF($D110=\"\",\"\",VLOOKUP($D110,'Boys Do Main Draw Prep'!$A$7:$V$39,4))","v":""}]
[null,null,null,null,{"$f":"UPPER(IF($D110=\"\",\"\",VLOOKUP($D110,'Boys Do Main Draw Prep'!$A$7:$V$39,7)))","v":""},{"$f":"IF($D110=\"\",\"\",VLOOKUP($D110,'Boys Do Main Draw Prep'!$A$7:$V$39,8))","v":""},null,{"$f":"IF($D110=\"\",\"\",VLOOKUP($D110,'Boys Do Main Draw Prep'!$A$7:$V$39,9))","v":""}]
[null,null,null,null,null,null,null,null,null,null,null,null,null,null,null,{"$f":"UPPER(IF(OR(O113=\"a\",O113=\"as\"),N96,IF(OR(O113=\"b\",O113=\"bs\"),N128,)))","v":""}]
[null,null,null,null,null,null,null,null,null,null,null,null,null,"Umpire",null,{"$f":"UPPER(IF(OR(O113=\"a\",O113=\"as\"),N97,IF(OR(O113=\"b\",O113=\"bs\"),N129,)))","v":""}]
[25,{"$f":"IF($D114=\"\",\"\",VLOOKUP($D114,'Boys Do Main Draw Prep'!$A$7:$V$39,20))","v":""},{"$f":"IF($D114=\"\",\"\",VLOOKUP($D114,'Boys Do Main Draw Prep'!$A$7:$V$39,21))","v":""},null,{"$f":"UPPER(IF($D114=\"\",\"\",VLOOKUP($D114,'Boys Do Main Draw Prep'!$A$7:$V$39,2)))","v":""},{"$f":"IF($D114=\"\",\"\",VLOOKUP($D114,'Boys Do Main Draw Prep'!$A$7:$V$39,3))","v":""},null,{"$f":"IF($D114=\"\",\"\",VLOOKUP($D114,'Boys Do Main Draw Prep'!$A$7:$V$39,4))","v":""}]
[null,null,null,null,{"$f":"UPPER(IF($D114=\"\",\"\",VLOOKUP($D114,'Boys Do Main Draw Prep'!$A$7:$V$39,7)))","v":""},{"$f":"IF($D114=\"\",\"\",VLOOKUP($D114,'Boys Do Main Draw Prep'!$A$7:$V$39,8))","v":""},null,{"$f":"IF($D114=\"\",\"\",VLOOKUP($D114,'Boys Do Main Draw Prep'!$A$7:$V$39,9))","v":""},null,{"$f":"IF(I115=\"a\",E114,IF(I115=\"b\",E116,\"\"))","v":""}]
[null,null,null,null,null,null,null,null,null,{"$f":"UPPER(IF(OR(I117=\"a\",I117=\"as\"),E114,IF(OR(I117=\"b\",I117=\"bs\"),E118,)))","v":""}]
[null,null,null,null,null,null,null,"Umpire",null,{"$f":"UPPER(IF(OR(I117=\"a\",I117=\"as\"),E115,IF(OR(I117=\"b\",I117=\"bs\"),E119,)))","v":""}]
[26,{"$f":"IF($D118=\"\",\"\",VLOOKUP($D118,'Boys Do Main Draw Prep'!$A$7:$V$39,20))","v":""},{"$f":"IF($D118=\"\",\"\",VLOOKUP($D118,'Boys Do Main Draw Prep'!$A$7:$V$39,21))","v":""},null,{"$f":"UPPER(IF($D118=\"\",\"\",VLOOKUP($D118,'Boys Do Main Draw Prep'!$A$7:$V$39,2)))","v":""},{"$f":"IF($D118=\"\",\"\",VLOOKUP($D118,'Boys Do Main Draw Prep'!$A$7:$V$39,3))","v":""},null,{"$f":"IF($D118=\"\",\"\",VLOOKUP($D118,'Boys Do Main Draw Prep'!$A$7:$V$39,4))","v":""}]
[null,null,null,null,{"$f":"UPPER(IF($D118=\"\",\"\",VLOOKUP($D118,'Boys Do Main Draw Prep'!$A$7:$V$39,7)))","v":""},{"$f":"IF($D118=\"\",\"\",VLOOKUP($D118,'Boys Do Main Draw Prep'!$A$7:$V$39,8))","v":""},null,{"$f":"IF($D118=\"\",\"\",VLOOKUP($D118,'Boys Do Main Draw Prep'!$A$7:$V$39,9))","v":""}]
[null,null,null,null,null,null,null,null,null,null,null,{"$f":"UPPER(IF(OR(K121=\"a\",K121=\"as\"),J116,IF(OR(K121=\"b\",K121=\"bs\"),J124,)))","v":""}]
[null,null,null,null,null,null,null,null,null,"Umpire",null,{"$f":"UPPER(IF(OR(K121=\"a\",K121=\"as\"),J117,IF(OR(K121=\"b\",K121=\"bs\"),J125,)))","v":""}]
[27,{"$f":"IF($D122=\"\",\"\",VLOOKUP($D122,'Boys Do Main Draw Prep'!$A$7:$V$39,20))","v":""},{"$f":"IF($D122=\"\",\"\",VLOOKUP($D122,'Boys Do Main Draw Prep'!$A$7:$V$39,21))","v":""},null,{"$f":"UPPER(IF($D122=\"\",\"\",VLOOKUP($D122,'Boys Do Main Draw Prep'!$A$7:$V$39,2)))","v":""},{"$f":"IF($D122=\"\",\"\",VLOOKUP($D122,'Boys Do Main Draw Prep'!$A$7:$V$39,3))","v":""},null,{"$f":"IF($D122=\"\",\"\",VLOOKUP($D122,'Boys Do Main Draw Prep'!$A$7:$V$39,4))","v":""}]
[null,null,null,null,{"$f":"UPPER(IF($D122=\"\",\"\",VLOOKUP($D122,'Boys Do Main Draw Prep'!$A$7:$V$39,7)))","v":""},{"$f":"IF($D122=\"\",\"\",VLOOKUP($D122,'Boys Do Main Draw Prep'!$A$7:$V$39,8))","v":""},null,{"$f":"IF($D122=\"\",\"\",VLOOKUP($D122,'Boys Do Main Draw Prep'!$A$7:$V$39,9))","v":""},null,{"$f":"IF(I123=\"a\",E122,IF(I123=\"b\",E124,\"\"))","v":""}]
[null,null,null,null,null,null,null,null,null,{"$f":"UPPER(IF(OR(I125=\"a\",I125=\"as\"),E122,IF(OR(I125=\"b\",I125=\"bs\"),E126,)))","v":""}]
[null,null,null,null,null,null,null,"Umpire",null,{"$f":"UPPER(IF(OR(I125=\"a\",I125=\"as\"),E123,IF(OR(I125=\"b\",I125=\"bs\"),E127,)))","v":""}]
[28,{"$f":"IF($D126=\"\",\"\",VLOOKUP($D126,'Boys Do Main Draw Prep'!$A$7:$V$39,20))","v":""},{"$f":"IF($D126=\"\",\"\",VLOOKUP($D126,'Boys Do Main Draw Prep'!$A$7:$V$39,21))","v":""},null,{"$f":"UPPER(IF($D126=\"\",\"\",VLOOKUP($D126,'Boys Do Main Draw Prep'!$A$7:$V$39,2)))","v":""},{"$f":"IF($D126=\"\",\"\",VLOOKUP($D126,'Boys Do Main Draw Prep'!$A$7:$V$39,3))","v":""},null,{"$f":"IF($D126=\"\",\"\",VLOOKUP($D126,'Boys Do Main Draw Prep'!$A$7:$V$39,4))","v":""}]
[null,null,null,null,{"$f":"UPPER(IF($D126=\"\",\"\",VLOOKUP($D126,'Boys Do Main Draw Prep'!$A$7:$V$39,7)))","v":""},{"$f":"IF($D126=\"\",\"\",VLOOKUP($D126,'Boys Do Main Draw Prep'!$A$7:$V$39,8))","v":""},null,{"$f":"IF($D126=\"\",\"\",VLOOKUP($D126,'Boys Do Main Draw Prep'!$A$7:$V$39,9))","v":""}]
[null,null,null,null,null,null,null,null,null,null,null,null,null,{"$f":"UPPER(IF(OR(M129=\"a\",M129=\"as\"),L120,IF(OR(M129=\"b\",M129=\"bs\"),L136,)))","v":""}]
[null,null,null,null,null,null,null,null,null,null,null,"Umpire",null,{"$f":"UPPER(IF(OR(M129=\"a\",M129=\"as\"),L121,IF(OR(M129=\"b\",M129=\"bs\"),L137,)))","v":""}]
[29,{"$f":"IF($D130=\"\",\"\",VLOOKUP($D130,'Boys Do Main Draw Prep'!$A$7:$V$39,20))","v":""},{"$f":"IF($D130=\"\",\"\",VLOOKUP($D130,'Boys Do Main Draw Prep'!$A$7:$V$39,21))","v":""},null,{"$f":"UPPER(IF($D130=\"\",\"\",VLOOKUP($D130,'Boys Do Main Draw Prep'!$A$7:$V$39,2)))","v":""},{"$f":"IF($D130=\"\",\"\",VLOOKUP($D130,'Boys Do Main Draw Prep'!$A$7:$V$39,3))","v":""},null,{"$f":"IF($D130=\"\",\"\",VLOOKUP($D130,'Boys Do Main Draw Prep'!$A$7:$V$39,4))","v":""}]
[null,null,null,null,{"$f":"UPPER(IF($D130=\"\",\"\",VLOOKUP($D130,'Boys Do Main Draw Prep'!$A$7:$V$39,7)))","v":""},{"$f":"IF($D130=\"\",\"\",VLOOKUP($D130,'Boys Do Main Draw Prep'!$A$7:$V$39,8))","v":""},null,{"$f":"IF($D130=\"\",\"\",VLOOKUP($D130,'Boys Do Main Draw Prep'!$A$7:$V$39,9))","v":""},null,{"$f":"IF(I131=\"a\",E130,IF(I131=\"b\",E132,\"\"))","v":""}]
[null,null,null,null,null,null,null,null,null,{"$f":"UPPER(IF(OR(I133=\"a\",I133=\"as\"),E130,IF(OR(I133=\"b\",I133=\"bs\"),E134,)))","v":""}]
[null,null,null,null,null,null,null,"Umpire",null,{"$f":"UPPER(IF(OR(I133=\"a\",I133=\"as\"),E131,IF(OR(I133=\"b\",I133=\"bs\"),E135,)))","v":""}]
[30,{"$f":"IF($D134=\"\",\"\",VLOOKUP($D134,'Boys Do Main Draw Prep'!$A$7:$V$39,20))","v":""},{"$f":"IF($D134=\"\",\"\",VLOOKUP($D134,'Boys Do Main Draw Prep'!$A$7:$V$39,21))","v":""},null,{"$f":"UPPER(IF($D134=\"\",\"\",VLOOKUP($D134,'Boys Do Main Draw Prep'!$A$7:$V$39,2)))","v":""},{"$f":"IF($D134=\"\",\"\",VLOOKUP($D134,'Boys Do Main Draw Prep'!$A$7:$V$39,3))","v":""},null,{"$f":"IF($D134=\"\",\"\",VLOOKUP($D134,'Boys Do Main Draw Prep'!$A$7:$V$39,4))","v":""}]
[null,null,null,null,{"$f":"UPPER(IF($D134=\"\",\"\",VLOOKUP($D134,'Boys Do Main Draw Prep'!$A$7:$V$39,7)))","v":""},{"$f":"IF($D134=\"\",\"\",VLOOKUP($D134,'Boys Do Main Draw Prep'!$A$7:$V$39,8))","v":""},null,{"$f":"IF($D134=\"\",\"\",VLOOKUP($D134,'Boys Do Main Draw Prep'!$A$7:$V$39,9))","v":""}]
[null,null,null,null,null,null,null,null,null,null,null,{"$f":"UPPER(IF(OR(K137=\"a\",K137=\"as\"),J132,IF(OR(K137=\"b\",K137=\"bs\"),J140,)))","v":""}]
[null,null,null,null,null,null,null,null,null,"Umpire",null,{"$f":"UPPER(IF(OR(K137=\"a\",K137=\"as\"),J133,IF(OR(K137=\"b\",K137=\"bs\"),J141,)))","v":""}]
[31,{"$f":"IF($D138=\"\",\"\",VLOOKUP($D138,'Boys Do Main Draw Prep'!$A$7:$V$39,20))","v":""},{"$f":"IF($D138=\"\",\"\",VLOOKUP($D138,'Boys Do Main Draw Prep'!$A$7:$V$39,21))","v":""},null,{"$f":"UPPER(IF($D138=\"\",\"\",VLOOKUP($D138,'Boys Do Main Draw Prep'!$A$7:$V$39,2)))","v":""},{"$f":"IF($D138=\"\",\"\",VLOOKUP($D138,'Boys Do Main Draw Prep'!$A$7:$V$39,3))","v":""},null,{"$f":"IF($D138=\"\",\"\",VLOOKUP($D138,'Boys Do Main Draw Prep'!$A$7:$V$39,4))","v":""},null,null,null,null,null,{"$f":"N63","v":"Final"},null,{"$f":"P63","v":"Winners"}]
[null,null,null,null,{"$f":"UPPER(IF($D138=\"\",\"\",VLOOKUP($D138,'Boys Do Main Draw Prep'!$A$7:$V$39,7)))","v":""},{"$f":"IF($D138=\"\",\"\",VLOOKUP($D138,'Boys Do Main Draw Prep'!$A$7:$V$39,8))","v":""},null,{"$f":"IF($D138=\"\",\"\",VLOOKUP($D138,'Boys Do Main Draw Prep'!$A$7:$V$39,9))","v":""},null,{"$f":"IF(I139=\"a\",E138,IF(I139=\"b\",E140,\"\"))","v":""},null,null,null,{"$f":"N64","v":""}]
[null,null,null,null,null,null,null,null,null,{"$f":"UPPER(IF(OR(I141=\"a\",I141=\"as\"),E138,IF(OR(I141=\"b\",I141=\"bs\"),E142,)))","v":""},null,null,null,{"$f":"N65","v":""}]
[null,null,null,null,null,null,null,"Umpire",null,{"$f":"UPPER(IF(OR(I141=\"a\",I141=\"as\"),E139,IF(OR(I141=\"b\",I141=\"bs\"),E143,)))","v":""},null,null,null,null,null,{"$f":"P66","v":""}]
[32,{"$f":"IF($D142=\"\",\"\",VLOOKUP($D142,'Boys Do Main Draw Prep'!$A$7:$V$39,20))","v":""},{"$f":"IF($D142=\"\",\"\",VLOOKUP($D142,'Boys Do Main Draw Prep'!$A$7:$V$39,21))","v":""},null,{"$f":"UPPER(IF($D142=\"\",\"\",VLOOKUP($D142,'Boys Do Main Draw Prep'!$A$7:$V$39,2)))","v":""},{"$f":"IF($D142=\"\",\"\",VLOOKUP($D142,'Boys Do Main Draw Prep'!$A$7:$V$39,3))","v":""},null,{"$f":"IF($D142=\"\",\"\",VLOOKUP($D142,'Boys Do Main Draw Prep'!$A$7:$V$39,4))","v":""},null,null,null,null,null,null,null,{"$f":"P67","v":""}]
[null,null,null,null,{"$f":"UPPER(IF($D142=\"\",\"\",VLOOKUP($D142,'Boys Do Main Draw Prep'!$A$7:$V$39,7)))","v":""},{"$f":"IF($D142=\"\",\"\",VLOOKUP($D142,'Boys Do Main Draw Prep'!$A$7:$V$39,8))","v":""},null,{"$f":"IF($D142=\"\",\"\",VLOOKUP($D142,'Boys Do Main Draw Prep'!$A$7:$V$39,9))","v":""},null,null,null,null,null,{"$f":"N68","v":""},null,{"$f":"P68","v":0}]
[null,null,null,null,null,null,null,null,null,null,null,null,null,{"$f":"N69","v":""}]
[]
["Acc. Ranking",null,null,"#","Seeded teams",null,null,null,"#","Alternates",null,"Replacing",null,"Draw date/time:",null,{"$f":"P71","v":0}]
["Rkg Date",null,{"$f":"C72","v":0},1,{"$f":"E72","v":0},5,0,null,"1",{"$f":"J72","v":0},null,{"$f":"L72","v":0},null,"Last Accepted team"]
["Top DA",null,{"$f":"C73","v":0},null,0,0,0,null,null,0,null,0,null,{"$f":"N73","v":0}]
["Last DA",null,{"$f":"C74","v":0},2,0,6,0,null,"2",0,null,0,null,"Player representatives"]
[null,null,null,null,0,0,0,null,null,0,null,0]
["Seed ranking",null,null,3,0,7,0,null,"3",0,null,0,null,{"$f":"N76","v":0}]
["Rkg Date",null,{"$f":"C77","v":0},null,0,0,0,null,null,0,null,0,null,"ITF Referee's signature"]
["Top seed",null,{"$f":"C78","v":0},4,0,8,0,null,"4",0,null,0]
["Last seed",null,{"$f":"C79","v":0},null,0,0,0,null,null,0,null,0,null,{"$f":"N79","v":0}]

{"sheet":"Boys Do Main 48&64","index":45,"n_rows":379,"n_cols":20,"rows_kept":379,"cut":false,"hidden":false,"merged":[[3,0,3,2]]}
[{"$f":"'Week SetUp'!$A$6","v":0},null,null,null,null,null,null,null,null,"BOYS DOUBLES",null,null,null,"CU"]
[{"$f":"'Week SetUp'!$A$8","v":"ITF Junior Circuit"},null,null,null,null,null,null,null,null,"MAIN DRAW (48&64)"]
["Week of",null,null,null,null,"City, Country",null,null,null,"Group",null,"Tourn. ID",null,null,null,null,"ITF Referee"]
[{"$f":"'Week SetUp'!$A$10","v":"00:00:00"},null,null,null,null,{"$f":"'Week SetUp'!$C$10","v":0},null,null,null,{"$f":"'Week SetUp'!$D$10","v":0},null,{"$f":"'Week SetUp'!$A$12","v":0},null,null,null,null,{"$f":"'Week SetUp'!$E$10","v":0}]
[null,"St.",{"$f":"IF(OR(F2=\"Week 3\",F2=\"Masters\"),\"CP\",\"Rank\")","v":"Rank"},"Seed","Family Name","First name",null,"Nationality",null,"2nd Round",null,"3rd Round",null,"Quarterfinals",null,"Semifinalists"]
[]
[1,{"$f":"IF($D7=\"\",\"\",VLOOKUP($D7,'Boys Do Main Draw Prep'!$A$7:$V$71,20))","v":""},{"$f":"IF($D7=\"\",\"\",VLOOKUP($D7,'Boys Do Main Draw Prep'!$A$7:$V$71,21))","v":""},null,{"$f":"UPPER(IF($D7=\"\",\"\",VLOOKUP($D7,'Boys Do Main Draw Prep'!$A$7:$V$71,2)))","v":""},{"$f":"IF($D7=\"\",\"\",VLOOKUP($D7,'Boys Do Main Draw Prep'!$A$7:$V$71,3))","v":""},null,{"$f":"IF($D7=\"\",\"\",VLOOKUP($D7,'Boys Do Main Draw Prep'!$A$7:$V$71,4))","v":""},null,null,null,null,null,null,null,null,"Page 1(5)",null,null,{"$f":"'SetUp Officials'!P21","v":"Umpire"}]
[null,null,null,null,{"$f":"UPPER(IF($D7=\"\",\"\",VLOOKUP($D7,'Boys Do Main Draw Prep'!$A$7:$V$71,7)))","v":""},{"$f":"IF($D7=\"\",\"\",VLOOKUP($D7,'Boys Do Main Draw Prep'!$A$7:$V$71,8))","v":""},null,{"$f":"IF($D7=\"\",\"\",VLOOKUP($D7,'Boys Do Main Draw Prep'!$A$7:$V$71,9))","v":""},null,{"$f":"IF(I8=\"a\",E7,IF(I8=\"b\",E9,\"\"))","v":""},null,null,null,null,null,null,null,null,null,{"$f":"'SetUp Officials'!P22","v":" "}]
[null,null,null,null,null,null,null,null,null,{"$f":"UPPER(IF(OR(I10=\"a\",I10=\"as\"),E7,IF(OR(I10=\"b\",I10=\"bs\"),E11,)))","v":""},null,null,null,null,null,null,null,null,null,{"$f":"'SetUp Officials'!P23","v":" "}]
[null,null,null,null,null,null,null,"Umpire",null,{"$f":"UPPER(IF(OR(I10=\"a\",I10=\"as\"),E8,IF(OR(I10=\"b\",I10=\"bs\"),E12,)))","v":""},null,null,null,null,null,null,null,null,null,{"$f":"'SetUp Officials'!P24","v":" "}]
[2,{"$f":"IF($D11=\"\",\"\",VLOOKUP($D11,'Boys Do Main Draw Prep'!$A$7:$V$71,20))","v":""},{"$f":"IF($D11=\"\",\"\",VLOOKUP($D11,'Boys Do Main Draw Prep'!$A$7:$V$71,21))","v":""},null,{"$f":"UPPER(IF($D11=\"\",\"\",VLOOKUP($D11,'Boys Do Main Draw Prep'!$A$7:$V$71,2)))","v":""},{"$f":"IF($D11=\"\",\"\",VLOOKUP($D11,'Boys Do Main Draw Prep'!$A$7:$V$71,3))","v":""},null,{"$f":"IF($D11=\"\",\"\",VLOOKUP($D11,'Boys Do Main Draw Prep'!$A$7:$V$71,4))","v":""},null,null,null,null,null,null,null,null,null,null,null,{"$f":"'SetUp Officials'!P25","v":" "}]
[null,null,null,null,{"$f":"UPPER(IF($D11=\"\",\"\",VLOOKUP($D11,'Boys Do Main Draw Prep'!$A$7:$V$71,7)))","v":""},{"$f":"IF($D11=\"\",\"\",VLOOKUP($D11,'Boys Do Main Draw Prep'!$A$7:$V$71,8))","v":""},null,{"$f":"IF($D11=\"\",\"\",VLOOKUP($D11,'Boys Do Main Draw Prep'!$A$7:$V$71,9))","v":""},null,null,null,null,null,null,null,null,null,null,null,{"$f":"'SetUp Officials'!P26","v":" "}]
[null,null,null,null,null,null,null,null,null,null,null,{"$f":"UPPER(IF(OR(K14=\"a\",K14=\"as\"),J9,IF(OR(K14=\"b\",K14=\"bs\"),J17,)))","v":""},null,null,null,null,null,null,null,{"$f":"'SetUp Officials'!P27","v":" "}]
[null,null,null,null,null,null,null,null,null,"Umpire",null,{"$f":"UPPER(IF(OR(K14=\"a\",K14=\"as\"),J10,IF(OR(K14=\"b\",K14=\"bs\"),J18,)))","v":""},null,null,null,null,null,null,null,{"$f":"'SetUp Officials'!P28","v":" "}]
[3,{"$f":"IF($D15=\"\",\"\",VLOOKUP($D15,'Boys Do Main Draw Prep'!$A$7:$V$71,20))","v":""},{"$f":"IF($D15=\"\",\"\",VLOOKUP($D15,'Boys Do Main Draw Prep'!$A$7:$V$71,21))","v":""},null,{"$f":"UPPER(IF($D15=\"\",\"\",VLOOKUP($D15,'Boys Do Main Draw Prep'!$A$7:$V$71,2)))","v":""},{"$f":"IF($D15=\"\",\"\",VLOOKUP($D15,'Boys Do Main Draw Prep'!$A$7:$V$71,3))","v":""},null,{"$f":"IF($D15=\"\",\"\",VLOOKUP($D15,'Boys Do Main Draw Prep'!$A$7:$V$71,4))","v":""},null,null,null,null,null,null,null,null,null,null,null,{"$f":"'SetUp Officials'!P29","v":" "}]
[null,null,null,null,{"$f":"UPPER(IF($D15=\"\",\"\",VLOOKUP($D15,'Boys Do Main Draw Prep'!$A$7:$V$71,7)))","v":""},{"$f":"IF($D15=\"\",\"\",VLOOKUP($D15,'Boys Do Main Draw Prep'!$A$7:$V$71,8))","v":""},null,{"$f":"IF($D15=\"\",\"\",VLOOKUP($D15,'Boys Do Main Draw Prep'!$A$7:$V$71,9))","v":""},null,{"$f":"IF(I16=\"a\",E15,IF(I16=\"b\",E17,\"\"))","v":""},null,null,null,null,null,null,null,null,null,{"$f":"'SetUp Officials'!P30","v":"None"}]
[null,null,null,null,null,null,null,null,null,{"$f":"UPPER(IF(OR(I18=\"a\",I18=\"as\"),E15,IF(OR(I18=\"b\",I18=\"bs\"),E19,)))","v":""}]
[null,null,null,null,null,null,null,"Umpire",null,{"$f":"UPPER(IF(OR(I18=\"a\",I18=\"as\"),E16,IF(OR(I18=\"b\",I18=\"bs\"),E20,)))","v":""}]
[4,{"$f":"IF($D19=\"\",\"\",VLOOKUP($D19,'Boys Do Main Draw Prep'!$A$7:$V$71,20))","v":""},{"$f":"IF($D19=\"\",\"\",VLOOKUP($D19,'Boys Do Main Draw Prep'!$A$7:$V$71,21))","v":""},null,{"$f":"UPPER(IF($D19=\"\",\"\",VLOOKUP($D19,'Boys Do Main Draw Prep'!$A$7:$V$71,2)))","v":""},{"$f":"IF($D19=\"\",\"\",VLOOKUP($D19,'Boys Do Main Draw Prep'!$A$7:$V$71,3))","v":""},null,{"$f":"IF($D19=\"\",\"\",VLOOKUP($D19,'Boys Do Main Draw Prep'!$A$7:$V$71,4))","v":""}]
[null,null,null,null,{"$f":"UPPER(IF($D19=\"\",\"\",VLOOKUP($D19,'Boys Do Main Draw Prep'!$A$7:$V$71,7)))","v":""},{"$f":"IF($D19=\"\",\"\",VLOOKUP($D19,'Boys Do Main Draw Prep'!$A$7:$V$71,8))","v":""},null,{"$f":"IF($D19=\"\",\"\",VLOOKUP($D19,'Boys Do Main Draw Prep'!$A$7:$V$71,9))","v":""}]
[null,null,null,null,null,null,null,null,null,null,null,null,null,{"$f":"UPPER(IF(OR(M22=\"a\",M22=\"as\"),L13,IF(OR(M22=\"b\",M22=\"bs\"),L29,)))","v":""}]
[null,null,null,null,null,null,null,null,null,null,null,"Umpire",null,{"$f":"UPPER(IF(OR(M22=\"a\",M22=\"as\"),L14,IF(OR(M22=\"b\",M22=\"bs\"),L30,)))","v":""}]
[5,{"$f":"IF($D23=\"\",\"\",VLOOKUP($D23,'Boys Do Main Draw Prep'!$A$7:$V$71,20))","v":""},{"$f":"IF($D23=\"\",\"\",VLOOKUP($D23,'Boys Do Main Draw Prep'!$A$7:$V$71,21))","v":""},null,{"$f":"UPPER(IF($D23=\"\",\"\",VLOOKUP($D23,'Boys Do Main Draw Prep'!$A$7:$V$71,2)))","v":""},{"$f":"IF($D23=\"\",\"\",VLOOKUP($D23,'Boys Do Main Draw Prep'!$A$7:$V$71,3))","v":""},null,{"$f":"IF($D23=\"\",\"\",VLOOKUP($D23,'Boys Do Main Draw Prep'!$A$7:$V$71,4))","v":""}]
[null,null,null,null,{"$f":"UPPER(IF($D23=\"\",\"\",VLOOKUP($D23,'Boys Do Main Draw Prep'!$A$7:$V$71,7)))","v":""},{"$f":"IF($D23=\"\",\"\",VLOOKUP($D23,'Boys Do Main Draw Prep'!$A$7:$V$71,8))","v":""},null,{"$f":"IF($D23=\"\",\"\",VLOOKUP($D23,'Boys Do Main Draw Prep'!$A$7:$V$71,9))","v":""},null,{"$f":"IF(I24=\"a\",E23,IF(I24=\"b\",E25,\"\"))","v":""}]
[null,null,null,null,null,null,null,null,null,{"$f":"UPPER(IF(OR(I26=\"a\",I26=\"as\"),E23,IF(OR(I26=\"b\",I26=\"bs\"),E27,)))","v":""}]
[null,null,null,null,null,null,null,"Umpire",null,{"$f":"UPPER(IF(OR(I26=\"a\",I26=\"as\"),E24,IF(OR(I26=\"b\",I26=\"bs\"),E28,)))","v":""}]
[6,{"$f":"IF($D27=\"\",\"\",VLOOKUP($D27,'Boys Do Main Draw Prep'!$A$7:$V$71,20))","v":""},{"$f":"IF($D27=\"\",\"\",VLOOKUP($D27,'Boys Do Main Draw Prep'!$A$7:$V$71,21))","v":""},null,{"$f":"UPPER(IF($D27=\"\",\"\",VLOOKUP($D27,'Boys Do Main Draw Prep'!$A$7:$V$71,2)))","v":""},{"$f":"IF($D27=\"\",\"\",VLOOKUP($D27,'Boys Do Main Draw Prep'!$A$7:$V$71,3))","v":""},null,{"$f":"IF($D27=\"\",\"\",VLOOKUP($D27,'Boys Do Main Draw Prep'!$A$7:$V$71,4))","v":""}]
[null,null,null,null,{"$f":"UPPER(IF($D27=\"\",\"\",VLOOKUP($D27,'Boys Do Main Draw Prep'!$A$7:$V$71,7)))","v":""},{"$f":"IF($D27=\"\",\"\",VLOOKUP($D27,'Boys Do Main Draw Prep'!$A$7:$V$71,8))","v":""},null,{"$f":"IF($D27=\"\",\"\",VLOOKUP($D27,'Boys Do Main Draw Prep'!$A$7:$V$71,9))","v":""}]
[null,null,null,null,null,null,null,null,null,null,null,{"$f":"UPPER(IF(OR(K30=\"a\",K30=\"as\"),J25,IF(OR(K30=\"b\",K30=\"bs\"),J33,)))","v":""}]
[null,null,null,null,null,null,null,null,null,"Umpire",null,{"$f":"UPPER(IF(OR(K30=\"a\",K30=\"as\"),J26,IF(OR(K30=\"b\",K30=\"bs\"),J34,)))","v":""}]
[7,{"$f":"IF($D31=\"\",\"\",VLOOKUP($D31,'Boys Do Main Draw Prep'!$A$7:$V$71,20))","v":""},{"$f":"IF($D31=\"\",\"\",VLOOKUP($D31,'Boys Do Main Draw Prep'!$A$7:$V$71,21))","v":""},null,{"$f":"UPPER(IF($D31=\"\",\"\",VLOOKUP($D31,'Boys Do Main Draw Prep'!$A$7:$V$71,2)))","v":""},{"$f":"IF($D31=\"\",\"\",VLOOKUP($D31,'Boys Do Main Draw Prep'!$A$7:$V$71,3))","v":""},null,{"$f":"IF($D31=\"\",\"\",VLOOKUP($D31,'Boys Do Main Draw Prep'!$A$7:$V$71,4))","v":""}]
[null,null,null,null,{"$f":"UPPER(IF($D31=\"\",\"\",VLOOKUP($D31,'Boys Do Main Draw Prep'!$A$7:$V$71,7)))","v":""},{"$f":"IF($D31=\"\",\"\",VLOOKUP($D31,'Boys Do Main Draw Prep'!$A$7:$V$71,8))","v":""},null,{"$f":"IF($D31=\"\",\"\",VLOOKUP($D31,'Boys Do Main Draw Prep'!$A$7:$V$71,9))","v":""},null,{"$f":"IF(I32=\"a\",E31,IF(I32=\"b\",E33,\"\"))","v":""}]
[null,null,null,null,null,null,null,null,null,{"$f":"UPPER(IF(OR(I34=\"a\",I34=\"as\"),E31,IF(OR(I34=\"b\",I34=\"bs\"),E35,)))","v":""}]
[null,null,null,null,null,null,null,"Umpire",null,{"$f":"UPPER(IF(OR(I34=\"a\",I34=\"as\"),E32,IF(OR(I34=\"b\",I34=\"bs\"),E36,)))","v":""}]
[8,{"$f":"IF($D35=\"\",\"\",VLOOKUP($D35,'Boys Do Main Draw Prep'!$A$7:$V$71,20))","v":""},{"$f":"IF($D35=\"\",\"\",VLOOKUP($D35,'Boys Do Main Draw Prep'!$A$7:$V$71,21))","v":""},null,{"$f":"UPPER(IF($D35=\"\",\"\",VLOOKUP($D35,'Boys Do Main Draw Prep'!$A$7:$V$71,2)))","v":""},{"$f":"IF($D35=\"\",\"\",VLOOKUP($D35,'Boys Do Main Draw Prep'!$A$7:$V$71,3))","v":""},null,{"$f":"IF($D35=\"\",\"\",VLOOKUP($D35,'Boys Do Main Draw Prep'!$A$7:$V$71,4))","v":""}]
[null,null,null,null,{"$f":"UPPER(IF($D35=\"\",\"\",VLOOKUP($D35,'Boys Do Main Draw Prep'!$A$7:$V$71,7)))","v":""},{"$f":"IF($D35=\"\",\"\",VLOOKUP($D35,'Boys Do Main Draw Prep'!$A$7:$V$71,8))","v":""},null,{"$f":"IF($D35=\"\",\"\",VLOOKUP($D35,'Boys Do Main Draw Prep'!$A$7:$V$71,9))","v":""}]
[null,null,null,null,null,null,null,null,null,null,null,null,null,null,null,{"$f":"UPPER(IF(OR(O38=\"a\",O38=\"as\"),N21,IF(OR(O38=\"b\",O38=\"bs\"),N53,)))","v":""}]
[null,null,null,null,null,null,null,null,null,null,null,null,null,"Umpire",null,{"$f":"UPPER(IF(OR(O38=\"a\",O38=\"as\"),N22,IF(OR(O38=\"b\",O38=\"bs\"),N54,)))","v":""}]
[9,{"$f":"IF($D39=\"\",\"\",VLOOKUP($D39,'Boys Do Main Draw Prep'!$A$7:$V$71,20))","v":""},{"$f":"IF($D39=\"\",\"\",VLOOKUP($D39,'Boys Do Main Draw Prep'!$A$7:$V$71,21))","v":""},null,{"$f":"UPPER(IF($D39=\"\",\"\",VLOOKUP($D39,'Boys Do Main Draw Prep'!$A$7:$V$71,2)))","v":""},{"$f":"IF($D39=\"\",\"\",VLOOKUP($D39,'Boys Do Main Draw Prep'!$A$7:$V$71,3))","v":""},null,{"$f":"IF($D39=\"\",\"\",VLOOKUP($D39,'Boys Do Main Draw Prep'!$A$7:$V$71,4))","v":""}]
[null,null,null,null,{"$f":"UPPER(IF($D39=\"\",\"\",VLOOKUP($D39,'Boys Do Main Draw Prep'!$A$7:$V$71,7)))","v":""},{"$f":"IF($D39=\"\",\"\",VLOOKUP($D39,'Boys Do Main Draw Prep'!$A$7:$V$71,8))","v":""},null,{"$f":"IF($D39=\"\",\"\",VLOOKUP($D39,'Boys Do Main Draw Prep'!$A$7:$V$71,9))","v":""},null,{"$f":"IF(I40=\"a\",E39,IF(I40=\"b\",E41,\"\"))","v":""}]
[null,null,null,null,null,null,null,null,null,{"$f":"UPPER(IF(OR(I42=\"a\",I42=\"as\"),E39,IF(OR(I42=\"b\",I42=\"bs\"),E43,)))","v":""}]
[null,null,null,null,null,null,null,"Umpire",null,{"$f":"UPPER(IF(OR(I42=\"a\",I42=\"as\"),E40,IF(OR(I42=\"b\",I42=\"bs\"),E44,)))","v":""}]
[10,{"$f":"IF($D43=\"\",\"\",VLOOKUP($D43,'Boys Do Main Draw Prep'!$A$7:$V$71,20))","v":""},{"$f":"IF($D43=\"\",\"\",VLOOKUP($D43,'Boys Do Main Draw Prep'!$A$7:$V$71,21))","v":""},null,{"$f":"UPPER(IF($D43=\"\",\"\",VLOOKUP($D43,'Boys Do Main Draw Prep'!$A$7:$V$71,2)))","v":""},{"$f":"IF($D43=\"\",\"\",VLOOKUP($D43,'Boys Do Main Draw Prep'!$A$7:$V$71,3))","v":""},null,{"$f":"IF($D43=\"\",\"\",VLOOKUP($D43,'Boys Do Main Draw Prep'!$A$7:$V$71,4))","v":""}]
[null,null,null,null,{"$f":"UPPER(IF($D43=\"\",\"\",VLOOKUP($D43,'Boys Do Main Draw Prep'!$A$7:$V$71,7)))","v":""},{"$f":"IF($D43=\"\",\"\",VLOOKUP($D43,'Boys Do Main Draw Prep'!$A$7:$V$71,8))","v":""},null,{"$f":"IF($D43=\"\",\"\",VLOOKUP($D43,'Boys Do Main Draw Prep'!$A$7:$V$71,9))","v":""}]
[null,null,null,null,null,null,null,null,null,null,null,{"$f":"UPPER(IF(OR(K46=\"a\",K46=\"as\"),J41,IF(OR(K46=\"b\",K46=\"bs\"),J49,)))","v":""}]
[null,null,null,null,null,null,null,null,null,"Umpire",null,{"$f":"UPPER(IF(OR(K46=\"a\",K46=\"as\"),J42,IF(OR(K46=\"b\",K46=\"bs\"),J50,)))","v":""}]
[11,{"$f":"IF($D47=\"\",\"\",VLOOKUP($D47,'Boys Do Main Draw Prep'!$A$7:$V$71,20))","v":""},{"$f":"IF($D47=\"\",\"\",VLOOKUP($D47,'Boys Do Main Draw Prep'!$A$7:$V$71,21))","v":""},null,{"$f":"UPPER(IF($D47=\"\",\"\",VLOOKUP($D47,'Boys Do Main Draw Prep'!$A$7:$V$71,2)))","v":""},{"$f":"IF($D47=\"\",\"\",VLOOKUP($D47,'Boys Do Main Draw Prep'!$A$7:$V$71,3))","v":""},null,{"$f":"IF($D47=\"\",\"\",VLOOKUP($D47,'Boys Do Main Draw Prep'!$A$7:$V$71,4))","v":""}]
[null,null,null,null,{"$f":"UPPER(IF($D47=\"\",\"\",VLOOKUP($D47,'Boys Do Main Draw Prep'!$A$7:$V$71,7)))","v":""},{"$f":"IF($D47=\"\",\"\",VLOOKUP($D47,'Boys Do Main Draw Prep'!$A$7:$V$71,8))","v":""},null,{"$f":"IF($D47=\"\",\"\",VLOOKUP($D47,'Boys Do Main Draw Prep'!$A$7:$V$71,9))","v":""},null,{"$f":"IF(I48=\"a\",E47,IF(I48=\"b\",E49,\"\"))","v":""}]
[null,null,null,null,null,null,null,null,null,{"$f":"UPPER(IF(OR(I50=\"a\",I50=\"as\"),E47,IF(OR(I50=\"b\",I50=\"bs\"),E51,)))","v":""}]
[null,null,null,null,null,null,null,"Umpire",null,{"$f":"UPPER(IF(OR(I50=\"a\",I50=\"as\"),E48,IF(OR(I50=\"b\",I50=\"bs\"),E52,)))","v":""}]
[12,{"$f":"IF($D51=\"\",\"\",VLOOKUP($D51,'Boys Do Main Draw Prep'!$A$7:$V$71,20))","v":""},{"$f":"IF($D51=\"\",\"\",VLOOKUP($D51,'Boys Do Main Draw Prep'!$A$7:$V$71,21))","v":""},null,{"$f":"UPPER(IF($D51=\"\",\"\",VLOOKUP($D51,'Boys Do Main Draw Prep'!$A$7:$V$71,2)))","v":""},{"$f":"IF($D51=\"\",\"\",VLOOKUP($D51,'Boys Do Main Draw Prep'!$A$7:$V$71,3))","v":""},null,{"$f":"IF($D51=\"\",\"\",VLOOKUP($D51,'Boys Do Main Draw Prep'!$A$7:$V$71,4))","v":""}]
[null,null,null,null,{"$f":"UPPER(IF($D51=\"\",\"\",VLOOKUP($D51,'Boys Do Main Draw Prep'!$A$7:$V$71,7)))","v":""},{"$f":"IF($D51=\"\",\"\",VLOOKUP($D51,'Boys Do Main Draw Prep'!$A$7:$V$71,8))","v":""},null,{"$f":"IF($D51=\"\",\"\",VLOOKUP($D51,'Boys Do Main Draw Prep'!$A$7:$V$71,9))","v":""}]
[null,null,null,null,null,null,null,null,null,null,null,null,null,{"$f":"UPPER(IF(OR(M54=\"a\",M54=\"as\"),L45,IF(OR(M54=\"b\",M54=\"bs\"),L61,)))","v":""}]
[null,null,null,null,null,null,null,null,null,null,null,"Umpire",null,{"$f":"UPPER(IF(OR(M54=\"a\",M54=\"as\"),L46,IF(OR(M54=\"b\",M54=\"bs\"),L62,)))","v":""}]
[13,{"$f":"IF($D55=\"\",\"\",VLOOKUP($D55,'Boys Do Main Draw Prep'!$A$7:$V$71,20))","v":""},{"$f":"IF($D55=\"\",\"\",VLOOKUP($D55,'Boys Do Main Draw Prep'!$A$7:$V$71,21))","v":""},null,{"$f":"UPPER(IF($D55=\"\",\"\",VLOOKUP($D55,'Boys Do Main Draw Prep'!$A$7:$V$71,2)))","v":""},{"$f":"IF($D55=\"\",\"\",VLOOKUP($D55,'Boys Do Main Draw Prep'!$A$7:$V$71,3))","v":""},null,{"$f":"IF($D55=\"\",\"\",VLOOKUP($D55,'Boys Do Main Draw Prep'!$A$7:$V$71,4))","v":""}]
[null,null,null,null,{"$f":"UPPER(IF($D55=\"\",\"\",VLOOKUP($D55,'Boys Do Main Draw Prep'!$A$7:$V$71,7)))","v":""},{"$f":"IF($D55=\"\",\"\",VLOOKUP($D55,'Boys Do Main Draw Prep'!$A$7:$V$71,8))","v":""},null,{"$f":"IF($D55=\"\",\"\",VLOOKUP($D55,'Boys Do Main Draw Prep'!$A$7:$V$71,9))","v":""},null,{"$f":"IF(I56=\"a\",E55,IF(I56=\"b\",E57,\"\"))","v":""}]
[null,null,null,null,null,null,null,null,null,{"$f":"UPPER(IF(OR(I58=\"a\",I58=\"as\"),E55,IF(OR(I58=\"b\",I58=\"bs\"),E59,)))","v":""}]
[null,null,null,null,null,null,null,"Umpire",null,{"$f":"UPPER(IF(OR(I58=\"a\",I58=\"as\"),E56,IF(OR(I58=\"b\",I58=\"bs\"),E60,)))","v":""}]
[14,{"$f":"IF($D59=\"\",\"\",VLOOKUP($D59,'Boys Do Main Draw Prep'!$A$7:$V$71,20))","v":""},{"$f":"IF($D59=\"\",\"\",VLOOKUP($D59,'Boys Do Main Draw Prep'!$A$7:$V$71,21))","v":""},null,{"$f":"UPPER(IF($D59=\"\",\"\",VLOOKUP($D59,'Boys Do Main Draw Prep'!$A$7:$V$71,2)))","v":""},{"$f":"IF($D59=\"\",\"\",VLOOKUP($D59,'Boys Do Main Draw Prep'!$A$7:$V$71,3))","v":""},null,{"$f":"IF($D59=\"\",\"\",VLOOKUP($D59,'Boys Do Main Draw Prep'!$A$7:$V$71,4))","v":""}]
[null,null,null,null,{"$f":"UPPER(IF($D59=\"\",\"\",VLOOKUP($D59,'Boys Do Main Draw Prep'!$A$7:$V$71,7)))","v":""},{"$f":"IF($D59=\"\",\"\",VLOOKUP($D59,'Boys Do Main Draw Prep'!$A$7:$V$71,8))","v":""},null,{"$f":"IF($D59=\"\",\"\",VLOOKUP($D59,'Boys Do Main Draw Prep'!$A$7:$V$71,9))","v":""}]
[null,null,null,null,null,null,null,null,null,null,null,{"$f":"UPPER(IF(OR(K62=\"a\",K62=\"as\"),J57,IF(OR(K62=\"b\",K62=\"bs\"),J65,)))","v":""}]
[null,null,null,null,null,null,null,null,null,"Umpire",null,{"$f":"UPPER(IF(OR(K62=\"a\",K62=\"as\"),J58,IF(OR(K62=\"b\",K62=\"bs\"),J66,)))","v":""}]
[15,{"$f":"IF($D63=\"\",\"\",VLOOKUP($D63,'Boys Do Main Draw Prep'!$A$7:$V$71,20))","v":""},{"$f":"IF($D63=\"\",\"\",VLOOKUP($D63,'Boys Do Main Draw Prep'!$A$7:$V$71,21))","v":""},null,{"$f":"UPPER(IF($D63=\"\",\"\",VLOOKUP($D63,'Boys Do Main Draw Prep'!$A$7:$V$71,2)))","v":""},{"$f":"IF($D63=\"\",\"\",VLOOKUP($D63,'Boys Do Main Draw Prep'!$A$7:$V$71,3))","v":""},null,{"$f":"IF($D63=\"\",\"\",VLOOKUP($D63,'Boys Do Main Draw Prep'!$A$7:$V$71,4))","v":""}]
[null,null,null,null,{"$f":"UPPER(IF($D63=\"\",\"\",VLOOKUP($D63,'Boys Do Main Draw Prep'!$A$7:$V$71,7)))","v":""},{"$f":"IF($D63=\"\",\"\",VLOOKUP($D63,'Boys Do Main Draw Prep'!$A$7:$V$71,8))","v":""},null,{"$f":"IF($D63=\"\",\"\",VLOOKUP($D63,'Boys Do Main Draw Prep'!$A$7:$V$71,9))","v":""},null,{"$f":"IF(I64=\"a\",E63,IF(I64=\"b\",E65,\"\"))","v":""}]
[null,null,null,null,null,null,null,null,null,{"$f":"UPPER(IF(OR(I66=\"a\",I66=\"as\"),E63,IF(OR(I66=\"b\",I66=\"bs\"),E67,)))","v":""}]
[null,null,null,null,null,null,null,"Umpire",null,{"$f":"UPPER(IF(OR(I66=\"a\",I66=\"as\"),E64,IF(OR(I66=\"b\",I66=\"bs\"),E68,)))","v":""}]
[16,{"$f":"IF($D67=\"\",\"\",VLOOKUP($D67,'Boys Do Main Draw Prep'!$A$7:$V$71,20))","v":""},{"$f":"IF($D67=\"\",\"\",VLOOKUP($D67,'Boys Do Main Draw Prep'!$A$7:$V$71,21))","v":""},null,{"$f":"UPPER(IF($D67=\"\",\"\",VLOOKUP($D67,'Boys Do Main Draw Prep'!$A$7:$V$71,2)))","v":""},{"$f":"IF($D67=\"\",\"\",VLOOKUP($D67,'Boys Do Main Draw Prep'!$A$7:$V$71,3))","v":""},null,{"$f":"IF($D67=\"\",\"\",VLOOKUP($D67,'Boys Do Main Draw Prep'!$A$7:$V$71,4))","v":""}]
[null,null,null,null,{"$f":"UPPER(IF($D67=\"\",\"\",VLOOKUP($D67,'Boys Do Main Draw Prep'!$A$7:$V$71,7)))","v":""},{"$f":"IF($D67=\"\",\"\",VLOOKUP($D67,'Boys Do Main Draw Prep'!$A$7:$V$71,8))","v":""},null,{"$f":"IF($D67=\"\",\"\",VLOOKUP($D67,'Boys Do Main Draw Prep'!$A$7:$V$71,9))","v":""}]
[]
[null,null,null,null,null,null,null,null,null,null,null,null,null,null,null,null,"Alternate teams on page 2 and 4"]
["Acc. Ranking",null,null,"#","Seeded teams","#","Seeded teams",null,"#","Seeded teams","#","Seeded teams",null,"Draw date/time:"]
["Rkg Date",null,null,1,{"$f":"IF(D72>$Q$79,,UPPER(VLOOKUP(D72,'Boys Do Main Draw Prep'!$A$7:$R$23,2)))","v":0},5,{"$f":"IF(F72>$Q$79,,UPPER(VLOOKUP(F72,'Boys Do Main Draw Prep'!$A$7:$R$23,2)))","v":0},null,9,{"$f":"IF(I72>$Q$79,,UPPER(VLOOKUP(I72,'Boys Do Main Draw Prep'!$A$7:$R$23,2)))","v":0},13,{"$f":"IF(K72>$Q$79,,UPPER(VLOOKUP(K72,'Boys Do Main Draw Prep'!$A$7:$R$23,2)))","v":0},null,"Last Accepted team"]
["Top DA",null,null,null,{"$f":"IF(D72>$Q$79,,UPPER(VLOOKUP(D72,'Boys Do Main Draw Prep'!$A$7:$R$23,7)))","v":0},null,{"$f":"IF(F72>$Q$79,,UPPER(VLOOKUP(F72,'Boys Do Main Draw Prep'!$A$7:$R$23,7)))","v":0},null,null,{"$f":"IF(I72>$Q$79,,UPPER(VLOOKUP(I72,'Boys Do Main Draw Prep'!$A$7:$R$23,7)))","v":0},null,{"$f":"IF(K72>$Q$79,,UPPER(VLOOKUP(K72,'Boys Do Main Draw Prep'!$A$7:$R$23,7)))","v":0}]
["Last DA",null,null,2,{"$f":"IF(D74>$Q$79,,UPPER(VLOOKUP(D74,'Boys Do Main Draw Prep'!$A$7:$R$23,2)))","v":0},6,{"$f":"IF(F74>$Q$79,,UPPER(VLOOKUP(F74,'Boys Do Main Draw Prep'!$A$7:$R$23,2)))","v":0},null,10,{"$f":"IF(I74>$Q$79,,UPPER(VLOOKUP(I74,'Boys Do Main Draw Prep'!$A$7:$R$23,2)))","v":0},14,{"$f":"IF(K74>$Q$79,,UPPER(VLOOKUP(K74,'Boys Do Main Draw Prep'!$A$7:$R$23,2)))","v":0},null,"Player representatives"]
[null,null,null,null,{"$f":"IF(D74>$Q$79,,UPPER(VLOOKUP(D74,'Boys Do Main Draw Prep'!$A$7:$R$23,7)))","v":0},null,{"$f":"IF(F74>$Q$79,,UPPER(VLOOKUP(F74,'Boys Do Main Draw Prep'!$A$7:$R$23,7)))","v":0},null,null,{"$f":"IF(I74>$Q$79,,UPPER(VLOOKUP(I74,'Boys Do Main Draw Prep'!$A$7:$R$23,7)))","v":0},null,{"$f":"IF(K74>$Q$79,,UPPER(VLOOKUP(K74,'Boys Do Main Draw Prep'!$A$7:$R$23,7)))","v":0}]
["Seed ranking",null,null,3,{"$f":"IF(D76>$Q$79,,UPPER(VLOOKUP(D76,'Boys Do Main Draw Prep'!$A$7:$R$23,2)))","v":0},7,{"$f":"IF(F76>$Q$79,,UPPER(VLOOKUP(F76,'Boys Do Main Draw Prep'!$A$7:$R$23,2)))","v":0},null,11,{"$f":"IF(I76>$Q$79,,UPPER(VLOOKUP(I76,'Boys Do Main Draw Prep'!$A$7:$R$23,2)))","v":0},15,{"$f":"IF(K76>$Q$79,,UPPER(VLOOKUP(K76,'Boys Do Main Draw Prep'!$A$7:$R$23,2)))","v":0}]
["Rkg Date",null,null,null,{"$f":"IF(D76>$Q$79,,UPPER(VLOOKUP(D76,'Boys Do Main Draw Prep'!$A$7:$R$23,7)))","v":0},null,{"$f":"IF(F76>$Q$79,,UPPER(VLOOKUP(F76,'Boys Do Main Draw Prep'!$A$7:$R$23,7)))","v":0},null,null,{"$f":"IF(I76>$Q$79,,UPPER(VLOOKUP(I76,'Boys Do Main Draw Prep'!$A$7:$R$23,7)))","v":0},null,{"$f":"IF(K76>$Q$79,,UPPER(VLOOKUP(K76,'Boys Do Main Draw Prep'!$A$7:$R$23,7)))","v":0},null,"ITF Referee's signature"]
["Top seed",null,null,4,{"$f":"IF(D78>$Q$79,,UPPER(VLOOKUP(D78,'Boys Do Main Draw Prep'!$A$7:$R$23,2)))","v":0},8,{"$f":"IF(F78>$Q$79,,UPPER(VLOOKUP(F78,'Boys Do Main Draw Prep'!$A$7:$R$23,2)))","v":0},null,12,{"$f":"IF(I78>$Q$79,,UPPER(VLOOKUP(I78,'Boys Do Main Draw Prep'!$A$7:$R$23,2)))","v":0},16,{"$f":"IF(K78>$Q$79,,UPPER(VLOOKUP(K78,'Boys Do Main Draw Prep'!$A$7:$R$23,2)))","v":0}]
["Last seed",null,null,null,{"$f":"IF(D78>$Q$79,,UPPER(VLOOKUP(D78,'Boys Do Main Draw Prep'!$A$7:$R$23,7)))","v":0},null,{"$f":"IF(F78>$Q$79,,UPPER(VLOOKUP(F78,'Boys Do Main Draw Prep'!$A$7:$R$23,7)))","v":0},null,null,{"$f":"IF(I78>$Q$79,,UPPER(VLOOKUP(I78,'Boys Do Main Draw Prep'!$A$7:$R$23,7)))","v":0},null,{"$f":"IF(K78>$Q$79,,UPPER(VLOOKUP(K78,'Boys Do Main Draw Prep'!$A$7:$R$23,7)))","v":0},null,{"$f":"Q4","v":0},null,null,{"$f":"'Boys Do Main Draw Prep'!$V$5","v":0}]
[null,"St.",{"$f":"IF(OR(F78=\"Week 3\",F78=\"Masters\"),\"CP\",\"Rank\")","v":"Rank"},"Seed","Family Name","First name",null,"Nationality",null,"2nd Round",null,"3rd Round",null,"Quarterfinals",null,"Semifinalists"]
[]
[17,{"$f":"IF($D82=\"\",\"\",VLOOKUP($D82,'Boys Do Main Draw Prep'!$A$7:$V$71,20))","v":""},{"$f":"IF($D82=\"\",\"\",VLOOKUP($D82,'Boys Do Main Draw Prep'!$A$7:$V$71,21))","v":""},null,{"$f":"UPPER(IF($D82=\"\",\"\",VLOOKUP($D82,'Boys Do Main Draw Prep'!$A$7:$V$71,2)))","v":""},{"$f":"IF($D82=\"\",\"\",VLOOKUP($D82,'Boys Do Main Draw Prep'!$A$7:$V$71,3))","v":""},null,{"$f":"IF($D82=\"\",\"\",VLOOKUP($D82,'Boys Do Main Draw Prep'!$A$7:$V$71,4))","v":""},null,null,null,null,null,null,null,null,"Page 2(5)",null,null,{"$f":"'SetUp Officials'!P60","v":0}]
[null,null,null,null,{"$f":"UPPER(IF($D82=\"\",\"\",VLOOKUP($D82,'Boys Do Main Draw Prep'!$A$7:$V$71,7)))","v":""},{"$f":"IF($D82=\"\",\"\",VLOOKUP($D82,'Boys Do Main Draw Prep'!$A$7:$V$71,8))","v":""},null,{"$f":"IF($D82=\"\",\"\",VLOOKUP($D82,'Boys Do Main Draw Prep'!$A$7:$V$71,9))","v":""},null,{"$f":"IF(I83=\"a\",E82,IF(I83=\"b\",E84,\"\"))","v":""},null,null,null,null,null,null,null,null,null,{"$f":"'SetUp Officials'!P61","v":0}]
[null,null,null,null,null,null,null,null,null,{"$f":"UPPER(IF(OR(I85=\"a\",I85=\"as\"),E82,IF(OR(I85=\"b\",I85=\"bs\"),E86,)))","v":""},null,null,null,null,null,null,null,null,null,{"$f":"'SetUp Officials'!P62","v":0}]
[null,null,null,null,null,null,null,"Umpire",null,{"$f":"UPPER(IF(OR(I85=\"a\",I85=\"as\"),E83,IF(OR(I85=\"b\",I85=\"bs\"),E87,)))","v":""},null,null,null,null,null,null,null,null,null,{"$f":"'SetUp Officials'!P63","v":0}]
[18,{"$f":"IF($D86=\"\",\"\",VLOOKUP($D86,'Boys Do Main Draw Prep'!$A$7:$V$71,20))","v":""},{"$f":"IF($D86=\"\",\"\",VLOOKUP($D86,'Boys Do Main Draw Prep'!$A$7:$V$71,21))","v":""},null,{"$f":"UPPER(IF($D86=\"\",\"\",VLOOKUP($D86,'Boys Do Main Draw Prep'!$A$7:$V$71,2)))","v":""},{"$f":"IF($D86=\"\",\"\",VLOOKUP($D86,'Boys Do Main Draw Prep'!$A$7:$V$71,3))","v":""},null,{"$f":"IF($D86=\"\",\"\",VLOOKUP($D86,'Boys Do Main Draw Prep'!$A$7:$V$71,4))","v":""},null,null,null,null,null,null,null,null,null,null,null,{"$f":"'SetUp Officials'!P64","v":0}]
[null,null,null,null,{"$f":"UPPER(IF($D86=\"\",\"\",VLOOKUP($D86,'Boys Do Main Draw Prep'!$A$7:$V$71,7)))","v":""},{"$f":"IF($D86=\"\",\"\",VLOOKUP($D86,'Boys Do Main Draw Prep'!$A$7:$V$71,8))","v":""},null,{"$f":"IF($D86=\"\",\"\",VLOOKUP($D86,'Boys Do Main Draw Prep'!$A$7:$V$71,9))","v":""},null,null,null,null,null,null,null,null,null,null,null,{"$f":"'SetUp Officials'!P65","v":0}]
[null,null,null,null,null,null,null,null,null,null,null,{"$f":"UPPER(IF(OR(K89=\"a\",K89=\"as\"),J84,IF(OR(K89=\"b\",K89=\"bs\"),J92,)))","v":""},null,null,null,null,null,null,null,{"$f":"'SetUp Officials'!P66","v":0}]
[null,null,null,null,null,null,null,null,null,"Umpire",null,{"$f":"UPPER(IF(OR(K89=\"a\",K89=\"as\"),J85,IF(OR(K89=\"b\",K89=\"bs\"),J93,)))","v":""},null,null,null,null,null,null,null,{"$f":"'SetUp Officials'!P67","v":0}]
[19,{"$f":"IF($D90=\"\",\"\",VLOOKUP($D90,'Boys Do Main Draw Prep'!$A$7:$V$71,20))","v":""},{"$f":"IF($D90=\"\",\"\",VLOOKUP($D90,'Boys Do Main Draw Prep'!$A$7:$V$71,21))","v":""},null,{"$f":"UPPER(IF($D90=\"\",\"\",VLOOKUP($D90,'Boys Do Main Draw Prep'!$A$7:$V$71,2)))","v":""},{"$f":"IF($D90=\"\",\"\",VLOOKUP($D90,'Boys Do Main Draw Prep'!$A$7:$V$71,3))","v":""},null,{"$f":"IF($D90=\"\",\"\",VLOOKUP($D90,'Boys Do Main Draw Prep'!$A$7:$V$71,4))","v":""},null,null,null,null,null,null,null,null,null,null,null,{"$f":"'SetUp Officials'!P68","v":0}]
[null,null,null,null,{"$f":"UPPER(IF($D90=\"\",\"\",VLOOKUP($D90,'Boys Do Main Draw Prep'!$A$7:$V$71,7)))","v":""},{"$f":"IF($D90=\"\",\"\",VLOOKUP($D90,'Boys Do Main Draw Prep'!$A$7:$V$71,8))","v":""},null,{"$f":"IF($D90=\"\",\"\",VLOOKUP($D90,'Boys Do Main Draw Prep'!$A$7:$V$71,9))","v":""},null,{"$f":"IF(I91=\"a\",E90,IF(I91=\"b\",E92,\"\"))","v":""},null,null,null,null,null,null,null,null,null,{"$f":"'SetUp Officials'!P69","v":0}]
[null,null,null,null,null,null,null,null,null,{"$f":"UPPER(IF(OR(I93=\"a\",I93=\"as\"),E90,IF(OR(I93=\"b\",I93=\"bs\"),E94,)))","v":""}]
[null,null,null,null,null,null,null,"Umpire",null,{"$f":"UPPER(IF(OR(I93=\"a\",I93=\"as\"),E91,IF(OR(I93=\"b\",I93=\"bs\"),E95,)))","v":""}]
[20,{"$f":"IF($D94=\"\",\"\",VLOOKUP($D94,'Boys Do Main Draw Prep'!$A$7:$V$71,20))","v":""},{"$f":"IF($D94=\"\",\"\",VLOOKUP($D94,'Boys Do Main Draw Prep'!$A$7:$V$71,21))","v":""},null,{"$f":"UPPER(IF($D94=\"\",\"\",VLOOKUP($D94,'Boys Do Main Draw Prep'!$A$7:$V$71,2)))","v":""},{"$f":"IF($D94=\"\",\"\",VLOOKUP($D94,'Boys Do Main Draw Prep'!$A$7:$V$71,3))","v":""},null,{"$f":"IF($D94=\"\",\"\",VLOOKUP($D94,'Boys Do Main Draw Prep'!$A$7:$V$71,4))","v":""}]
[null,null,null,null,{"$f":"UPPER(IF($D94=\"\",\"\",VLOOKUP($D94,'Boys Do Main Draw Prep'!$A$7:$V$71,7)))","v":""},{"$f":"IF($D94=\"\",\"\",VLOOKUP($D94,'Boys Do Main Draw Prep'!$A$7:$V$71,8))","v":""},null,{"$f":"IF($D94=\"\",\"\",VLOOKUP($D94,'Boys Do Main Draw Prep'!$A$7:$V$71,9))","v":""}]
[null,null,null,null,null,null,null,null,null,null,null,null,null,{"$f":"UPPER(IF(OR(M97=\"a\",M97=\"as\"),L88,IF(OR(M97=\"b\",M97=\"bs\"),L104,)))","v":""}]
[null,null,null,null,null,null,null,null,null,null,null,"Umpire",null,{"$f":"UPPER(IF(OR(M97=\"a\",M97=\"as\"),L89,IF(OR(M97=\"b\",M97=\"bs\"),L105,)))","v":""}]
[21,{"$f":"IF($D98=\"\",\"\",VLOOKUP($D98,'Boys Do Main Draw Prep'!$A$7:$V$71,20))","v":""},{"$f":"IF($D98=\"\",\"\",VLOOKUP($D98,'Boys Do Main Draw Prep'!$A$7:$V$71,21))","v":""},null,{"$f":"UPPER(IF($D98=\"\",\"\",VLOOKUP($D98,'Boys Do Main Draw Prep'!$A$7:$V$71,2)))","v":""},{"$f":"IF($D98=\"\",\"\",VLOOKUP($D98,'Boys Do Main Draw Prep'!$A$7:$V$71,3))","v":""},null,{"$f":"IF($D98=\"\",\"\",VLOOKUP($D98,'Boys Do Main Draw Prep'!$A$7:$V$71,4))","v":""}]
[null,null,null,null,{"$f":"UPPER(IF($D98=\"\",\"\",VLOOKUP($D98,'Boys Do Main Draw Prep'!$A$7:$V$71,7)))","v":""},{"$f":"IF($D98=\"\",\"\",VLOOKUP($D98,'Boys Do Main Draw Prep'!$A$7:$V$71,8))","v":""},null,{"$f":"IF($D98=\"\",\"\",VLOOKUP($D98,'Boys Do Main Draw Prep'!$A$7:$V$71,9))","v":""},null,{"$f":"IF(I99=\"a\",E98,IF(I99=\"b\",E100,\"\"))","v":""}]
[null,null,null,null,null,null,null,null,null,{"$f":"UPPER(IF(OR(I101=\"a\",I101=\"as\"),E98,IF(OR(I101=\"b\",I101=\"bs\"),E102,)))","v":""}]
[null,null,null,null,null,null,null,"Umpire",null,{"$f":"UPPER(IF(OR(I101=\"a\",I101=\"as\"),E99,IF(OR(I101=\"b\",I101=\"bs\"),E103,)))","v":""}]
[22,{"$f":"IF($D102=\"\",\"\",VLOOKUP($D102,'Boys Do Main Draw Prep'!$A$7:$V$71,20))","v":""},{"$f":"IF($D102=\"\",\"\",VLOOKUP($D102,'Boys Do Main Draw Prep'!$A$7:$V$71,21))","v":""},null,{"$f":"UPPER(IF($D102=\"\",\"\",VLOOKUP($D102,'Boys Do Main Draw Prep'!$A$7:$V$71,2)))","v":""},{"$f":"IF($D102=\"\",\"\",VLOOKUP($D102,'Boys Do Main Draw Prep'!$A$7:$V$71,3))","v":""},null,{"$f":"IF($D102=\"\",\"\",VLOOKUP($D102,'Boys Do Main Draw Prep'!$A$7:$V$71,4))","v":""}]
[null,null,null,null,{"$f":"UPPER(IF($D102=\"\",\"\",VLOOKUP($D102,'Boys Do Main Draw Prep'!$A$7:$V$71,7)))","v":""},{"$f":"IF($D102=\"\",\"\",VLOOKUP($D102,'Boys Do Main Draw Prep'!$A$7:$V$71,8))","v":""},null,{"$f":"IF($D102=\"\",\"\",VLOOKUP($D102,'Boys Do Main Draw Prep'!$A$7:$V$71,9))","v":""}]
[null,null,null,null,null,null,null,null,null,null,null,{"$f":"UPPER(IF(OR(K105=\"a\",K105=\"as\"),J100,IF(OR(K105=\"b\",K105=\"bs\"),J108,)))","v":""}]
[null,null,null,null,null,null,null,null,null,"Umpire",null,{"$f":"UPPER(IF(OR(K105=\"a\",K105=\"as\"),J101,IF(OR(K105=\"b\",K105=\"bs\"),J109,)))","v":""}]
[23,{"$f":"IF($D106=\"\",\"\",VLOOKUP($D106,'Boys Do Main Draw Prep'!$A$7:$V$71,20))","v":""},{"$f":"IF($D106=\"\",\"\",VLOOKUP($D106,'Boys Do Main Draw Prep'!$A$7:$V$71,21))","v":""},null,{"$f":"UPPER(IF($D106=\"\",\"\",VLOOKUP($D106,'Boys Do Main Draw Prep'!$A$7:$V$71,2)))","v":""},{"$f":"IF($D106=\"\",\"\",VLOOKUP($D106,'Boys Do Main Draw Prep'!$A$7:$V$71,3))","v":""},null,{"$f":"IF($D106=\"\",\"\",VLOOKUP($D106,'Boys Do Main Draw Prep'!$A$7:$V$71,4))","v":""}]
[null,null,null,null,{"$f":"UPPER(IF($D106=\"\",\"\",VLOOKUP($D106,'Boys Do Main Draw Prep'!$A$7:$V$71,7)))","v":""},{"$f":"IF($D106=\"\",\"\",VLOOKUP($D106,'Boys Do Main Draw Prep'!$A$7:$V$71,8))","v":""},null,{"$f":"IF($D106=\"\",\"\",VLOOKUP($D106,'Boys Do Main Draw Prep'!$A$7:$V$71,9))","v":""},null,{"$f":"IF(I107=\"a\",E106,IF(I107=\"b\",E108,\"\"))","v":""}]
[null,null,null,null,null,null,null,null,null,{"$f":"UPPER(IF(OR(I109=\"a\",I109=\"as\"),E106,IF(OR(I109=\"b\",I109=\"bs\"),E110,)))","v":""}]
[null,null,null,null,null,null,null,"Umpire",null,{"$f":"UPPER(IF(OR(I109=\"a\",I109=\"as\"),E107,IF(OR(I109=\"b\",I109=\"bs\"),E111,)))","v":""}]
[24,{"$f":"IF($D110=\"\",\"\",VLOOKUP($D110,'Boys Do Main Draw Prep'!$A$7:$V$71,20))","v":""},{"$f":"IF($D110=\"\",\"\",VLOOKUP($D110,'Boys Do Main Draw Prep'!$A$7:$V$71,21))","v":""},null,{"$f":"UPPER(IF($D110=\"\",\"\",VLOOKUP($D110,'Boys Do Main Draw Prep'!$A$7:$V$71,2)))","v":""},{"$f":"IF($D110=\"\",\"\",VLOOKUP($D110,'Boys Do Main Draw Prep'!$A$7:$V$71,3))","v":""},null,{"$f":"IF($D110=\"\",\"\",VLOOKUP($D110,'Boys Do Main Draw Prep'!$A$7:$V$71,4))","v":""}]
[null,null,null,null,{"$f":"UPPER(IF($D110=\"\",\"\",VLOOKUP($D110,'Boys Do Main Draw Prep'!$A$7:$V$71,7)))","v":""},{"$f":"IF($D110=\"\",\"\",VLOOKUP($D110,'Boys Do Main Draw Prep'!$A$7:$V$71,8))","v":""},null,{"$f":"IF($D110=\"\",\"\",VLOOKUP($D110,'Boys Do Main Draw Prep'!$A$7:$V$71,9))","v":""}]
[null,null,null,null,null,null,null,null,null,null,null,null,null,null,null,{"$f":"UPPER(IF(OR(O113=\"a\",O113=\"as\"),N96,IF(OR(O113=\"b\",O113=\"bs\"),N128,)))","v":""}]
[null,null,null,null,null,null,null,null,null,null,null,null,null,"Umpire",null,{"$f":"UPPER(IF(OR(O113=\"a\",O113=\"as\"),N97,IF(OR(O113=\"b\",O113=\"bs\"),N129,)))","v":""}]
[25,{"$f":"IF($D114=\"\",\"\",VLOOKUP($D114,'Boys Do Main Draw Prep'!$A$7:$V$71,20))","v":""},{"$f":"IF($D114=\"\",\"\",VLOOKUP($D114,'Boys Do Main Draw Prep'!$A$7:$V$71,21))","v":""},null,{"$f":"UPPER(IF($D114=\"\",\"\",VLOOKUP($D114,'Boys Do Main Draw Prep'!$A$7:$V$71,2)))","v":""},{"$f":"IF($D114=\"\",\"\",VLOOKUP($D114,'Boys Do Main Draw Prep'!$A$7:$V$71,3))","v":""},null,{"$f":"IF($D114=\"\",\"\",VLOOKUP($D114,'Boys Do Main Draw Prep'!$A$7:$V$71,4))","v":""}]
[null,null,null,null,{"$f":"UPPER(IF($D114=\"\",\"\",VLOOKUP($D114,'Boys Do Main Draw Prep'!$A$7:$V$71,7)))","v":""},{"$f":"IF($D114=\"\",\"\",VLOOKUP($D114,'Boys Do Main Draw Prep'!$A$7:$V$71,8))","v":""},null,{"$f":"IF($D114=\"\",\"\",VLOOKUP($D114,'Boys Do Main Draw Prep'!$A$7:$V$71,9))","v":""},null,{"$f":"IF(I115=\"a\",E114,IF(I115=\"b\",E116,\"\"))","v":""}]
[null,null,null,null,null,null,null,null,null,{"$f":"UPPER(IF(OR(I117=\"a\",I117=\"as\"),E114,IF(OR(I117=\"b\",I117=\"bs\"),E118,)))","v":""}]
[null,null,null,null,null,null,null,"Umpire",null,{"$f":"UPPER(IF(OR(I117=\"a\",I117=\"as\"),E115,IF(OR(I117=\"b\",I117=\"bs\"),E119,)))","v":""}]
[26,{"$f":"IF($D118=\"\",\"\",VLOOKUP($D118,'Boys Do Main Draw Prep'!$A$7:$V$71,20))","v":""},{"$f":"IF($D118=\"\",\"\",VLOOKUP($D118,'Boys Do Main Draw Prep'!$A$7:$V$71,21))","v":""},null,{"$f":"UPPER(IF($D118=\"\",\"\",VLOOKUP($D118,'Boys Do Main Draw Prep'!$A$7:$V$71,2)))","v":""},{"$f":"IF($D118=\"\",\"\",VLOOKUP($D118,'Boys Do Main Draw Prep'!$A$7:$V$71,3))","v":""},null,{"$f":"IF($D118=\"\",\"\",VLOOKUP($D118,'Boys Do Main Draw Prep'!$A$7:$V$71,4))","v":""}]
[null,null,null,null,{"$f":"UPPER(IF($D118=\"\",\"\",VLOOKUP($D118,'Boys Do Main Draw Prep'!$A$7:$V$71,7)))","v":""},{"$f":"IF($D118=\"\",\"\",VLOOKUP($D118,'Boys Do Main Draw Prep'!$A$7:$V$71,8))","v":""},null,{"$f":"IF($D118=\"\",\"\",VLOOKUP($D118,'Boys Do Main Draw Prep'!$A$7:$V$71,9))","v":""}]
[null,null,null,null,null,null,null,null,null,null,null,{"$f":"UPPER(IF(OR(K121=\"a\",K121=\"as\"),J116,IF(OR(K121=\"b\",K121=\"bs\"),J124,)))","v":""}]
[null,null,null,null,null,null,null,null,null,"Umpire",null,{"$f":"UPPER(IF(OR(K121=\"a\",K121=\"as\"),J117,IF(OR(K121=\"b\",K121=\"bs\"),J125,)))","v":""}]
[27,{"$f":"IF($D122=\"\",\"\",VLOOKUP($D122,'Boys Do Main Draw Prep'!$A$7:$V$71,20))","v":""},{"$f":"IF($D122=\"\",\"\",VLOOKUP($D122,'Boys Do Main Draw Prep'!$A$7:$V$71,21))","v":""},null,{"$f":"UPPER(IF($D122=\"\",\"\",VLOOKUP($D122,'Boys Do Main Draw Prep'!$A$7:$V$71,2)))","v":""},{"$f":"IF($D122=\"\",\"\",VLOOKUP($D122,'Boys Do Main Draw Prep'!$A$7:$V$71,3))","v":""},null,{"$f":"IF($D122=\"\",\"\",VLOOKUP($D122,'Boys Do Main Draw Prep'!$A$7:$V$71,4))","v":""}]
[null,null,null,null,{"$f":"UPPER(IF($D122=\"\",\"\",VLOOKUP($D122,'Boys Do Main Draw Prep'!$A$7:$V$71,7)))","v":""},{"$f":"IF($D122=\"\",\"\",VLOOKUP($D122,'Boys Do Main Draw Prep'!$A$7:$V$71,8))","v":""},null,{"$f":"IF($D122=\"\",\"\",VLOOKUP($D122,'Boys Do Main Draw Prep'!$A$7:$V$71,9))","v":""},null,{"$f":"IF(I123=\"a\",E122,IF(I123=\"b\",E124,\"\"))","v":""}]
[null,null,null,null,null,null,null,null,null,{"$f":"UPPER(IF(OR(I125=\"a\",I125=\"as\"),E122,IF(OR(I125=\"b\",I125=\"bs\"),E126,)))","v":""}]
[null,null,null,null,null,null,null,"Umpire",null,{"$f":"UPPER(IF(OR(I125=\"a\",I125=\"as\"),E123,IF(OR(I125=\"b\",I125=\"bs\"),E127,)))","v":""}]
[28,{"$f":"IF($D126=\"\",\"\",VLOOKUP($D126,'Boys Do Main Draw Prep'!$A$7:$V$71,20))","v":""},{"$f":"IF($D126=\"\",\"\",VLOOKUP($D126,'Boys Do Main Draw Prep'!$A$7:$V$71,21))","v":""},null,{"$f":"UPPER(IF($D126=\"\",\"\",VLOOKUP($D126,'Boys Do Main Draw Prep'!$A$7:$V$71,2)))","v":""},{"$f":"IF($D126=\"\",\"\",VLOOKUP($D126,'Boys Do Main Draw Prep'!$A$7:$V$71,3))","v":""},null,{"$f":"IF($D126=\"\",\"\",VLOOKUP($D126,'Boys Do Main Draw Prep'!$A$7:$V$71,4))","v":""}]
[null,null,null,null,{"$f":"UPPER(IF($D126=\"\",\"\",VLOOKUP($D126,'Boys Do Main Draw Prep'!$A$7:$V$71,7)))","v":""},{"$f":"IF($D126=\"\",\"\",VLOOKUP($D126,'Boys Do Main Draw Prep'!$A$7:$V$71,8))","v":""},null,{"$f":"IF($D126=\"\",\"\",VLOOKUP($D126,'Boys Do Main Draw Prep'!$A$7:$V$71,9))","v":""}]
[null,null,null,null,null,null,null,null,null,null,null,null,null,{"$f":"UPPER(IF(OR(M129=\"a\",M129=\"as\"),L120,IF(OR(M129=\"b\",M129=\"bs\"),L136,)))","v":""}]
[null,null,null,null,null,null,null,null,null,null,null,"Umpire",null,{"$f":"UPPER(IF(OR(M129=\"a\",M129=\"as\"),L121,IF(OR(M129=\"b\",M129=\"bs\"),L137,)))","v":""}]
[29,{"$f":"IF($D130=\"\",\"\",VLOOKUP($D130,'Boys Do Main Draw Prep'!$A$7:$V$71,20))","v":""},{"$f":"IF($D130=\"\",\"\",VLOOKUP($D130,'Boys Do Main Draw Prep'!$A$7:$V$71,21))","v":""},null,{"$f":"UPPER(IF($D130=\"\",\"\",VLOOKUP($D130,'Boys Do Main Draw Prep'!$A$7:$V$71,2)))","v":""},{"$f":"IF($D130=\"\",\"\",VLOOKUP($D130,'Boys Do Main Draw Prep'!$A$7:$V$71,3))","v":""},null,{"$f":"IF($D130=\"\",\"\",VLOOKUP($D130,'Boys Do Main Draw Prep'!$A$7:$V$71,4))","v":""}]
[null,null,null,null,{"$f":"UPPER(IF($D130=\"\",\"\",VLOOKUP($D130,'Boys Do Main Draw Prep'!$A$7:$V$71,7)))","v":""},{"$f":"IF($D130=\"\",\"\",VLOOKUP($D130,'Boys Do Main Draw Prep'!$A$7:$V$71,8))","v":""},null,{"$f":"IF($D130=\"\",\"\",VLOOKUP($D130,'Boys Do Main Draw Prep'!$A$7:$V$71,9))","v":""},null,{"$f":"IF(I131=\"a\",E130,IF(I131=\"b\",E132,\"\"))","v":""}]
[null,null,null,null,null,null,null,null,null,{"$f":"UPPER(IF(OR(I133=\"a\",I133=\"as\"),E130,IF(OR(I133=\"b\",I133=\"bs\"),E134,)))","v":""}]
[null,null,null,null,null,null,null,"Umpire",null,{"$f":"UPPER(IF(OR(I133=\"a\",I133=\"as\"),E131,IF(OR(I133=\"b\",I133=\"bs\"),E135,)))","v":""}]
[30,{"$f":"IF($D134=\"\",\"\",VLOOKUP($D134,'Boys Do Main Draw Prep'!$A$7:$V$71,20))","v":""},{"$f":"IF($D134=\"\",\"\",VLOOKUP($D134,'Boys Do Main Draw Prep'!$A$7:$V$71,21))","v":""},null,{"$f":"UPPER(IF($D134=\"\",\"\",VLOOKUP($D134,'Boys Do Main Draw Prep'!$A$7:$V$71,2)))","v":""},{"$f":"IF($D134=\"\",\"\",VLOOKUP($D134,'Boys Do Main Draw Prep'!$A$7:$V$71,3))","v":""},null,{"$f":"IF($D134=\"\",\"\",VLOOKUP($D134,'Boys Do Main Draw Prep'!$A$7:$V$71,4))","v":""}]
[null,null,null,null,{"$f":"UPPER(IF($D134=\"\",\"\",VLOOKUP($D134,'Boys Do Main Draw Prep'!$A$7:$V$71,7)))","v":""},{"$f":"IF($D134=\"\",\"\",VLOOKUP($D134,'Boys Do Main Draw Prep'!$A$7:$V$71,8))","v":""},null,{"$f":"IF($D134=\"\",\"\",VLOOKUP($D134,'Boys Do Main Draw Prep'!$A$7:$V$71,9))","v":""}]
[null,null,null,null,null,null,null,null,null,null,null,{"$f":"UPPER(IF(OR(K137=\"a\",K137=\"as\"),J132,IF(OR(K137=\"b\",K137=\"bs\"),J140,)))","v":""}]
[null,null,null,null,null,null,null,null,null,"Umpire",null,{"$f":"UPPER(IF(OR(K137=\"a\",K137=\"as\"),J133,IF(OR(K137=\"b\",K137=\"bs\"),J141,)))","v":""}]
[31,{"$f":"IF($D138=\"\",\"\",VLOOKUP($D138,'Boys Do Main Draw Prep'!$A$7:$V$71,20))","v":""},{"$f":"IF($D138=\"\",\"\",VLOOKUP($D138,'Boys Do Main Draw Prep'!$A$7:$V$71,21))","v":""},null,{"$f":"UPPER(IF($D138=\"\",\"\",VLOOKUP($D138,'Boys Do Main Draw Prep'!$A$7:$V$71,2)))","v":""},{"$f":"IF($D138=\"\",\"\",VLOOKUP($D138,'Boys Do Main Draw Prep'!$A$7:$V$71,3))","v":""},null,{"$f":"IF($D138=\"\",\"\",VLOOKUP($D138,'Boys Do Main Draw Prep'!$A$7:$V$71,4))","v":""}]
[null,null,null,null,{"$f":"UPPER(IF($D138=\"\",\"\",VLOOKUP($D138,'Boys Do Main Draw Prep'!$A$7:$V$71,7)))","v":""},{"$f":"IF($D138=\"\",\"\",VLOOKUP($D138,'Boys Do Main Draw Prep'!$A$7:$V$71,8))","v":""},null,{"$f":"IF($D138=\"\",\"\",VLOOKUP($D138,'Boys Do Main Draw Prep'!$A$7:$V$71,9))","v":""},null,{"$f":"IF(I139=\"a\",E138,IF(I139=\"b\",E140,\"\"))","v":""}]
[null,null,null,null,null,null,null,null,null,{"$f":"UPPER(IF(OR(I141=\"a\",I141=\"as\"),E138,IF(OR(I141=\"b\",I141=\"bs\"),E142,)))","v":""}]
[null,null,null,null,null,null,null,"Umpire",null,{"$f":"UPPER(IF(OR(I141=\"a\",I141=\"as\"),E139,IF(OR(I141=\"b\",I141=\"bs\"),E143,)))","v":""}]
[32,{"$f":"IF($D142=\"\",\"\",VLOOKUP($D142,'Boys Do Main Draw Prep'!$A$7:$V$71,20))","v":""},{"$f":"IF($D142=\"\",\"\",VLOOKUP($D142,'Boys Do Main Draw Prep'!$A$7:$V$71,21))","v":""},null,{"$f":"UPPER(IF($D142=\"\",\"\",VLOOKUP($D142,'Boys Do Main Draw Prep'!$A$7:$V$71,2)))","v":""},{"$f":"IF($D142=\"\",\"\",VLOOKUP($D142,'Boys Do Main Draw Prep'!$A$7:$V$71,3))","v":""},null,{"$f":"IF($D142=\"\",\"\",VLOOKUP($D142,'Boys Do Main Draw Prep'!$A$7:$V$71,4))","v":""}]
[null,null,null,null,{"$f":"UPPER(IF($D142=\"\",\"\",VLOOKUP($D142,'Boys Do Main Draw Prep'!$A$7:$V$71,7)))","v":""},{"$f":"IF($D142=\"\",\"\",VLOOKUP($D142,'Boys Do Main Draw Prep'!$A$7:$V$71,8))","v":""},null,{"$f":"IF($D142=\"\",\"\",VLOOKUP($D142,'Boys Do Main Draw Prep'!$A$7:$V$71,9))","v":""}]
[]
[null,null,null,null,null,null,null,null,null,null,null,null,null,null,null,null,"Seeded teams on page 1 and 3"]
["Acc. Ranking",null,null,"#","Alternates",null,"Replacing",null,"#","Alternates",null,"Replacing",null,"Draw date/time:",null,{"$f":"P71","v":0}]
["Rkg Date",null,{"$f":"C72","v":0},"1",null,null,null,null,"5",null,null,null,null,"Last Accepted team"]
["Top DA",null,{"$f":"C73","v":0},null,null,null,null,null,null,null,null,null,null,{"$f":"N73","v":0}]
["Last DA",null,{"$f":"C74","v":0},"2",null,null,null,null,"6",null,null,null,null,"Player representatives"]
[]
["Seed ranking",null,null,"3",null,null,null,null,"7",null,null,null,null,{"$f":"N76","v":0}]
["Rkg Date",null,{"$f":"C77","v":0},null,null,null,null,null,null,null,null,null,null,"ITF Referee's signature"]
["Top seed",null,{"$f":"C78","v":0},"4",null,null,null,null,"8"]
["Last seed",null,{"$f":"C79","v":0},null,null,null,null,null,null,null,null,null,null,{"$f":"N79","v":0}]
[null,"St.",{"$f":"IF(OR(F153=\"Week 3\",F153=\"Masters\"),\"CP\",\"Rank\")","v":"Rank"},"Seed","Family Name","First name",null,"Nationality",null,"2nd Round",null,"3rd Round",null,"Quarterfinals",null,"Semifinalists"]
[]
[33,{"$f":"IF($D157=\"\",\"\",VLOOKUP($D157,'Boys Do Main Draw Prep'!$A$7:$V$71,20))","v":""},{"$f":"IF($D157=\"\",\"\",VLOOKUP($D157,'Boys Do Main Draw Prep'!$A$7:$V$71,21))","v":""},null,{"$f":"UPPER(IF($D157=\"\",\"\",VLOOKUP($D157,'Boys Do Main Draw Prep'!$A$7:$V$71,2)))","v":""},{"$f":"IF($D157=\"\",\"\",VLOOKUP($D157,'Boys Do Main Draw Prep'!$A$7:$V$71,3))","v":""},null,{"$f":"IF($D157=\"\",\"\",VLOOKUP($D157,'Boys Do Main Draw Prep'!$A$7:$V$71,4))","v":""},null,null,null,null,null,null,null,null,"Page 3(5)",null,null,{"$f":"'SetUp Officials'!P135","v":0}]
[null,null,null,null,{"$f":"UPPER(IF($D157=\"\",\"\",VLOOKUP($D157,'Boys Do Main Draw Prep'!$A$7:$V$71,7)))","v":""},{"$f":"IF($D157=\"\",\"\",VLOOKUP($D157,'Boys Do Main Draw Prep'!$A$7:$V$71,8))","v":""},null,{"$f":"IF($D157=\"\",\"\",VLOOKUP($D157,'Boys Do Main Draw Prep'!$A$7:$V$71,9))","v":""},null,{"$f":"IF(I158=\"a\",E157,IF(I158=\"b\",E159,\"\"))","v":""},null,null,null,null,null,null,null,null,null,{"$f":"'SetUp Officials'!P136","v":0}]
[null,null,null,null,null,null,null,null,null,{"$f":"UPPER(IF(OR(I160=\"a\",I160=\"as\"),E157,IF(OR(I160=\"b\",I160=\"bs\"),E161,)))","v":""},null,null,null,null,null,null,null,null,null,{"$f":"'SetUp Officials'!P137","v":0}]
[null,null,null,null,null,null,null,"Umpire",null,{"$f":"UPPER(IF(OR(I160=\"a\",I160=\"as\"),E158,IF(OR(I160=\"b\",I160=\"bs\"),E162,)))","v":""},null,null,null,null,null,null,null,null,null,{"$f":"'SetUp Officials'!P138","v":0}]
[34,{"$f":"IF($D161=\"\",\"\",VLOOKUP($D161,'Boys Do Main Draw Prep'!$A$7:$V$71,20))","v":""},{"$f":"IF($D161=\"\",\"\",VLOOKUP($D161,'Boys Do Main Draw Prep'!$A$7:$V$71,21))","v":""},null,{"$f":"UPPER(IF($D161=\"\",\"\",VLOOKUP($D161,'Boys Do Main Draw Prep'!$A$7:$V$71,2)))","v":""},{"$f":"IF($D161=\"\",\"\",VLOOKUP($D161,'Boys Do Main Draw Prep'!$A$7:$V$71,3))","v":""},null,{"$f":"IF($D161=\"\",\"\",VLOOKUP($D161,'Boys Do Main Draw Prep'!$A$7:$V$71,4))","v":""},null,null,null,null,null,null,null,null,null,null,null,{"$f":"'SetUp Officials'!P139","v":0}]
[null,null,null,null,{"$f":"UPPER(IF($D161=\"\",\"\",VLOOKUP($D161,'Boys Do Main Draw Prep'!$A$7:$V$71,7)))","v":""},{"$f":"IF($D161=\"\",\"\",VLOOKUP($D161,'Boys Do Main Draw Prep'!$A$7:$V$71,8))","v":""},null,{"$f":"IF($D161=\"\",\"\",VLOOKUP($D161,'Boys Do Main Draw Prep'!$A$7:$V$71,9))","v":""},null,null,null,null,null,null,null,null,null,null,null,{"$f":"'SetUp Officials'!P140","v":0}]
[null,null,null,null,null,null,null,null,null,null,null,{"$f":"UPPER(IF(OR(K164=\"a\",K164=\"as\"),J159,IF(OR(K164=\"b\",K164=\"bs\"),J167,)))","v":""},null,null,null,null,null,null,null,{"$f":"'SetUp Officials'!P141","v":0}]
[null,null,null,null,null,null,null,null,null,"Umpire",null,{"$f":"UPPER(IF(OR(K164=\"a\",K164=\"as\"),J160,IF(OR(K164=\"b\",K164=\"bs\"),J168,)))","v":""},null,null,null,null,null,null,null,{"$f":"'SetUp Officials'!P142","v":0}]
[35,{"$f":"IF($D165=\"\",\"\",VLOOKUP($D165,'Boys Do Main Draw Prep'!$A$7:$V$71,20))","v":""},{"$f":"IF($D165=\"\",\"\",VLOOKUP($D165,'Boys Do Main Draw Prep'!$A$7:$V$71,21))","v":""},null,{"$f":"UPPER(IF($D165=\"\",\"\",VLOOKUP($D165,'Boys Do Main Draw Prep'!$A$7:$V$71,2)))","v":""},{"$f":"IF($D165=\"\",\"\",VLOOKUP($D165,'Boys Do Main Draw Prep'!$A$7:$V$71,3))","v":""},null,{"$f":"IF($D165=\"\",\"\",VLOOKUP($D165,'Boys Do Main Draw Prep'!$A$7:$V$71,4))","v":""},null,null,null,null,null,null,null,null,null,null,null,{"$f":"'SetUp Officials'!P143","v":0}]
[null,null,null,null,{"$f":"UPPER(IF($D165=\"\",\"\",VLOOKUP($D165,'Boys Do Main Draw Prep'!$A$7:$V$71,7)))","v":""},{"$f":"IF($D165=\"\",\"\",VLOOKUP($D165,'Boys Do Main Draw Prep'!$A$7:$V$71,8))","v":""},null,{"$f":"IF($D165=\"\",\"\",VLOOKUP($D165,'Boys Do Main Draw Prep'!$A$7:$V$71,9))","v":""},null,{"$f":"IF(I166=\"a\",E165,IF(I166=\"b\",E167,\"\"))","v":""},null,null,null,null,null,null,null,null,null,{"$f":"'SetUp Officials'!P144","v":0}]
[null,null,null,null,null,null,null,null,null,{"$f":"UPPER(IF(OR(I168=\"a\",I168=\"as\"),E165,IF(OR(I168=\"b\",I168=\"bs\"),E169,)))","v":""}]
[null,null,null,null,null,null,null,"Umpire",null,{"$f":"UPPER(IF(OR(I168=\"a\",I168=\"as\"),E166,IF(OR(I168=\"b\",I168=\"bs\"),E170,)))","v":""}]
[36,{"$f":"IF($D169=\"\",\"\",VLOOKUP($D169,'Boys Do Main Draw Prep'!$A$7:$V$71,20))","v":""},{"$f":"IF($D169=\"\",\"\",VLOOKUP($D169,'Boys Do Main Draw Prep'!$A$7:$V$71,21))","v":""},null,{"$f":"UPPER(IF($D169=\"\",\"\",VLOOKUP($D169,'Boys Do Main Draw Prep'!$A$7:$V$71,2)))","v":""},{"$f":"IF($D169=\"\",\"\",VLOOKUP($D169,'Boys Do Main Draw Prep'!$A$7:$V$71,3))","v":""},null,{"$f":"IF($D169=\"\",\"\",VLOOKUP($D169,'Boys Do Main Draw Prep'!$A$7:$V$71,4))","v":""}]
[null,null,null,null,{"$f":"UPPER(IF($D169=\"\",\"\",VLOOKUP($D169,'Boys Do Main Draw Prep'!$A$7:$V$71,7)))","v":""},{"$f":"IF($D169=\"\",\"\",VLOOKUP($D169,'Boys Do Main Draw Prep'!$A$7:$V$71,8))","v":""},null,{"$f":"IF($D169=\"\",\"\",VLOOKUP($D169,'Boys Do Main Draw Prep'!$A$7:$V$71,9))","v":""}]
[null,null,null,null,null,null,null,null,null,null,null,null,null,{"$f":"UPPER(IF(OR(M172=\"a\",M172=\"as\"),L163,IF(OR(M172=\"b\",M172=\"bs\"),L179,)))","v":""}]
[null,null,null,null,null,null,null,null,null,null,null,"Umpire",null,{"$f":"UPPER(IF(OR(M172=\"a\",M172=\"as\"),L164,IF(OR(M172=\"b\",M172=\"bs\"),L180,)))","v":""}]
[37,{"$f":"IF($D173=\"\",\"\",VLOOKUP($D173,'Boys Do Main Draw Prep'!$A$7:$V$71,20))","v":""},{"$f":"IF($D173=\"\",\"\",VLOOKUP($D173,'Boys Do Main Draw Prep'!$A$7:$V$71,21))","v":""},null,{"$f":"UPPER(IF($D173=\"\",\"\",VLOOKUP($D173,'Boys Do Main Draw Prep'!$A$7:$V$71,2)))","v":""},{"$f":"IF($D173=\"\",\"\",VLOOKUP($D173,'Boys Do Main Draw Prep'!$A$7:$V$71,3))","v":""},null,{"$f":"IF($D173=\"\",\"\",VLOOKUP($D173,'Boys Do Main Draw Prep'!$A$7:$V$71,4))","v":""}]
[null,null,null,null,{"$f":"UPPER(IF($D173=\"\",\"\",VLOOKUP($D173,'Boys Do Main Draw Prep'!$A$7:$V$71,7)))","v":""},{"$f":"IF($D173=\"\",\"\",VLOOKUP($D173,'Boys Do Main Draw Prep'!$A$7:$V$71,8))","v":""},null,{"$f":"IF($D173=\"\",\"\",VLOOKUP($D173,'Boys Do Main Draw Prep'!$A$7:$V$71,9))","v":""},null,{"$f":"IF(I174=\"a\",E173,IF(I174=\"b\",E175,\"\"))","v":""}]
[null,null,null,null,null,null,null,null,null,{"$f":"UPPER(IF(OR(I176=\"a\",I176=\"as\"),E173,IF(OR(I176=\"b\",I176=\"bs\"),E177,)))","v":""}]
[null,null,null,null,null,null,null,"Umpire",null,{"$f":"UPPER(IF(OR(I176=\"a\",I176=\"as\"),E174,IF(OR(I176=\"b\",I176=\"bs\"),E178,)))","v":""}]
[38,{"$f":"IF($D177=\"\",\"\",VLOOKUP($D177,'Boys Do Main Draw Prep'!$A$7:$V$71,20))","v":""},{"$f":"IF($D177=\"\",\"\",VLOOKUP($D177,'Boys Do Main Draw Prep'!$A$7:$V$71,21))","v":""},null,{"$f":"UPPER(IF($D177=\"\",\"\",VLOOKUP($D177,'Boys Do Main Draw Prep'!$A$7:$V$71,2)))","v":""},{"$f":"IF($D177=\"\",\"\",VLOOKUP($D177,'Boys Do Main Draw Prep'!$A$7:$V$71,3))","v":""},null,{"$f":"IF($D177=\"\",\"\",VLOOKUP($D177,'Boys Do Main Draw Prep'!$A$7:$V$71,4))","v":""}]
[null,null,null,null,{"$f":"UPPER(IF($D177=\"\",\"\",VLOOKUP($D177,'Boys Do Main Draw Prep'!$A$7:$V$71,7)))","v":""},{"$f":"IF($D177=\"\",\"\",VLOOKUP($D177,'Boys Do Main Draw Prep'!$A$7:$V$71,8))","v":""},null,{"$f":"IF($D177=\"\",\"\",VLOOKUP($D177,'Boys Do Main Draw Prep'!$A$7:$V$71,9))","v":""}]
[null,null,null,null,null,null,null,null,null,null,null,{"$f":"UPPER(IF(OR(K180=\"a\",K180=\"as\"),J175,IF(OR(K180=\"b\",K180=\"bs\"),J183,)))","v":""}]
[null,null,null,null,null,null,null,null,null,"Umpire",null,{"$f":"UPPER(IF(OR(K180=\"a\",K180=\"as\"),J176,IF(OR(K180=\"b\",K180=\"bs\"),J184,)))","v":""}]
[39,{"$f":"IF($D181=\"\",\"\",VLOOKUP($D181,'Boys Do Main Draw Prep'!$A$7:$V$71,20))","v":""},{"$f":"IF($D181=\"\",\"\",VLOOKUP($D181,'Boys Do Main Draw Prep'!$A$7:$V$71,21))","v":""},null,{"$f":"UPPER(IF($D181=\"\",\"\",VLOOKUP($D181,'Boys Do Main Draw Prep'!$A$7:$V$71,2)))","v":""},{"$f":"IF($D181=\"\",\"\",VLOOKUP($D181,'Boys Do Main Draw Prep'!$A$7:$V$71,3))","v":""},null,{"$f":"IF($D181=\"\",\"\",VLOOKUP($D181,'Boys Do Main Draw Prep'!$A$7:$V$71,4))","v":""}]
[null,null,null,null,{"$f":"UPPER(IF($D181=\"\",\"\",VLOOKUP($D181,'Boys Do Main Draw Prep'!$A$7:$V$71,7)))","v":""},{"$f":"IF($D181=\"\",\"\",VLOOKUP($D181,'Boys Do Main Draw Prep'!$A$7:$V$71,8))","v":""},null,{"$f":"IF($D181=\"\",\"\",VLOOKUP($D181,'Boys Do Main Draw Prep'!$A$7:$V$71,9))","v":""},null,{"$f":"IF(I182=\"a\",E181,IF(I182=\"b\",E183,\"\"))","v":""}]
[null,null,null,null,null,null,null,null,null,{"$f":"UPPER(IF(OR(I184=\"a\",I184=\"as\"),E181,IF(OR(I184=\"b\",I184=\"bs\"),E185,)))","v":""}]
[null,null,null,null,null,null,null,"Umpire",null,{"$f":"UPPER(IF(OR(I184=\"a\",I184=\"as\"),E182,IF(OR(I184=\"b\",I184=\"bs\"),E186,)))","v":""}]
[40,{"$f":"IF($D185=\"\",\"\",VLOOKUP($D185,'Boys Do Main Draw Prep'!$A$7:$V$71,20))","v":""},{"$f":"IF($D185=\"\",\"\",VLOOKUP($D185,'Boys Do Main Draw Prep'!$A$7:$V$71,21))","v":""},null,{"$f":"UPPER(IF($D185=\"\",\"\",VLOOKUP($D185,'Boys Do Main Draw Prep'!$A$7:$V$71,2)))","v":""},{"$f":"IF($D185=\"\",\"\",VLOOKUP($D185,'Boys Do Main Draw Prep'!$A$7:$V$71,3))","v":""},null,{"$f":"IF($D185=\"\",\"\",VLOOKUP($D185,'Boys Do Main Draw Prep'!$A$7:$V$71,4))","v":""}]
[null,null,null,null,{"$f":"UPPER(IF($D185=\"\",\"\",VLOOKUP($D185,'Boys Do Main Draw Prep'!$A$7:$V$71,7)))","v":""},{"$f":"IF($D185=\"\",\"\",VLOOKUP($D185,'Boys Do Main Draw Prep'!$A$7:$V$71,8))","v":""},null,{"$f":"IF($D185=\"\",\"\",VLOOKUP($D185,'Boys Do Main Draw Prep'!$A$7:$V$71,9))","v":""}]
[null,null,null,null,null,null,null,null,null,null,null,null,null,null,null,{"$f":"UPPER(IF(OR(O188=\"a\",O188=\"as\"),N171,IF(OR(O188=\"b\",O188=\"bs\"),N203,)))","v":""}]
[null,null,null,null,null,null,null,null,null,null,null,null,null,"Umpire",null,{"$f":"UPPER(IF(OR(O188=\"a\",O188=\"as\"),N172,IF(OR(O188=\"b\",O188=\"bs\"),N204,)))","v":""}]
[41,{"$f":"IF($D189=\"\",\"\",VLOOKUP($D189,'Boys Do Main Draw Prep'!$A$7:$V$71,20))","v":""},{"$f":"IF($D189=\"\",\"\",VLOOKUP($D189,'Boys Do Main Draw Prep'!$A$7:$V$71,21))","v":""},null,{"$f":"UPPER(IF($D189=\"\",\"\",VLOOKUP($D189,'Boys Do Main Draw Prep'!$A$7:$V$71,2)))","v":""},{"$f":"IF($D189=\"\",\"\",VLOOKUP($D189,'Boys Do Main Draw Prep'!$A$7:$V$71,3))","v":""},null,{"$f":"IF($D189=\"\",\"\",VLOOKUP($D189,'Boys Do Main Draw Prep'!$A$7:$V$71,4))","v":""}]
[null,null,null,null,{"$f":"UPPER(IF($D189=\"\",\"\",VLOOKUP($D189,'Boys Do Main Draw Prep'!$A$7:$V$71,7)))","v":""},{"$f":"IF($D189=\"\",\"\",VLOOKUP($D189,'Boys Do Main Draw Prep'!$A$7:$V$71,8))","v":""},null,{"$f":"IF($D189=\"\",\"\",VLOOKUP($D189,'Boys Do Main Draw Prep'!$A$7:$V$71,9))","v":""},null,{"$f":"IF(I190=\"a\",E189,IF(I190=\"b\",E191,\"\"))","v":""}]
[null,null,null,null,null,null,null,null,null,{"$f":"UPPER(IF(OR(I192=\"a\",I192=\"as\"),E189,IF(OR(I192=\"b\",I192=\"bs\"),E193,)))","v":""}]
[null,null,null,null,null,null,null,"Umpire",null,{"$f":"UPPER(IF(OR(I192=\"a\",I192=\"as\"),E190,IF(OR(I192=\"b\",I192=\"bs\"),E194,)))","v":""}]
[42,{"$f":"IF($D193=\"\",\"\",VLOOKUP($D193,'Boys Do Main Draw Prep'!$A$7:$V$71,20))","v":""},{"$f":"IF($D193=\"\",\"\",VLOOKUP($D193,'Boys Do Main Draw Prep'!$A$7:$V$71,21))","v":""},null,{"$f":"UPPER(IF($D193=\"\",\"\",VLOOKUP($D193,'Boys Do Main Draw Prep'!$A$7:$V$71,2)))","v":""},{"$f":"IF($D193=\"\",\"\",VLOOKUP($D193,'Boys Do Main Draw Prep'!$A$7:$V$71,3))","v":""},null,{"$f":"IF($D193=\"\",\"\",VLOOKUP($D193,'Boys Do Main Draw Prep'!$A$7:$V$71,4))","v":""}]
[null,null,null,null,{"$f":"UPPER(IF($D193=\"\",\"\",VLOOKUP($D193,'Boys Do Main Draw Prep'!$A$7:$V$71,7)))","v":""},{"$f":"IF($D193=\"\",\"\",VLOOKUP($D193,'Boys Do Main Draw Prep'!$A$7:$V$71,8))","v":""},null,{"$f":"IF($D193=\"\",\"\",VLOOKUP($D193,'Boys Do Main Draw Prep'!$A$7:$V$71,9))","v":""}]
[null,null,null,null,null,null,null,null,null,null,null,{"$f":"UPPER(IF(OR(K196=\"a\",K196=\"as\"),J191,IF(OR(K196=\"b\",K196=\"bs\"),J199,)))","v":""}]
[null,null,null,null,null,null,null,null,null,"Umpire",null,{"$f":"UPPER(IF(OR(K196=\"a\",K196=\"as\"),J192,IF(OR(K196=\"b\",K196=\"bs\"),J200,)))","v":""}]
[43,{"$f":"IF($D197=\"\",\"\",VLOOKUP($D197,'Boys Do Main Draw Prep'!$A$7:$V$71,20))","v":""},{"$f":"IF($D197=\"\",\"\",VLOOKUP($D197,'Boys Do Main Draw Prep'!$A$7:$V$71,21))","v":""},null,{"$f":"UPPER(IF($D197=\"\",\"\",VLOOKUP($D197,'Boys Do Main Draw Prep'!$A$7:$V$71,2)))","v":""},{"$f":"IF($D197=\"\",\"\",VLOOKUP($D197,'Boys Do Main Draw Prep'!$A$7:$V$71,3))","v":""},null,{"$f":"IF($D197=\"\",\"\",VLOOKUP($D197,'Boys Do Main Draw Prep'!$A$7:$V$71,4))","v":""}]
[null,null,null,null,{"$f":"UPPER(IF($D197=\"\",\"\",VLOOKUP($D197,'Boys Do Main Draw Prep'!$A$7:$V$71,7)))","v":""},{"$f":"IF($D197=\"\",\"\",VLOOKUP($D197,'Boys Do Main Draw Prep'!$A$7:$V$71,8))","v":""},null,{"$f":"IF($D197=\"\",\"\",VLOOKUP($D197,'Boys Do Main Draw Prep'!$A$7:$V$71,9))","v":""},null,{"$f":"IF(I198=\"a\",E197,IF(I198=\"b\",E199,\"\"))","v":""}]
[null,null,null,null,null,null,null,null,null,{"$f":"UPPER(IF(OR(I200=\"a\",I200=\"as\"),E197,IF(OR(I200=\"b\",I200=\"bs\"),E201,)))","v":""}]
[null,null,null,null,null,null,null,"Umpire",null,{"$f":"UPPER(IF(OR(I200=\"a\",I200=\"as\"),E198,IF(OR(I200=\"b\",I200=\"bs\"),E202,)))","v":""}]
[44,{"$f":"IF($D201=\"\",\"\",VLOOKUP($D201,'Boys Do Main Draw Prep'!$A$7:$V$71,20))","v":""},{"$f":"IF($D201=\"\",\"\",VLOOKUP($D201,'Boys Do Main Draw Prep'!$A$7:$V$71,21))","v":""},null,{"$f":"UPPER(IF($D201=\"\",\"\",VLOOKUP($D201,'Boys Do Main Draw Prep'!$A$7:$V$71,2)))","v":""},{"$f":"IF($D201=\"\",\"\",VLOOKUP($D201,'Boys Do Main Draw Prep'!$A$7:$V$71,3))","v":""},null,{"$f":"IF($D201=\"\",\"\",VLOOKUP($D201,'Boys Do Main Draw Prep'!$A$7:$V$71,4))","v":""}]
[null,null,null,null,{"$f":"UPPER(IF($D201=\"\",\"\",VLOOKUP($D201,'Boys Do Main Draw Prep'!$A$7:$V$71,7)))","v":""},{"$f":"IF($D201=\"\",\"\",VLOOKUP($D201,'Boys Do Main Draw Prep'!$A$7:$V$71,8))","v":""},null,{"$f":"IF($D201=\"\",\"\",VLOOKUP($D201,'Boys Do Main Draw Prep'!$A$7:$V$71,9))","v":""}]
[null,null,null,null,null,null,null,null,null,null,null,null,null,{"$f":"UPPER(IF(OR(M204=\"a\",M204=\"as\"),L195,IF(OR(M204=\"b\",M204=\"bs\"),L211,)))","v":""}]
[null,null,null,null,null,null,null,null,null,null,null,"Umpire",null,{"$f":"UPPER(IF(OR(M204=\"a\",M204=\"as\"),L196,IF(OR(M204=\"b\",M204=\"bs\"),L212,)))","v":""}]
[45,{"$f":"IF($D205=\"\",\"\",VLOOKUP($D205,'Boys Do Main Draw Prep'!$A$7:$V$71,20))","v":""},{"$f":"IF($D205=\"\",\"\",VLOOKUP($D205,'Boys Do Main Draw Prep'!$A$7:$V$71,21))","v":""},null,{"$f":"UPPER(IF($D205=\"\",\"\",VLOOKUP($D205,'Boys Do Main Draw Prep'!$A$7:$V$71,2)))","v":""},{"$f":"IF($D205=\"\",\"\",VLOOKUP($D205,'Boys Do Main Draw Prep'!$A$7:$V$71,3))","v":""},null,{"$f":"IF($D205=\"\",\"\",VLOOKUP($D205,'Boys Do Main Draw Prep'!$A$7:$V$71,4))","v":""}]
[null,null,null,null,{"$f":"UPPER(IF($D205=\"\",\"\",VLOOKUP($D205,'Boys Do Main Draw Prep'!$A$7:$V$71,7)))","v":""},{"$f":"IF($D205=\"\",\"\",VLOOKUP($D205,'Boys Do Main Draw Prep'!$A$7:$V$71,8))","v":""},null,{"$f":"IF($D205=\"\",\"\",VLOOKUP($D205,'Boys Do Main Draw Prep'!$A$7:$V$71,9))","v":""},null,{"$f":"IF(I206=\"a\",E205,IF(I206=\"b\",E207,\"\"))","v":""}]
[null,null,null,null,null,null,null,null,null,{"$f":"UPPER(IF(OR(I208=\"a\",I208=\"as\"),E205,IF(OR(I208=\"b\",I208=\"bs\"),E209,)))","v":""}]
[null,null,null,null,null,null,null,"Umpire",null,{"$f":"UPPER(IF(OR(I208=\"a\",I208=\"as\"),E206,IF(OR(I208=\"b\",I208=\"bs\"),E210,)))","v":""}]
[46,{"$f":"IF($D209=\"\",\"\",VLOOKUP($D209,'Boys Do Main Draw Prep'!$A$7:$V$71,20))","v":""},{"$f":"IF($D209=\"\",\"\",VLOOKUP($D209,'Boys Do Main Draw Prep'!$A$7:$V$71,21))","v":""},null,{"$f":"UPPER(IF($D209=\"\",\"\",VLOOKUP($D209,'Boys Do Main Draw Prep'!$A$7:$V$71,2)))","v":""},{"$f":"IF($D209=\"\",\"\",VLOOKUP($D209,'Boys Do Main Draw Prep'!$A$7:$V$71,3))","v":""},null,{"$f":"IF($D209=\"\",\"\",VLOOKUP($D209,'Boys Do Main Draw Prep'!$A$7:$V$71,4))","v":""}]
[null,null,null,null,{"$f":"UPPER(IF($D209=\"\",\"\",VLOOKUP($D209,'Boys Do Main Draw Prep'!$A$7:$V$71,7)))","v":""},{"$f":"IF($D209=\"\",\"\",VLOOKUP($D209,'Boys Do Main Draw Prep'!$A$7:$V$71,8))","v":""},null,{"$f":"IF($D209=\"\",\"\",VLOOKUP($D209,'Boys Do Main Draw Prep'!$A$7:$V$71,9))","v":""}]
[null,null,null,null,null,null,null,null,null,null,null,{"$f":"UPPER(IF(OR(K212=\"a\",K212=\"as\"),J207,IF(OR(K212=\"b\",K212=\"bs\"),J215,)))","v":""}]
[null,null,null,null,null,null,null,null,null,"Umpire",null,{"$f":"UPPER(IF(OR(K212=\"a\",K212=\"as\"),J208,IF(OR(K212=\"b\",K212=\"bs\"),J216,)))","v":""}]
[47,{"$f":"IF($D213=\"\",\"\",VLOOKUP($D213,'Boys Do Main Draw Prep'!$A$7:$V$71,20))","v":""},{"$f":"IF($D213=\"\",\"\",VLOOKUP($D213,'Boys Do Main Draw Prep'!$A$7:$V$71,21))","v":""},null,{"$f":"UPPER(IF($D213=\"\",\"\",VLOOKUP($D213,'Boys Do Main Draw Prep'!$A$7:$V$71,2)))","v":""},{"$f":"IF($D213=\"\",\"\",VLOOKUP($D213,'Boys Do Main Draw Prep'!$A$7:$V$71,3))","v":""},null,{"$f":"IF($D213=\"\",\"\",VLOOKUP($D213,'Boys Do Main Draw Prep'!$A$7:$V$71,4))","v":""}]
[null,null,null,null,{"$f":"UPPER(IF($D213=\"\",\"\",VLOOKUP($D213,'Boys Do Main Draw Prep'!$A$7:$V$71,7)))","v":""},{"$f":"IF($D213=\"\",\"\",VLOOKUP($D213,'Boys Do Main Draw Prep'!$A$7:$V$71,8))","v":""},null,{"$f":"IF($D213=\"\",\"\",VLOOKUP($D213,'Boys Do Main Draw Prep'!$A$7:$V$71,9))","v":""},null,{"$f":"IF(I214=\"a\",E213,IF(I214=\"b\",E215,\"\"))","v":""}]
[null,null,null,null,null,null,null,null,null,{"$f":"UPPER(IF(OR(I216=\"a\",I216=\"as\"),E213,IF(OR(I216=\"b\",I216=\"bs\"),E217,)))","v":""}]
[null,null,null,null,null,null,null,"Umpire",null,{"$f":"UPPER(IF(OR(I216=\"a\",I216=\"as\"),E214,IF(OR(I216=\"b\",I216=\"bs\"),E218,)))","v":""}]
[48,{"$f":"IF($D217=\"\",\"\",VLOOKUP($D217,'Boys Do Main Draw Prep'!$A$7:$V$71,20))","v":""},{"$f":"IF($D217=\"\",\"\",VLOOKUP($D217,'Boys Do Main Draw Prep'!$A$7:$V$71,21))","v":""},null,{"$f":"UPPER(IF($D217=\"\",\"\",VLOOKUP($D217,'Boys Do Main Draw Prep'!$A$7:$V$71,2)))","v":""},{"$f":"IF($D217=\"\",\"\",VLOOKUP($D217,'Boys Do Main Draw Prep'!$A$7:$V$71,3))","v":""},null,{"$f":"IF($D217=\"\",\"\",VLOOKUP($D217,'Boys Do Main Draw Prep'!$A$7:$V$71,4))","v":""}]
[null,null,null,null,{"$f":"UPPER(IF($D217=\"\",\"\",VLOOKUP($D217,'Boys Do Main Draw Prep'!$A$7:$V$71,7)))","v":""},{"$f":"IF($D217=\"\",\"\",VLOOKUP($D217,'Boys Do Main Draw Prep'!$A$7:$V$71,8))","v":""},null,{"$f":"IF($D217=\"\",\"\",VLOOKUP($D217,'Boys Do Main Draw Prep'!$A$7:$V$71,9))","v":""}]
[]
[null,null,null,null,null,null,null,null,null,null,null,null,null,null,null,null,"Alternate teams on page 2 and 4"]
["Acc. Ranking",null,null,"#","Seeded teams","#","Seeded teams",null,"#","Seeded teams","#","Seeded teams",null,"Draw date/time:",null,{"$f":"P71","v":0}]
["Rkg Date",null,{"$f":"C72","v":0},1,{"$f":"E72","v":0},"5",{"$f":"G72","v":0},null,"9",{"$f":"J72","v":0},"13",{"$f":"L72","v":0},null,"Last Accepted team"]
["Top DA",null,{"$f":"C73","v":0},0,0,0,0,null,0,0,0,0,null,{"$f":"N73","v":0}]
["Last DA",null,{"$f":"C74","v":0},2,0,"6",0,null,"10",0,"14",0,null,"Player representatives"]
[null,null,null,0,0,0,0,null,0,0,0,0]
["Seed ranking",null,null,3,0,"7",0,null,"11",0,"14",0,null,{"$f":"N76","v":0}]
["Rkg Date",null,{"$f":"C77","v":0},0,0,0,0,null,0,0,0,0,null,"ITF Referee's signature"]
["Top seed",null,{"$f":"C78","v":0},4,0,"8",0,null,"12",0,"14",0]
["Last seed",null,{"$f":"C79","v":0},0,0,0,0,null,0,0,0,0,null,{"$f":"N79","v":0}]
[null,"St.",{"$f":"IF(OR(F228=\"Week 3\",F228=\"Masters\"),\"CP\",\"Rank\")","v":"Rank"},"Seed","Family Name","First name",null,"Nationality",null,"2nd Round",null,"3rd Round",null,"Quarterfinals",null,"Semifinalists"]
[]
[49,{"$f":"IF($D232=\"\",\"\",VLOOKUP($D232,'Boys Do Main Draw Prep'!$A$7:$V$71,20))","v":""},{"$f":"IF($D232=\"\",\"\",VLOOKUP($D232,'Boys Do Main Draw Prep'!$A$7:$V$71,21))","v":""},null,{"$f":"UPPER(IF($D232=\"\",\"\",VLOOKUP($D232,'Boys Do Main Draw Prep'!$A$7:$V$71,2)))","v":""},{"$f":"IF($D232=\"\",\"\",VLOOKUP($D232,'Boys Do Main Draw Prep'!$A$7:$V$71,3))","v":""},null,{"$f":"IF($D232=\"\",\"\",VLOOKUP($D232,'Boys Do Main Draw Prep'!$A$7:$V$71,4))","v":""},null,null,null,null,null,null,null,null,"Page 4(5)",null,null,{"$f":"'SetUp Officials'!P210","v":0}]
[null,null,null,null,{"$f":"UPPER(IF($D232=\"\",\"\",VLOOKUP($D232,'Boys Do Main Draw Prep'!$A$7:$V$71,7)))","v":""},{"$f":"IF($D232=\"\",\"\",VLOOKUP($D232,'Boys Do Main Draw Prep'!$A$7:$V$71,8))","v":""},null,{"$f":"IF($D232=\"\",\"\",VLOOKUP($D232,'Boys Do Main Draw Prep'!$A$7:$V$71,9))","v":""},null,{"$f":"IF(I233=\"a\",E232,IF(I233=\"b\",E234,\"\"))","v":""},null,null,null,null,null,null,null,null,null,{"$f":"'SetUp Officials'!P211","v":0}]
[null,null,null,null,null,null,null,null,null,{"$f":"UPPER(IF(OR(I235=\"a\",I235=\"as\"),E232,IF(OR(I235=\"b\",I235=\"bs\"),E236,)))","v":""},null,null,null,null,null,null,null,null,null,{"$f":"'SetUp Officials'!P212","v":0}]
[null,null,null,null,null,null,null,"Umpire",null,{"$f":"UPPER(IF(OR(I235=\"a\",I235=\"as\"),E233,IF(OR(I235=\"b\",I235=\"bs\"),E237,)))","v":""},null,null,null,null,null,null,null,null,null,{"$f":"'SetUp Officials'!P213","v":0}]
[50,{"$f":"IF($D236=\"\",\"\",VLOOKUP($D236,'Boys Do Main Draw Prep'!$A$7:$V$71,20))","v":""},{"$f":"IF($D236=\"\",\"\",VLOOKUP($D236,'Boys Do Main Draw Prep'!$A$7:$V$71,21))","v":""},null,{"$f":"UPPER(IF($D236=\"\",\"\",VLOOKUP($D236,'Boys Do Main Draw Prep'!$A$7:$V$71,2)))","v":""},{"$f":"IF($D236=\"\",\"\",VLOOKUP($D236,'Boys Do Main Draw Prep'!$A$7:$V$71,3))","v":""},null,{"$f":"IF($D236=\"\",\"\",VLOOKUP($D236,'Boys Do Main Draw Prep'!$A$7:$V$71,4))","v":""},null,null,null,null,null,null,null,null,null,null,null,{"$f":"'SetUp Officials'!P214","v":0}]
[null,null,null,null,{"$f":"UPPER(IF($D236=\"\",\"\",VLOOKUP($D236,'Boys Do Main Draw Prep'!$A$7:$V$71,7)))","v":""},{"$f":"IF($D236=\"\",\"\",VLOOKUP($D236,'Boys Do Main Draw Prep'!$A$7:$V$71,8))","v":""},null,{"$f":"IF($D236=\"\",\"\",VLOOKUP($D236,'Boys Do Main Draw Prep'!$A$7:$V$71,9))","v":""},null,null,null,null,null,null,null,null,null,null,null,{"$f":"'SetUp Officials'!P215","v":0}]
[null,null,null,null,null,null,null,null,null,null,null,{"$f":"UPPER(IF(OR(K239=\"a\",K239=\"as\"),J234,IF(OR(K239=\"b\",K239=\"bs\"),J242,)))","v":""},null,null,null,null,null,null,null,{"$f":"'SetUp Officials'!P216","v":0}]
[null,null,null,null,null,null,null,null,null,"Umpire",null,{"$f":"UPPER(IF(OR(K239=\"a\",K239=\"as\"),J235,IF(OR(K239=\"b\",K239=\"bs\"),J243,)))","v":""},null,null,null,null,null,null,null,{"$f":"'SetUp Officials'!P217","v":0}]
[51,{"$f":"IF($D240=\"\",\"\",VLOOKUP($D240,'Boys Do Main Draw Prep'!$A$7:$V$71,20))","v":""},{"$f":"IF($D240=\"\",\"\",VLOOKUP($D240,'Boys Do Main Draw Prep'!$A$7:$V$71,21))","v":""},null,{"$f":"UPPER(IF($D240=\"\",\"\",VLOOKUP($D240,'Boys Do Main Draw Prep'!$A$7:$V$71,2)))","v":""},{"$f":"IF($D240=\"\",\"\",VLOOKUP($D240,'Boys Do Main Draw Prep'!$A$7:$V$71,3))","v":""},null,{"$f":"IF($D240=\"\",\"\",VLOOKUP($D240,'Boys Do Main Draw Prep'!$A$7:$V$71,4))","v":""},null,null,null,null,null,null,null,null,null,null,null,{"$f":"'SetUp Officials'!P218","v":0}]
[null,null,null,null,{"$f":"UPPER(IF($D240=\"\",\"\",VLOOKUP($D240,'Boys Do Main Draw Prep'!$A$7:$V$71,7)))","v":""},{"$f":"IF($D240=\"\",\"\",VLOOKUP($D240,'Boys Do Main Draw Prep'!$A$7:$V$71,8))","v":""},null,{"$f":"IF($D240=\"\",\"\",VLOOKUP($D240,'Boys Do Main Draw Prep'!$A$7:$V$71,9))","v":""},null,{"$f":"IF(I241=\"a\",E240,IF(I241=\"b\",E242,\"\"))","v":""},null,null,null,null,null,null,null,null,null,{"$f":"'SetUp Officials'!P219","v":0}]
[null,null,null,null,null,null,null,null,null,{"$f":"UPPER(IF(OR(I243=\"a\",I243=\"as\"),E240,IF(OR(I243=\"b\",I243=\"bs\"),E244,)))","v":""}]
[null,null,null,null,null,null,null,"Umpire",null,{"$f":"UPPER(IF(OR(I243=\"a\",I243=\"as\"),E241,IF(OR(I243=\"b\",I243=\"bs\"),E245,)))","v":""}]
[52,{"$f":"IF($D244=\"\",\"\",VLOOKUP($D244,'Boys Do Main Draw Prep'!$A$7:$V$71,20))","v":""},{"$f":"IF($D244=\"\",\"\",VLOOKUP($D244,'Boys Do Main Draw Prep'!$A$7:$V$71,21))","v":""},null,{"$f":"UPPER(IF($D244=\"\",\"\",VLOOKUP($D244,'Boys Do Main Draw Prep'!$A$7:$V$71,2)))","v":""},{"$f":"IF($D244=\"\",\"\",VLOOKUP($D244,'Boys Do Main Draw Prep'!$A$7:$V$71,3))","v":""},null,{"$f":"IF($D244=\"\",\"\",VLOOKUP($D244,'Boys Do Main Draw Prep'!$A$7:$V$71,4))","v":""}]
[null,null,null,null,{"$f":"UPPER(IF($D244=\"\",\"\",VLOOKUP($D244,'Boys Do Main Draw Prep'!$A$7:$V$71,7)))","v":""},{"$f":"IF($D244=\"\",\"\",VLOOKUP($D244,'Boys Do Main Draw Prep'!$A$7:$V$71,8))","v":""},null,{"$f":"IF($D244=\"\",\"\",VLOOKUP($D244,'Boys Do Main Draw Prep'!$A$7:$V$71,9))","v":""}]
[null,null,null,null,null,null,null,null,null,null,null,null,null,{"$f":"UPPER(IF(OR(M247=\"a\",M247=\"as\"),L238,IF(OR(M247=\"b\",M247=\"bs\"),L254,)))","v":""}]
[null,null,null,null,null,null,null,null,null,null,null,"Umpire",null,{"$f":"UPPER(IF(OR(M247=\"a\",M247=\"as\"),L239,IF(OR(M247=\"b\",M247=\"bs\"),L255,)))","v":""}]
[53,{"$f":"IF($D248=\"\",\"\",VLOOKUP($D248,'Boys Do Main Draw Prep'!$A$7:$V$71,20))","v":""},{"$f":"IF($D248=\"\",\"\",VLOOKUP($D248,'Boys Do Main Draw Prep'!$A$7:$V$71,21))","v":""},null,{"$f":"UPPER(IF($D248=\"\",\"\",VLOOKUP($D248,'Boys Do Main Draw Prep'!$A$7:$V$71,2)))","v":""},{"$f":"IF($D248=\"\",\"\",VLOOKUP($D248,'Boys Do Main Draw Prep'!$A$7:$V$71,3))","v":""},null,{"$f":"IF($D248=\"\",\"\",VLOOKUP($D248,'Boys Do Main Draw Prep'!$A$7:$V$71,4))","v":""}]
[null,null,null,null,{"$f":"UPPER(IF($D248=\"\",\"\",VLOOKUP($D248,'Boys Do Main Draw Prep'!$A$7:$V$71,7)))","v":""},{"$f":"IF($D248=\"\",\"\",VLOOKUP($D248,'Boys Do Main Draw Prep'!$A$7:$V$71,8))","v":""},null,{"$f":"IF($D248=\"\",\"\",VLOOKUP($D248,'Boys Do Main Draw Prep'!$A$7:$V$71,9))","v":""},null,{"$f":"IF(I249=\"a\",E248,IF(I249=\"b\",E250,\"\"))","v":""}]
[null,null,null,null,null,null,null,null,null,{"$f":"UPPER(IF(OR(I251=\"a\",I251=\"as\"),E248,IF(OR(I251=\"b\",I251=\"bs\"),E252,)))","v":""}]
[null,null,null,null,null,null,null,"Umpire",null,{"$f":"UPPER(IF(OR(I251=\"a\",I251=\"as\"),E249,IF(OR(I251=\"b\",I251=\"bs\"),E253,)))","v":""}]
[54,{"$f":"IF($D252=\"\",\"\",VLOOKUP($D252,'Boys Do Main Draw Prep'!$A$7:$V$71,20))","v":""},{"$f":"IF($D252=\"\",\"\",VLOOKUP($D252,'Boys Do Main Draw Prep'!$A$7:$V$71,21))","v":""},null,{"$f":"UPPER(IF($D252=\"\",\"\",VLOOKUP($D252,'Boys Do Main Draw Prep'!$A$7:$V$71,2)))","v":""},{"$f":"IF($D252=\"\",\"\",VLOOKUP($D252,'Boys Do Main Draw Prep'!$A$7:$V$71,3))","v":""},null,{"$f":"IF($D252=\"\",\"\",VLOOKUP($D252,'Boys Do Main Draw Prep'!$A$7:$V$71,4))","v":""}]
[null,null,null,null,{"$f":"UPPER(IF($D252=\"\",\"\",VLOOKUP($D252,'Boys Do Main Draw Prep'!$A$7:$V$71,7)))","v":""},{"$f":"IF($D252=\"\",\"\",VLOOKUP($D252,'Boys Do Main Draw Prep'!$A$7:$V$71,8))","v":""},null,{"$f":"IF($D252=\"\",\"\",VLOOKUP($D252,'Boys Do Main Draw Prep'!$A$7:$V$71,9))","v":""}]
[null,null,null,null,null,null,null,null,null,null,null,{"$f":"UPPER(IF(OR(K255=\"a\",K255=\"as\"),J250,IF(OR(K255=\"b\",K255=\"bs\"),J258,)))","v":""}]
[null,null,null,null,null,null,null,null,null,"Umpire",null,{"$f":"UPPER(IF(OR(K255=\"a\",K255=\"as\"),J251,IF(OR(K255=\"b\",K255=\"bs\"),J259,)))","v":""}]
[55,{"$f":"IF($D256=\"\",\"\",VLOOKUP($D256,'Boys Do Main Draw Prep'!$A$7:$V$71,20))","v":""},{"$f":"IF($D256=\"\",\"\",VLOOKUP($D256,'Boys Do Main Draw Prep'!$A$7:$V$71,21))","v":""},null,{"$f":"UPPER(IF($D256=\"\",\"\",VLOOKUP($D256,'Boys Do Main Draw Prep'!$A$7:$V$71,2)))","v":""},{"$f":"IF($D256=\"\",\"\",VLOOKUP($D256,'Boys Do Main Draw Prep'!$A$7:$V$71,3))","v":""},null,{"$f":"IF($D256=\"\",\"\",VLOOKUP($D256,'Boys Do Main Draw Prep'!$A$7:$V$71,4))","v":""}]
[null,null,null,null,{"$f":"UPPER(IF($D256=\"\",\"\",VLOOKUP($D256,'Boys Do Main Draw Prep'!$A$7:$V$71,7)))","v":""},{"$f":"IF($D256=\"\",\"\",VLOOKUP($D256,'Boys Do Main Draw Prep'!$A$7:$V$71,8))","v":""},null,{"$f":"IF($D256=\"\",\"\",VLOOKUP($D256,'Boys Do Main Draw Prep'!$A$7:$V$71,9))","v":""},null,{"$f":"IF(I257=\"a\",E256,IF(I257=\"b\",E258,\"\"))","v":""}]
[null,null,null,null,null,null,null,null,null,{"$f":"UPPER(IF(OR(I259=\"a\",I259=\"as\"),E256,IF(OR(I259=\"b\",I259=\"bs\"),E260,)))","v":""}]
[null,null,null,null,null,null,null,"Umpire",null,{"$f":"UPPER(IF(OR(I259=\"a\",I259=\"as\"),E257,IF(OR(I259=\"b\",I259=\"bs\"),E261,)))","v":""}]
[56,{"$f":"IF($D260=\"\",\"\",VLOOKUP($D260,'Boys Do Main Draw Prep'!$A$7:$V$71,20))","v":""},{"$f":"IF($D260=\"\",\"\",VLOOKUP($D260,'Boys Do Main Draw Prep'!$A$7:$V$71,21))","v":""},null,{"$f":"UPPER(IF($D260=\"\",\"\",VLOOKUP($D260,'Boys Do Main Draw Prep'!$A$7:$V$71,2)))","v":""},{"$f":"IF($D260=\"\",\"\",VLOOKUP($D260,'Boys Do Main Draw Prep'!$A$7:$V$71,3))","v":""},null,{"$f":"IF($D260=\"\",\"\",VLOOKUP($D260,'Boys Do Main Draw Prep'!$A$7:$V$71,4))","v":""}]
[null,null,null,null,{"$f":"UPPER(IF($D260=\"\",\"\",VLOOKUP($D260,'Boys Do Main Draw Prep'!$A$7:$V$71,7)))","v":""},{"$f":"IF($D260=\"\",\"\",VLOOKUP($D260,'Boys Do Main Draw Prep'!$A$7:$V$71,8))","v":""},null,{"$f":"IF($D260=\"\",\"\",VLOOKUP($D260,'Boys Do Main Draw Prep'!$A$7:$V$71,9))","v":""}]
[null,null,null,null,null,null,null,null,null,null,null,null,null,null,null,{"$f":"UPPER(IF(OR(O263=\"a\",O263=\"as\"),N246,IF(OR(O263=\"b\",O263=\"bs\"),N278,)))","v":""}]
[null,null,null,null,null,null,null,null,null,null,null,null,null,"Umpire",null,{"$f":"UPPER(IF(OR(O263=\"a\",O263=\"as\"),N247,IF(OR(O263=\"b\",O263=\"bs\"),N279,)))","v":""}]
[57,{"$f":"IF($D264=\"\",\"\",VLOOKUP($D264,'Boys Do Main Draw Prep'!$A$7:$V$71,20))","v":""},{"$f":"IF($D264=\"\",\"\",VLOOKUP($D264,'Boys Do Main Draw Prep'!$A$7:$V$71,21))","v":""},null,{"$f":"UPPER(IF($D264=\"\",\"\",VLOOKUP($D264,'Boys Do Main Draw Prep'!$A$7:$V$71,2)))","v":""},{"$f":"IF($D264=\"\",\"\",VLOOKUP($D264,'Boys Do Main Draw Prep'!$A$7:$V$71,3))","v":""},null,{"$f":"IF($D264=\"\",\"\",VLOOKUP($D264,'Boys Do Main Draw Prep'!$A$7:$V$71,4))","v":""}]
[null,null,null,null,{"$f":"UPPER(IF($D264=\"\",\"\",VLOOKUP($D264,'Boys Do Main Draw Prep'!$A$7:$V$71,7)))","v":""},{"$f":"IF($D264=\"\",\"\",VLOOKUP($D264,'Boys Do Main Draw Prep'!$A$7:$V$71,8))","v":""},null,{"$f":"IF($D264=\"\",\"\",VLOOKUP($D264,'Boys Do Main Draw Prep'!$A$7:$V$71,9))","v":""},null,{"$f":"IF(I265=\"a\",E264,IF(I265=\"b\",E266,\"\"))","v":""}]
[null,null,null,null,null,null,null,null,null,{"$f":"UPPER(IF(OR(I267=\"a\",I267=\"as\"),E264,IF(OR(I267=\"b\",I267=\"bs\"),E268,)))","v":""}]
[null,null,null,null,null,null,null,"Umpire",null,{"$f":"UPPER(IF(OR(I267=\"a\",I267=\"as\"),E265,IF(OR(I267=\"b\",I267=\"bs\"),E269,)))","v":""}]
[58,{"$f":"IF($D268=\"\",\"\",VLOOKUP($D268,'Boys Do Main Draw Prep'!$A$7:$V$71,20))","v":""},{"$f":"IF($D268=\"\",\"\",VLOOKUP($D268,'Boys Do Main Draw Prep'!$A$7:$V$71,21))","v":""},null,{"$f":"UPPER(IF($D268=\"\",\"\",VLOOKUP($D268,'Boys Do Main Draw Prep'!$A$7:$V$71,2)))","v":""},{"$f":"IF($D268=\"\",\"\",VLOOKUP($D268,'Boys Do Main Draw Prep'!$A$7:$V$71,3))","v":""},null,{"$f":"IF($D268=\"\",\"\",VLOOKUP($D268,'Boys Do Main Draw Prep'!$A$7:$V$71,4))","v":""}]
[null,null,null,null,{"$f":"UPPER(IF($D268=\"\",\"\",VLOOKUP($D268,'Boys Do Main Draw Prep'!$A$7:$V$71,7)))","v":""},{"$f":"IF($D268=\"\",\"\",VLOOKUP($D268,'Boys Do Main Draw Prep'!$A$7:$V$71,8))","v":""},null,{"$f":"IF($D268=\"\",\"\",VLOOKUP($D268,'Boys Do Main Draw Prep'!$A$7:$V$71,9))","v":""}]
[null,null,null,null,null,null,null,null,null,null,null,{"$f":"UPPER(IF(OR(K271=\"a\",K271=\"as\"),J266,IF(OR(K271=\"b\",K271=\"bs\"),J274,)))","v":""}]
[null,null,null,null,null,null,null,null,null,"Umpire",null,{"$f":"UPPER(IF(OR(K271=\"a\",K271=\"as\"),J267,IF(OR(K271=\"b\",K271=\"bs\"),J275,)))","v":""}]
[59,{"$f":"IF($D272=\"\",\"\",VLOOKUP($D272,'Boys Do Main Draw Prep'!$A$7:$V$71,20))","v":""},{"$f":"IF($D272=\"\",\"\",VLOOKUP($D272,'Boys Do Main Draw Prep'!$A$7:$V$71,21))","v":""},null,{"$f":"UPPER(IF($D272=\"\",\"\",VLOOKUP($D272,'Boys Do Main Draw Prep'!$A$7:$V$71,2)))","v":""},{"$f":"IF($D272=\"\",\"\",VLOOKUP($D272,'Boys Do Main Draw Prep'!$A$7:$V$71,3))","v":""},null,{"$f":"IF($D272=\"\",\"\",VLOOKUP($D272,'Boys Do Main Draw Prep'!$A$7:$V$71,4))","v":""}]
[null,null,null,null,{"$f":"UPPER(IF($D272=\"\",\"\",VLOOKUP($D272,'Boys Do Main Draw Prep'!$A$7:$V$71,7)))","v":""},{"$f":"IF($D272=\"\",\"\",VLOOKUP($D272,'Boys Do Main Draw Prep'!$A$7:$V$71,8))","v":""},null,{"$f":"IF($D272=\"\",\"\",VLOOKUP($D272,'Boys Do Main Draw Prep'!$A$7:$V$71,9))","v":""},null,{"$f":"IF(I273=\"a\",E272,IF(I273=\"b\",E274,\"\"))","v":""}]
[null,null,null,null,null,null,null,null,null,{"$f":"UPPER(IF(OR(I275=\"a\",I275=\"as\"),E272,IF(OR(I275=\"b\",I275=\"bs\"),E276,)))","v":""}]
[null,null,null,null,null,null,null,"Umpire",null,{"$f":"UPPER(IF(OR(I275=\"a\",I275=\"as\"),E273,IF(OR(I275=\"b\",I275=\"bs\"),E277,)))","v":""}]
[60,{"$f":"IF($D276=\"\",\"\",VLOOKUP($D276,'Boys Do Main Draw Prep'!$A$7:$V$71,20))","v":""},{"$f":"IF($D276=\"\",\"\",VLOOKUP($D276,'Boys Do Main Draw Prep'!$A$7:$V$71,21))","v":""},null,{"$f":"UPPER(IF($D276=\"\",\"\",VLOOKUP($D276,'Boys Do Main Draw Prep'!$A$7:$V$71,2)))","v":""},{"$f":"IF($D276=\"\",\"\",VLOOKUP($D276,'Boys Do Main Draw Prep'!$A$7:$V$71,3))","v":""},null,{"$f":"IF($D276=\"\",\"\",VLOOKUP($D276,'Boys Do Main Draw Prep'!$A$7:$V$71,4))","v":""}]
[null,null,null,null,{"$f":"UPPER(IF($D276=\"\",\"\",VLOOKUP($D276,'Boys Do Main Draw Prep'!$A$7:$V$71,7)))","v":""},{"$f":"IF($D276=\"\",\"\",VLOOKUP($D276,'Boys Do Main Draw Prep'!$A$7:$V$71,8))","v":""},null,{"$f":"IF($D276=\"\",\"\",VLOOKUP($D276,'Boys Do Main Draw Prep'!$A$7:$V$71,9))","v":""}]
[null,null,null,null,null,null,null,null,null,null,null,null,null,{"$f":"UPPER(IF(OR(M279=\"a\",M279=\"as\"),L270,IF(OR(M279=\"b\",M279=\"bs\"),L286,)))","v":""}]
[null,null,null,null,null,null,null,null,null,null,null,"Umpire",null,{"$f":"UPPER(IF(OR(M279=\"a\",M279=\"as\"),L271,IF(OR(M279=\"b\",M279=\"bs\"),L287,)))","v":""}]
[61,{"$f":"IF($D280=\"\",\"\",VLOOKUP($D280,'Boys Do Main Draw Prep'!$A$7:$V$71,20))","v":""},{"$f":"IF($D280=\"\",\"\",VLOOKUP($D280,'Boys Do Main Draw Prep'!$A$7:$V$71,21))","v":""},null,{"$f":"UPPER(IF($D280=\"\",\"\",VLOOKUP($D280,'Boys Do Main Draw Prep'!$A$7:$V$71,2)))","v":""},{"$f":"IF($D280=\"\",\"\",VLOOKUP($D280,'Boys Do Main Draw Prep'!$A$7:$V$71,3))","v":""},null,{"$f":"IF($D280=\"\",\"\",VLOOKUP($D280,'Boys Do Main Draw Prep'!$A$7:$V$71,4))","v":""}]
[null,null,null,null,{"$f":"UPPER(IF($D280=\"\",\"\",VLOOKUP($D280,'Boys Do Main Draw Prep'!$A$7:$V$71,7)))","v":""},{"$f":"IF($D280=\"\",\"\",VLOOKUP($D280,'Boys Do Main Draw Prep'!$A$7:$V$71,8))","v":""},null,{"$f":"IF($D280=\"\",\"\",VLOOKUP($D280,'Boys Do Main Draw Prep'!$A$7:$V$71,9))","v":""},null,{"$f":"IF(I281=\"a\",E280,IF(I281=\"b\",E282,\"\"))","v":""}]
[null,null,null,null,null,null,null,null,null,{"$f":"UPPER(IF(OR(I283=\"a\",I283=\"as\"),E280,IF(OR(I283=\"b\",I283=\"bs\"),E284,)))","v":""}]
[null,null,null,null,null,null,null,"Umpire",null,{"$f":"UPPER(IF(OR(I283=\"a\",I283=\"as\"),E281,IF(OR(I283=\"b\",I283=\"bs\"),E285,)))","v":""}]
[62,{"$f":"IF($D284=\"\",\"\",VLOOKUP($D284,'Boys Do Main Draw Prep'!$A$7:$V$71,20))","v":""},{"$f":"IF($D284=\"\",\"\",VLOOKUP($D284,'Boys Do Main Draw Prep'!$A$7:$V$71,21))","v":""},null,{"$f":"UPPER(IF($D284=\"\",\"\",VLOOKUP($D284,'Boys Do Main Draw Prep'!$A$7:$V$71,2)))","v":""},{"$f":"IF($D284=\"\",\"\",VLOOKUP($D284,'Boys Do Main Draw Prep'!$A$7:$V$71,3))","v":""},null,{"$f":"IF($D284=\"\",\"\",VLOOKUP($D284,'Boys Do Main Draw Prep'!$A$7:$V$71,4))","v":""}]
[null,null,null,null,{"$f":"UPPER(IF($D284=\"\",\"\",VLOOKUP($D284,'Boys Do Main Draw Prep'!$A$7:$V$71,7)))","v":""},{"$f":"IF($D284=\"\",\"\",VLOOKUP($D284,'Boys Do Main Draw Prep'!$A$7:$V$71,8))","v":""},null,{"$f":"IF($D284=\"\",\"\",VLOOKUP($D284,'Boys Do Main Draw Prep'!$A$7:$V$71,9))","v":""}]
[null,null,null,null,null,null,null,null,null,null,null,{"$f":"UPPER(IF(OR(K287=\"a\",K287=\"as\"),J282,IF(OR(K287=\"b\",K287=\"bs\"),J290,)))","v":""}]
[null,null,null,null,null,null,null,null,null,"Umpire",null,{"$f":"UPPER(IF(OR(K287=\"a\",K287=\"as\"),J283,IF(OR(K287=\"b\",K287=\"bs\"),J291,)))","v":""}]
[63,{"$f":"IF($D288=\"\",\"\",VLOOKUP($D288,'Boys Do Main Draw Prep'!$A$7:$V$71,20))","v":""},{"$f":"IF($D288=\"\",\"\",VLOOKUP($D288,'Boys Do Main Draw Prep'!$A$7:$V$71,21))","v":""},null,{"$f":"UPPER(IF($D288=\"\",\"\",VLOOKUP($D288,'Boys Do Main Draw Prep'!$A$7:$V$71,2)))","v":""},{"$f":"IF($D288=\"\",\"\",VLOOKUP($D288,'Boys Do Main Draw Prep'!$A$7:$V$71,3))","v":""},null,{"$f":"IF($D288=\"\",\"\",VLOOKUP($D288,'Boys Do Main Draw Prep'!$A$7:$V$71,4))","v":""}]
[null,null,null,null,{"$f":"UPPER(IF($D288=\"\",\"\",VLOOKUP($D288,'Boys Do Main Draw Prep'!$A$7:$V$71,7)))","v":""},{"$f":"IF($D288=\"\",\"\",VLOOKUP($D288,'Boys Do Main Draw Prep'!$A$7:$V$71,8))","v":""},null,{"$f":"IF($D288=\"\",\"\",VLOOKUP($D288,'Boys Do Main Draw Prep'!$A$7:$V$71,9))","v":""},null,{"$f":"IF(I289=\"a\",E288,IF(I289=\"b\",E290,\"\"))","v":""}]
[null,null,null,null,null,null,null,null,null,{"$f":"UPPER(IF(OR(I291=\"a\",I291=\"as\"),E288,IF(OR(I291=\"b\",I291=\"bs\"),E292,)))","v":""}]
[null,null,null,null,null,null,null,"Umpire",null,{"$f":"UPPER(IF(OR(I291=\"a\",I291=\"as\"),E289,IF(OR(I291=\"b\",I291=\"bs\"),E293,)))","v":""}]
[64,{"$f":"IF($D292=\"\",\"\",VLOOKUP($D292,'Boys Do Main Draw Prep'!$A$7:$V$71,20))","v":""},{"$f":"IF($D292=\"\",\"\",VLOOKUP($D292,'Boys Do Main Draw Prep'!$A$7:$V$71,21))","v":""},null,{"$f":"UPPER(IF($D292=\"\",\"\",VLOOKUP($D292,'Boys Do Main Draw Prep'!$A$7:$V$71,2)))","v":""},{"$f":"IF($D292=\"\",\"\",VLOOKUP($D292,'Boys Do Main Draw Prep'!$A$7:$V$71,3))","v":""},null,{"$f":"IF($D292=\"\",\"\",VLOOKUP($D292,'Boys Do Main Draw Prep'!$A$7:$V$71,4))","v":""}]
[null,null,null,null,{"$f":"UPPER(IF($D292=\"\",\"\",VLOOKUP($D292,'Boys Do Main Draw Prep'!$A$7:$V$71,7)))","v":""},{"$f":"IF($D292=\"\",\"\",VLOOKUP($D292,'Boys Do Main Draw Prep'!$A$7:$V$71,8))","v":""},null,{"$f":"IF($D292=\"\",\"\",VLOOKUP($D292,'Boys Do Main Draw Prep'!$A$7:$V$71,9))","v":""}]
[]
[null,null,null,null,null,null,null,null,null,null,null,null,null,null,null,null,"Seeded teams on page 1 and 3"]
["Acc. Ranking",null,null,"#","Alternates",null,"Replacing",null,"#","Alternates",null,"Replacing",null,"Draw date/time:",null,{"$f":"P71","v":0}]
["Rkg Date",null,{"$f":"C72","v":0},"1",null,null,null,null,"5",null,null,null,null,"Last Accepted team"]
["Top DA",null,{"$f":"C73","v":0},null,null,null,null,null,null,null,null,null,null,{"$f":"N73","v":0}]
["Last DA",null,{"$f":"C74","v":0},"2",null,null,null,null,"6",null,null,null,null,"Player representatives"]
[]
["Seed ranking",null,null,"3",null,null,null,null,"7",null,null,null,null,{"$f":"N76","v":0},{"$f":"O76","v":0},{"$f":"P76","v":0},{"$f":"Q76","v":0}]
["Rkg Date",null,{"$f":"C77","v":0},null,null,null,null,null,null,null,null,null,null,"ITF Referee's signature"]
["Top seed",null,{"$f":"C78","v":0},"4",null,null,null,null,"8",null,null,null,null,{"$f":"N78","v":0},0,0]
["Last seed",null,{"$f":"C79","v":0},null,null,null,null,null,null,null,null,null,null,0,0,0]
[null,null,null,null,null,null,null,null,null,"Semifinalists",null,"Semifinals",null,"Final",null,"Winners"]
[]
[null,null,null,null,null,null,null,null,null,null,null,null,null,null,null,null,"Page 5(5)",null,null,{"$f":"'SetUp Officials'!P285","v":0}]
[null,null,null,null,null,null,null,null,null,{"$f":"IF(I308=\"a\",E307,IF(I308=\"b\",E309,\"\"))","v":""},null,null,null,null,null,null,null,null,null,{"$f":"'SetUp Officials'!P286","v":0}]
[null,null,null,null,null,null,null,null,null,{"$f":"UPPER(IF(OR(O38=\"a\",O38=\"as\"),N21,IF(OR(O38=\"b\",O38=\"bs\"),N53,)))","v":""},null,null,null,null,null,null,null,null,null,{"$f":"'SetUp Officials'!P287","v":0}]
[null,null,null,null,null,null,null,null,null,{"$f":"UPPER(IF(OR(O38=\"a\",O38=\"as\"),N22,IF(OR(O38=\"b\",O38=\"bs\"),N54,)))","v":""},null,null,null,null,null,null,null,null,null,{"$f":"'SetUp Officials'!P288","v":0}]
[null,null,null,null,null,null,null,null,null,null,null,null,null,null,null,null,null,null,null,{"$f":"'SetUp Officials'!P289","v":0}]
[null,null,null,null,null,null,null,null,null,null,null,null,null,null,null,null,null,null,null,{"$f":"'SetUp Officials'!P290","v":0}]
[null,null,null,null,null,null,null,null,null,null,null,{"$f":"UPPER(IF(OR(K314=\"a\",K314=\"as\"),J309,IF(OR(K314=\"b\",K314=\"bs\"),J317,)))","v":""},null,null,null,null,null,null,null,{"$f":"'SetUp Officials'!P291","v":0}]
[null,null,null,null,null,null,null,null,null,"Umpire",null,{"$f":"UPPER(IF(OR(K314=\"a\",K314=\"as\"),J310,IF(OR(K314=\"b\",K314=\"bs\"),J318,)))","v":""},null,null,null,null,null,null,null,{"$f":"'SetUp Officials'!P292","v":0}]
[null,null,null,null,null,null,null,null,null,null,null,null,null,null,null,null,null,null,null,{"$f":"'SetUp Officials'!P293","v":0}]
[null,null,null,null,null,null,null,null,null,{"$f":"IF(I316=\"a\",E315,IF(I316=\"b\",E317,\"\"))","v":""},null,null,null,null,null,null,null,null,null,{"$f":"'SetUp Officials'!P294","v":0}]
[null,null,null,null,null,null,null,null,null,{"$f":"UPPER(IF(OR(O113=\"a\",O113=\"as\"),N96,IF(OR(O113=\"b\",O113=\"bs\"),N128,)))","v":""}]
[null,null,null,null,null,null,null,null,null,{"$f":"UPPER(IF(OR(O113=\"a\",O113=\"as\"),N97,IF(OR(O113=\"b\",O113=\"bs\"),N129,)))","v":""}]
[]
[]
[null,null,null,null,null,null,null,null,null,null,null,null,null,{"$f":"UPPER(IF(OR(M322=\"a\",M322=\"as\"),L313,IF(OR(M322=\"b\",M322=\"bs\"),L329,)))","v":""}]
[null,null,null,null,null,null,null,null,null,null,null,"Umpire",null,{"$f":"UPPER(IF(OR(M322=\"a\",M322=\"as\"),L314,IF(OR(M322=\"b\",M322=\"bs\"),L330,)))","v":""}]
[]
[null,null,null,null,null,null,null,null,null,{"$f":"IF(I324=\"a\",E323,IF(I324=\"b\",E325,\"\"))","v":""}]
[null,null,null,null,null,null,null,null,null,{"$f":"UPPER(IF(OR(O188=\"a\",O188=\"as\"),N171,IF(OR(O188=\"b\",O188=\"bs\"),N203,)))","v":""}]
[null,null,null,null,null,null,null,null,null,{"$f":"UPPER(IF(OR(O188=\"a\",O188=\"as\"),N172,IF(OR(O188=\"b\",O188=\"bs\"),N204,)))","v":""}]
[]
[]
[null,null,null,null,null,null,null,null,null,null,null,{"$f":"UPPER(IF(OR(K330=\"a\",K330=\"as\"),J325,IF(OR(K330=\"b\",K330=\"bs\"),J333,)))","v":""}]
[null,null,null,null,null,null,null,null,null,"Umpire",null,{"$f":"UPPER(IF(OR(K330=\"a\",K330=\"as\"),J326,IF(OR(K330=\"b\",K330=\"bs\"),J334,)))","v":""}]
[]
[null,null,null,null,null,null,null,null,null,{"$f":"IF(I332=\"a\",E331,IF(I332=\"b\",E333,\"\"))","v":""}]
[null,null,null,null,null,null,null,null,null,{"$f":"UPPER(IF(OR(O263=\"a\",O263=\"as\"),N246,IF(OR(O263=\"b\",O263=\"bs\"),N278,)))","v":""}]
[null,null,null,null,null,null,null,null,null,{"$f":"UPPER(IF(OR(O263=\"a\",O263=\"as\"),N247,IF(OR(O263=\"b\",O263=\"bs\"),N279,)))","v":""}]
[]
[]
[]
[]
[]
[null,null,null,null,null,null,null,null,null,{"$f":"IF(I340=\"a\",E339,IF(I340=\"b\",E341,\"\"))","v":""}]
[null,null,null,null,null,null,null,null,null,{"$f":"UPPER(IF(OR(I342=\"a\",I342=\"as\"),E339,IF(OR(I342=\"b\",I342=\"bs\"),E343,)))","v":""}]
[]
[]
[]
[null,null,null,null,null,null,null,null,null,{"$f":"IF(I345=\"a\",E344,IF(I345=\"b\",E346,\"\"))","v":""}]
[null,null,null,null,null,null,null,null,null,{"$f":"UPPER(IF(OR(I347=\"a\",I347=\"as\"),E344,IF(OR(I347=\"b\",I347=\"bs\"),E348,)))","v":""}]
[]
[]
[]
[null,null,null,null,null,null,null,null,null,{"$f":"IF(I350=\"a\",E349,IF(I350=\"b\",E351,\"\"))","v":""}]
[null,null,null,null,null,null,null,null,null,{"$f":"UPPER(IF(OR(I352=\"a\",I352=\"as\"),E349,IF(OR(I352=\"b\",I352=\"bs\"),E353,)))","v":""}]
[]
[]
[]
[null,null,null,null,null,null,null,null,null,{"$f":"IF(I355=\"a\",E354,IF(I355=\"b\",E356,\"\"))","v":""}]
[null,null,null,null,null,null,null,null,null,{"$f":"UPPER(IF(OR(I357=\"a\",I357=\"as\"),E354,IF(OR(I357=\"b\",I357=\"bs\"),E358,)))","v":""}]
[]
[]
[]
[null,null,null,null,null,null,null,null,null,{"$f":"IF(I360=\"a\",E359,IF(I360=\"b\",E361,\"\"))","v":""}]
[null,null,null,null,null,null,null,null,null,{"$f":"UPPER(IF(OR(I362=\"a\",I362=\"as\"),E359,IF(OR(I362=\"b\",I362=\"bs\"),E363,)))","v":""}]
["Acc. Ranking",null,null,"#","Seeded teams","#","Seeded teams",null,"#","Seeded teams","#","Seeded teams"]
["Rkg Date",null,{"$f":"C72","v":0},1,{"$f":"E72","v":0},"5",{"$f":"G72","v":0},null,"9",{"$f":"J72","v":0},"13",{"$f":"L72","v":0}]
["Top DA",null,{"$f":"C73","v":0},0,0,0,0,null,0,0,0,0]
["Last DA",null,{"$f":"C74","v":0},2,0,"6",0,null,"10",0,"14",0]
[null,null,null,0,0,0,0,null,0,0,0,0]
["Seed ranking",null,null,3,0,"7",0,null,"11",0,"15",0]
["Rkg Date",null,{"$f":"C77","v":0},0,0,0,0,null,0,0,0,0]
["Top seed",null,{"$f":"C78","v":0},4,0,"8",0,null,"12",0,"16",0]
["Last seed",null,{"$f":"C79","v":0},0,0,0,0,null,0,0,0,0]
[null,null,null,"#","Alternates",null,"Replacing",null,"#","Alternates",null,"Replacing",null,{"$f":"N71","v":"Draw date/time:"},null,{"$f":"P71","v":0}]
[null,null,null,"1",{"$f":"E147","v":0},null,{"$f":"G147","v":0},0,"5",{"$f":"J147","v":0},null,{"$f":"L147","v":0},null,"Last Accepted team"]
[null,null,null,null,0,null,0,0,0,0,null,0,null,{"$f":"N73","v":0}]
[null,null,null,"2",0,null,0,0,"6",0,null,0,null,"Player representatives"]
[null,null,null,null,0,null,0,0,0,0,null,0]
[null,null,null,"3",0,null,0,0,"7",0,null,0,null,{"$f":"N76","v":0}]
[null,null,null,null,0,null,0,0,0,0,null,0,null,"ITF Referee's signature"]
[null,null,null,"4",0,null,0,0,"8",0,null,0]
[null,null,null,null,0,null,0,0,0,0,null,0,null,{"$f":"N79","v":0}]

{"sheet":"Girls Do Sign-in sheet","index":46,"n_rows":166,"n_cols":12,"rows_kept":166,"cut":false,"hidden":false,"merged":[[3,0,3,1]]}
[{"$f":"'Week SetUp'!$A$6","v":0},null,null,null,"GIRLS DOUBLES SIGN-IN"]
[{"$f":"'Week SetUp'!$A$8","v":"ITF Junior Circuit"},null,null,null,{"$f":"IF(OR($E$4=75000,$E$4=50000),\"(or telephone sign-in/registration)\",\"\")","v":""}]
["Week of",null,"City, Country",null,"Group","Tourn. ID",null,null,"ITF Referee","ITF Referee's signature"]
[{"$f":"'Week SetUp'!$A$10","v":"00:00:00"},null,{"$f":"'Week SetUp'!$C$10","v":0},null,{"$f":"'Week SetUp'!$D$10","v":0},{"$f":"'Week SetUp'!$A$12","v":0},null,null,{"$f":"'Week SetUp'!$E$10","v":0}]
[null,null,"Day","Date",null,"Time",null,"Place"]
["Sign-in deadline:"]
["Line","Family name","First name","Nat.","Date of birth Day/Mth/Yr","Signatures\n(both players must sign-in)",null,"ITF 18\nRanking","Si Main\nDA or Q","Accepted","Seed\nPosition","Draw\nchip"]
[1]
[]
[2]
[]
[3]
[]
[4]
[]
[5]
[]
[6]
[]
[7]
[]
[8]
[]
[9]
[]
[10]
[]
[11]
[]
[12]
[]
[13]
[]
[14]
[]
[15]
[]
[16]
[]
[17]
[]
[18]
[]
[19]
[]
[20]
[]
[21]
[]
[22]
[]
[23]
[]
[24]
[]
[25]
[]
[26]
[]
[27]
[]
[28]
[]
[29]
[]
[30]
[]
[31]
[]
[32]
[]
[33]
[]
[34]
[]
[35]
[]
[36]
[]
[37]
[]
[38]
[]
[39]
[]
[40]
[]
[41]
[]
[42]
[]
[43]
[]
[44]
[]
[45]
[]
[46]
[]
[47]
[]
[48]
[]
[49]
[]
[50]
[]
[51]
[]
[52]
[]
[53]
[]
[54]
[]
[55]
[]
[56]
[]
[57]
[]
[58]
[]
[59]
[]
[60]
[]
[61]
[]
[62]
[]
[63]
[]
[64]
[]
[65]
[]
[66]
[]
[67]
[]
[68]
[]
[69]
[]
[70]
[]
[71]
[]
[72]
[]
[73]
[]
[74]
[]
[75]
[]
[76]
[]
[77]
[]
[78]
[]
[79]
[]
[80]

{"sheet":"Girls Do Main Draw Prep","index":47,"n_rows":87,"n_cols":22,"rows_kept":87,"cut":false,"hidden":false,"merged":[[4,0,4,1],[5,1,5,5],[5,6,5,13],[5,18,5,21]]}
[{"$f":"'Week SetUp'!$A$6","v":0},null,null,null,null,null,"GIRLS DOUBLES MAIN DRAW "]
[{"$f":"'Week SetUp'!$A$8","v":"ITF Junior Circuit"},null,null,null,null,null,"PREPARATION LIST"]
["DO NO DELETE THIS PAGE IF YOU ARE USING LINK-IN'S TO THE DRAW",null,null,null,null,null,null,null,null,null,null,null,null,null,null,null,null,null,"ITF Referee's signature"]
["Week of",null,"City, Country",null,null,null,"Group","Tourn. ID",null,"ITF Supervisor/Referee",null,null,null,"ITF Referee"]
[{"$f":"'Week SetUp'!$A$10","v":"00:00:00"},null,{"$f":"'Week SetUp'!$C$10","v":0},null,null,null,{"$f":"'Week SetUp'!$D$10","v":0},{"$f":"'Week SetUp'!$A$12","v":0},null,{"$f":"'Week SetUp'!$E$10","v":0},null,null,null,{"$f":"'Week SetUp'!$E$10","v":0},null,null,null,null,null,null,null,{"$f":"COUNTA(V8:V87)","v":0}]
[null,"Player 1",null,null,null,null,"Player 2",null,null,null,null,null,null,null,null,null,"Team",null,"Team"]
["Line","Family name","First name","Nat.","ITF 18\nRank","Si Main\nDA, SE, Q","Family name","First name","Nat.",null,null,"Status\nNo","ITF 18\nRank","Si Main\nDA, SE, Q","Seq\n123","Seq\nabc","Acc\nPri-\nority","Comb\nRanking","Acc.\nTie-\nBreak","Do Acc\nstatus\nDA,WC\nA","Display\nRank\nITF18","Seed Pos"]
[1,null,null,null,null,null,null,null,null,null,null,{"$f":"IF(OR(OR(B8=\"\",C8=\"\",D8=\"\"),OR(G8=\"\",H8=\"\",I8=\"\")),,IF(T8=\"DA\",1,IF(T8=\"WC\",2,IF(T8=\"A\",3,999))))","v":0},null,null,{"$f":"IF(OR(OR(B8=\"\",C8=\"\",D8=\"\"),OR(G8=\"\",H8=\"\",I8=\"\")),,IF(AND(OR(F8=\"DA\",F8=\"SE\",F8=\"Q\"),OR(N8=\"DA\",N88=\"SE\",N8=\"Q\")),\"1\",IF(OR(OR(F8=\"DA\",F8=\"SE\",F8=\"Q\"),OR(N8=\"DA\",N8=\"SE\",N8=\"Q\")),\"2\",\"3\")))","v":0},{"$f":"IF(OR(OR(B8=\"\",C8=\"\",D8=\"\"),OR(G8=\"\",H8=\"\",I8=\"\")),,IF(AND(E8>0,M8>0),\"a\",IF(OR(E8>0,M8>0),\"b\",\"c\")))","v":0},{"$f":"IF(OR(OR(B8=\"\",C8=\"\",D8=\"\"),OR(G8=\"\",H8=\"\",I8=\"\")),,O8&P8)","v":0},{"$f":"IF(OR(OR(B8=\"\",C8=\"\",D8=\"\"),OR(G8=\"\",H8=\"\",I8=\"\")),,IF(OR(E8>0,M8>0),E8+M8))","v":0},null,null,{"$f":"IF(OR(OR(B8=\"\",C8=\"\",D8=\"\"),OR(G8=\"\",H8=\"\",I8=\"\")),,IF(AND(E8>0,M8>0),E8+M8,))","v":0}]
[2,null,null,null,null,null,null,null,null,null,null,{"$f":"IF(OR(OR(B9=\"\",C9=\"\",D9=\"\"),OR(G9=\"\",H9=\"\",I9=\"\")),,IF(T9=\"DA\",1,IF(T9=\"WC\",2,IF(T9=\"A\",3,999))))","v":0},null,null,{"$f":"IF(OR(OR(B9=\"\",C9=\"\",D9=\"\"),OR(G9=\"\",H9=\"\",I9=\"\")),,IF(AND(OR(F9=\"DA\",F9=\"SE\",F9=\"Q\"),OR(N9=\"DA\",N89=\"SE\",N9=\"Q\")),\"1\",IF(OR(OR(F9=\"DA\",F9=\"SE\",F9=\"Q\"),OR(N9=\"DA\",N9=\"SE\",N9=\"Q\")),\"2\",\"3\")))","v":0},{"$f":"IF(OR(OR(B9=\"\",C9=\"\",D9=\"\"),OR(G9=\"\",H9=\"\",I9=\"\")),,IF(AND(E9>0,M9>0),\"a\",IF(OR(E9>0,M9>0),\"b\",\"c\")))","v":0},{"$f":"IF(OR(OR(B9=\"\",C9=\"\",D9=\"\"),OR(G9=\"\",H9=\"\",I9=\"\")),,O9&P9)","v":0},{"$f":"IF(OR(OR(B9=\"\",C9=\"\",D9=\"\"),OR(G9=\"\",H9=\"\",I9=\"\")),,IF(OR(E9>0,M9>0),E9+M9))","v":0},null,null,{"$f":"IF(OR(OR(B9=\"\",C9=\"\",D9=\"\"),OR(G9=\"\",H9=\"\",I9=\"\")),,IF(AND(E9>0,M9>0),E9+M9,))","v":0}]
[3,null,null,null,null,null,null,null,null,null,null,0,null,null,0,0,0,0,null,null,0]
[4,null,null,null,null,null,null,null,null,null,null,0,null,null,0,0,0,0,null,null,0]
[5,null,null,null,null,null,null,null,null,null,null,0,null,null,0,0,0,0,null,null,0]
[6,null,null,null,null,null,null,null,null,null,null,0,null,null,0,0,0,0,null,null,0]
[7,null,null,null,null,null,null,null,null,null,null,0,null,null,0,0,0,0,null,null,0]
[8,null,null,null,null,null,null,null,null,null,null,0,null,null,0,0,0,0,null,null,0]
[9,null,null,null,null,null,null,null,null,null,null,0,null,null,0,0,0,0,null,null,0]
[10,null,null,null,null,null,null,null,null,null,null,0,null,null,0,0,0,0,null,null,0]
[11,null,null,null,null,null,null,null,null,null,null,0,null,null,0,0,0,0,null,null,0]
[12,null,null,null,null,null,null,null,null,null,null,0,null,null,0,0,0,0,null,null,0]
[13,null,null,null,null,null,null,null,null,null,null,0,null,null,0,0,0,0,null,null,0]
[14,null,null,null,null,null,null,null,null,null,null,0,null,null,0,0,0,0,null,null,0]
[15,null,null,null,null,null,null,null,null,null,null,0,null,null,0,0,0,0,null,null,0]
[16,null,null,null,null,null,null,null,null,null,null,0,null,null,0,0,0,0,null,null,0]
[17,null,null,null,null,null,null,null,null,null,null,0,null,null,0,0,0,0,null,null,0]
[18,null,null,null,null,null,null,null,null,null,null,0,null,null,0,0,0,0,null,null,0]
[19,null,null,null,null,null,null,null,null,null,null,0,null,null,0,0,0,0,null,null,0]
[20,null,null,null,null,null,null,null,null,null,null,0,null,null,0,0,0,0,null,null,0]
[21,null,null,null,null,null,null,null,null,null,null,0,null,null,0,0,0,0,null,null,0]
[22,null,null,null,null,null,null,null,null,null,null,0,null,null,0,0,0,0,null,null,0]
[23,null,null,null,null,null,null,null,null,null,null,0,null,null,0,0,0,0,null,null,0]
[24,null,null,null,null,null,null,null,null,null,null,0,null,null,0,0,0,0,null,null,0]
[25,null,null,null,null,null,null,null,null,null,null,0,null,null,0,0,0,0,null,null,0]
[26,null,null,null,null,null,null,null,null,null,null,0,null,null,0,0,0,0,null,null,0]
[27,null,null,null,null,null,null,null,null,null,null,0,null,null,0,0,0,0,null,null,0]
[28,null,null,null,null,null,null,null,null,null,null,0,null,null,0,0,0,0,null,null,0]
[29,null,null,null,null,null,null,null,null,null,null,0,null,null,0,0,0,0,null,null,0]
[30,null,null,null,null,null,null,null,null,null,null,0,null,null,0,0,0,0,null,null,0]
[31,null,null,null,null,null,null,null,null,null,null,0,null,null,0,0,0,0,null,null,0]
[32,null,null,null,null,null,null,null,null,null,null,0,null,null,0,0,0,0,null,null,0]
[33,null,null,null,null,null,null,null,null,null,null,0,null,null,0,0,0,0,null,null,0]
[34,null,null,null,null,null,null,null,null,null,null,0,null,null,0,0,0,0,null,null,0]
[35,null,null,null,null,null,null,null,null,null,null,0,null,null,0,0,0,0,null,null,0]
[36,null,null,null,null,null,null,null,null,null,null,0,null,null,0,0,0,0,null,null,0]
[37,null,null,null,null,null,null,null,null,null,null,0,null,null,0,0,0,0,null,null,0]
[38,null,null,null,null,null,null,null,null,null,null,0,null,null,0,0,0,0,null,null,0]
[39,null,null,null,null,null,null,null,null,null,null,0,null,null,0,0,0,0,null,null,0]
[40,null,null,null,null,null,null,null,null,null,null,0,null,null,0,0,0,0,null,null,0]
[41,null,null,null,null,null,null,null,null,null,null,0,null,null,0,0,0,0,null,null,0]
[42,null,null,null,null,null,null,null,null,null,null,0,null,null,0,0,0,0,null,null,0]
[43,null,null,null,null,null,null,null,null,null,null,0,null,null,0,0,0,0,null,null,0]
[44,null,null,null,null,null,null,null,null,null,null,0,null,null,0,0,0,0,null,null,0]
[45,null,null,null,null,null,null,null,null,null,null,0,null,null,0,0,0,0,null,null,0]
[46,null,null,null,null,null,null,null,null,null,null,0,null,null,0,0,0,0,null,null,0]
[47,null,null,null,null,null,null,null,null,null,null,0,null,null,0,0,0,0,null,null,0]
[48,null,null,null,null,null,null,null,null,null,null,0,null,null,0,0,0,0,null,null,0]
[49,null,null,null,null,null,null,null,null,null,null,0,null,null,0,0,0,0,null,null,0]
[50,null,null,null,null,null,null,null,null,null,null,0,null,null,0,0,0,0,null,null,0]
[51,null,null,null,null,null,null,null,null,null,null,0,null,null,0,0,0,0,null,null,0]
[52,null,null,null,null,null,null,null,null,null,null,0,null,null,0,0,0,0,null,null,0]
[53,null,null,null,null,null,null,null,null,null,null,0,null,null,0,0,0,0,null,null,0]
[54,null,null,null,null,null,null,null,null,null,null,0,null,null,0,0,0,0,null,null,0]
[55,null,null,null,null,null,null,null,null,null,null,0,null,null,0,0,0,0,null,null,0]
[56,null,null,null,null,null,null,null,null,null,null,0,null,null,0,0,0,0,null,null,0]
[57,null,null,null,null,null,null,null,null,null,null,0,null,null,0,0,0,0,null,null,0]
[58,null,null,null,null,null,null,null,null,null,null,0,null,null,0,0,0,0,null,null,0]
[59,null,null,null,null,null,null,null,null,null,null,0,null,null,0,0,0,0,null,null,0]
[60,null,null,null,null,null,null,null,null,null,null,0,null,null,0,0,0,0,null,null,0]
[61,null,null,null,null,null,null,null,null,null,null,0,null,null,0,0,0,0,null,null,0]
[62,null,null,null,null,null,null,null,null,null,null,0,null,null,0,0,0,0,null,null,0]
[63,null,null,null,null,null,null,null,null,null,null,0,null,null,0,0,0,0,null,null,0]
[64,null,null,null,null,null,null,null,null,null,null,0,null,null,0,0,0,0,null,null,0]
[65,null,null,null,null,null,null,null,null,null,null,0,null,null,0,0,0,0,null,null,0]
[66,null,null,null,null,null,null,null,null,null,null,{"$f":"IF(OR(OR(B73=\"\",C73=\"\",D73=\"\"),OR(G73=\"\",H73=\"\",I73=\"\")),,IF(T73=\"DA\",1,IF(T73=\"WC\",2,IF(T73=\"A\",3,999))))","v":0},null,null,{"$f":"IF(OR(OR(B73=\"\",C73=\"\",D73=\"\"),OR(G73=\"\",H73=\"\",I73=\"\")),,IF(AND(OR(F73=\"DA\",F73=\"SE\",F73=\"Q\"),OR(N73=\"DA\",N153=\"SE\",N73=\"Q\")),\"1\",IF(OR(OR(F73=\"DA\",F73=\"SE\",F73=\"Q\"),OR(N73=\"DA\",N73=\"SE\",N73=\"Q\")),\"2\",\"3\")))","v":0},{"$f":"IF(OR(OR(B73=\"\",C73=\"\",D73=\"\"),OR(G73=\"\",H73=\"\",I73=\"\")),,IF(AND(E73>0,M73>0),\"a\",IF(OR(E73>0,M73>0),\"b\",\"c\")))","v":0},{"$f":"IF(OR(OR(B73=\"\",C73=\"\",D73=\"\"),OR(G73=\"\",H73=\"\",I73=\"\")),,O73&P73)","v":0},{"$f":"IF(OR(OR(B73=\"\",C73=\"\",D73=\"\"),OR(G73=\"\",H73=\"\",I73=\"\")),,IF(OR(E73>0,M73>0),E73+M73))","v":0},null,null,{"$f":"IF(OR(OR(B73=\"\",C73=\"\",D73=\"\"),OR(G73=\"\",H73=\"\",I73=\"\")),,IF(AND(E73>0,M73>0),E73+M73,))","v":0}]
[67,null,null,null,null,null,null,null,null,null,null,0,null,null,0,0,0,0,null,null,0]
[68,null,null,null,null,null,null,null,null,null,null,0,null,null,0,0,0,0,null,null,0]
[69,null,null,null,null,null,null,null,null,null,null,0,null,null,0,0,0,0,null,null,0]
[70,null,null,null,null,null,null,null,null,null,null,0,null,null,0,0,0,0,null,null,0]
[71,null,null,null,null,null,null,null,null,null,null,0,null,null,0,0,0,0,null,null,0]
[72,null,null,null,null,null,null,null,null,null,null,0,null,null,0,0,0,0,null,null,0]
[73,null,null,null,null,null,null,null,null,null,null,0,null,null,0,0,0,0,null,null,0]
[74,null,null,null,null,null,null,null,null,null,null,0,null,null,0,0,0,0,null,null,0]
[75,null,null,null,null,null,null,null,null,null,null,0,null,null,0,0,0,0,null,null,0]
[76,null,null,null,null,null,null,null,null,null,null,0,null,null,0,0,0,0,null,null,0]
[77,null,null,null,null,null,null,null,null,null,null,0,null,null,0,0,0,0,null,null,0]
[78,null,null,null,null,null,null,null,null,null,null,0,null,null,0,0,0,0,null,null,0]
[79,null,null,null,null,null,null,null,null,null,null,0,null,null,0,0,0,0,null,null,0]
[80,null,null,null,null,null,null,null,null,null,null,0,null,null,0,0,0,0,null,null,0]

{"sheet":"Girls Do Main 16","index":48,"n_rows":79,"n_cols":20,"rows_kept":79,"cut":false,"hidden":false,"merged":[[3,0,3,2]]}
[{"$f":"'Week SetUp'!$A$6","v":0},null,null,null,null,null,null,null,null,"GIRLS DOUBLES",null,null,null,"CU"]
[{"$f":"'Week SetUp'!$A$8","v":"ITF Junior Circuit"},null,null,null,null,null,null,null,null,"MAIN DRAW (16)"]
["Week of",null,null,null,null,"City, Country",null,null,null,"Group",null,"Tourn. ID",null,null,null,null,"ITF Referee"]
[{"$f":"'Week SetUp'!$A$10","v":"00:00:00"},null,null,null,null,{"$f":"'Week SetUp'!$C$10","v":0},null,null,null,{"$f":"'Week SetUp'!$D$10","v":0},null,{"$f":"'Week SetUp'!$A$12","v":0},null,null,null,null,{"$f":"'Week SetUp'!$E$10","v":0}]
[null,"St.",{"$f":"IF(OR(F2=\"Week 3\",F2=\"Masters\"),\"CP\",\"Rank\")","v":"Rank"},"Seed","Family Name","First name",null,"Nationality",null,"2nd Round",null,"Semifinals",null,"Final",null,"Winners"]
[]
[1,{"$f":"IF($D7=\"\",\"\",VLOOKUP($D7,'Girls Do Main Draw Prep'!$A$7:$V$23,20))","v":""},{"$f":"IF($D7=\"\",\"\",VLOOKUP($D7,'Girls Do Main Draw Prep'!$A$7:$V$23,21))","v":""},null,{"$f":"UPPER(IF($D7=\"\",\"\",VLOOKUP($D7,'Girls Do Main Draw Prep'!$A$7:$V$23,2)))","v":""},{"$f":"IF($D7=\"\",\"\",VLOOKUP($D7,'Girls Do Main Draw Prep'!$A$7:$V$23,3))","v":""},null,{"$f":"IF($D7=\"\",\"\",VLOOKUP($D7,'Girls Do Main Draw Prep'!$A$7:$V$23,4))","v":""},null,null,null,null,null,null,null,null,null,null,null,{"$f":"'SetUp Officials'!P21","v":"Umpire"}]
[null,null,null,null,{"$f":"UPPER(IF($D7=\"\",\"\",VLOOKUP($D7,'Girls Do Main Draw Prep'!$A$7:$V$23,7)))","v":""},{"$f":"IF($D7=\"\",\"\",VLOOKUP($D7,'Girls Do Main Draw Prep'!$A$7:$V$23,8))","v":""},null,{"$f":"IF($D7=\"\",\"\",VLOOKUP($D7,'Girls Do Main Draw Prep'!$A$7:$V$23,9))","v":""},null,{"$f":"IF(I8=\"a\",E7,IF(I8=\"b\",E9,\"\"))","v":""},null,null,null,null,null,null,null,null,null,{"$f":"'SetUp Officials'!P22","v":" "}]
[null,null,null,null,null,null,null,null,null,{"$f":"UPPER(IF(OR(I10=\"a\",I10=\"as\"),E7,IF(OR(I10=\"b\",I10=\"bs\"),E11,)))","v":""},null,null,null,null,null,null,null,null,null,{"$f":"'SetUp Officials'!P23","v":" "}]
[null,null,null,null,null,null,null,"Umpire",null,{"$f":"UPPER(IF(OR(I10=\"a\",I10=\"as\"),E8,IF(OR(I10=\"b\",I10=\"bs\"),E12,)))","v":""},null,null,null,null,null,null,null,null,null,{"$f":"'SetUp Officials'!P24","v":" "}]
[2,{"$f":"IF($D11=\"\",\"\",VLOOKUP($D11,'Girls Do Main Draw Prep'!$A$7:$V$23,20))","v":""},{"$f":"IF($D11=\"\",\"\",VLOOKUP($D11,'Girls Do Main Draw Prep'!$A$7:$V$23,21))","v":""},null,{"$f":"UPPER(IF($D11=\"\",\"\",VLOOKUP($D11,'Girls Do Main Draw Prep'!$A$7:$V$23,2)))","v":""},{"$f":"IF($D11=\"\",\"\",VLOOKUP($D11,'Girls Do Main Draw Prep'!$A$7:$V$23,3))","v":""},null,{"$f":"IF($D11=\"\",\"\",VLOOKUP($D11,'Girls Do Main Draw Prep'!$A$7:$V$23,4))","v":""},null,null,null,null,null,null,null,null,null,null,null,{"$f":"'SetUp Officials'!P25","v":" "}]
[null,null,null,null,{"$f":"UPPER(IF($D11=\"\",\"\",VLOOKUP($D11,'Girls Do Main Draw Prep'!$A$7:$V$23,7)))","v":""},{"$f":"IF($D11=\"\",\"\",VLOOKUP($D11,'Girls Do Main Draw Prep'!$A$7:$V$23,8))","v":""},null,{"$f":"IF($D11=\"\",\"\",VLOOKUP($D11,'Girls Do Main Draw Prep'!$A$7:$V$23,9))","v":""},null,null,null,null,null,null,null,null,null,null,null,{"$f":"'SetUp Officials'!P26","v":" "}]
[null,null,null,null,null,null,null,null,null,null,null,{"$f":"UPPER(IF(OR(K14=\"a\",K14=\"as\"),J9,IF(OR(K14=\"b\",K14=\"bs\"),J17,)))","v":""},null,null,null,null,null,null,null,{"$f":"'SetUp Officials'!P27","v":" "}]
[null,null,null,null,null,null,null,null,null,"Umpire",null,{"$f":"UPPER(IF(OR(K14=\"a\",K14=\"as\"),J10,IF(OR(K14=\"b\",K14=\"bs\"),J18,)))","v":""},null,null,null,null,null,null,null,{"$f":"'SetUp Officials'!P28","v":" "}]
[3,{"$f":"IF($D15=\"\",\"\",VLOOKUP($D15,'Girls Do Main Draw Prep'!$A$7:$V$23,20))","v":""},{"$f":"IF($D15=\"\",\"\",VLOOKUP($D15,'Girls Do Main Draw Prep'!$A$7:$V$23,21))","v":""},null,{"$f":"UPPER(IF($D15=\"\",\"\",VLOOKUP($D15,'Girls Do Main Draw Prep'!$A$7:$V$23,2)))","v":""},{"$f":"IF($D15=\"\",\"\",VLOOKUP($D15,'Girls Do Main Draw Prep'!$A$7:$V$23,3))","v":""},null,{"$f":"IF($D15=\"\",\"\",VLOOKUP($D15,'Girls Do Main Draw Prep'!$A$7:$V$23,4))","v":""},null,null,null,null,null,null,null,null,null,null,null,{"$f":"'SetUp Officials'!P29","v":" "}]
[null,null,null,null,{"$f":"UPPER(IF($D15=\"\",\"\",VLOOKUP($D15,'Girls Do Main Draw Prep'!$A$7:$V$23,7)))","v":""},{"$f":"IF($D15=\"\",\"\",VLOOKUP($D15,'Girls Do Main Draw Prep'!$A$7:$V$23,8))","v":""},null,{"$f":"IF($D15=\"\",\"\",VLOOKUP($D15,'Girls Do Main Draw Prep'!$A$7:$V$23,9))","v":""},null,{"$f":"IF(I16=\"a\",E15,IF(I16=\"b\",E17,\"\"))","v":""},null,null,null,null,null,null,null,null,null,{"$f":"'SetUp Officials'!P30","v":"None"}]
[null,null,null,null,null,null,null,null,null,{"$f":"UPPER(IF(OR(I18=\"a\",I18=\"as\"),E15,IF(OR(I18=\"b\",I18=\"bs\"),E19,)))","v":""}]
[null,null,null,null,null,null,null,"Umpire",null,{"$f":"UPPER(IF(OR(I18=\"a\",I18=\"as\"),E16,IF(OR(I18=\"b\",I18=\"bs\"),E20,)))","v":""}]
[4,{"$f":"IF($D19=\"\",\"\",VLOOKUP($D19,'Girls Do Main Draw Prep'!$A$7:$V$23,20))","v":""},{"$f":"IF($D19=\"\",\"\",VLOOKUP($D19,'Girls Do Main Draw Prep'!$A$7:$V$23,21))","v":""},null,{"$f":"UPPER(IF($D19=\"\",\"\",VLOOKUP($D19,'Girls Do Main Draw Prep'!$A$7:$V$23,2)))","v":""},{"$f":"IF($D19=\"\",\"\",VLOOKUP($D19,'Girls Do Main Draw Prep'!$A$7:$V$23,3))","v":""},null,{"$f":"IF($D19=\"\",\"\",VLOOKUP($D19,'Girls Do Main Draw Prep'!$A$7:$V$23,4))","v":""}]
[null,null,null,null,{"$f":"UPPER(IF($D19=\"\",\"\",VLOOKUP($D19,'Girls Do Main Draw Prep'!$A$7:$V$23,7)))","v":""},{"$f":"IF($D19=\"\",\"\",VLOOKUP($D19,'Girls Do Main Draw Prep'!$A$7:$V$23,8))","v":""},null,{"$f":"IF($D19=\"\",\"\",VLOOKUP($D19,'Girls Do Main Draw Prep'!$A$7:$V$23,9))","v":""}]
[null,null,null,null,null,null,null,null,null,null,null,null,null,{"$f":"UPPER(IF(OR(M22=\"a\",M22=\"as\"),L13,IF(OR(M22=\"b\",M22=\"bs\"),L29,)))","v":""}]
[null,null,null,null,null,null,null,null,null,null,null,"Umpire",null,{"$f":"UPPER(IF(OR(M22=\"a\",M22=\"as\"),L14,IF(OR(M22=\"b\",M22=\"bs\"),L30,)))","v":""}]
[5,{"$f":"IF($D23=\"\",\"\",VLOOKUP($D23,'Girls Do Main Draw Prep'!$A$7:$V$23,20))","v":""},{"$f":"IF($D23=\"\",\"\",VLOOKUP($D23,'Girls Do Main Draw Prep'!$A$7:$V$23,21))","v":""},null,{"$f":"UPPER(IF($D23=\"\",\"\",VLOOKUP($D23,'Girls Do Main Draw Prep'!$A$7:$V$23,2)))","v":""},{"$f":"IF($D23=\"\",\"\",VLOOKUP($D23,'Girls Do Main Draw Prep'!$A$7:$V$23,3))","v":""},null,{"$f":"IF($D23=\"\",\"\",VLOOKUP($D23,'Girls Do Main Draw Prep'!$A$7:$V$23,4))","v":""}]
[null,null,null,null,{"$f":"UPPER(IF($D23=\"\",\"\",VLOOKUP($D23,'Girls Do Main Draw Prep'!$A$7:$V$23,7)))","v":""},{"$f":"IF($D23=\"\",\"\",VLOOKUP($D23,'Girls Do Main Draw Prep'!$A$7:$V$23,8))","v":""},null,{"$f":"IF($D23=\"\",\"\",VLOOKUP($D23,'Girls Do Main Draw Prep'!$A$7:$V$23,9))","v":""},null,{"$f":"IF(I24=\"a\",E23,IF(I24=\"b\",E25,\"\"))","v":""}]
[null,null,null,null,null,null,null,null,null,{"$f":"UPPER(IF(OR(I26=\"a\",I26=\"as\"),E23,IF(OR(I26=\"b\",I26=\"bs\"),E27,)))","v":""}]
[null,null,null,null,null,null,null,"Umpire",null,{"$f":"UPPER(IF(OR(I26=\"a\",I26=\"as\"),E24,IF(OR(I26=\"b\",I26=\"bs\"),E28,)))","v":""}]
[6,{"$f":"IF($D27=\"\",\"\",VLOOKUP($D27,'Girls Do Main Draw Prep'!$A$7:$V$23,20))","v":""},{"$f":"IF($D27=\"\",\"\",VLOOKUP($D27,'Girls Do Main Draw Prep'!$A$7:$V$23,21))","v":""},null,{"$f":"UPPER(IF($D27=\"\",\"\",VLOOKUP($D27,'Girls Do Main Draw Prep'!$A$7:$V$23,2)))","v":""},{"$f":"IF($D27=\"\",\"\",VLOOKUP($D27,'Girls Do Main Draw Prep'!$A$7:$V$23,3))","v":""},null,{"$f":"IF($D27=\"\",\"\",VLOOKUP($D27,'Girls Do Main Draw Prep'!$A$7:$V$23,4))","v":""}]
[null,null,null,null,{"$f":"UPPER(IF($D27=\"\",\"\",VLOOKUP($D27,'Girls Do Main Draw Prep'!$A$7:$V$23,7)))","v":""},{"$f":"IF($D27=\"\",\"\",VLOOKUP($D27,'Girls Do Main Draw Prep'!$A$7:$V$23,8))","v":""},null,{"$f":"IF($D27=\"\",\"\",VLOOKUP($D27,'Girls Do Main Draw Prep'!$A$7:$V$23,9))","v":""}]
[null,null,null,null,null,null,null,null,null,null,null,{"$f":"UPPER(IF(OR(K30=\"a\",K30=\"as\"),J25,IF(OR(K30=\"b\",K30=\"bs\"),J33,)))","v":""}]
[null,null,null,null,null,null,null,null,null,"Umpire",null,{"$f":"UPPER(IF(OR(K30=\"a\",K30=\"as\"),J26,IF(OR(K30=\"b\",K30=\"bs\"),J34,)))","v":""}]
[7,{"$f":"IF($D31=\"\",\"\",VLOOKUP($D31,'Girls Do Main Draw Prep'!$A$7:$V$23,20))","v":""},{"$f":"IF($D31=\"\",\"\",VLOOKUP($D31,'Girls Do Main Draw Prep'!$A$7:$V$23,21))","v":""},null,{"$f":"UPPER(IF($D31=\"\",\"\",VLOOKUP($D31,'Girls Do Main Draw Prep'!$A$7:$V$23,2)))","v":""},{"$f":"IF($D31=\"\",\"\",VLOOKUP($D31,'Girls Do Main Draw Prep'!$A$7:$V$23,3))","v":""},null,{"$f":"IF($D31=\"\",\"\",VLOOKUP($D31,'Girls Do Main Draw Prep'!$A$7:$V$23,4))","v":""}]
[null,null,null,null,{"$f":"UPPER(IF($D31=\"\",\"\",VLOOKUP($D31,'Girls Do Main Draw Prep'!$A$7:$V$23,7)))","v":""},{"$f":"IF($D31=\"\",\"\",VLOOKUP($D31,'Girls Do Main Draw Prep'!$A$7:$V$23,8))","v":""},null,{"$f":"IF($D31=\"\",\"\",VLOOKUP($D31,'Girls Do Main Draw Prep'!$A$7:$V$23,9))","v":""},null,{"$f":"IF(I32=\"a\",E31,IF(I32=\"b\",E33,\"\"))","v":""}]
[null,null,null,null,null,null,null,null,null,{"$f":"UPPER(IF(OR(I34=\"a\",I34=\"as\"),E31,IF(OR(I34=\"b\",I34=\"bs\"),E35,)))","v":""}]
[null,null,null,null,null,null,null,"Umpire",null,{"$f":"UPPER(IF(OR(I34=\"a\",I34=\"as\"),E32,IF(OR(I34=\"b\",I34=\"bs\"),E36,)))","v":""}]
[8,{"$f":"IF($D35=\"\",\"\",VLOOKUP($D35,'Girls Do Main Draw Prep'!$A$7:$V$23,20))","v":""},{"$f":"IF($D35=\"\",\"\",VLOOKUP($D35,'Girls Do Main Draw Prep'!$A$7:$V$23,21))","v":""},null,{"$f":"UPPER(IF($D35=\"\",\"\",VLOOKUP($D35,'Girls Do Main Draw Prep'!$A$7:$V$23,2)))","v":""},{"$f":"IF($D35=\"\",\"\",VLOOKUP($D35,'Girls Do Main Draw Prep'!$A$7:$V$23,3))","v":""},null,{"$f":"IF($D35=\"\",\"\",VLOOKUP($D35,'Girls Do Main Draw Prep'!$A$7:$V$23,4))","v":""}]
[null,null,null,null,{"$f":"UPPER(IF($D35=\"\",\"\",VLOOKUP($D35,'Girls Do Main Draw Prep'!$A$7:$V$23,7)))","v":""},{"$f":"IF($D35=\"\",\"\",VLOOKUP($D35,'Girls Do Main Draw Prep'!$A$7:$V$23,8))","v":""},null,{"$f":"IF($D35=\"\",\"\",VLOOKUP($D35,'Girls Do Main Draw Prep'!$A$7:$V$23,9))","v":""}]
[null,null,null,null,null,null,null,null,null,null,null,null,null,null,null,{"$f":"UPPER(IF(OR(O38=\"a\",O38=\"as\"),N21,IF(OR(O38=\"b\",O38=\"bs\"),N53,)))","v":""}]
[null,null,null,null,null,null,null,null,null,null,null,null,null,"Umpire",null,{"$f":"UPPER(IF(OR(O38=\"a\",O38=\"as\"),N22,IF(OR(O38=\"b\",O38=\"bs\"),N54,)))","v":""}]
[9,{"$f":"IF($D39=\"\",\"\",VLOOKUP($D39,'Girls Do Main Draw Prep'!$A$7:$V$23,20))","v":""},{"$f":"IF($D39=\"\",\"\",VLOOKUP($D39,'Girls Do Main Draw Prep'!$A$7:$V$23,21))","v":""},null,{"$f":"UPPER(IF($D39=\"\",\"\",VLOOKUP($D39,'Girls Do Main Draw Prep'!$A$7:$V$23,2)))","v":""},{"$f":"IF($D39=\"\",\"\",VLOOKUP($D39,'Girls Do Main Draw Prep'!$A$7:$V$23,3))","v":""},null,{"$f":"IF($D39=\"\",\"\",VLOOKUP($D39,'Girls Do Main Draw Prep'!$A$7:$V$23,4))","v":""}]
[null,null,null,null,{"$f":"UPPER(IF($D39=\"\",\"\",VLOOKUP($D39,'Girls Do Main Draw Prep'!$A$7:$V$23,7)))","v":""},{"$f":"IF($D39=\"\",\"\",VLOOKUP($D39,'Girls Do Main Draw Prep'!$A$7:$V$23,8))","v":""},null,{"$f":"IF($D39=\"\",\"\",VLOOKUP($D39,'Girls Do Main Draw Prep'!$A$7:$V$23,9))","v":""},null,{"$f":"IF(I40=\"a\",E39,IF(I40=\"b\",E41,\"\"))","v":""}]
[null,null,null,null,null,null,null,null,null,{"$f":"UPPER(IF(OR(I42=\"a\",I42=\"as\"),E39,IF(OR(I42=\"b\",I42=\"bs\"),E43,)))","v":""}]
[null,null,null,null,null,null,null,"Umpire",null,{"$f":"UPPER(IF(OR(I42=\"a\",I42=\"as\"),E40,IF(OR(I42=\"b\",I42=\"bs\"),E44,)))","v":""}]
[10,{"$f":"IF($D43=\"\",\"\",VLOOKUP($D43,'Girls Do Main Draw Prep'!$A$7:$V$23,20))","v":""},{"$f":"IF($D43=\"\",\"\",VLOOKUP($D43,'Girls Do Main Draw Prep'!$A$7:$V$23,21))","v":""},null,{"$f":"UPPER(IF($D43=\"\",\"\",VLOOKUP($D43,'Girls Do Main Draw Prep'!$A$7:$V$23,2)))","v":""},{"$f":"IF($D43=\"\",\"\",VLOOKUP($D43,'Girls Do Main Draw Prep'!$A$7:$V$23,3))","v":""},null,{"$f":"IF($D43=\"\",\"\",VLOOKUP($D43,'Girls Do Main Draw Prep'!$A$7:$V$23,4))","v":""}]
[null,null,null,null,{"$f":"UPPER(IF($D43=\"\",\"\",VLOOKUP($D43,'Girls Do Main Draw Prep'!$A$7:$V$23,7)))","v":""},{"$f":"IF($D43=\"\",\"\",VLOOKUP($D43,'Girls Do Main Draw Prep'!$A$7:$V$23,8))","v":""},null,{"$f":"IF($D43=\"\",\"\",VLOOKUP($D43,'Girls Do Main Draw Prep'!$A$7:$V$23,9))","v":""}]
[null,null,null,null,null,null,null,null,null,null,null,{"$f":"UPPER(IF(OR(K46=\"a\",K46=\"as\"),J41,IF(OR(K46=\"b\",K46=\"bs\"),J49,)))","v":""}]
[null,null,null,null,null,null,null,null,null,"Umpire",null,{"$f":"UPPER(IF(OR(K46=\"a\",K46=\"as\"),J42,IF(OR(K46=\"b\",K46=\"bs\"),J50,)))","v":""}]
[11,{"$f":"IF($D47=\"\",\"\",VLOOKUP($D47,'Girls Do Main Draw Prep'!$A$7:$V$23,20))","v":""},{"$f":"IF($D47=\"\",\"\",VLOOKUP($D47,'Girls Do Main Draw Prep'!$A$7:$V$23,21))","v":""},null,{"$f":"UPPER(IF($D47=\"\",\"\",VLOOKUP($D47,'Girls Do Main Draw Prep'!$A$7:$V$23,2)))","v":""},{"$f":"IF($D47=\"\",\"\",VLOOKUP($D47,'Girls Do Main Draw Prep'!$A$7:$V$23,3))","v":""},null,{"$f":"IF($D47=\"\",\"\",VLOOKUP($D47,'Girls Do Main Draw Prep'!$A$7:$V$23,4))","v":""}]
[null,null,null,null,{"$f":"UPPER(IF($D47=\"\",\"\",VLOOKUP($D47,'Girls Do Main Draw Prep'!$A$7:$V$23,7)))","v":""},{"$f":"IF($D47=\"\",\"\",VLOOKUP($D47,'Girls Do Main Draw Prep'!$A$7:$V$23,8))","v":""},null,{"$f":"IF($D47=\"\",\"\",VLOOKUP($D47,'Girls Do Main Draw Prep'!$A$7:$V$23,9))","v":""},null,{"$f":"IF(I48=\"a\",E47,IF(I48=\"b\",E49,\"\"))","v":""}]
[null,null,null,null,null,null,null,null,null,{"$f":"UPPER(IF(OR(I50=\"a\",I50=\"as\"),E47,IF(OR(I50=\"b\",I50=\"bs\"),E51,)))","v":""}]
[null,null,null,null,null,null,null,"Umpire",null,{"$f":"UPPER(IF(OR(I50=\"a\",I50=\"as\"),E48,IF(OR(I50=\"b\",I50=\"bs\"),E52,)))","v":""}]
[12,{"$f":"IF($D51=\"\",\"\",VLOOKUP($D51,'Girls Do Main Draw Prep'!$A$7:$V$23,20))","v":""},{"$f":"IF($D51=\"\",\"\",VLOOKUP($D51,'Girls Do Main Draw Prep'!$A$7:$V$23,21))","v":""},null,{"$f":"UPPER(IF($D51=\"\",\"\",VLOOKUP($D51,'Girls Do Main Draw Prep'!$A$7:$V$23,2)))","v":""},{"$f":"IF($D51=\"\",\"\",VLOOKUP($D51,'Girls Do Main Draw Prep'!$A$7:$V$23,3))","v":""},null,{"$f":"IF($D51=\"\",\"\",VLOOKUP($D51,'Girls Do Main Draw Prep'!$A$7:$V$23,4))","v":""}]
[null,null,null,null,{"$f":"UPPER(IF($D51=\"\",\"\",VLOOKUP($D51,'Girls Do Main Draw Prep'!$A$7:$V$23,7)))","v":""},{"$f":"IF($D51=\"\",\"\",VLOOKUP($D51,'Girls Do Main Draw Prep'!$A$7:$V$23,8))","v":""},null,{"$f":"IF($D51=\"\",\"\",VLOOKUP($D51,'Girls Do Main Draw Prep'!$A$7:$V$23,9))","v":""}]
[null,null,null,null,null,null,null,null,null,null,null,null,null,{"$f":"UPPER(IF(OR(M54=\"a\",M54=\"as\"),L45,IF(OR(M54=\"b\",M54=\"bs\"),L61,)))","v":""}]
[null,null,null,null,null,null,null,null,null,null,null,"Umpire",null,{"$f":"UPPER(IF(OR(M54=\"a\",M54=\"as\"),L46,IF(OR(M54=\"b\",M54=\"bs\"),L62,)))","v":""}]
[13,{"$f":"IF($D55=\"\",\"\",VLOOKUP($D55,'Girls Do Main Draw Prep'!$A$7:$V$23,20))","v":""},{"$f":"IF($D55=\"\",\"\",VLOOKUP($D55,'Girls Do Main Draw Prep'!$A$7:$V$23,21))","v":""},null,{"$f":"UPPER(IF($D55=\"\",\"\",VLOOKUP($D55,'Girls Do Main Draw Prep'!$A$7:$V$23,2)))","v":""},{"$f":"IF($D55=\"\",\"\",VLOOKUP($D55,'Girls Do Main Draw Prep'!$A$7:$V$23,3))","v":""},null,{"$f":"IF($D55=\"\",\"\",VLOOKUP($D55,'Girls Do Main Draw Prep'!$A$7:$V$23,4))","v":""}]
[null,null,null,null,{"$f":"UPPER(IF($D55=\"\",\"\",VLOOKUP($D55,'Girls Do Main Draw Prep'!$A$7:$V$23,7)))","v":""},{"$f":"IF($D55=\"\",\"\",VLOOKUP($D55,'Girls Do Main Draw Prep'!$A$7:$V$23,8))","v":""},null,{"$f":"IF($D55=\"\",\"\",VLOOKUP($D55,'Girls Do Main Draw Prep'!$A$7:$V$23,9))","v":""},null,{"$f":"IF(I56=\"a\",E55,IF(I56=\"b\",E57,\"\"))","v":""}]
[null,null,null,null,null,null,null,null,null,{"$f":"UPPER(IF(OR(I58=\"a\",I58=\"as\"),E55,IF(OR(I58=\"b\",I58=\"bs\"),E59,)))","v":""}]
[null,null,null,null,null,null,null,"Umpire",null,{"$f":"UPPER(IF(OR(I58=\"a\",I58=\"as\"),E56,IF(OR(I58=\"b\",I58=\"bs\"),E60,)))","v":""}]
[14,{"$f":"IF($D59=\"\",\"\",VLOOKUP($D59,'Girls Do Main Draw Prep'!$A$7:$V$23,20))","v":""},{"$f":"IF($D59=\"\",\"\",VLOOKUP($D59,'Girls Do Main Draw Prep'!$A$7:$V$23,21))","v":""},null,{"$f":"UPPER(IF($D59=\"\",\"\",VLOOKUP($D59,'Girls Do Main Draw Prep'!$A$7:$V$23,2)))","v":""},{"$f":"IF($D59=\"\",\"\",VLOOKUP($D59,'Girls Do Main Draw Prep'!$A$7:$V$23,3))","v":""},null,{"$f":"IF($D59=\"\",\"\",VLOOKUP($D59,'Girls Do Main Draw Prep'!$A$7:$V$23,4))","v":""}]
[null,null,null,null,{"$f":"UPPER(IF($D59=\"\",\"\",VLOOKUP($D59,'Girls Do Main Draw Prep'!$A$7:$V$23,7)))","v":""},{"$f":"IF($D59=\"\",\"\",VLOOKUP($D59,'Girls Do Main Draw Prep'!$A$7:$V$23,8))","v":""},null,{"$f":"IF($D59=\"\",\"\",VLOOKUP($D59,'Girls Do Main Draw Prep'!$A$7:$V$23,9))","v":""}]
[null,null,null,null,null,null,null,null,null,null,null,{"$f":"UPPER(IF(OR(K62=\"a\",K62=\"as\"),J57,IF(OR(K62=\"b\",K62=\"bs\"),J65,)))","v":""}]
[null,null,null,null,null,null,null,null,null,"Umpire",null,{"$f":"UPPER(IF(OR(K62=\"a\",K62=\"as\"),J58,IF(OR(K62=\"b\",K62=\"bs\"),J66,)))","v":""}]
[15,{"$f":"IF($D63=\"\",\"\",VLOOKUP($D63,'Girls Do Main Draw Prep'!$A$7:$V$23,20))","v":""},{"$f":"IF($D63=\"\",\"\",VLOOKUP($D63,'Girls Do Main Draw Prep'!$A$7:$V$23,21))","v":""},null,{"$f":"UPPER(IF($D63=\"\",\"\",VLOOKUP($D63,'Girls Do Main Draw Prep'!$A$7:$V$23,2)))","v":""},{"$f":"IF($D63=\"\",\"\",VLOOKUP($D63,'Girls Do Main Draw Prep'!$A$7:$V$23,3))","v":""},null,{"$f":"IF($D63=\"\",\"\",VLOOKUP($D63,'Girls Do Main Draw Prep'!$A$7:$V$23,4))","v":""}]
[null,null,null,null,{"$f":"UPPER(IF($D63=\"\",\"\",VLOOKUP($D63,'Girls Do Main Draw Prep'!$A$7:$V$23,7)))","v":""},{"$f":"IF($D63=\"\",\"\",VLOOKUP($D63,'Girls Do Main Draw Prep'!$A$7:$V$23,8))","v":""},null,{"$f":"IF($D63=\"\",\"\",VLOOKUP($D63,'Girls Do Main Draw Prep'!$A$7:$V$23,9))","v":""},null,{"$f":"IF(I64=\"a\",E63,IF(I64=\"b\",E65,\"\"))","v":""}]
[null,null,null,null,null,null,null,null,null,{"$f":"UPPER(IF(OR(I66=\"a\",I66=\"as\"),E63,IF(OR(I66=\"b\",I66=\"bs\"),E67,)))","v":""}]
[null,null,null,null,null,null,null,"Umpire",null,{"$f":"UPPER(IF(OR(I66=\"a\",I66=\"as\"),E64,IF(OR(I66=\"b\",I66=\"bs\"),E68,)))","v":""}]
[16,{"$f":"IF($D67=\"\",\"\",VLOOKUP($D67,'Girls Do Main Draw Prep'!$A$7:$V$23,20))","v":""},{"$f":"IF($D67=\"\",\"\",VLOOKUP($D67,'Girls Do Main Draw Prep'!$A$7:$V$23,21))","v":""},null,{"$f":"UPPER(IF($D67=\"\",\"\",VLOOKUP($D67,'Girls Do Main Draw Prep'!$A$7:$V$23,2)))","v":""},{"$f":"IF($D67=\"\",\"\",VLOOKUP($D67,'Girls Do Main Draw Prep'!$A$7:$V$23,3))","v":""},null,{"$f":"IF($D67=\"\",\"\",VLOOKUP($D67,'Girls Do Main Draw Prep'!$A$7:$V$23,4))","v":""}]
[null,null,null,null,{"$f":"UPPER(IF($D67=\"\",\"\",VLOOKUP($D67,'Girls Do Main Draw Prep'!$A$7:$V$23,7)))","v":""},{"$f":"IF($D67=\"\",\"\",VLOOKUP($D67,'Girls Do Main Draw Prep'!$A$7:$V$23,8))","v":""},null,{"$f":"IF($D67=\"\",\"\",VLOOKUP($D67,'Girls Do Main Draw Prep'!$A$7:$V$23,9))","v":""}]
[]
[]
["Acc. Ranking",null,null,"#","Seeded teams",null,null,null,"#","Alternates",null,"Replacing",null,"Draw date/time:"]
["Rkg Date",null,null,1,{"$f":"IF(D72>$Q$79,,UPPER(VLOOKUP(D72,'Girls Do Main Draw Prep'!$A$7:$R$23,2)))","v":0},null,null,null,"1",null,null,null,null,"Last Accepted team"]
["Top DA",null,null,null,{"$f":"IF(D72>$Q$79,,UPPER(VLOOKUP(D72,'Girls Do Main Draw Prep'!$A$7:$R$23,7)))","v":0}]
["Last DA",null,null,2,{"$f":"IF(D74>$Q$79,,UPPER(VLOOKUP(D74,'Girls Do Main Draw Prep'!$A$7:$R$23,2)))","v":0},null,null,null,"2",null,null,null,null,"Player representatives"]
[null,null,null,null,{"$f":"IF(D74>$Q$79,,UPPER(VLOOKUP(D74,'Girls Do Main Draw Prep'!$A$7:$R$23,7)))","v":0}]
["Seed ranking",null,null,3,{"$f":"IF(D76>$Q$79,,UPPER(VLOOKUP(D76,'Girls Do Main Draw Prep'!$A$7:$R$23,2)))","v":0},null,null,null,"3"]
["Rkg Date",null,null,null,{"$f":"IF(D76>$Q$79,,UPPER(VLOOKUP(D76,'Girls Do Main Draw Prep'!$A$7:$R$23,7)))","v":0},null,null,null,null,null,null,null,null,"ITF Referee's signature"]
["Top seed",null,null,4,{"$f":"IF(D78>$Q$79,,UPPER(VLOOKUP(D78,'Girls Do Main Draw Prep'!$A$7:$R$23,2)))","v":0},null,null,null,"4"]
["Last seed",null,null,null,{"$f":"IF(D78>$Q$79,,UPPER(VLOOKUP(D78,'Girls Do Main Draw Prep'!$A$7:$R$23,7)))","v":0},null,null,null,null,null,null,null,null,{"$f":"Q4","v":0},null,null,{"$f":"MIN(4,'Girls Do Main Draw Prep'!$V$5)","v":0}]

{"sheet":"Girls Do Main 24&32","index":49,"n_rows":154,"n_cols":20,"rows_kept":154,"cut":false,"hidden":false,"merged":[[3,0,3,2]]}
[{"$f":"'Week SetUp'!$A$6","v":0},null,null,null,null,null,null,null,null,"GIRLS DOUBLES",null,null,null,"CU"]
[{"$f":"'Week SetUp'!$A$8","v":"ITF Junior Circuit"},null,null,null,null,null,null,null,null,"MAIN DRAW (24&32)"]
["Week of",null,null,null,null,"City, Country",null,null,null,"Group",null,"Tourn. ID",null,null,null,null,"ITF Referee"]
[{"$f":"'Week SetUp'!$A$10","v":"00:00:00"},null,null,null,null,{"$f":"'Week SetUp'!$C$10","v":0},null,null,null,{"$f":"'Week SetUp'!$D$10","v":0},null,{"$f":"'Week SetUp'!$A$12","v":0},null,null,null,null,{"$f":"'Week SetUp'!$E$10","v":0}]
[null,"St.",{"$f":"IF(OR(F2=\"Week 3\",F2=\"Masters\"),\"CP\",\"Rank\")","v":"Rank"},"Seed","Family Name","First name",null,"Nationality",null,"2nd Round",null,"Quarterfinals",null,"Semifinals",null,"Finalists"]
[]
[1,{"$f":"IF($D7=\"\",\"\",VLOOKUP($D7,'Girls Do Main Draw Prep'!$A$7:$V$39,20))","v":""},{"$f":"IF($D7=\"\",\"\",VLOOKUP($D7,'Girls Do Main Draw Prep'!$A$7:$V$39,21))","v":""},null,{"$f":"UPPER(IF($D7=\"\",\"\",VLOOKUP($D7,'Girls Do Main Draw Prep'!$A$7:$V$39,2)))","v":""},{"$f":"IF($D7=\"\",\"\",VLOOKUP($D7,'Girls Do Main Draw Prep'!$A$7:$V$39,3))","v":""},null,{"$f":"IF($D7=\"\",\"\",VLOOKUP($D7,'Girls Do Main Draw Prep'!$A$7:$V$39,4))","v":""},null,null,null,null,null,null,null,null,"Page 1(2)",null,null,{"$f":"'SetUp Officials'!P21","v":"Umpire"}]
[null,null,null,null,{"$f":"UPPER(IF($D7=\"\",\"\",VLOOKUP($D7,'Girls Do Main Draw Prep'!$A$7:$V$39,7)))","v":""},{"$f":"IF($D7=\"\",\"\",VLOOKUP($D7,'Girls Do Main Draw Prep'!$A$7:$V$39,8))","v":""},null,{"$f":"IF($D7=\"\",\"\",VLOOKUP($D7,'Girls Do Main Draw Prep'!$A$7:$V$39,9))","v":""},null,{"$f":"IF(I8=\"a\",E7,IF(I8=\"b\",E9,\"\"))","v":""},null,null,null,null,null,null,null,null,null,{"$f":"'SetUp Officials'!P22","v":" "}]
[null,null,null,null,null,null,null,null,null,{"$f":"UPPER(IF(OR(I10=\"a\",I10=\"as\"),E7,IF(OR(I10=\"b\",I10=\"bs\"),E11,)))","v":""},null,null,null,null,null,null,null,null,null,{"$f":"'SetUp Officials'!P23","v":" "}]
[null,null,null,null,null,null,null,"Umpire",null,{"$f":"UPPER(IF(OR(I10=\"a\",I10=\"as\"),E8,IF(OR(I10=\"b\",I10=\"bs\"),E12,)))","v":""},null,null,null,null,null,null,null,null,null,{"$f":"'SetUp Officials'!P24","v":" "}]
[2,{"$f":"IF($D11=\"\",\"\",VLOOKUP($D11,'Girls Do Main Draw Prep'!$A$7:$V$39,20))","v":""},{"$f":"IF($D11=\"\",\"\",VLOOKUP($D11,'Girls Do Main Draw Prep'!$A$7:$V$39,21))","v":""},null,{"$f":"UPPER(IF($D11=\"\",\"\",VLOOKUP($D11,'Girls Do Main Draw Prep'!$A$7:$V$39,2)))","v":""},{"$f":"IF($D11=\"\",\"\",VLOOKUP($D11,'Girls Do Main Draw Prep'!$A$7:$V$39,3))","v":""},null,{"$f":"IF($D11=\"\",\"\",VLOOKUP($D11,'Girls Do Main Draw Prep'!$A$7:$V$39,4))","v":""},null,null,null,null,null,null,null,null,null,null,null,{"$f":"'SetUp Officials'!P25","v":" "}]
[null,null,null,null,{"$f":"UPPER(IF($D11=\"\",\"\",VLOOKUP($D11,'Girls Do Main Draw Prep'!$A$7:$V$39,7)))","v":""},{"$f":"IF($D11=\"\",\"\",VLOOKUP($D11,'Girls Do Main Draw Prep'!$A$7:$V$39,8))","v":""},null,{"$f":"IF($D11=\"\",\"\",VLOOKUP($D11,'Girls Do Main Draw Prep'!$A$7:$V$39,9))","v":""},null,null,null,null,null,null,null,null,null,null,null,{"$f":"'SetUp Officials'!P26","v":" "}]
[null,null,null,null,null,null,null,null,null,null,null,{"$f":"UPPER(IF(OR(K14=\"a\",K14=\"as\"),J9,IF(OR(K14=\"b\",K14=\"bs\"),J17,)))","v":""},null,null,null,null,null,null,null,{"$f":"'SetUp Officials'!P27","v":" "}]
[null,null,null,null,null,null,null,null,null,"Umpire",null,{"$f":"UPPER(IF(OR(K14=\"a\",K14=\"as\"),J10,IF(OR(K14=\"b\",K14=\"bs\"),J18,)))","v":""},null,null,null,null,null,null,null,{"$f":"'SetUp Officials'!P28","v":" "}]
[3,{"$f":"IF($D15=\"\",\"\",VLOOKUP($D15,'Girls Do Main Draw Prep'!$A$7:$V$39,20))","v":""},{"$f":"IF($D15=\"\",\"\",VLOOKUP($D15,'Girls Do Main Draw Prep'!$A$7:$V$39,21))","v":""},null,{"$f":"UPPER(IF($D15=\"\",\"\",VLOOKUP($D15,'Girls Do Main Draw Prep'!$A$7:$V$39,2)))","v":""},{"$f":"IF($D15=\"\",\"\",VLOOKUP($D15,'Girls Do Main Draw Prep'!$A$7:$V$39,3))","v":""},null,{"$f":"IF($D15=\"\",\"\",VLOOKUP($D15,'Girls Do Main Draw Prep'!$A$7:$V$39,4))","v":""},null,null,null,null,null,null,null,null,null,null,null,{"$f":"'SetUp Officials'!P29","v":" "}]
[null,null,null,null,{"$f":"UPPER(IF($D15=\"\",\"\",VLOOKUP($D15,'Girls Do Main Draw Prep'!$A$7:$V$39,7)))","v":""},{"$f":"IF($D15=\"\",\"\",VLOOKUP($D15,'Girls Do Main Draw Prep'!$A$7:$V$39,8))","v":""},null,{"$f":"IF($D15=\"\",\"\",VLOOKUP($D15,'Girls Do Main Draw Prep'!$A$7:$V$39,9))","v":""},null,{"$f":"IF(I16=\"a\",E15,IF(I16=\"b\",E17,\"\"))","v":""},null,null,null,null,null,null,null,null,null,{"$f":"'SetUp Officials'!P30","v":"None"}]
[null,null,null,null,null,null,null,null,null,{"$f":"UPPER(IF(OR(I18=\"a\",I18=\"as\"),E15,IF(OR(I18=\"b\",I18=\"bs\"),E19,)))","v":""}]
[null,null,null,null,null,null,null,"Umpire",null,{"$f":"UPPER(IF(OR(I18=\"a\",I18=\"as\"),E16,IF(OR(I18=\"b\",I18=\"bs\"),E20,)))","v":""}]
[4,{"$f":"IF($D19=\"\",\"\",VLOOKUP($D19,'Girls Do Main Draw Prep'!$A$7:$V$39,20))","v":""},{"$f":"IF($D19=\"\",\"\",VLOOKUP($D19,'Girls Do Main Draw Prep'!$A$7:$V$39,21))","v":""},null,{"$f":"UPPER(IF($D19=\"\",\"\",VLOOKUP($D19,'Girls Do Main Draw Prep'!$A$7:$V$39,2)))","v":""},{"$f":"IF($D19=\"\",\"\",VLOOKUP($D19,'Girls Do Main Draw Prep'!$A$7:$V$39,3))","v":""},null,{"$f":"IF($D19=\"\",\"\",VLOOKUP($D19,'Girls Do Main Draw Prep'!$A$7:$V$39,4))","v":""}]
[null,null,null,null,{"$f":"UPPER(IF($D19=\"\",\"\",VLOOKUP($D19,'Girls Do Main Draw Prep'!$A$7:$V$39,7)))","v":""},{"$f":"IF($D19=\"\",\"\",VLOOKUP($D19,'Girls Do Main Draw Prep'!$A$7:$V$39,8))","v":""},null,{"$f":"IF($D19=\"\",\"\",VLOOKUP($D19,'Girls Do Main Draw Prep'!$A$7:$V$39,9))","v":""}]
[null,null,null,null,null,null,null,null,null,null,null,null,null,{"$f":"UPPER(IF(OR(M22=\"a\",M22=\"as\"),L13,IF(OR(M22=\"b\",M22=\"bs\"),L29,)))","v":""}]
[null,null,null,null,null,null,null,null,null,null,null,"Umpire",null,{"$f":"UPPER(IF(OR(M22=\"a\",M22=\"as\"),L14,IF(OR(M22=\"b\",M22=\"bs\"),L30,)))","v":""}]
[5,{"$f":"IF($D23=\"\",\"\",VLOOKUP($D23,'Girls Do Main Draw Prep'!$A$7:$V$39,20))","v":""},{"$f":"IF($D23=\"\",\"\",VLOOKUP($D23,'Girls Do Main Draw Prep'!$A$7:$V$39,21))","v":""},null,{"$f":"UPPER(IF($D23=\"\",\"\",VLOOKUP($D23,'Girls Do Main Draw Prep'!$A$7:$V$39,2)))","v":""},{"$f":"IF($D23=\"\",\"\",VLOOKUP($D23,'Girls Do Main Draw Prep'!$A$7:$V$39,3))","v":""},null,{"$f":"IF($D23=\"\",\"\",VLOOKUP($D23,'Girls Do Main Draw Prep'!$A$7:$V$39,4))","v":""}]
[null,null,null,null,{"$f":"UPPER(IF($D23=\"\",\"\",VLOOKUP($D23,'Girls Do Main Draw Prep'!$A$7:$V$39,7)))","v":""},{"$f":"IF($D23=\"\",\"\",VLOOKUP($D23,'Girls Do Main Draw Prep'!$A$7:$V$39,8))","v":""},null,{"$f":"IF($D23=\"\",\"\",VLOOKUP($D23,'Girls Do Main Draw Prep'!$A$7:$V$39,9))","v":""},null,{"$f":"IF(I24=\"a\",E23,IF(I24=\"b\",E25,\"\"))","v":""}]
[null,null,null,null,null,null,null,null,null,{"$f":"UPPER(IF(OR(I26=\"a\",I26=\"as\"),E23,IF(OR(I26=\"b\",I26=\"bs\"),E27,)))","v":""}]
[null,null,null,null,null,null,null,"Umpire",null,{"$f":"UPPER(IF(OR(I26=\"a\",I26=\"as\"),E24,IF(OR(I26=\"b\",I26=\"bs\"),E28,)))","v":""}]
[6,{"$f":"IF($D27=\"\",\"\",VLOOKUP($D27,'Girls Do Main Draw Prep'!$A$7:$V$39,20))","v":""},{"$f":"IF($D27=\"\",\"\",VLOOKUP($D27,'Girls Do Main Draw Prep'!$A$7:$V$39,21))","v":""},null,{"$f":"UPPER(IF($D27=\"\",\"\",VLOOKUP($D27,'Girls Do Main Draw Prep'!$A$7:$V$39,2)))","v":""},{"$f":"IF($D27=\"\",\"\",VLOOKUP($D27,'Girls Do Main Draw Prep'!$A$7:$V$39,3))","v":""},null,{"$f":"IF($D27=\"\",\"\",VLOOKUP($D27,'Girls Do Main Draw Prep'!$A$7:$V$39,4))","v":""}]
[null,null,null,null,{"$f":"UPPER(IF($D27=\"\",\"\",VLOOKUP($D27,'Girls Do Main Draw Prep'!$A$7:$V$39,7)))","v":""},{"$f":"IF($D27=\"\",\"\",VLOOKUP($D27,'Girls Do Main Draw Prep'!$A$7:$V$39,8))","v":""},null,{"$f":"IF($D27=\"\",\"\",VLOOKUP($D27,'Girls Do Main Draw Prep'!$A$7:$V$39,9))","v":""}]
[null,null,null,null,null,null,null,null,null,null,null,{"$f":"UPPER(IF(OR(K30=\"a\",K30=\"as\"),J25,IF(OR(K30=\"b\",K30=\"bs\"),J33,)))","v":""}]
[null,null,null,null,null,null,null,null,null,"Umpire",null,{"$f":"UPPER(IF(OR(K30=\"a\",K30=\"as\"),J26,IF(OR(K30=\"b\",K30=\"bs\"),J34,)))","v":""}]
[7,{"$f":"IF($D31=\"\",\"\",VLOOKUP($D31,'Girls Do Main Draw Prep'!$A$7:$V$39,20))","v":""},{"$f":"IF($D31=\"\",\"\",VLOOKUP($D31,'Girls Do Main Draw Prep'!$A$7:$V$39,21))","v":""},null,{"$f":"UPPER(IF($D31=\"\",\"\",VLOOKUP($D31,'Girls Do Main Draw Prep'!$A$7:$V$39,2)))","v":""},{"$f":"IF($D31=\"\",\"\",VLOOKUP($D31,'Girls Do Main Draw Prep'!$A$7:$V$39,3))","v":""},null,{"$f":"IF($D31=\"\",\"\",VLOOKUP($D31,'Girls Do Main Draw Prep'!$A$7:$V$39,4))","v":""}]
[null,null,null,null,{"$f":"UPPER(IF($D31=\"\",\"\",VLOOKUP($D31,'Girls Do Main Draw Prep'!$A$7:$V$39,7)))","v":""},{"$f":"IF($D31=\"\",\"\",VLOOKUP($D31,'Girls Do Main Draw Prep'!$A$7:$V$39,8))","v":""},null,{"$f":"IF($D31=\"\",\"\",VLOOKUP($D31,'Girls Do Main Draw Prep'!$A$7:$V$39,9))","v":""},null,{"$f":"IF(I32=\"a\",E31,IF(I32=\"b\",E33,\"\"))","v":""}]
[null,null,null,null,null,null,null,null,null,{"$f":"UPPER(IF(OR(I34=\"a\",I34=\"as\"),E31,IF(OR(I34=\"b\",I34=\"bs\"),E35,)))","v":""}]
[null,null,null,null,null,null,null,"Umpire",null,{"$f":"UPPER(IF(OR(I34=\"a\",I34=\"as\"),E32,IF(OR(I34=\"b\",I34=\"bs\"),E36,)))","v":""}]
[8,{"$f":"IF($D35=\"\",\"\",VLOOKUP($D35,'Girls Do Main Draw Prep'!$A$7:$V$39,20))","v":""},{"$f":"IF($D35=\"\",\"\",VLOOKUP($D35,'Girls Do Main Draw Prep'!$A$7:$V$39,21))","v":""},null,{"$f":"UPPER(IF($D35=\"\",\"\",VLOOKUP($D35,'Girls Do Main Draw Prep'!$A$7:$V$39,2)))","v":""},{"$f":"IF($D35=\"\",\"\",VLOOKUP($D35,'Girls Do Main Draw Prep'!$A$7:$V$39,3))","v":""},null,{"$f":"IF($D35=\"\",\"\",VLOOKUP($D35,'Girls Do Main Draw Prep'!$A$7:$V$39,4))","v":""}]
[null,null,null,null,{"$f":"UPPER(IF($D35=\"\",\"\",VLOOKUP($D35,'Girls Do Main Draw Prep'!$A$7:$V$39,7)))","v":""},{"$f":"IF($D35=\"\",\"\",VLOOKUP($D35,'Girls Do Main Draw Prep'!$A$7:$V$39,8))","v":""},null,{"$f":"IF($D35=\"\",\"\",VLOOKUP($D35,'Girls Do Main Draw Prep'!$A$7:$V$39,9))","v":""}]
[null,null,null,null,null,null,null,null,null,null,null,null,null,null,null,{"$f":"UPPER(IF(OR(O38=\"a\",O38=\"as\"),N21,IF(OR(O38=\"b\",O38=\"bs\"),N53,)))","v":""}]
[null,null,null,null,null,null,null,null,null,null,null,null,null,"Umpire",null,{"$f":"UPPER(IF(OR(O38=\"a\",O38=\"as\"),N22,IF(OR(O38=\"b\",O38=\"bs\"),N54,)))","v":""}]
[9,{"$f":"IF($D39=\"\",\"\",VLOOKUP($D39,'Girls Do Main Draw Prep'!$A$7:$V$39,20))","v":""},{"$f":"IF($D39=\"\",\"\",VLOOKUP($D39,'Girls Do Main Draw Prep'!$A$7:$V$39,21))","v":""},null,{"$f":"UPPER(IF($D39=\"\",\"\",VLOOKUP($D39,'Girls Do Main Draw Prep'!$A$7:$V$39,2)))","v":""},{"$f":"IF($D39=\"\",\"\",VLOOKUP($D39,'Girls Do Main Draw Prep'!$A$7:$V$39,3))","v":""},null,{"$f":"IF($D39=\"\",\"\",VLOOKUP($D39,'Girls Do Main Draw Prep'!$A$7:$V$39,4))","v":""}]
[null,null,null,null,{"$f":"UPPER(IF($D39=\"\",\"\",VLOOKUP($D39,'Girls Do Main Draw Prep'!$A$7:$V$39,7)))","v":""},{"$f":"IF($D39=\"\",\"\",VLOOKUP($D39,'Girls Do Main Draw Prep'!$A$7:$V$39,8))","v":""},null,{"$f":"IF($D39=\"\",\"\",VLOOKUP($D39,'Girls Do Main Draw Prep'!$A$7:$V$39,9))","v":""},null,{"$f":"IF(I40=\"a\",E39,IF(I40=\"b\",E41,\"\"))","v":""}]
[null,null,null,null,null,null,null,null,null,{"$f":"UPPER(IF(OR(I42=\"a\",I42=\"as\"),E39,IF(OR(I42=\"b\",I42=\"bs\"),E43,)))","v":""}]
[null,null,null,null,null,null,null,"Umpire",null,{"$f":"UPPER(IF(OR(I42=\"a\",I42=\"as\"),E40,IF(OR(I42=\"b\",I42=\"bs\"),E44,)))","v":""}]
[10,{"$f":"IF($D43=\"\",\"\",VLOOKUP($D43,'Girls Do Main Draw Prep'!$A$7:$V$39,20))","v":""},{"$f":"IF($D43=\"\",\"\",VLOOKUP($D43,'Girls Do Main Draw Prep'!$A$7:$V$39,21))","v":""},null,{"$f":"UPPER(IF($D43=\"\",\"\",VLOOKUP($D43,'Girls Do Main Draw Prep'!$A$7:$V$39,2)))","v":""},{"$f":"IF($D43=\"\",\"\",VLOOKUP($D43,'Girls Do Main Draw Prep'!$A$7:$V$39,3))","v":""},null,{"$f":"IF($D43=\"\",\"\",VLOOKUP($D43,'Girls Do Main Draw Prep'!$A$7:$V$39,4))","v":""}]
[null,null,null,null,{"$f":"UPPER(IF($D43=\"\",\"\",VLOOKUP($D43,'Girls Do Main Draw Prep'!$A$7:$V$39,7)))","v":""},{"$f":"IF($D43=\"\",\"\",VLOOKUP($D43,'Girls Do Main Draw Prep'!$A$7:$V$39,8))","v":""},null,{"$f":"IF($D43=\"\",\"\",VLOOKUP($D43,'Girls Do Main Draw Prep'!$A$7:$V$39,9))","v":""}]
[null,null,null,null,null,null,null,null,null,null,null,{"$f":"UPPER(IF(OR(K46=\"a\",K46=\"as\"),J41,IF(OR(K46=\"b\",K46=\"bs\"),J49,)))","v":""}]
[null,null,null,null,null,null,null,null,null,"Umpire",null,{"$f":"UPPER(IF(OR(K46=\"a\",K46=\"as\"),J42,IF(OR(K46=\"b\",K46=\"bs\"),J50,)))","v":""}]
[11,{"$f":"IF($D47=\"\",\"\",VLOOKUP($D47,'Girls Do Main Draw Prep'!$A$7:$V$39,20))","v":""},{"$f":"IF($D47=\"\",\"\",VLOOKUP($D47,'Girls Do Main Draw Prep'!$A$7:$V$39,21))","v":""},null,{"$f":"UPPER(IF($D47=\"\",\"\",VLOOKUP($D47,'Girls Do Main Draw Prep'!$A$7:$V$39,2)))","v":""},{"$f":"IF($D47=\"\",\"\",VLOOKUP($D47,'Girls Do Main Draw Prep'!$A$7:$V$39,3))","v":""},null,{"$f":"IF($D47=\"\",\"\",VLOOKUP($D47,'Girls Do Main Draw Prep'!$A$7:$V$39,4))","v":""}]
[null,null,null,null,{"$f":"UPPER(IF($D47=\"\",\"\",VLOOKUP($D47,'Girls Do Main Draw Prep'!$A$7:$V$39,7)))","v":""},{"$f":"IF($D47=\"\",\"\",VLOOKUP($D47,'Girls Do Main Draw Prep'!$A$7:$V$39,8))","v":""},null,{"$f":"IF($D47=\"\",\"\",VLOOKUP($D47,'Girls Do Main Draw Prep'!$A$7:$V$39,9))","v":""},null,{"$f":"IF(I48=\"a\",E47,IF(I48=\"b\",E49,\"\"))","v":""}]
[null,null,null,null,null,null,null,null,null,{"$f":"UPPER(IF(OR(I50=\"a\",I50=\"as\"),E47,IF(OR(I50=\"b\",I50=\"bs\"),E51,)))","v":""}]
[null,null,null,null,null,null,null,"Umpire",null,{"$f":"UPPER(IF(OR(I50=\"a\",I50=\"as\"),E48,IF(OR(I50=\"b\",I50=\"bs\"),E52,)))","v":""}]
[12,{"$f":"IF($D51=\"\",\"\",VLOOKUP($D51,'Girls Do Main Draw Prep'!$A$7:$V$39,20))","v":""},{"$f":"IF($D51=\"\",\"\",VLOOKUP($D51,'Girls Do Main Draw Prep'!$A$7:$V$39,21))","v":""},null,{"$f":"UPPER(IF($D51=\"\",\"\",VLOOKUP($D51,'Girls Do Main Draw Prep'!$A$7:$V$39,2)))","v":""},{"$f":"IF($D51=\"\",\"\",VLOOKUP($D51,'Girls Do Main Draw Prep'!$A$7:$V$39,3))","v":""},null,{"$f":"IF($D51=\"\",\"\",VLOOKUP($D51,'Girls Do Main Draw Prep'!$A$7:$V$39,4))","v":""}]
[null,null,null,null,{"$f":"UPPER(IF($D51=\"\",\"\",VLOOKUP($D51,'Girls Do Main Draw Prep'!$A$7:$V$39,7)))","v":""},{"$f":"IF($D51=\"\",\"\",VLOOKUP($D51,'Girls Do Main Draw Prep'!$A$7:$V$39,8))","v":""},null,{"$f":"IF($D51=\"\",\"\",VLOOKUP($D51,'Girls Do Main Draw Prep'!$A$7:$V$39,9))","v":""}]
[null,null,null,null,null,null,null,null,null,null,null,null,null,{"$f":"UPPER(IF(OR(M54=\"a\",M54=\"as\"),L45,IF(OR(M54=\"b\",M54=\"bs\"),L61,)))","v":""}]
[null,null,null,null,null,null,null,null,null,null,null,"Umpire",null,{"$f":"UPPER(IF(OR(M54=\"a\",M54=\"as\"),L46,IF(OR(M54=\"b\",M54=\"bs\"),L62,)))","v":""}]
[13,{"$f":"IF($D55=\"\",\"\",VLOOKUP($D55,'Girls Do Main Draw Prep'!$A$7:$V$39,20))","v":""},{"$f":"IF($D55=\"\",\"\",VLOOKUP($D55,'Girls Do Main Draw Prep'!$A$7:$V$39,21))","v":""},null,{"$f":"UPPER(IF($D55=\"\",\"\",VLOOKUP($D55,'Girls Do Main Draw Prep'!$A$7:$V$39,2)))","v":""},{"$f":"IF($D55=\"\",\"\",VLOOKUP($D55,'Girls Do Main Draw Prep'!$A$7:$V$39,3))","v":""},null,{"$f":"IF($D55=\"\",\"\",VLOOKUP($D55,'Girls Do Main Draw Prep'!$A$7:$V$39,4))","v":""}]
[null,null,null,null,{"$f":"UPPER(IF($D55=\"\",\"\",VLOOKUP($D55,'Girls Do Main Draw Prep'!$A$7:$V$39,7)))","v":""},{"$f":"IF($D55=\"\",\"\",VLOOKUP($D55,'Girls Do Main Draw Prep'!$A$7:$V$39,8))","v":""},null,{"$f":"IF($D55=\"\",\"\",VLOOKUP($D55,'Girls Do Main Draw Prep'!$A$7:$V$39,9))","v":""},null,{"$f":"IF(I56=\"a\",E55,IF(I56=\"b\",E57,\"\"))","v":""}]
[null,null,null,null,null,null,null,null,null,{"$f":"UPPER(IF(OR(I58=\"a\",I58=\"as\"),E55,IF(OR(I58=\"b\",I58=\"bs\"),E59,)))","v":""}]
[null,null,null,null,null,null,null,"Umpire",null,{"$f":"UPPER(IF(OR(I58=\"a\",I58=\"as\"),E56,IF(OR(I58=\"b\",I58=\"bs\"),E60,)))","v":""}]
[14,{"$f":"IF($D59=\"\",\"\",VLOOKUP($D59,'Girls Do Main Draw Prep'!$A$7:$V$39,20))","v":""},{"$f":"IF($D59=\"\",\"\",VLOOKUP($D59,'Girls Do Main Draw Prep'!$A$7:$V$39,21))","v":""},null,{"$f":"UPPER(IF($D59=\"\",\"\",VLOOKUP($D59,'Girls Do Main Draw Prep'!$A$7:$V$39,2)))","v":""},{"$f":"IF($D59=\"\",\"\",VLOOKUP($D59,'Girls Do Main Draw Prep'!$A$7:$V$39,3))","v":""},null,{"$f":"IF($D59=\"\",\"\",VLOOKUP($D59,'Girls Do Main Draw Prep'!$A$7:$V$39,4))","v":""}]
[null,null,null,null,{"$f":"UPPER(IF($D59=\"\",\"\",VLOOKUP($D59,'Girls Do Main Draw Prep'!$A$7:$V$39,7)))","v":""},{"$f":"IF($D59=\"\",\"\",VLOOKUP($D59,'Girls Do Main Draw Prep'!$A$7:$V$39,8))","v":""},null,{"$f":"IF($D59=\"\",\"\",VLOOKUP($D59,'Girls Do Main Draw Prep'!$A$7:$V$39,9))","v":""}]
[null,null,null,null,null,null,null,null,null,null,null,{"$f":"UPPER(IF(OR(K62=\"a\",K62=\"as\"),J57,IF(OR(K62=\"b\",K62=\"bs\"),J65,)))","v":""}]
[null,null,null,null,null,null,null,null,null,"Umpire",null,{"$f":"UPPER(IF(OR(K62=\"a\",K62=\"as\"),J58,IF(OR(K62=\"b\",K62=\"bs\"),J66,)))","v":""}]
[15,{"$f":"IF($D63=\"\",\"\",VLOOKUP($D63,'Girls Do Main Draw Prep'!$A$7:$V$39,20))","v":""},{"$f":"IF($D63=\"\",\"\",VLOOKUP($D63,'Girls Do Main Draw Prep'!$A$7:$V$39,21))","v":""},null,{"$f":"UPPER(IF($D63=\"\",\"\",VLOOKUP($D63,'Girls Do Main Draw Prep'!$A$7:$V$39,2)))","v":""},{"$f":"IF($D63=\"\",\"\",VLOOKUP($D63,'Girls Do Main Draw Prep'!$A$7:$V$39,3))","v":""},null,{"$f":"IF($D63=\"\",\"\",VLOOKUP($D63,'Girls Do Main Draw Prep'!$A$7:$V$39,4))","v":""},null,null,null,null,null,"Final",null,"Winners"]
[null,null,null,null,{"$f":"UPPER(IF($D63=\"\",\"\",VLOOKUP($D63,'Girls Do Main Draw Prep'!$A$7:$V$39,7)))","v":""},{"$f":"IF($D63=\"\",\"\",VLOOKUP($D63,'Girls Do Main Draw Prep'!$A$7:$V$39,8))","v":""},null,{"$f":"IF($D63=\"\",\"\",VLOOKUP($D63,'Girls Do Main Draw Prep'!$A$7:$V$39,9))","v":""},null,{"$f":"IF(I64=\"a\",E63,IF(I64=\"b\",E65,\"\"))","v":""},null,null,null,{"$f":"UPPER(IF(OR(O38=\"a\",O38=\"as\"),N21,IF(OR(O38=\"b\",O38=\"bs\"),N53,)))","v":""}]
[null,null,null,null,null,null,null,null,null,{"$f":"UPPER(IF(OR(I66=\"a\",I66=\"as\"),E63,IF(OR(I66=\"b\",I66=\"bs\"),E67,)))","v":""},null,null,null,{"$f":"UPPER(IF(OR(O38=\"a\",O38=\"as\"),N22,IF(OR(O38=\"b\",O38=\"bs\"),N54,)))","v":""}]
[null,null,null,null,null,null,null,"Umpire",null,{"$f":"UPPER(IF(OR(I66=\"a\",I66=\"as\"),E64,IF(OR(I66=\"b\",I66=\"bs\"),E68,)))","v":""},null,null,null,null,null,{"$f":"UPPER(IF(OR(O67=\"a\",O67=\"as\"),N64,IF(OR(O67=\"b\",O67=\"bs\"),N68,)))","v":""}]
[16,{"$f":"IF($D67=\"\",\"\",VLOOKUP($D67,'Girls Do Main Draw Prep'!$A$7:$V$39,20))","v":""},{"$f":"IF($D67=\"\",\"\",VLOOKUP($D67,'Girls Do Main Draw Prep'!$A$7:$V$39,21))","v":""},null,{"$f":"UPPER(IF($D67=\"\",\"\",VLOOKUP($D67,'Girls Do Main Draw Prep'!$A$7:$V$39,2)))","v":""},{"$f":"IF($D67=\"\",\"\",VLOOKUP($D67,'Girls Do Main Draw Prep'!$A$7:$V$39,3))","v":""},null,{"$f":"IF($D67=\"\",\"\",VLOOKUP($D67,'Girls Do Main Draw Prep'!$A$7:$V$39,4))","v":""},null,null,null,null,null,"Umpire",null,{"$f":"UPPER(IF(OR(O67=\"a\",O67=\"as\"),N65,IF(OR(O67=\"b\",O67=\"bs\"),N69,)))","v":""}]
[null,null,null,null,{"$f":"UPPER(IF($D67=\"\",\"\",VLOOKUP($D67,'Girls Do Main Draw Prep'!$A$7:$V$39,7)))","v":""},{"$f":"IF($D67=\"\",\"\",VLOOKUP($D67,'Girls Do Main Draw Prep'!$A$7:$V$39,8))","v":""},null,{"$f":"IF($D67=\"\",\"\",VLOOKUP($D67,'Girls Do Main Draw Prep'!$A$7:$V$39,9))","v":""},null,null,null,null,null,{"$f":"UPPER(IF(OR(O113=\"a\",O113=\"as\"),N96,IF(OR(O113=\"b\",O113=\"bs\"),N128,)))","v":""}]
[null,null,null,null,null,null,null,null,null,null,null,null,null,{"$f":"UPPER(IF(OR(O113=\"a\",O113=\"as\"),N97,IF(OR(O113=\"b\",O113=\"bs\"),N129,)))","v":""}]
[]
["Acc. Ranking",null,null,"#","Seeded teams","#","Seeded teams",null,"#","Alternates",null,"Replacing",null,"Draw date/time:"]
["Rkg Date",null,null,1,{"$f":"IF(D72>$Q$79,,UPPER(VLOOKUP(D72,'Girls Do Main Draw Prep'!$A$7:$R$39,2)))","v":0},5,{"$f":"IF(F72>$Q$79,,UPPER(VLOOKUP(F72,'Girls Do Main Draw Prep'!$A$7:$R$39,2)))","v":0},null,"1",null,null,null,null,"Last Accepted team"]
["Top DA",null,null,null,{"$f":"IF(D72>$Q$79,,UPPER(VLOOKUP(D72,'Girls Do Main Draw Prep'!$A$7:$R$39,7)))","v":0},null,{"$f":"IF(F72>$Q$79,,UPPER(VLOOKUP(F72,'Girls Do Main Draw Prep'!$A$7:$R$39,7)))","v":0}]
["Last DA",null,null,2,{"$f":"IF(D74>$Q$79,,UPPER(VLOOKUP(D74,'Girls Do Main Draw Prep'!$A$7:$R$39,2)))","v":0},6,{"$f":"IF(F74>$Q$79,,UPPER(VLOOKUP(F74,'Girls Do Main Draw Prep'!$A$7:$R$39,2)))","v":0},null,"2",null,null,null,null,"Player representatives"]
[null,null,null,null,{"$f":"IF(D74>$Q$79,,UPPER(VLOOKUP(D74,'Girls Do Main Draw Prep'!$A$7:$R$39,7)))","v":0},null,{"$f":"IF(F74>$Q$79,,UPPER(VLOOKUP(F74,'Girls Do Main Draw Prep'!$A$7:$R$39,7)))","v":0}]
["Seed ranking",null,null,3,{"$f":"IF(D76>$Q$79,,UPPER(VLOOKUP(D76,'Girls Do Main Draw Prep'!$A$7:$R$39,2)))","v":0},7,{"$f":"IF(F76>$Q$79,,UPPER(VLOOKUP(F76,'Girls Do Main Draw Prep'!$A$7:$R$39,2)))","v":0},null,"3"]
["Rkg Date",null,null,null,{"$f":"IF(D76>$Q$79,,UPPER(VLOOKUP(D76,'Girls Do Main Draw Prep'!$A$7:$R$39,7)))","v":0},null,{"$f":"IF(F76>$Q$79,,UPPER(VLOOKUP(F76,'Girls Do Main Draw Prep'!$A$7:$R$39,7)))","v":0},null,null,null,null,null,null,"ITF Referee's signature"]
["Top seed",null,null,4,{"$f":"IF(D78>$Q$79,,UPPER(VLOOKUP(D78,'Girls Do Main Draw Prep'!$A$7:$R$39,2)))","v":0},8,{"$f":"IF(F78>$Q$79,,UPPER(VLOOKUP(F78,'Girls Do Main Draw Prep'!$A$7:$R$39,2)))","v":0},null,"4"]
["Last seed",null,null,null,{"$f":"IF(D78>$Q$79,,UPPER(VLOOKUP(D78,'Girls Do Main Draw Prep'!$A$7:$R$39,7)))","v":0},null,{"$f":"IF(F78>$Q$79,,UPPER(VLOOKUP(F78,'Girls Do Main Draw Prep'!$A$7:$R$39,7)))","v":0},null,null,null,null,null,null,{"$f":"Q4","v":0},null,null,{"$f":"'Girls Do Main Draw Prep'!$V$5","v":0}]
[null,"St.",{"$f":"IF(OR(F78=\"Week 3\",F78=\"Masters\"),\"CP\",\"Rank\")","v":"Rank"},"Seed","Family Name","First name",null,"Nationality",null,"2nd Round",null,"Quarterfinals",null,"Semifinals",null,"Finalists"]
[]
[17,{"$f":"IF($D82=\"\",\"\",VLOOKUP($D82,'Girls Do Main Draw Prep'!$A$7:$V$39,20))","v":""},{"$f":"IF($D82=\"\",\"\",VLOOKUP($D82,'Girls Do Main Draw Prep'!$A$7:$V$39,21))","v":""},null,{"$f":"UPPER(IF($D82=\"\",\"\",VLOOKUP($D82,'Girls Do Main Draw Prep'!$A$7:$V$39,2)))","v":""},{"$f":"IF($D82=\"\",\"\",VLOOKUP($D82,'Girls Do Main Draw Prep'!$A$7:$V$39,3))","v":""},null,{"$f":"IF($D82=\"\",\"\",VLOOKUP($D82,'Girls Do Main Draw Prep'!$A$7:$V$39,4))","v":""},null,null,null,null,null,null,null,null,"Page 2(2)",null,null,{"$f":"'SetUp Officials'!P60","v":0}]
[null,null,null,null,{"$f":"UPPER(IF($D82=\"\",\"\",VLOOKUP($D82,'Girls Do Main Draw Prep'!$A$7:$V$39,7)))","v":""},{"$f":"IF($D82=\"\",\"\",VLOOKUP($D82,'Girls Do Main Draw Prep'!$A$7:$V$39,8))","v":""},null,{"$f":"IF($D82=\"\",\"\",VLOOKUP($D82,'Girls Do Main Draw Prep'!$A$7:$V$39,9))","v":""},null,{"$f":"IF(I83=\"a\",E82,IF(I83=\"b\",E84,\"\"))","v":""},null,null,null,null,null,null,null,null,null,{"$f":"'SetUp Officials'!P61","v":0}]
[null,null,null,null,null,null,null,null,null,{"$f":"UPPER(IF(OR(I85=\"a\",I85=\"as\"),E82,IF(OR(I85=\"b\",I85=\"bs\"),E86,)))","v":""},null,null,null,null,null,null,null,null,null,{"$f":"'SetUp Officials'!P62","v":0}]
[null,null,null,null,null,null,null,"Umpire",null,{"$f":"UPPER(IF(OR(I85=\"a\",I85=\"as\"),E83,IF(OR(I85=\"b\",I85=\"bs\"),E87,)))","v":""},null,null,null,null,null,null,null,null,null,{"$f":"'SetUp Officials'!P63","v":0}]
[18,{"$f":"IF($D86=\"\",\"\",VLOOKUP($D86,'Girls Do Main Draw Prep'!$A$7:$V$39,20))","v":""},{"$f":"IF($D86=\"\",\"\",VLOOKUP($D86,'Girls Do Main Draw Prep'!$A$7:$V$39,21))","v":""},null,{"$f":"UPPER(IF($D86=\"\",\"\",VLOOKUP($D86,'Girls Do Main Draw Prep'!$A$7:$V$39,2)))","v":""},{"$f":"IF($D86=\"\",\"\",VLOOKUP($D86,'Girls Do Main Draw Prep'!$A$7:$V$39,3))","v":""},null,{"$f":"IF($D86=\"\",\"\",VLOOKUP($D86,'Girls Do Main Draw Prep'!$A$7:$V$39,4))","v":""},null,null,null,null,null,null,null,null,null,null,null,{"$f":"'SetUp Officials'!P64","v":0}]
[null,null,null,null,{"$f":"UPPER(IF($D86=\"\",\"\",VLOOKUP($D86,'Girls Do Main Draw Prep'!$A$7:$V$39,7)))","v":""},{"$f":"IF($D86=\"\",\"\",VLOOKUP($D86,'Girls Do Main Draw Prep'!$A$7:$V$39,8))","v":""},null,{"$f":"IF($D86=\"\",\"\",VLOOKUP($D86,'Girls Do Main Draw Prep'!$A$7:$V$39,9))","v":""},null,null,null,null,null,null,null,null,null,null,null,{"$f":"'SetUp Officials'!P65","v":0}]
[null,null,null,null,null,null,null,null,null,null,null,{"$f":"UPPER(IF(OR(K89=\"a\",K89=\"as\"),J84,IF(OR(K89=\"b\",K89=\"bs\"),J92,)))","v":""},null,null,null,null,null,null,null,{"$f":"'SetUp Officials'!P66","v":0}]
[null,null,null,null,null,null,null,null,null,"Umpire",null,{"$f":"UPPER(IF(OR(K89=\"a\",K89=\"as\"),J85,IF(OR(K89=\"b\",K89=\"bs\"),J93,)))","v":""},null,null,null,null,null,null,null,{"$f":"'SetUp Officials'!P67","v":0}]
[19,{"$f":"IF($D90=\"\",\"\",VLOOKUP($D90,'Girls Do Main Draw Prep'!$A$7:$V$39,20))","v":""},{"$f":"IF($D90=\"\",\"\",VLOOKUP($D90,'Girls Do Main Draw Prep'!$A$7:$V$39,21))","v":""},null,{"$f":"UPPER(IF($D90=\"\",\"\",VLOOKUP($D90,'Girls Do Main Draw Prep'!$A$7:$V$39,2)))","v":""},{"$f":"IF($D90=\"\",\"\",VLOOKUP($D90,'Girls Do Main Draw Prep'!$A$7:$V$39,3))","v":""},null,{"$f":"IF($D90=\"\",\"\",VLOOKUP($D90,'Girls Do Main Draw Prep'!$A$7:$V$39,4))","v":""},null,null,null,null,null,null,null,null,null,null,null,{"$f":"'SetUp Officials'!P68","v":0}]
[null,null,null,null,{"$f":"UPPER(IF($D90=\"\",\"\",VLOOKUP($D90,'Girls Do Main Draw Prep'!$A$7:$V$39,7)))","v":""},{"$f":"IF($D90=\"\",\"\",VLOOKUP($D90,'Girls Do Main Draw Prep'!$A$7:$V$39,8))","v":""},null,{"$f":"IF($D90=\"\",\"\",VLOOKUP($D90,'Girls Do Main Draw Prep'!$A$7:$V$39,9))","v":""},null,{"$f":"IF(I91=\"a\",E90,IF(I91=\"b\",E92,\"\"))","v":""},null,null,null,null,null,null,null,null,null,{"$f":"'SetUp Officials'!P69","v":0}]
[null,null,null,null,null,null,null,null,null,{"$f":"UPPER(IF(OR(I93=\"a\",I93=\"as\"),E90,IF(OR(I93=\"b\",I93=\"bs\"),E94,)))","v":""}]
[null,null,null,null,null,null,null,"Umpire",null,{"$f":"UPPER(IF(OR(I93=\"a\",I93=\"as\"),E91,IF(OR(I93=\"b\",I93=\"bs\"),E95,)))","v":""}]
[20,{"$f":"IF($D94=\"\",\"\",VLOOKUP($D94,'Girls Do Main Draw Prep'!$A$7:$V$39,20))","v":""},{"$f":"IF($D94=\"\",\"\",VLOOKUP($D94,'Girls Do Main Draw Prep'!$A$7:$V$39,21))","v":""},null,{"$f":"UPPER(IF($D94=\"\",\"\",VLOOKUP($D94,'Girls Do Main Draw Prep'!$A$7:$V$39,2)))","v":""},{"$f":"IF($D94=\"\",\"\",VLOOKUP($D94,'Girls Do Main Draw Prep'!$A$7:$V$39,3))","v":""},null,{"$f":"IF($D94=\"\",\"\",VLOOKUP($D94,'Girls Do Main Draw Prep'!$A$7:$V$39,4))","v":""}]
[null,null,null,null,{"$f":"UPPER(IF($D94=\"\",\"\",VLOOKUP($D94,'Girls Do Main Draw Prep'!$A$7:$V$39,7)))","v":""},{"$f":"IF($D94=\"\",\"\",VLOOKUP($D94,'Girls Do Main Draw Prep'!$A$7:$V$39,8))","v":""},null,{"$f":"IF($D94=\"\",\"\",VLOOKUP($D94,'Girls Do Main Draw Prep'!$A$7:$V$39,9))","v":""}]
[null,null,null,null,null,null,null,null,null,null,null,null,null,{"$f":"UPPER(IF(OR(M97=\"a\",M97=\"as\"),L88,IF(OR(M97=\"b\",M97=\"bs\"),L104,)))","v":""}]
[null,null,null,null,null,null,null,null,null,null,null,"Umpire",null,{"$f":"UPPER(IF(OR(M97=\"a\",M97=\"as\"),L89,IF(OR(M97=\"b\",M97=\"bs\"),L105,)))","v":""}]
[21,{"$f":"IF($D98=\"\",\"\",VLOOKUP($D98,'Girls Do Main Draw Prep'!$A$7:$V$39,20))","v":""},{"$f":"IF($D98=\"\",\"\",VLOOKUP($D98,'Girls Do Main Draw Prep'!$A$7:$V$39,21))","v":""},null,{"$f":"UPPER(IF($D98=\"\",\"\",VLOOKUP($D98,'Girls Do Main Draw Prep'!$A$7:$V$39,2)))","v":""},{"$f":"IF($D98=\"\",\"\",VLOOKUP($D98,'Girls Do Main Draw Prep'!$A$7:$V$39,3))","v":""},null,{"$f":"IF($D98=\"\",\"\",VLOOKUP($D98,'Girls Do Main Draw Prep'!$A$7:$V$39,4))","v":""}]
[null,null,null,null,{"$f":"UPPER(IF($D98=\"\",\"\",VLOOKUP($D98,'Girls Do Main Draw Prep'!$A$7:$V$39,7)))","v":""},{"$f":"IF($D98=\"\",\"\",VLOOKUP($D98,'Girls Do Main Draw Prep'!$A$7:$V$39,8))","v":""},null,{"$f":"IF($D98=\"\",\"\",VLOOKUP($D98,'Girls Do Main Draw Prep'!$A$7:$V$39,9))","v":""},null,{"$f":"IF(I99=\"a\",E98,IF(I99=\"b\",E100,\"\"))","v":""}]
[null,null,null,null,null,null,null,null,null,{"$f":"UPPER(IF(OR(I101=\"a\",I101=\"as\"),E98,IF(OR(I101=\"b\",I101=\"bs\"),E102,)))","v":""}]
[null,null,null,null,null,null,null,"Umpire",null,{"$f":"UPPER(IF(OR(I101=\"a\",I101=\"as\"),E99,IF(OR(I101=\"b\",I101=\"bs\"),E103,)))","v":""}]
[22,{"$f":"IF($D102=\"\",\"\",VLOOKUP($D102,'Girls Do Main Draw Prep'!$A$7:$V$39,20))","v":""},{"$f":"IF($D102=\"\",\"\",VLOOKUP($D102,'Girls Do Main Draw Prep'!$A$7:$V$39,21))","v":""},null,{"$f":"UPPER(IF($D102=\"\",\"\",VLOOKUP($D102,'Girls Do Main Draw Prep'!$A$7:$V$39,2)))","v":""},{"$f":"IF($D102=\"\",\"\",VLOOKUP($D102,'Girls Do Main Draw Prep'!$A$7:$V$39,3))","v":""},null,{"$f":"IF($D102=\"\",\"\",VLOOKUP($D102,'Girls Do Main Draw Prep'!$A$7:$V$39,4))","v":""}]
[null,null,null,null,{"$f":"UPPER(IF($D102=\"\",\"\",VLOOKUP($D102,'Girls Do Main Draw Prep'!$A$7:$V$39,7)))","v":""},{"$f":"IF($D102=\"\",\"\",VLOOKUP($D102,'Girls Do Main Draw Prep'!$A$7:$V$39,8))","v":""},null,{"$f":"IF($D102=\"\",\"\",VLOOKUP($D102,'Girls Do Main Draw Prep'!$A$7:$V$39,9))","v":""}]
[null,null,null,null,null,null,null,null,null,null,null,{"$f":"UPPER(IF(OR(K105=\"a\",K105=\"as\"),J100,IF(OR(K105=\"b\",K105=\"bs\"),J108,)))","v":""}]
[null,null,null,null,null,null,null,null,null,"Umpire",null,{"$f":"UPPER(IF(OR(K105=\"a\",K105=\"as\"),J101,IF(OR(K105=\"b\",K105=\"bs\"),J109,)))","v":""}]
[23,{"$f":"IF($D106=\"\",\"\",VLOOKUP($D106,'Girls Do Main Draw Prep'!$A$7:$V$39,20))","v":""},{"$f":"IF($D106=\"\",\"\",VLOOKUP($D106,'Girls Do Main Draw Prep'!$A$7:$V$39,21))","v":""},null,{"$f":"UPPER(IF($D106=\"\",\"\",VLOOKUP($D106,'Girls Do Main Draw Prep'!$A$7:$V$39,2)))","v":""},{"$f":"IF($D106=\"\",\"\",VLOOKUP($D106,'Girls Do Main Draw Prep'!$A$7:$V$39,3))","v":""},null,{"$f":"IF($D106=\"\",\"\",VLOOKUP($D106,'Girls Do Main Draw Prep'!$A$7:$V$39,4))","v":""}]
[null,null,null,null,{"$f":"UPPER(IF($D106=\"\",\"\",VLOOKUP($D106,'Girls Do Main Draw Prep'!$A$7:$V$39,7)))","v":""},{"$f":"IF($D106=\"\",\"\",VLOOKUP($D106,'Girls Do Main Draw Prep'!$A$7:$V$39,8))","v":""},null,{"$f":"IF($D106=\"\",\"\",VLOOKUP($D106,'Girls Do Main Draw Prep'!$A$7:$V$39,9))","v":""},null,{"$f":"IF(I107=\"a\",E106,IF(I107=\"b\",E108,\"\"))","v":""}]
[null,null,null,null,null,null,null,null,null,{"$f":"UPPER(IF(OR(I109=\"a\",I109=\"as\"),E106,IF(OR(I109=\"b\",I109=\"bs\"),E110,)))","v":""}]
[null,null,null,null,null,null,null,"Umpire",null,{"$f":"UPPER(IF(OR(I109=\"a\",I109=\"as\"),E107,IF(OR(I109=\"b\",I109=\"bs\"),E111,)))","v":""}]
[24,{"$f":"IF($D110=\"\",\"\",VLOOKUP($D110,'Girls Do Main Draw Prep'!$A$7:$V$39,20))","v":""},{"$f":"IF($D110=\"\",\"\",VLOOKUP($D110,'Girls Do Main Draw Prep'!$A$7:$V$39,21))","v":""},null,{"$f":"UPPER(IF($D110=\"\",\"\",VLOOKUP($D110,'Girls Do Main Draw Prep'!$A$7:$V$39,2)))","v":""},{"$f":"IF($D110=\"\",\"\",VLOOKUP($D110,'Girls Do Main Draw Prep'!$A$7:$V$39,3))","v":""},null,{"$f":"IF($D110=\"\",\"\",VLOOKUP($D110,'Girls Do Main Draw Prep'!$A$7:$V$39,4))","v":""}]
[null,null,null,null,{"$f":"UPPER(IF($D110=\"\",\"\",VLOOKUP($D110,'Girls Do Main Draw Prep'!$A$7:$V$39,7)))","v":""},{"$f":"IF($D110=\"\",\"\",VLOOKUP($D110,'Girls Do Main Draw Prep'!$A$7:$V$39,8))","v":""},null,{"$f":"IF($D110=\"\",\"\",VLOOKUP($D110,'Girls Do Main Draw Prep'!$A$7:$V$39,9))","v":""}]
[null,null,null,null,null,null,null,null,null,null,null,null,null,null,null,{"$f":"UPPER(IF(OR(O113=\"a\",O113=\"as\"),N96,IF(OR(O113=\"b\",O113=\"bs\"),N128,)))","v":""}]
[null,null,null,null,null,null,null,null,null,null,null,null,null,"Umpire",null,{"$f":"UPPER(IF(OR(O113=\"a\",O113=\"as\"),N97,IF(OR(O113=\"b\",O113=\"bs\"),N129,)))","v":""}]
[25,{"$f":"IF($D114=\"\",\"\",VLOOKUP($D114,'Girls Do Main Draw Prep'!$A$7:$V$39,20))","v":""},{"$f":"IF($D114=\"\",\"\",VLOOKUP($D114,'Girls Do Main Draw Prep'!$A$7:$V$39,21))","v":""},null,{"$f":"UPPER(IF($D114=\"\",\"\",VLOOKUP($D114,'Girls Do Main Draw Prep'!$A$7:$V$39,2)))","v":""},{"$f":"IF($D114=\"\",\"\",VLOOKUP($D114,'Girls Do Main Draw Prep'!$A$7:$V$39,3))","v":""},null,{"$f":"IF($D114=\"\",\"\",VLOOKUP($D114,'Girls Do Main Draw Prep'!$A$7:$V$39,4))","v":""}]
[null,null,null,null,{"$f":"UPPER(IF($D114=\"\",\"\",VLOOKUP($D114,'Girls Do Main Draw Prep'!$A$7:$V$39,7)))","v":""},{"$f":"IF($D114=\"\",\"\",VLOOKUP($D114,'Girls Do Main Draw Prep'!$A$7:$V$39,8))","v":""},null,{"$f":"IF($D114=\"\",\"\",VLOOKUP($D114,'Girls Do Main Draw Prep'!$A$7:$V$39,9))","v":""},null,{"$f":"IF(I115=\"a\",E114,IF(I115=\"b\",E116,\"\"))","v":""}]
[null,null,null,null,null,null,null,null,null,{"$f":"UPPER(IF(OR(I117=\"a\",I117=\"as\"),E114,IF(OR(I117=\"b\",I117=\"bs\"),E118,)))","v":""}]
[null,null,null,null,null,null,null,"Umpire",null,{"$f":"UPPER(IF(OR(I117=\"a\",I117=\"as\"),E115,IF(OR(I117=\"b\",I117=\"bs\"),E119,)))","v":""}]
[26,{"$f":"IF($D118=\"\",\"\",VLOOKUP($D118,'Girls Do Main Draw Prep'!$A$7:$V$39,20))","v":""},{"$f":"IF($D118=\"\",\"\",VLOOKUP($D118,'Girls Do Main Draw Prep'!$A$7:$V$39,21))","v":""},null,{"$f":"UPPER(IF($D118=\"\",\"\",VLOOKUP($D118,'Girls Do Main Draw Prep'!$A$7:$V$39,2)))","v":""},{"$f":"IF($D118=\"\",\"\",VLOOKUP($D118,'Girls Do Main Draw Prep'!$A$7:$V$39,3))","v":""},null,{"$f":"IF($D118=\"\",\"\",VLOOKUP($D118,'Girls Do Main Draw Prep'!$A$7:$V$39,4))","v":""}]
[null,null,null,null,{"$f":"UPPER(IF($D118=\"\",\"\",VLOOKUP($D118,'Girls Do Main Draw Prep'!$A$7:$V$39,7)))","v":""},{"$f":"IF($D118=\"\",\"\",VLOOKUP($D118,'Girls Do Main Draw Prep'!$A$7:$V$39,8))","v":""},null,{"$f":"IF($D118=\"\",\"\",VLOOKUP($D118,'Girls Do Main Draw Prep'!$A$7:$V$39,9))","v":""}]
[null,null,null,null,null,null,null,null,null,null,null,{"$f":"UPPER(IF(OR(K121=\"a\",K121=\"as\"),J116,IF(OR(K121=\"b\",K121=\"bs\"),J124,)))","v":""}]
[null,null,null,null,null,null,null,null,null,"Umpire",null,{"$f":"UPPER(IF(OR(K121=\"a\",K121=\"as\"),J117,IF(OR(K121=\"b\",K121=\"bs\"),J125,)))","v":""}]
[27,{"$f":"IF($D122=\"\",\"\",VLOOKUP($D122,'Girls Do Main Draw Prep'!$A$7:$V$39,20))","v":""},{"$f":"IF($D122=\"\",\"\",VLOOKUP($D122,'Girls Do Main Draw Prep'!$A$7:$V$39,21))","v":""},null,{"$f":"UPPER(IF($D122=\"\",\"\",VLOOKUP($D122,'Girls Do Main Draw Prep'!$A$7:$V$39,2)))","v":""},{"$f":"IF($D122=\"\",\"\",VLOOKUP($D122,'Girls Do Main Draw Prep'!$A$7:$V$39,3))","v":""},null,{"$f":"IF($D122=\"\",\"\",VLOOKUP($D122,'Girls Do Main Draw Prep'!$A$7:$V$39,4))","v":""}]
[null,null,null,null,{"$f":"UPPER(IF($D122=\"\",\"\",VLOOKUP($D122,'Girls Do Main Draw Prep'!$A$7:$V$39,7)))","v":""},{"$f":"IF($D122=\"\",\"\",VLOOKUP($D122,'Girls Do Main Draw Prep'!$A$7:$V$39,8))","v":""},null,{"$f":"IF($D122=\"\",\"\",VLOOKUP($D122,'Girls Do Main Draw Prep'!$A$7:$V$39,9))","v":""},null,{"$f":"IF(I123=\"a\",E122,IF(I123=\"b\",E124,\"\"))","v":""}]
[null,null,null,null,null,null,null,null,null,{"$f":"UPPER(IF(OR(I125=\"a\",I125=\"as\"),E122,IF(OR(I125=\"b\",I125=\"bs\"),E126,)))","v":""}]
[null,null,null,null,null,null,null,"Umpire",null,{"$f":"UPPER(IF(OR(I125=\"a\",I125=\"as\"),E123,IF(OR(I125=\"b\",I125=\"bs\"),E127,)))","v":""}]
[28,{"$f":"IF($D126=\"\",\"\",VLOOKUP($D126,'Girls Do Main Draw Prep'!$A$7:$V$39,20))","v":""},{"$f":"IF($D126=\"\",\"\",VLOOKUP($D126,'Girls Do Main Draw Prep'!$A$7:$V$39,21))","v":""},null,{"$f":"UPPER(IF($D126=\"\",\"\",VLOOKUP($D126,'Girls Do Main Draw Prep'!$A$7:$V$39,2)))","v":""},{"$f":"IF($D126=\"\",\"\",VLOOKUP($D126,'Girls Do Main Draw Prep'!$A$7:$V$39,3))","v":""},null,{"$f":"IF($D126=\"\",\"\",VLOOKUP($D126,'Girls Do Main Draw Prep'!$A$7:$V$39,4))","v":""}]
[null,null,null,null,{"$f":"UPPER(IF($D126=\"\",\"\",VLOOKUP($D126,'Girls Do Main Draw Prep'!$A$7:$V$39,7)))","v":""},{"$f":"IF($D126=\"\",\"\",VLOOKUP($D126,'Girls Do Main Draw Prep'!$A$7:$V$39,8))","v":""},null,{"$f":"IF($D126=\"\",\"\",VLOOKUP($D126,'Girls Do Main Draw Prep'!$A$7:$V$39,9))","v":""}]
[null,null,null,null,null,null,null,null,null,null,null,null,null,{"$f":"UPPER(IF(OR(M129=\"a\",M129=\"as\"),L120,IF(OR(M129=\"b\",M129=\"bs\"),L136,)))","v":""}]
[null,null,null,null,null,null,null,null,null,null,null,"Umpire",null,{"$f":"UPPER(IF(OR(M129=\"a\",M129=\"as\"),L121,IF(OR(M129=\"b\",M129=\"bs\"),L137,)))","v":""}]
[29,{"$f":"IF($D130=\"\",\"\",VLOOKUP($D130,'Girls Do Main Draw Prep'!$A$7:$V$39,20))","v":""},{"$f":"IF($D130=\"\",\"\",VLOOKUP($D130,'Girls Do Main Draw Prep'!$A$7:$V$39,21))","v":""},null,{"$f":"UPPER(IF($D130=\"\",\"\",VLOOKUP($D130,'Girls Do Main Draw Prep'!$A$7:$V$39,2)))","v":""},{"$f":"IF($D130=\"\",\"\",VLOOKUP($D130,'Girls Do Main Draw Prep'!$A$7:$V$39,3))","v":""},null,{"$f":"IF($D130=\"\",\"\",VLOOKUP($D130,'Girls Do Main Draw Prep'!$A$7:$V$39,4))","v":""}]
[null,null,null,null,{"$f":"UPPER(IF($D130=\"\",\"\",VLOOKUP($D130,'Girls Do Main Draw Prep'!$A$7:$V$39,7)))","v":""},{"$f":"IF($D130=\"\",\"\",VLOOKUP($D130,'Girls Do Main Draw Prep'!$A$7:$V$39,8))","v":""},null,{"$f":"IF($D130=\"\",\"\",VLOOKUP($D130,'Girls Do Main Draw Prep'!$A$7:$V$39,9))","v":""},null,{"$f":"IF(I131=\"a\",E130,IF(I131=\"b\",E132,\"\"))","v":""}]
[null,null,null,null,null,null,null,null,null,{"$f":"UPPER(IF(OR(I133=\"a\",I133=\"as\"),E130,IF(OR(I133=\"b\",I133=\"bs\"),E134,)))","v":""}]
[null,null,null,null,null,null,null,"Umpire",null,{"$f":"UPPER(IF(OR(I133=\"a\",I133=\"as\"),E131,IF(OR(I133=\"b\",I133=\"bs\"),E135,)))","v":""}]
[30,{"$f":"IF($D134=\"\",\"\",VLOOKUP($D134,'Girls Do Main Draw Prep'!$A$7:$V$39,20))","v":""},{"$f":"IF($D134=\"\",\"\",VLOOKUP($D134,'Girls Do Main Draw Prep'!$A$7:$V$39,21))","v":""},null,{"$f":"UPPER(IF($D134=\"\",\"\",VLOOKUP($D134,'Girls Do Main Draw Prep'!$A$7:$V$39,2)))","v":""},{"$f":"IF($D134=\"\",\"\",VLOOKUP($D134,'Girls Do Main Draw Prep'!$A$7:$V$39,3))","v":""},null,{"$f":"IF($D134=\"\",\"\",VLOOKUP($D134,'Girls Do Main Draw Prep'!$A$7:$V$39,4))","v":""}]
[null,null,null,null,{"$f":"UPPER(IF($D134=\"\",\"\",VLOOKUP($D134,'Girls Do Main Draw Prep'!$A$7:$V$39,7)))","v":""},{"$f":"IF($D134=\"\",\"\",VLOOKUP($D134,'Girls Do Main Draw Prep'!$A$7:$V$39,8))","v":""},null,{"$f":"IF($D134=\"\",\"\",VLOOKUP($D134,'Girls Do Main Draw Prep'!$A$7:$V$39,9))","v":""}]
[null,null,null,null,null,null,null,null,null,null,null,{"$f":"UPPER(IF(OR(K137=\"a\",K137=\"as\"),J132,IF(OR(K137=\"b\",K137=\"bs\"),J140,)))","v":""}]
[null,null,null,null,null,null,null,null,null,"Umpire",null,{"$f":"UPPER(IF(OR(K137=\"a\",K137=\"as\"),J133,IF(OR(K137=\"b\",K137=\"bs\"),J141,)))","v":""}]
[31,{"$f":"IF($D138=\"\",\"\",VLOOKUP($D138,'Girls Do Main Draw Prep'!$A$7:$V$39,20))","v":""},{"$f":"IF($D138=\"\",\"\",VLOOKUP($D138,'Girls Do Main Draw Prep'!$A$7:$V$39,21))","v":""},null,{"$f":"UPPER(IF($D138=\"\",\"\",VLOOKUP($D138,'Girls Do Main Draw Prep'!$A$7:$V$39,2)))","v":""},{"$f":"IF($D138=\"\",\"\",VLOOKUP($D138,'Girls Do Main Draw Prep'!$A$7:$V$39,3))","v":""},null,{"$f":"IF($D138=\"\",\"\",VLOOKUP($D138,'Girls Do Main Draw Prep'!$A$7:$V$39,4))","v":""},null,null,null,null,null,{"$f":"N63","v":"Final"},null,{"$f":"P63","v":"Winners"}]
[null,null,null,null,{"$f":"UPPER(IF($D138=\"\",\"\",VLOOKUP($D138,'Girls Do Main Draw Prep'!$A$7:$V$39,7)))","v":""},{"$f":"IF($D138=\"\",\"\",VLOOKUP($D138,'Girls Do Main Draw Prep'!$A$7:$V$39,8))","v":""},null,{"$f":"IF($D138=\"\",\"\",VLOOKUP($D138,'Girls Do Main Draw Prep'!$A$7:$V$39,9))","v":""},null,{"$f":"IF(I139=\"a\",E138,IF(I139=\"b\",E140,\"\"))","v":""},null,null,null,{"$f":"N64","v":""}]
[null,null,null,null,null,null,null,null,null,{"$f":"UPPER(IF(OR(I141=\"a\",I141=\"as\"),E138,IF(OR(I141=\"b\",I141=\"bs\"),E142,)))","v":""},null,null,null,{"$f":"N65","v":""}]
[null,null,null,null,null,null,null,"Umpire",null,{"$f":"UPPER(IF(OR(I141=\"a\",I141=\"as\"),E139,IF(OR(I141=\"b\",I141=\"bs\"),E143,)))","v":""},null,null,null,null,null,{"$f":"P66","v":""}]
[32,{"$f":"IF($D142=\"\",\"\",VLOOKUP($D142,'Girls Do Main Draw Prep'!$A$7:$V$39,20))","v":""},{"$f":"IF($D142=\"\",\"\",VLOOKUP($D142,'Girls Do Main Draw Prep'!$A$7:$V$39,21))","v":""},null,{"$f":"UPPER(IF($D142=\"\",\"\",VLOOKUP($D142,'Girls Do Main Draw Prep'!$A$7:$V$39,2)))","v":""},{"$f":"IF($D142=\"\",\"\",VLOOKUP($D142,'Girls Do Main Draw Prep'!$A$7:$V$39,3))","v":""},null,{"$f":"IF($D142=\"\",\"\",VLOOKUP($D142,'Girls Do Main Draw Prep'!$A$7:$V$39,4))","v":""},null,null,null,null,null,null,null,{"$f":"P67","v":""}]
[null,null,null,null,{"$f":"UPPER(IF($D142=\"\",\"\",VLOOKUP($D142,'Girls Do Main Draw Prep'!$A$7:$V$39,7)))","v":""},{"$f":"IF($D142=\"\",\"\",VLOOKUP($D142,'Girls Do Main Draw Prep'!$A$7:$V$39,8))","v":""},null,{"$f":"IF($D142=\"\",\"\",VLOOKUP($D142,'Girls Do Main Draw Prep'!$A$7:$V$39,9))","v":""},null,null,null,null,null,{"$f":"N68","v":""},null,{"$f":"P68","v":0}]
[null,null,null,null,null,null,null,null,null,null,null,null,null,{"$f":"N69","v":""}]
[]
["Acc. Ranking",null,null,"#","Seeded teams",null,null,null,"#","Alternates",null,"Replacing",null,"Draw date/time:",null,{"$f":"P71","v":0}]
["Rkg Date",null,{"$f":"C72","v":0},1,{"$f":"E72","v":0},5,0,null,"1",{"$f":"J72","v":0},null,{"$f":"L72","v":0},null,"Last Accepted team"]
["Top DA",null,{"$f":"C73","v":0},null,0,0,0,null,null,0,null,0,null,{"$f":"N73","v":0}]
["Last DA",null,{"$f":"C74","v":0},2,0,6,0,null,"2",0,null,0,null,"Player representatives"]
[null,null,null,null,0,0,0,null,null,0,null,0]
["Seed ranking",null,null,3,0,7,0,null,"3",0,null,0,null,{"$f":"N76","v":0}]
["Rkg Date",null,{"$f":"C77","v":0},null,0,0,0,null,null,0,null,0,null,"ITF Referee's signature"]
["Top seed",null,{"$f":"C78","v":0},4,0,8,0,null,"4",0,null,0]
["Last seed",null,{"$f":"C79","v":0},null,0,0,0,null,null,0,null,0,null,{"$f":"N79","v":0}]

{"sheet":"Girls Do Main 48&64","index":50,"n_rows":379,"n_cols":20,"rows_kept":379,"cut":false,"hidden":false,"merged":[[3,0,3,2]]}
[{"$f":"'Week SetUp'!$A$6","v":0},null,null,null,null,null,null,null,null,"GIRLS DOUBLES",null,null,null,"CU"]
[{"$f":"'Week SetUp'!$A$8","v":"ITF Junior Circuit"},null,null,null,null,null,null,null,null,"MAIN DRAW (48&64)"]
["Week of",null,null,null,null,"City, Country",null,null,null,"Group",null,"Tourn. ID",null,null,null,null,"ITF Referee"]
[{"$f":"'Week SetUp'!$A$10","v":"00:00:00"},null,null,null,null,{"$f":"'Week SetUp'!$C$10","v":0},null,null,null,{"$f":"'Week SetUp'!$D$10","v":0},null,{"$f":"'Week SetUp'!$A$12","v":0},null,null,null,null,{"$f":"'Week SetUp'!$E$10","v":0}]
[null,"St.",{"$f":"IF(OR(F2=\"Week 3\",F2=\"Masters\"),\"CP\",\"Rank\")","v":"Rank"},"Seed","Family Name","First name",null,"Nationality",null,"2nd Round",null,"3rd Round",null,"Quarterfinals",null,"Semifinalists"]
[]
[1,{"$f":"IF($D7=\"\",\"\",VLOOKUP($D7,'Girls Do Main Draw Prep'!$A$7:$V$71,20))","v":""},{"$f":"IF($D7=\"\",\"\",VLOOKUP($D7,'Girls Do Main Draw Prep'!$A$7:$V$71,21))","v":""},null,{"$f":"UPPER(IF($D7=\"\",\"\",VLOOKUP($D7,'Girls Do Main Draw Prep'!$A$7:$V$71,2)))","v":""},{"$f":"IF($D7=\"\",\"\",VLOOKUP($D7,'Girls Do Main Draw Prep'!$A$7:$V$71,3))","v":""},null,{"$f":"IF($D7=\"\",\"\",VLOOKUP($D7,'Girls Do Main Draw Prep'!$A$7:$V$71,4))","v":""},null,null,null,null,null,null,null,null,"Page 1(5)",null,null,{"$f":"'SetUp Officials'!P21","v":"Umpire"}]
[null,null,null,null,{"$f":"UPPER(IF($D7=\"\",\"\",VLOOKUP($D7,'Girls Do Main Draw Prep'!$A$7:$V$71,7)))","v":""},{"$f":"IF($D7=\"\",\"\",VLOOKUP($D7,'Girls Do Main Draw Prep'!$A$7:$V$71,8))","v":""},null,{"$f":"IF($D7=\"\",\"\",VLOOKUP($D7,'Girls Do Main Draw Prep'!$A$7:$V$71,9))","v":""},null,{"$f":"IF(I8=\"a\",E7,IF(I8=\"b\",E9,\"\"))","v":""},null,null,null,null,null,null,null,null,null,{"$f":"'SetUp Officials'!P22","v":" "}]
[null,null,null,null,null,null,null,null,null,{"$f":"UPPER(IF(OR(I10=\"a\",I10=\"as\"),E7,IF(OR(I10=\"b\",I10=\"bs\"),E11,)))","v":""},null,null,null,null,null,null,null,null,null,{"$f":"'SetUp Officials'!P23","v":" "}]
[null,null,null,null,null,null,null,"Umpire",null,{"$f":"UPPER(IF(OR(I10=\"a\",I10=\"as\"),E8,IF(OR(I10=\"b\",I10=\"bs\"),E12,)))","v":""},null,null,null,null,null,null,null,null,null,{"$f":"'SetUp Officials'!P24","v":" "}]
[2,{"$f":"IF($D11=\"\",\"\",VLOOKUP($D11,'Girls Do Main Draw Prep'!$A$7:$V$71,20))","v":""},{"$f":"IF($D11=\"\",\"\",VLOOKUP($D11,'Girls Do Main Draw Prep'!$A$7:$V$71,21))","v":""},null,{"$f":"UPPER(IF($D11=\"\",\"\",VLOOKUP($D11,'Girls Do Main Draw Prep'!$A$7:$V$71,2)))","v":""},{"$f":"IF($D11=\"\",\"\",VLOOKUP($D11,'Girls Do Main Draw Prep'!$A$7:$V$71,3))","v":""},null,{"$f":"IF($D11=\"\",\"\",VLOOKUP($D11,'Girls Do Main Draw Prep'!$A$7:$V$71,4))","v":""},null,null,null,null,null,null,null,null,null,null,null,{"$f":"'SetUp Officials'!P25","v":" "}]
[null,null,null,null,{"$f":"UPPER(IF($D11=\"\",\"\",VLOOKUP($D11,'Girls Do Main Draw Prep'!$A$7:$V$71,7)))","v":""},{"$f":"IF($D11=\"\",\"\",VLOOKUP($D11,'Girls Do Main Draw Prep'!$A$7:$V$71,8))","v":""},null,{"$f":"IF($D11=\"\",\"\",VLOOKUP($D11,'Girls Do Main Draw Prep'!$A$7:$V$71,9))","v":""},null,null,null,null,null,null,null,null,null,null,null,{"$f":"'SetUp Officials'!P26","v":" "}]
[null,null,null,null,null,null,null,null,null,null,null,{"$f":"UPPER(IF(OR(K14=\"a\",K14=\"as\"),J9,IF(OR(K14=\"b\",K14=\"bs\"),J17,)))","v":""},null,null,null,null,null,null,null,{"$f":"'SetUp Officials'!P27","v":" "}]
[null,null,null,null,null,null,null,null,null,"Umpire",null,{"$f":"UPPER(IF(OR(K14=\"a\",K14=\"as\"),J10,IF(OR(K14=\"b\",K14=\"bs\"),J18,)))","v":""},null,null,null,null,null,null,null,{"$f":"'SetUp Officials'!P28","v":" "}]
[3,{"$f":"IF($D15=\"\",\"\",VLOOKUP($D15,'Girls Do Main Draw Prep'!$A$7:$V$71,20))","v":""},{"$f":"IF($D15=\"\",\"\",VLOOKUP($D15,'Girls Do Main Draw Prep'!$A$7:$V$71,21))","v":""},null,{"$f":"UPPER(IF($D15=\"\",\"\",VLOOKUP($D15,'Girls Do Main Draw Prep'!$A$7:$V$71,2)))","v":""},{"$f":"IF($D15=\"\",\"\",VLOOKUP($D15,'Girls Do Main Draw Prep'!$A$7:$V$71,3))","v":""},null,{"$f":"IF($D15=\"\",\"\",VLOOKUP($D15,'Girls Do Main Draw Prep'!$A$7:$V$71,4))","v":""},null,null,null,null,null,null,null,null,null,null,null,{"$f":"'SetUp Officials'!P29","v":" "}]
[null,null,null,null,{"$f":"UPPER(IF($D15=\"\",\"\",VLOOKUP($D15,'Girls Do Main Draw Prep'!$A$7:$V$71,7)))","v":""},{"$f":"IF($D15=\"\",\"\",VLOOKUP($D15,'Girls Do Main Draw Prep'!$A$7:$V$71,8))","v":""},null,{"$f":"IF($D15=\"\",\"\",VLOOKUP($D15,'Girls Do Main Draw Prep'!$A$7:$V$71,9))","v":""},null,{"$f":"IF(I16=\"a\",E15,IF(I16=\"b\",E17,\"\"))","v":""},null,null,null,null,null,null,null,null,null,{"$f":"'SetUp Officials'!P30","v":"None"}]
[null,null,null,null,null,null,null,null,null,{"$f":"UPPER(IF(OR(I18=\"a\",I18=\"as\"),E15,IF(OR(I18=\"b\",I18=\"bs\"),E19,)))","v":""}]
[null,null,null,null,null,null,null,"Umpire",null,{"$f":"UPPER(IF(OR(I18=\"a\",I18=\"as\"),E16,IF(OR(I18=\"b\",I18=\"bs\"),E20,)))","v":""}]
[4,{"$f":"IF($D19=\"\",\"\",VLOOKUP($D19,'Girls Do Main Draw Prep'!$A$7:$V$71,20))","v":""},{"$f":"IF($D19=\"\",\"\",VLOOKUP($D19,'Girls Do Main Draw Prep'!$A$7:$V$71,21))","v":""},null,{"$f":"UPPER(IF($D19=\"\",\"\",VLOOKUP($D19,'Girls Do Main Draw Prep'!$A$7:$V$71,2)))","v":""},{"$f":"IF($D19=\"\",\"\",VLOOKUP($D19,'Girls Do Main Draw Prep'!$A$7:$V$71,3))","v":""},null,{"$f":"IF($D19=\"\",\"\",VLOOKUP($D19,'Girls Do Main Draw Prep'!$A$7:$V$71,4))","v":""}]
[null,null,null,null,{"$f":"UPPER(IF($D19=\"\",\"\",VLOOKUP($D19,'Girls Do Main Draw Prep'!$A$7:$V$71,7)))","v":""},{"$f":"IF($D19=\"\",\"\",VLOOKUP($D19,'Girls Do Main Draw Prep'!$A$7:$V$71,8))","v":""},null,{"$f":"IF($D19=\"\",\"\",VLOOKUP($D19,'Girls Do Main Draw Prep'!$A$7:$V$71,9))","v":""}]
[null,null,null,null,null,null,null,null,null,null,null,null,null,{"$f":"UPPER(IF(OR(M22=\"a\",M22=\"as\"),L13,IF(OR(M22=\"b\",M22=\"bs\"),L29,)))","v":""}]
[null,null,null,null,null,null,null,null,null,null,null,"Umpire",null,{"$f":"UPPER(IF(OR(M22=\"a\",M22=\"as\"),L14,IF(OR(M22=\"b\",M22=\"bs\"),L30,)))","v":""}]
[5,{"$f":"IF($D23=\"\",\"\",VLOOKUP($D23,'Girls Do Main Draw Prep'!$A$7:$V$71,20))","v":""},{"$f":"IF($D23=\"\",\"\",VLOOKUP($D23,'Girls Do Main Draw Prep'!$A$7:$V$71,21))","v":""},null,{"$f":"UPPER(IF($D23=\"\",\"\",VLOOKUP($D23,'Girls Do Main Draw Prep'!$A$7:$V$71,2)))","v":""},{"$f":"IF($D23=\"\",\"\",VLOOKUP($D23,'Girls Do Main Draw Prep'!$A$7:$V$71,3))","v":""},null,{"$f":"IF($D23=\"\",\"\",VLOOKUP($D23,'Girls Do Main Draw Prep'!$A$7:$V$71,4))","v":""}]
[null,null,null,null,{"$f":"UPPER(IF($D23=\"\",\"\",VLOOKUP($D23,'Girls Do Main Draw Prep'!$A$7:$V$71,7)))","v":""},{"$f":"IF($D23=\"\",\"\",VLOOKUP($D23,'Girls Do Main Draw Prep'!$A$7:$V$71,8))","v":""},null,{"$f":"IF($D23=\"\",\"\",VLOOKUP($D23,'Girls Do Main Draw Prep'!$A$7:$V$71,9))","v":""},null,{"$f":"IF(I24=\"a\",E23,IF(I24=\"b\",E25,\"\"))","v":""}]
[null,null,null,null,null,null,null,null,null,{"$f":"UPPER(IF(OR(I26=\"a\",I26=\"as\"),E23,IF(OR(I26=\"b\",I26=\"bs\"),E27,)))","v":""}]
[null,null,null,null,null,null,null,"Umpire",null,{"$f":"UPPER(IF(OR(I26=\"a\",I26=\"as\"),E24,IF(OR(I26=\"b\",I26=\"bs\"),E28,)))","v":""}]
[6,{"$f":"IF($D27=\"\",\"\",VLOOKUP($D27,'Girls Do Main Draw Prep'!$A$7:$V$71,20))","v":""},{"$f":"IF($D27=\"\",\"\",VLOOKUP($D27,'Girls Do Main Draw Prep'!$A$7:$V$71,21))","v":""},null,{"$f":"UPPER(IF($D27=\"\",\"\",VLOOKUP($D27,'Girls Do Main Draw Prep'!$A$7:$V$71,2)))","v":""},{"$f":"IF($D27=\"\",\"\",VLOOKUP($D27,'Girls Do Main Draw Prep'!$A$7:$V$71,3))","v":""},null,{"$f":"IF($D27=\"\",\"\",VLOOKUP($D27,'Girls Do Main Draw Prep'!$A$7:$V$71,4))","v":""}]
[null,null,null,null,{"$f":"UPPER(IF($D27=\"\",\"\",VLOOKUP($D27,'Girls Do Main Draw Prep'!$A$7:$V$71,7)))","v":""},{"$f":"IF($D27=\"\",\"\",VLOOKUP($D27,'Girls Do Main Draw Prep'!$A$7:$V$71,8))","v":""},null,{"$f":"IF($D27=\"\",\"\",VLOOKUP($D27,'Girls Do Main Draw Prep'!$A$7:$V$71,9))","v":""}]
[null,null,null,null,null,null,null,null,null,null,null,{"$f":"UPPER(IF(OR(K30=\"a\",K30=\"as\"),J25,IF(OR(K30=\"b\",K30=\"bs\"),J33,)))","v":""}]
[null,null,null,null,null,null,null,null,null,"Umpire",null,{"$f":"UPPER(IF(OR(K30=\"a\",K30=\"as\"),J26,IF(OR(K30=\"b\",K30=\"bs\"),J34,)))","v":""}]
[7,{"$f":"IF($D31=\"\",\"\",VLOOKUP($D31,'Girls Do Main Draw Prep'!$A$7:$V$71,20))","v":""},{"$f":"IF($D31=\"\",\"\",VLOOKUP($D31,'Girls Do Main Draw Prep'!$A$7:$V$71,21))","v":""},null,{"$f":"UPPER(IF($D31=\"\",\"\",VLOOKUP($D31,'Girls Do Main Draw Prep'!$A$7:$V$71,2)))","v":""},{"$f":"IF($D31=\"\",\"\",VLOOKUP($D31,'Girls Do Main Draw Prep'!$A$7:$V$71,3))","v":""},null,{"$f":"IF($D31=\"\",\"\",VLOOKUP($D31,'Girls Do Main Draw Prep'!$A$7:$V$71,4))","v":""}]
[null,null,null,null,{"$f":"UPPER(IF($D31=\"\",\"\",VLOOKUP($D31,'Girls Do Main Draw Prep'!$A$7:$V$71,7)))","v":""},{"$f":"IF($D31=\"\",\"\",VLOOKUP($D31,'Girls Do Main Draw Prep'!$A$7:$V$71,8))","v":""},null,{"$f":"IF($D31=\"\",\"\",VLOOKUP($D31,'Girls Do Main Draw Prep'!$A$7:$V$71,9))","v":""},null,{"$f":"IF(I32=\"a\",E31,IF(I32=\"b\",E33,\"\"))","v":""}]
[null,null,null,null,null,null,null,null,null,{"$f":"UPPER(IF(OR(I34=\"a\",I34=\"as\"),E31,IF(OR(I34=\"b\",I34=\"bs\"),E35,)))","v":""}]
[null,null,null,null,null,null,null,"Umpire",null,{"$f":"UPPER(IF(OR(I34=\"a\",I34=\"as\"),E32,IF(OR(I34=\"b\",I34=\"bs\"),E36,)))","v":""}]
[8,{"$f":"IF($D35=\"\",\"\",VLOOKUP($D35,'Girls Do Main Draw Prep'!$A$7:$V$71,20))","v":""},{"$f":"IF($D35=\"\",\"\",VLOOKUP($D35,'Girls Do Main Draw Prep'!$A$7:$V$71,21))","v":""},null,{"$f":"UPPER(IF($D35=\"\",\"\",VLOOKUP($D35,'Girls Do Main Draw Prep'!$A$7:$V$71,2)))","v":""},{"$f":"IF($D35=\"\",\"\",VLOOKUP($D35,'Girls Do Main Draw Prep'!$A$7:$V$71,3))","v":""},null,{"$f":"IF($D35=\"\",\"\",VLOOKUP($D35,'Girls Do Main Draw Prep'!$A$7:$V$71,4))","v":""}]
[null,null,null,null,{"$f":"UPPER(IF($D35=\"\",\"\",VLOOKUP($D35,'Girls Do Main Draw Prep'!$A$7:$V$71,7)))","v":""},{"$f":"IF($D35=\"\",\"\",VLOOKUP($D35,'Girls Do Main Draw Prep'!$A$7:$V$71,8))","v":""},null,{"$f":"IF($D35=\"\",\"\",VLOOKUP($D35,'Girls Do Main Draw Prep'!$A$7:$V$71,9))","v":""}]
[null,null,null,null,null,null,null,null,null,null,null,null,null,null,null,{"$f":"UPPER(IF(OR(O38=\"a\",O38=\"as\"),N21,IF(OR(O38=\"b\",O38=\"bs\"),N53,)))","v":""}]
[null,null,null,null,null,null,null,null,null,null,null,null,null,"Umpire",null,{"$f":"UPPER(IF(OR(O38=\"a\",O38=\"as\"),N22,IF(OR(O38=\"b\",O38=\"bs\"),N54,)))","v":""}]
[9,{"$f":"IF($D39=\"\",\"\",VLOOKUP($D39,'Girls Do Main Draw Prep'!$A$7:$V$71,20))","v":""},{"$f":"IF($D39=\"\",\"\",VLOOKUP($D39,'Girls Do Main Draw Prep'!$A$7:$V$71,21))","v":""},null,{"$f":"UPPER(IF($D39=\"\",\"\",VLOOKUP($D39,'Girls Do Main Draw Prep'!$A$7:$V$71,2)))","v":""},{"$f":"IF($D39=\"\",\"\",VLOOKUP($D39,'Girls Do Main Draw Prep'!$A$7:$V$71,3))","v":""},null,{"$f":"IF($D39=\"\",\"\",VLOOKUP($D39,'Girls Do Main Draw Prep'!$A$7:$V$71,4))","v":""}]
[null,null,null,null,{"$f":"UPPER(IF($D39=\"\",\"\",VLOOKUP($D39,'Girls Do Main Draw Prep'!$A$7:$V$71,7)))","v":""},{"$f":"IF($D39=\"\",\"\",VLOOKUP($D39,'Girls Do Main Draw Prep'!$A$7:$V$71,8))","v":""},null,{"$f":"IF($D39=\"\",\"\",VLOOKUP($D39,'Girls Do Main Draw Prep'!$A$7:$V$71,9))","v":""},null,{"$f":"IF(I40=\"a\",E39,IF(I40=\"b\",E41,\"\"))","v":""}]
[null,null,null,null,null,null,null,null,null,{"$f":"UPPER(IF(OR(I42=\"a\",I42=\"as\"),E39,IF(OR(I42=\"b\",I42=\"bs\"),E43,)))","v":""}]
[null,null,null,null,null,null,null,"Umpire",null,{"$f":"UPPER(IF(OR(I42=\"a\",I42=\"as\"),E40,IF(OR(I42=\"b\",I42=\"bs\"),E44,)))","v":""}]
[10,{"$f":"IF($D43=\"\",\"\",VLOOKUP($D43,'Girls Do Main Draw Prep'!$A$7:$V$71,20))","v":""},{"$f":"IF($D43=\"\",\"\",VLOOKUP($D43,'Girls Do Main Draw Prep'!$A$7:$V$71,21))","v":""},null,{"$f":"UPPER(IF($D43=\"\",\"\",VLOOKUP($D43,'Girls Do Main Draw Prep'!$A$7:$V$71,2)))","v":""},{"$f":"IF($D43=\"\",\"\",VLOOKUP($D43,'Girls Do Main Draw Prep'!$A$7:$V$71,3))","v":""},null,{"$f":"IF($D43=\"\",\"\",VLOOKUP($D43,'Girls Do Main Draw Prep'!$A$7:$V$71,4))","v":""}]
[null,null,null,null,{"$f":"UPPER(IF($D43=\"\",\"\",VLOOKUP($D43,'Girls Do Main Draw Prep'!$A$7:$V$71,7)))","v":""},{"$f":"IF($D43=\"\",\"\",VLOOKUP($D43,'Girls Do Main Draw Prep'!$A$7:$V$71,8))","v":""},null,{"$f":"IF($D43=\"\",\"\",VLOOKUP($D43,'Girls Do Main Draw Prep'!$A$7:$V$71,9))","v":""}]
[null,null,null,null,null,null,null,null,null,null,null,{"$f":"UPPER(IF(OR(K46=\"a\",K46=\"as\"),J41,IF(OR(K46=\"b\",K46=\"bs\"),J49,)))","v":""}]
[null,null,null,null,null,null,null,null,null,"Umpire",null,{"$f":"UPPER(IF(OR(K46=\"a\",K46=\"as\"),J42,IF(OR(K46=\"b\",K46=\"bs\"),J50,)))","v":""}]
[11,{"$f":"IF($D47=\"\",\"\",VLOOKUP($D47,'Girls Do Main Draw Prep'!$A$7:$V$71,20))","v":""},{"$f":"IF($D47=\"\",\"\",VLOOKUP($D47,'Girls Do Main Draw Prep'!$A$7:$V$71,21))","v":""},null,{"$f":"UPPER(IF($D47=\"\",\"\",VLOOKUP($D47,'Girls Do Main Draw Prep'!$A$7:$V$71,2)))","v":""},{"$f":"IF($D47=\"\",\"\",VLOOKUP($D47,'Girls Do Main Draw Prep'!$A$7:$V$71,3))","v":""},null,{"$f":"IF($D47=\"\",\"\",VLOOKUP($D47,'Girls Do Main Draw Prep'!$A$7:$V$71,4))","v":""}]
[null,null,null,null,{"$f":"UPPER(IF($D47=\"\",\"\",VLOOKUP($D47,'Girls Do Main Draw Prep'!$A$7:$V$71,7)))","v":""},{"$f":"IF($D47=\"\",\"\",VLOOKUP($D47,'Girls Do Main Draw Prep'!$A$7:$V$71,8))","v":""},null,{"$f":"IF($D47=\"\",\"\",VLOOKUP($D47,'Girls Do Main Draw Prep'!$A$7:$V$71,9))","v":""},null,{"$f":"IF(I48=\"a\",E47,IF(I48=\"b\",E49,\"\"))","v":""}]
[null,null,null,null,null,null,null,null,null,{"$f":"UPPER(IF(OR(I50=\"a\",I50=\"as\"),E47,IF(OR(I50=\"b\",I50=\"bs\"),E51,)))","v":""}]
[null,null,null,null,null,null,null,"Umpire",null,{"$f":"UPPER(IF(OR(I50=\"a\",I50=\"as\"),E48,IF(OR(I50=\"b\",I50=\"bs\"),E52,)))","v":""}]
[12,{"$f":"IF($D51=\"\",\"\",VLOOKUP($D51,'Girls Do Main Draw Prep'!$A$7:$V$71,20))","v":""},{"$f":"IF($D51=\"\",\"\",VLOOKUP($D51,'Girls Do Main Draw Prep'!$A$7:$V$71,21))","v":""},null,{"$f":"UPPER(IF($D51=\"\",\"\",VLOOKUP($D51,'Girls Do Main Draw Prep'!$A$7:$V$71,2)))","v":""},{"$f":"IF($D51=\"\",\"\",VLOOKUP($D51,'Girls Do Main Draw Prep'!$A$7:$V$71,3))","v":""},null,{"$f":"IF($D51=\"\",\"\",VLOOKUP($D51,'Girls Do Main Draw Prep'!$A$7:$V$71,4))","v":""}]
[null,null,null,null,{"$f":"UPPER(IF($D51=\"\",\"\",VLOOKUP($D51,'Girls Do Main Draw Prep'!$A$7:$V$71,7)))","v":""},{"$f":"IF($D51=\"\",\"\",VLOOKUP($D51,'Girls Do Main Draw Prep'!$A$7:$V$71,8))","v":""},null,{"$f":"IF($D51=\"\",\"\",VLOOKUP($D51,'Girls Do Main Draw Prep'!$A$7:$V$71,9))","v":""}]
[null,null,null,null,null,null,null,null,null,null,null,null,null,{"$f":"UPPER(IF(OR(M54=\"a\",M54=\"as\"),L45,IF(OR(M54=\"b\",M54=\"bs\"),L61,)))","v":""}]
[null,null,null,null,null,null,null,null,null,null,null,"Umpire",null,{"$f":"UPPER(IF(OR(M54=\"a\",M54=\"as\"),L46,IF(OR(M54=\"b\",M54=\"bs\"),L62,)))","v":""}]
[13,{"$f":"IF($D55=\"\",\"\",VLOOKUP($D55,'Girls Do Main Draw Prep'!$A$7:$V$71,20))","v":""},{"$f":"IF($D55=\"\",\"\",VLOOKUP($D55,'Girls Do Main Draw Prep'!$A$7:$V$71,21))","v":""},null,{"$f":"UPPER(IF($D55=\"\",\"\",VLOOKUP($D55,'Girls Do Main Draw Prep'!$A$7:$V$71,2)))","v":""},{"$f":"IF($D55=\"\",\"\",VLOOKUP($D55,'Girls Do Main Draw Prep'!$A$7:$V$71,3))","v":""},null,{"$f":"IF($D55=\"\",\"\",VLOOKUP($D55,'Girls Do Main Draw Prep'!$A$7:$V$71,4))","v":""}]
[null,null,null,null,{"$f":"UPPER(IF($D55=\"\",\"\",VLOOKUP($D55,'Girls Do Main Draw Prep'!$A$7:$V$71,7)))","v":""},{"$f":"IF($D55=\"\",\"\",VLOOKUP($D55,'Girls Do Main Draw Prep'!$A$7:$V$71,8))","v":""},null,{"$f":"IF($D55=\"\",\"\",VLOOKUP($D55,'Girls Do Main Draw Prep'!$A$7:$V$71,9))","v":""},null,{"$f":"IF(I56=\"a\",E55,IF(I56=\"b\",E57,\"\"))","v":""}]
[null,null,null,null,null,null,null,null,null,{"$f":"UPPER(IF(OR(I58=\"a\",I58=\"as\"),E55,IF(OR(I58=\"b\",I58=\"bs\"),E59,)))","v":""}]
[null,null,null,null,null,null,null,"Umpire",null,{"$f":"UPPER(IF(OR(I58=\"a\",I58=\"as\"),E56,IF(OR(I58=\"b\",I58=\"bs\"),E60,)))","v":""}]
[14,{"$f":"IF($D59=\"\",\"\",VLOOKUP($D59,'Girls Do Main Draw Prep'!$A$7:$V$71,20))","v":""},{"$f":"IF($D59=\"\",\"\",VLOOKUP($D59,'Girls Do Main Draw Prep'!$A$7:$V$71,21))","v":""},null,{"$f":"UPPER(IF($D59=\"\",\"\",VLOOKUP($D59,'Girls Do Main Draw Prep'!$A$7:$V$71,2)))","v":""},{"$f":"IF($D59=\"\",\"\",VLOOKUP($D59,'Girls Do Main Draw Prep'!$A$7:$V$71,3))","v":""},null,{"$f":"IF($D59=\"\",\"\",VLOOKUP($D59,'Girls Do Main Draw Prep'!$A$7:$V$71,4))","v":""}]
[null,null,null,null,{"$f":"UPPER(IF($D59=\"\",\"\",VLOOKUP($D59,'Girls Do Main Draw Prep'!$A$7:$V$71,7)))","v":""},{"$f":"IF($D59=\"\",\"\",VLOOKUP($D59,'Girls Do Main Draw Prep'!$A$7:$V$71,8))","v":""},null,{"$f":"IF($D59=\"\",\"\",VLOOKUP($D59,'Girls Do Main Draw Prep'!$A$7:$V$71,9))","v":""}]
[null,null,null,null,null,null,null,null,null,null,null,{"$f":"UPPER(IF(OR(K62=\"a\",K62=\"as\"),J57,IF(OR(K62=\"b\",K62=\"bs\"),J65,)))","v":""}]
[null,null,null,null,null,null,null,null,null,"Umpire",null,{"$f":"UPPER(IF(OR(K62=\"a\",K62=\"as\"),J58,IF(OR(K62=\"b\",K62=\"bs\"),J66,)))","v":""}]
[15,{"$f":"IF($D63=\"\",\"\",VLOOKUP($D63,'Girls Do Main Draw Prep'!$A$7:$V$71,20))","v":""},{"$f":"IF($D63=\"\",\"\",VLOOKUP($D63,'Girls Do Main Draw Prep'!$A$7:$V$71,21))","v":""},null,{"$f":"UPPER(IF($D63=\"\",\"\",VLOOKUP($D63,'Girls Do Main Draw Prep'!$A$7:$V$71,2)))","v":""},{"$f":"IF($D63=\"\",\"\",VLOOKUP($D63,'Girls Do Main Draw Prep'!$A$7:$V$71,3))","v":""},null,{"$f":"IF($D63=\"\",\"\",VLOOKUP($D63,'Girls Do Main Draw Prep'!$A$7:$V$71,4))","v":""}]
[null,null,null,null,{"$f":"UPPER(IF($D63=\"\",\"\",VLOOKUP($D63,'Girls Do Main Draw Prep'!$A$7:$V$71,7)))","v":""},{"$f":"IF($D63=\"\",\"\",VLOOKUP($D63,'Girls Do Main Draw Prep'!$A$7:$V$71,8))","v":""},null,{"$f":"IF($D63=\"\",\"\",VLOOKUP($D63,'Girls Do Main Draw Prep'!$A$7:$V$71,9))","v":""},null,{"$f":"IF(I64=\"a\",E63,IF(I64=\"b\",E65,\"\"))","v":""}]
[null,null,null,null,null,null,null,null,null,{"$f":"UPPER(IF(OR(I66=\"a\",I66=\"as\"),E63,IF(OR(I66=\"b\",I66=\"bs\"),E67,)))","v":""}]
[null,null,null,null,null,null,null,"Umpire",null,{"$f":"UPPER(IF(OR(I66=\"a\",I66=\"as\"),E64,IF(OR(I66=\"b\",I66=\"bs\"),E68,)))","v":""}]
[16,{"$f":"IF($D67=\"\",\"\",VLOOKUP($D67,'Girls Do Main Draw Prep'!$A$7:$V$71,20))","v":""},{"$f":"IF($D67=\"\",\"\",VLOOKUP($D67,'Girls Do Main Draw Prep'!$A$7:$V$71,21))","v":""},null,{"$f":"UPPER(IF($D67=\"\",\"\",VLOOKUP($D67,'Girls Do Main Draw Prep'!$A$7:$V$71,2)))","v":""},{"$f":"IF($D67=\"\",\"\",VLOOKUP($D67,'Girls Do Main Draw Prep'!$A$7:$V$71,3))","v":""},null,{"$f":"IF($D67=\"\",\"\",VLOOKUP($D67,'Girls Do Main Draw Prep'!$A$7:$V$71,4))","v":""}]
[null,null,null,null,{"$f":"UPPER(IF($D67=\"\",\"\",VLOOKUP($D67,'Girls Do Main Draw Prep'!$A$7:$V$71,7)))","v":""},{"$f":"IF($D67=\"\",\"\",VLOOKUP($D67,'Girls Do Main Draw Prep'!$A$7:$V$71,8))","v":""},null,{"$f":"IF($D67=\"\",\"\",VLOOKUP($D67,'Girls Do Main Draw Prep'!$A$7:$V$71,9))","v":""}]
[]
[null,null,null,null,null,null,null,null,null,null,null,null,null,null,null,null,"Alternate teams on page 2 and 4"]
["Acc. Ranking",null,null,"#","Seeded teams","#","Seeded teams",null,"#","Seeded teams","#","Seeded teams",null,"Draw date/time:"]
["Rkg Date",null,null,1,{"$f":"IF(D72>$Q$79,,UPPER(VLOOKUP(D72,'Girls Do Main Draw Prep'!$A$7:$R$23,2)))","v":0},5,{"$f":"IF(F72>$Q$79,,UPPER(VLOOKUP(F72,'Girls Do Main Draw Prep'!$A$7:$R$23,2)))","v":0},null,9,{"$f":"IF(I72>$Q$79,,UPPER(VLOOKUP(I72,'Girls Do Main Draw Prep'!$A$7:$R$23,2)))","v":0},13,{"$f":"IF(K72>$Q$79,,UPPER(VLOOKUP(K72,'Girls Do Main Draw Prep'!$A$7:$R$23,2)))","v":0},null,"Last Accepted team"]
["Top DA",null,null,null,{"$f":"IF(D72>$Q$79,,UPPER(VLOOKUP(D72,'Girls Do Main Draw Prep'!$A$7:$R$23,7)))","v":0},null,{"$f":"IF(F72>$Q$79,,UPPER(VLOOKUP(F72,'Girls Do Main Draw Prep'!$A$7:$R$23,7)))","v":0},null,null,{"$f":"IF(I72>$Q$79,,UPPER(VLOOKUP(I72,'Girls Do Main Draw Prep'!$A$7:$R$23,7)))","v":0},null,{"$f":"IF(K72>$Q$79,,UPPER(VLOOKUP(K72,'Girls Do Main Draw Prep'!$A$7:$R$23,7)))","v":0}]
["Last DA",null,null,2,{"$f":"IF(D74>$Q$79,,UPPER(VLOOKUP(D74,'Girls Do Main Draw Prep'!$A$7:$R$23,2)))","v":0},6,{"$f":"IF(F74>$Q$79,,UPPER(VLOOKUP(F74,'Girls Do Main Draw Prep'!$A$7:$R$23,2)))","v":0},null,10,{"$f":"IF(I74>$Q$79,,UPPER(VLOOKUP(I74,'Girls Do Main Draw Prep'!$A$7:$R$23,2)))","v":0},14,{"$f":"IF(K74>$Q$79,,UPPER(VLOOKUP(K74,'Girls Do Main Draw Prep'!$A$7:$R$23,2)))","v":0},null,"Player representatives"]
[null,null,null,null,{"$f":"IF(D74>$Q$79,,UPPER(VLOOKUP(D74,'Girls Do Main Draw Prep'!$A$7:$R$23,7)))","v":0},null,{"$f":"IF(F74>$Q$79,,UPPER(VLOOKUP(F74,'Girls Do Main Draw Prep'!$A$7:$R$23,7)))","v":0},null,null,{"$f":"IF(I74>$Q$79,,UPPER(VLOOKUP(I74,'Girls Do Main Draw Prep'!$A$7:$R$23,7)))","v":0},null,{"$f":"IF(K74>$Q$79,,UPPER(VLOOKUP(K74,'Girls Do Main Draw Prep'!$A$7:$R$23,7)))","v":0}]
["Seed ranking",null,null,3,{"$f":"IF(D76>$Q$79,,UPPER(VLOOKUP(D76,'Girls Do Main Draw Prep'!$A$7:$R$23,2)))","v":0},7,{"$f":"IF(F76>$Q$79,,UPPER(VLOOKUP(F76,'Girls Do Main Draw Prep'!$A$7:$R$23,2)))","v":0},null,11,{"$f":"IF(I76>$Q$79,,UPPER(VLOOKUP(I76,'Girls Do Main Draw Prep'!$A$7:$R$23,2)))","v":0},15,{"$f":"IF(K76>$Q$79,,UPPER(VLOOKUP(K76,'Girls Do Main Draw Prep'!$A$7:$R$23,2)))","v":0}]
["Rkg Date",null,null,null,{"$f":"IF(D76>$Q$79,,UPPER(VLOOKUP(D76,'Girls Do Main Draw Prep'!$A$7:$R$23,7)))","v":0},null,{"$f":"IF(F76>$Q$79,,UPPER(VLOOKUP(F76,'Girls Do Main Draw Prep'!$A$7:$R$23,7)))","v":0},null,null,{"$f":"IF(I76>$Q$79,,UPPER(VLOOKUP(I76,'Girls Do Main Draw Prep'!$A$7:$R$23,7)))","v":0},null,{"$f":"IF(K76>$Q$79,,UPPER(VLOOKUP(K76,'Girls Do Main Draw Prep'!$A$7:$R$23,7)))","v":0},null,"ITF Referee's signature"]
["Top seed",null,null,4,{"$f":"IF(D78>$Q$79,,UPPER(VLOOKUP(D78,'Girls Do Main Draw Prep'!$A$7:$R$23,2)))","v":0},8,{"$f":"IF(F78>$Q$79,,UPPER(VLOOKUP(F78,'Girls Do Main Draw Prep'!$A$7:$R$23,2)))","v":0},null,12,{"$f":"IF(I78>$Q$79,,UPPER(VLOOKUP(I78,'Girls Do Main Draw Prep'!$A$7:$R$23,2)))","v":0},16,{"$f":"IF(K78>$Q$79,,UPPER(VLOOKUP(K78,'Girls Do Main Draw Prep'!$A$7:$R$23,2)))","v":0}]
["Last seed",null,null,null,{"$f":"IF(D78>$Q$79,,UPPER(VLOOKUP(D78,'Girls Do Main Draw Prep'!$A$7:$R$23,7)))","v":0},null,{"$f":"IF(F78>$Q$79,,UPPER(VLOOKUP(F78,'Girls Do Main Draw Prep'!$A$7:$R$23,7)))","v":0},null,null,{"$f":"IF(I78>$Q$79,,UPPER(VLOOKUP(I78,'Girls Do Main Draw Prep'!$A$7:$R$23,7)))","v":0},null,{"$f":"IF(K78>$Q$79,,UPPER(VLOOKUP(K78,'Girls Do Main Draw Prep'!$A$7:$R$23,7)))","v":0},null,{"$f":"Q4","v":0},null,null,{"$f":"'Girls Do Main Draw Prep'!$V$5","v":0}]
[null,"St.",{"$f":"IF(OR(F78=\"Week 3\",F78=\"Masters\"),\"CP\",\"Rank\")","v":"Rank"},"Seed","Family Name","First name",null,"Nationality",null,"2nd Round",null,"3rd Round",null,"Quarterfinals",null,"Semifinalists"]
[]
[17,{"$f":"IF($D82=\"\",\"\",VLOOKUP($D82,'Girls Do Main Draw Prep'!$A$7:$V$71,20))","v":""},{"$f":"IF($D82=\"\",\"\",VLOOKUP($D82,'Girls Do Main Draw Prep'!$A$7:$V$71,21))","v":""},null,{"$f":"UPPER(IF($D82=\"\",\"\",VLOOKUP($D82,'Girls Do Main Draw Prep'!$A$7:$V$71,2)))","v":""},{"$f":"IF($D82=\"\",\"\",VLOOKUP($D82,'Girls Do Main Draw Prep'!$A$7:$V$71,3))","v":""},null,{"$f":"IF($D82=\"\",\"\",VLOOKUP($D82,'Girls Do Main Draw Prep'!$A$7:$V$71,4))","v":""},null,null,null,null,null,null,null,null,"Page 2(5)",null,null,{"$f":"'SetUp Officials'!P60","v":0}]
[null,null,null,null,{"$f":"UPPER(IF($D82=\"\",\"\",VLOOKUP($D82,'Girls Do Main Draw Prep'!$A$7:$V$71,7)))","v":""},{"$f":"IF($D82=\"\",\"\",VLOOKUP($D82,'Girls Do Main Draw Prep'!$A$7:$V$71,8))","v":""},null,{"$f":"IF($D82=\"\",\"\",VLOOKUP($D82,'Girls Do Main Draw Prep'!$A$7:$V$71,9))","v":""},null,{"$f":"IF(I83=\"a\",E82,IF(I83=\"b\",E84,\"\"))","v":""},null,null,null,null,null,null,null,null,null,{"$f":"'SetUp Officials'!P61","v":0}]
[null,null,null,null,null,null,null,null,null,{"$f":"UPPER(IF(OR(I85=\"a\",I85=\"as\"),E82,IF(OR(I85=\"b\",I85=\"bs\"),E86,)))","v":""},null,null,null,null,null,null,null,null,null,{"$f":"'SetUp Officials'!P62","v":0}]
[null,null,null,null,null,null,null,"Umpire",null,{"$f":"UPPER(IF(OR(I85=\"a\",I85=\"as\"),E83,IF(OR(I85=\"b\",I85=\"bs\"),E87,)))","v":""},null,null,null,null,null,null,null,null,null,{"$f":"'SetUp Officials'!P63","v":0}]
[18,{"$f":"IF($D86=\"\",\"\",VLOOKUP($D86,'Girls Do Main Draw Prep'!$A$7:$V$71,20))","v":""},{"$f":"IF($D86=\"\",\"\",VLOOKUP($D86,'Girls Do Main Draw Prep'!$A$7:$V$71,21))","v":""},null,{"$f":"UPPER(IF($D86=\"\",\"\",VLOOKUP($D86,'Girls Do Main Draw Prep'!$A$7:$V$71,2)))","v":""},{"$f":"IF($D86=\"\",\"\",VLOOKUP($D86,'Girls Do Main Draw Prep'!$A$7:$V$71,3))","v":""},null,{"$f":"IF($D86=\"\",\"\",VLOOKUP($D86,'Girls Do Main Draw Prep'!$A$7:$V$71,4))","v":""},null,null,null,null,null,null,null,null,null,null,null,{"$f":"'SetUp Officials'!P64","v":0}]
[null,null,null,null,{"$f":"UPPER(IF($D86=\"\",\"\",VLOOKUP($D86,'Girls Do Main Draw Prep'!$A$7:$V$71,7)))","v":""},{"$f":"IF($D86=\"\",\"\",VLOOKUP($D86,'Girls Do Main Draw Prep'!$A$7:$V$71,8))","v":""},null,{"$f":"IF($D86=\"\",\"\",VLOOKUP($D86,'Girls Do Main Draw Prep'!$A$7:$V$71,9))","v":""},null,null,null,null,null,null,null,null,null,null,null,{"$f":"'SetUp Officials'!P65","v":0}]
[null,null,null,null,null,null,null,null,null,null,null,{"$f":"UPPER(IF(OR(K89=\"a\",K89=\"as\"),J84,IF(OR(K89=\"b\",K89=\"bs\"),J92,)))","v":""},null,null,null,null,null,null,null,{"$f":"'SetUp Officials'!P66","v":0}]
[null,null,null,null,null,null,null,null,null,"Umpire",null,{"$f":"UPPER(IF(OR(K89=\"a\",K89=\"as\"),J85,IF(OR(K89=\"b\",K89=\"bs\"),J93,)))","v":""},null,null,null,null,null,null,null,{"$f":"'SetUp Officials'!P67","v":0}]
[19,{"$f":"IF($D90=\"\",\"\",VLOOKUP($D90,'Girls Do Main Draw Prep'!$A$7:$V$71,20))","v":""},{"$f":"IF($D90=\"\",\"\",VLOOKUP($D90,'Girls Do Main Draw Prep'!$A$7:$V$71,21))","v":""},null,{"$f":"UPPER(IF($D90=\"\",\"\",VLOOKUP($D90,'Girls Do Main Draw Prep'!$A$7:$V$71,2)))","v":""},{"$f":"IF($D90=\"\",\"\",VLOOKUP($D90,'Girls Do Main Draw Prep'!$A$7:$V$71,3))","v":""},null,{"$f":"IF($D90=\"\",\"\",VLOOKUP($D90,'Girls Do Main Draw Prep'!$A$7:$V$71,4))","v":""},null,null,null,null,null,null,null,null,null,null,null,{"$f":"'SetUp Officials'!P68","v":0}]
[null,null,null,null,{"$f":"UPPER(IF($D90=\"\",\"\",VLOOKUP($D90,'Girls Do Main Draw Prep'!$A$7:$V$71,7)))","v":""},{"$f":"IF($D90=\"\",\"\",VLOOKUP($D90,'Girls Do Main Draw Prep'!$A$7:$V$71,8))","v":""},null,{"$f":"IF($D90=\"\",\"\",VLOOKUP($D90,'Girls Do Main Draw Prep'!$A$7:$V$71,9))","v":""},null,{"$f":"IF(I91=\"a\",E90,IF(I91=\"b\",E92,\"\"))","v":""},null,null,null,null,null,null,null,null,null,{"$f":"'SetUp Officials'!P69","v":0}]
[null,null,null,null,null,null,null,null,null,{"$f":"UPPER(IF(OR(I93=\"a\",I93=\"as\"),E90,IF(OR(I93=\"b\",I93=\"bs\"),E94,)))","v":""}]
[null,null,null,null,null,null,null,"Umpire",null,{"$f":"UPPER(IF(OR(I93=\"a\",I93=\"as\"),E91,IF(OR(I93=\"b\",I93=\"bs\"),E95,)))","v":""}]
[20,{"$f":"IF($D94=\"\",\"\",VLOOKUP($D94,'Girls Do Main Draw Prep'!$A$7:$V$71,20))","v":""},{"$f":"IF($D94=\"\",\"\",VLOOKUP($D94,'Girls Do Main Draw Prep'!$A$7:$V$71,21))","v":""},null,{"$f":"UPPER(IF($D94=\"\",\"\",VLOOKUP($D94,'Girls Do Main Draw Prep'!$A$7:$V$71,2)))","v":""},{"$f":"IF($D94=\"\",\"\",VLOOKUP($D94,'Girls Do Main Draw Prep'!$A$7:$V$71,3))","v":""},null,{"$f":"IF($D94=\"\",\"\",VLOOKUP($D94,'Girls Do Main Draw Prep'!$A$7:$V$71,4))","v":""}]
[null,null,null,null,{"$f":"UPPER(IF($D94=\"\",\"\",VLOOKUP($D94,'Girls Do Main Draw Prep'!$A$7:$V$71,7)))","v":""},{"$f":"IF($D94=\"\",\"\",VLOOKUP($D94,'Girls Do Main Draw Prep'!$A$7:$V$71,8))","v":""},null,{"$f":"IF($D94=\"\",\"\",VLOOKUP($D94,'Girls Do Main Draw Prep'!$A$7:$V$71,9))","v":""}]
[null,null,null,null,null,null,null,null,null,null,null,null,null,{"$f":"UPPER(IF(OR(M97=\"a\",M97=\"as\"),L88,IF(OR(M97=\"b\",M97=\"bs\"),L104,)))","v":""}]
[null,null,null,null,null,null,null,null,null,null,null,"Umpire",null,{"$f":"UPPER(IF(OR(M97=\"a\",M97=\"as\"),L89,IF(OR(M97=\"b\",M97=\"bs\"),L105,)))","v":""}]
[21,{"$f":"IF($D98=\"\",\"\",VLOOKUP($D98,'Girls Do Main Draw Prep'!$A$7:$V$71,20))","v":""},{"$f":"IF($D98=\"\",\"\",VLOOKUP($D98,'Girls Do Main Draw Prep'!$A$7:$V$71,21))","v":""},null,{"$f":"UPPER(IF($D98=\"\",\"\",VLOOKUP($D98,'Girls Do Main Draw Prep'!$A$7:$V$71,2)))","v":""},{"$f":"IF($D98=\"\",\"\",VLOOKUP($D98,'Girls Do Main Draw Prep'!$A$7:$V$71,3))","v":""},null,{"$f":"IF($D98=\"\",\"\",VLOOKUP($D98,'Girls Do Main Draw Prep'!$A$7:$V$71,4))","v":""}]
[null,null,null,null,{"$f":"UPPER(IF($D98=\"\",\"\",VLOOKUP($D98,'Girls Do Main Draw Prep'!$A$7:$V$71,7)))","v":""},{"$f":"IF($D98=\"\",\"\",VLOOKUP($D98,'Girls Do Main Draw Prep'!$A$7:$V$71,8))","v":""},null,{"$f":"IF($D98=\"\",\"\",VLOOKUP($D98,'Girls Do Main Draw Prep'!$A$7:$V$71,9))","v":""},null,{"$f":"IF(I99=\"a\",E98,IF(I99=\"b\",E100,\"\"))","v":""}]
[null,null,null,null,null,null,null,null,null,{"$f":"UPPER(IF(OR(I101=\"a\",I101=\"as\"),E98,IF(OR(I101=\"b\",I101=\"bs\"),E102,)))","v":""}]
[null,null,null,null,null,null,null,"Umpire",null,{"$f":"UPPER(IF(OR(I101=\"a\",I101=\"as\"),E99,IF(OR(I101=\"b\",I101=\"bs\"),E103,)))","v":""}]
[22,{"$f":"IF($D102=\"\",\"\",VLOOKUP($D102,'Girls Do Main Draw Prep'!$A$7:$V$71,20))","v":""},{"$f":"IF($D102=\"\",\"\",VLOOKUP($D102,'Girls Do Main Draw Prep'!$A$7:$V$71,21))","v":""},null,{"$f":"UPPER(IF($D102=\"\",\"\",VLOOKUP($D102,'Girls Do Main Draw Prep'!$A$7:$V$71,2)))","v":""},{"$f":"IF($D102=\"\",\"\",VLOOKUP($D102,'Girls Do Main Draw Prep'!$A$7:$V$71,3))","v":""},null,{"$f":"IF($D102=\"\",\"\",VLOOKUP($D102,'Girls Do Main Draw Prep'!$A$7:$V$71,4))","v":""}]
[null,null,null,null,{"$f":"UPPER(IF($D102=\"\",\"\",VLOOKUP($D102,'Girls Do Main Draw Prep'!$A$7:$V$71,7)))","v":""},{"$f":"IF($D102=\"\",\"\",VLOOKUP($D102,'Girls Do Main Draw Prep'!$A$7:$V$71,8))","v":""},null,{"$f":"IF($D102=\"\",\"\",VLOOKUP($D102,'Girls Do Main Draw Prep'!$A$7:$V$71,9))","v":""}]
[null,null,null,null,null,null,null,null,null,null,null,{"$f":"UPPER(IF(OR(K105=\"a\",K105=\"as\"),J100,IF(OR(K105=\"b\",K105=\"bs\"),J108,)))","v":""}]
[null,null,null,null,null,null,null,null,null,"Umpire",null,{"$f":"UPPER(IF(OR(K105=\"a\",K105=\"as\"),J101,IF(OR(K105=\"b\",K105=\"bs\"),J109,)))","v":""}]
[23,{"$f":"IF($D106=\"\",\"\",VLOOKUP($D106,'Girls Do Main Draw Prep'!$A$7:$V$71,20))","v":""},{"$f":"IF($D106=\"\",\"\",VLOOKUP($D106,'Girls Do Main Draw Prep'!$A$7:$V$71,21))","v":""},null,{"$f":"UPPER(IF($D106=\"\",\"\",VLOOKUP($D106,'Girls Do Main Draw Prep'!$A$7:$V$71,2)))","v":""},{"$f":"IF($D106=\"\",\"\",VLOOKUP($D106,'Girls Do Main Draw Prep'!$A$7:$V$71,3))","v":""},null,{"$f":"IF($D106=\"\",\"\",VLOOKUP($D106,'Girls Do Main Draw Prep'!$A$7:$V$71,4))","v":""}]
[null,null,null,null,{"$f":"UPPER(IF($D106=\"\",\"\",VLOOKUP($D106,'Girls Do Main Draw Prep'!$A$7:$V$71,7)))","v":""},{"$f":"IF($D106=\"\",\"\",VLOOKUP($D106,'Girls Do Main Draw Prep'!$A$7:$V$71,8))","v":""},null,{"$f":"IF($D106=\"\",\"\",VLOOKUP($D106,'Girls Do Main Draw Prep'!$A$7:$V$71,9))","v":""},null,{"$f":"IF(I107=\"a\",E106,IF(I107=\"b\",E108,\"\"))","v":""}]
[null,null,null,null,null,null,null,null,null,{"$f":"UPPER(IF(OR(I109=\"a\",I109=\"as\"),E106,IF(OR(I109=\"b\",I109=\"bs\"),E110,)))","v":""}]
[null,null,null,null,null,null,null,"Umpire",null,{"$f":"UPPER(IF(OR(I109=\"a\",I109=\"as\"),E107,IF(OR(I109=\"b\",I109=\"bs\"),E111,)))","v":""}]
[24,{"$f":"IF($D110=\"\",\"\",VLOOKUP($D110,'Girls Do Main Draw Prep'!$A$7:$V$71,20))","v":""},{"$f":"IF($D110=\"\",\"\",VLOOKUP($D110,'Girls Do Main Draw Prep'!$A$7:$V$71,21))","v":""},null,{"$f":"UPPER(IF($D110=\"\",\"\",VLOOKUP($D110,'Girls Do Main Draw Prep'!$A$7:$V$71,2)))","v":""},{"$f":"IF($D110=\"\",\"\",VLOOKUP($D110,'Girls Do Main Draw Prep'!$A$7:$V$71,3))","v":""},null,{"$f":"IF($D110=\"\",\"\",VLOOKUP($D110,'Girls Do Main Draw Prep'!$A$7:$V$71,4))","v":""}]
[null,null,null,null,{"$f":"UPPER(IF($D110=\"\",\"\",VLOOKUP($D110,'Girls Do Main Draw Prep'!$A$7:$V$71,7)))","v":""},{"$f":"IF($D110=\"\",\"\",VLOOKUP($D110,'Girls Do Main Draw Prep'!$A$7:$V$71,8))","v":""},null,{"$f":"IF($D110=\"\",\"\",VLOOKUP($D110,'Girls Do Main Draw Prep'!$A$7:$V$71,9))","v":""}]
[null,null,null,null,null,null,null,null,null,null,null,null,null,null,null,{"$f":"UPPER(IF(OR(O113=\"a\",O113=\"as\"),N96,IF(OR(O113=\"b\",O113=\"bs\"),N128,)))","v":""}]
[null,null,null,null,null,null,null,null,null,null,null,null,null,"Umpire",null,{"$f":"UPPER(IF(OR(O113=\"a\",O113=\"as\"),N97,IF(OR(O113=\"b\",O113=\"bs\"),N129,)))","v":""}]
[25,{"$f":"IF($D114=\"\",\"\",VLOOKUP($D114,'Girls Do Main Draw Prep'!$A$7:$V$71,20))","v":""},{"$f":"IF($D114=\"\",\"\",VLOOKUP($D114,'Girls Do Main Draw Prep'!$A$7:$V$71,21))","v":""},null,{"$f":"UPPER(IF($D114=\"\",\"\",VLOOKUP($D114,'Girls Do Main Draw Prep'!$A$7:$V$71,2)))","v":""},{"$f":"IF($D114=\"\",\"\",VLOOKUP($D114,'Girls Do Main Draw Prep'!$A$7:$V$71,3))","v":""},null,{"$f":"IF($D114=\"\",\"\",VLOOKUP($D114,'Girls Do Main Draw Prep'!$A$7:$V$71,4))","v":""}]
[null,null,null,null,{"$f":"UPPER(IF($D114=\"\",\"\",VLOOKUP($D114,'Girls Do Main Draw Prep'!$A$7:$V$71,7)))","v":""},{"$f":"IF($D114=\"\",\"\",VLOOKUP($D114,'Girls Do Main Draw Prep'!$A$7:$V$71,8))","v":""},null,{"$f":"IF($D114=\"\",\"\",VLOOKUP($D114,'Girls Do Main Draw Prep'!$A$7:$V$71,9))","v":""},null,{"$f":"IF(I115=\"a\",E114,IF(I115=\"b\",E116,\"\"))","v":""}]
[null,null,null,null,null,null,null,null,null,{"$f":"UPPER(IF(OR(I117=\"a\",I117=\"as\"),E114,IF(OR(I117=\"b\",I117=\"bs\"),E118,)))","v":""}]
[null,null,null,null,null,null,null,"Umpire",null,{"$f":"UPPER(IF(OR(I117=\"a\",I117=\"as\"),E115,IF(OR(I117=\"b\",I117=\"bs\"),E119,)))","v":""}]
[26,{"$f":"IF($D118=\"\",\"\",VLOOKUP($D118,'Girls Do Main Draw Prep'!$A$7:$V$71,20))","v":""},{"$f":"IF($D118=\"\",\"\",VLOOKUP($D118,'Girls Do Main Draw Prep'!$A$7:$V$71,21))","v":""},null,{"$f":"UPPER(IF($D118=\"\",\"\",VLOOKUP($D118,'Girls Do Main Draw Prep'!$A$7:$V$71,2)))","v":""},{"$f":"IF($D118=\"\",\"\",VLOOKUP($D118,'Girls Do Main Draw Prep'!$A$7:$V$71,3))","v":""},null,{"$f":"IF($D118=\"\",\"\",VLOOKUP($D118,'Girls Do Main Draw Prep'!$A$7:$V$71,4))","v":""}]
[null,null,null,null,{"$f":"UPPER(IF($D118=\"\",\"\",VLOOKUP($D118,'Girls Do Main Draw Prep'!$A$7:$V$71,7)))","v":""},{"$f":"IF($D118=\"\",\"\",VLOOKUP($D118,'Girls Do Main Draw Prep'!$A$7:$V$71,8))","v":""},null,{"$f":"IF($D118=\"\",\"\",VLOOKUP($D118,'Girls Do Main Draw Prep'!$A$7:$V$71,9))","v":""}]
[null,null,null,null,null,null,null,null,null,null,null,{"$f":"UPPER(IF(OR(K121=\"a\",K121=\"as\"),J116,IF(OR(K121=\"b\",K121=\"bs\"),J124,)))","v":""}]
[null,null,null,null,null,null,null,null,null,"Umpire",null,{"$f":"UPPER(IF(OR(K121=\"a\",K121=\"as\"),J117,IF(OR(K121=\"b\",K121=\"bs\"),J125,)))","v":""}]
[27,{"$f":"IF($D122=\"\",\"\",VLOOKUP($D122,'Girls Do Main Draw Prep'!$A$7:$V$71,20))","v":""},{"$f":"IF($D122=\"\",\"\",VLOOKUP($D122,'Girls Do Main Draw Prep'!$A$7:$V$71,21))","v":""},null,{"$f":"UPPER(IF($D122=\"\",\"\",VLOOKUP($D122,'Girls Do Main Draw Prep'!$A$7:$V$71,2)))","v":""},{"$f":"IF($D122=\"\",\"\",VLOOKUP($D122,'Girls Do Main Draw Prep'!$A$7:$V$71,3))","v":""},null,{"$f":"IF($D122=\"\",\"\",VLOOKUP($D122,'Girls Do Main Draw Prep'!$A$7:$V$71,4))","v":""}]
[null,null,null,null,{"$f":"UPPER(IF($D122=\"\",\"\",VLOOKUP($D122,'Girls Do Main Draw Prep'!$A$7:$V$71,7)))","v":""},{"$f":"IF($D122=\"\",\"\",VLOOKUP($D122,'Girls Do Main Draw Prep'!$A$7:$V$71,8))","v":""},null,{"$f":"IF($D122=\"\",\"\",VLOOKUP($D122,'Girls Do Main Draw Prep'!$A$7:$V$71,9))","v":""},null,{"$f":"IF(I123=\"a\",E122,IF(I123=\"b\",E124,\"\"))","v":""}]
[null,null,null,null,null,null,null,null,null,{"$f":"UPPER(IF(OR(I125=\"a\",I125=\"as\"),E122,IF(OR(I125=\"b\",I125=\"bs\"),E126,)))","v":""}]
[null,null,null,null,null,null,null,"Umpire",null,{"$f":"UPPER(IF(OR(I125=\"a\",I125=\"as\"),E123,IF(OR(I125=\"b\",I125=\"bs\"),E127,)))","v":""}]
[28,{"$f":"IF($D126=\"\",\"\",VLOOKUP($D126,'Girls Do Main Draw Prep'!$A$7:$V$71,20))","v":""},{"$f":"IF($D126=\"\",\"\",VLOOKUP($D126,'Girls Do Main Draw Prep'!$A$7:$V$71,21))","v":""},null,{"$f":"UPPER(IF($D126=\"\",\"\",VLOOKUP($D126,'Girls Do Main Draw Prep'!$A$7:$V$71,2)))","v":""},{"$f":"IF($D126=\"\",\"\",VLOOKUP($D126,'Girls Do Main Draw Prep'!$A$7:$V$71,3))","v":""},null,{"$f":"IF($D126=\"\",\"\",VLOOKUP($D126,'Girls Do Main Draw Prep'!$A$7:$V$71,4))","v":""}]
[null,null,null,null,{"$f":"UPPER(IF($D126=\"\",\"\",VLOOKUP($D126,'Girls Do Main Draw Prep'!$A$7:$V$71,7)))","v":""},{"$f":"IF($D126=\"\",\"\",VLOOKUP($D126,'Girls Do Main Draw Prep'!$A$7:$V$71,8))","v":""},null,{"$f":"IF($D126=\"\",\"\",VLOOKUP($D126,'Girls Do Main Draw Prep'!$A$7:$V$71,9))","v":""}]
[null,null,null,null,null,null,null,null,null,null,null,null,null,{"$f":"UPPER(IF(OR(M129=\"a\",M129=\"as\"),L120,IF(OR(M129=\"b\",M129=\"bs\"),L136,)))","v":""}]
[null,null,null,null,null,null,null,null,null,null,null,"Umpire",null,{"$f":"UPPER(IF(OR(M129=\"a\",M129=\"as\"),L121,IF(OR(M129=\"b\",M129=\"bs\"),L137,)))","v":""}]
[29,{"$f":"IF($D130=\"\",\"\",VLOOKUP($D130,'Girls Do Main Draw Prep'!$A$7:$V$71,20))","v":""},{"$f":"IF($D130=\"\",\"\",VLOOKUP($D130,'Girls Do Main Draw Prep'!$A$7:$V$71,21))","v":""},null,{"$f":"UPPER(IF($D130=\"\",\"\",VLOOKUP($D130,'Girls Do Main Draw Prep'!$A$7:$V$71,2)))","v":""},{"$f":"IF($D130=\"\",\"\",VLOOKUP($D130,'Girls Do Main Draw Prep'!$A$7:$V$71,3))","v":""},null,{"$f":"IF($D130=\"\",\"\",VLOOKUP($D130,'Girls Do Main Draw Prep'!$A$7:$V$71,4))","v":""}]
[null,null,null,null,{"$f":"UPPER(IF($D130=\"\",\"\",VLOOKUP($D130,'Girls Do Main Draw Prep'!$A$7:$V$71,7)))","v":""},{"$f":"IF($D130=\"\",\"\",VLOOKUP($D130,'Girls Do Main Draw Prep'!$A$7:$V$71,8))","v":""},null,{"$f":"IF($D130=\"\",\"\",VLOOKUP($D130,'Girls Do Main Draw Prep'!$A$7:$V$71,9))","v":""},null,{"$f":"IF(I131=\"a\",E130,IF(I131=\"b\",E132,\"\"))","v":""}]
[null,null,null,null,null,null,null,null,null,{"$f":"UPPER(IF(OR(I133=\"a\",I133=\"as\"),E130,IF(OR(I133=\"b\",I133=\"bs\"),E134,)))","v":""}]
[null,null,null,null,null,null,null,"Umpire",null,{"$f":"UPPER(IF(OR(I133=\"a\",I133=\"as\"),E131,IF(OR(I133=\"b\",I133=\"bs\"),E135,)))","v":""}]
[30,{"$f":"IF($D134=\"\",\"\",VLOOKUP($D134,'Girls Do Main Draw Prep'!$A$7:$V$71,20))","v":""},{"$f":"IF($D134=\"\",\"\",VLOOKUP($D134,'Girls Do Main Draw Prep'!$A$7:$V$71,21))","v":""},null,{"$f":"UPPER(IF($D134=\"\",\"\",VLOOKUP($D134,'Girls Do Main Draw Prep'!$A$7:$V$71,2)))","v":""},{"$f":"IF($D134=\"\",\"\",VLOOKUP($D134,'Girls Do Main Draw Prep'!$A$7:$V$71,3))","v":""},null,{"$f":"IF($D134=\"\",\"\",VLOOKUP($D134,'Girls Do Main Draw Prep'!$A$7:$V$71,4))","v":""}]
[null,null,null,null,{"$f":"UPPER(IF($D134=\"\",\"\",VLOOKUP($D134,'Girls Do Main Draw Prep'!$A$7:$V$71,7)))","v":""},{"$f":"IF($D134=\"\",\"\",VLOOKUP($D134,'Girls Do Main Draw Prep'!$A$7:$V$71,8))","v":""},null,{"$f":"IF($D134=\"\",\"\",VLOOKUP($D134,'Girls Do Main Draw Prep'!$A$7:$V$71,9))","v":""}]
[null,null,null,null,null,null,null,null,null,null,null,{"$f":"UPPER(IF(OR(K137=\"a\",K137=\"as\"),J132,IF(OR(K137=\"b\",K137=\"bs\"),J140,)))","v":""}]
[null,null,null,null,null,null,null,null,null,"Umpire",null,{"$f":"UPPER(IF(OR(K137=\"a\",K137=\"as\"),J133,IF(OR(K137=\"b\",K137=\"bs\"),J141,)))","v":""}]
[31,{"$f":"IF($D138=\"\",\"\",VLOOKUP($D138,'Girls Do Main Draw Prep'!$A$7:$V$71,20))","v":""},{"$f":"IF($D138=\"\",\"\",VLOOKUP($D138,'Girls Do Main Draw Prep'!$A$7:$V$71,21))","v":""},null,{"$f":"UPPER(IF($D138=\"\",\"\",VLOOKUP($D138,'Girls Do Main Draw Prep'!$A$7:$V$71,2)))","v":""},{"$f":"IF($D138=\"\",\"\",VLOOKUP($D138,'Girls Do Main Draw Prep'!$A$7:$V$71,3))","v":""},null,{"$f":"IF($D138=\"\",\"\",VLOOKUP($D138,'Girls Do Main Draw Prep'!$A$7:$V$71,4))","v":""}]
[null,null,null,null,{"$f":"UPPER(IF($D138=\"\",\"\",VLOOKUP($D138,'Girls Do Main Draw Prep'!$A$7:$V$71,7)))","v":""},{"$f":"IF($D138=\"\",\"\",VLOOKUP($D138,'Girls Do Main Draw Prep'!$A$7:$V$71,8))","v":""},null,{"$f":"IF($D138=\"\",\"\",VLOOKUP($D138,'Girls Do Main Draw Prep'!$A$7:$V$71,9))","v":""},null,{"$f":"IF(I139=\"a\",E138,IF(I139=\"b\",E140,\"\"))","v":""}]
[null,null,null,null,null,null,null,null,null,{"$f":"UPPER(IF(OR(I141=\"a\",I141=\"as\"),E138,IF(OR(I141=\"b\",I141=\"bs\"),E142,)))","v":""}]
[null,null,null,null,null,null,null,"Umpire",null,{"$f":"UPPER(IF(OR(I141=\"a\",I141=\"as\"),E139,IF(OR(I141=\"b\",I141=\"bs\"),E143,)))","v":""}]
[32,{"$f":"IF($D142=\"\",\"\",VLOOKUP($D142,'Girls Do Main Draw Prep'!$A$7:$V$71,20))","v":""},{"$f":"IF($D142=\"\",\"\",VLOOKUP($D142,'Girls Do Main Draw Prep'!$A$7:$V$71,21))","v":""},null,{"$f":"UPPER(IF($D142=\"\",\"\",VLOOKUP($D142,'Girls Do Main Draw Prep'!$A$7:$V$71,2)))","v":""},{"$f":"IF($D142=\"\",\"\",VLOOKUP($D142,'Girls Do Main Draw Prep'!$A$7:$V$71,3))","v":""},null,{"$f":"IF($D142=\"\",\"\",VLOOKUP($D142,'Girls Do Main Draw Prep'!$A$7:$V$71,4))","v":""}]
[null,null,null,null,{"$f":"UPPER(IF($D142=\"\",\"\",VLOOKUP($D142,'Girls Do Main Draw Prep'!$A$7:$V$71,7)))","v":""},{"$f":"IF($D142=\"\",\"\",VLOOKUP($D142,'Girls Do Main Draw Prep'!$A$7:$V$71,8))","v":""},null,{"$f":"IF($D142=\"\",\"\",VLOOKUP($D142,'Girls Do Main Draw Prep'!$A$7:$V$71,9))","v":""}]
[]
[null,null,null,null,null,null,null,null,null,null,null,null,null,null,null,null,"Seeded teams on page 1 and 3"]
["Acc. Ranking",null,null,"#","Alternates",null,"Replacing",null,"#","Alternates",null,"Replacing",null,"Draw date/time:",null,{"$f":"P71","v":0}]
["Rkg Date",null,{"$f":"C72","v":0},"1",null,null,null,null,"5",null,null,null,null,"Last Accepted team"]
["Top DA",null,{"$f":"C73","v":0},null,null,null,null,null,null,null,null,null,null,{"$f":"N73","v":0}]
["Last DA",null,{"$f":"C74","v":0},"2",null,null,null,null,"6",null,null,null,null,"Player representatives"]
[]
["Seed ranking",null,null,"3",null,null,null,null,"7",null,null,null,null,{"$f":"N76","v":0}]
["Rkg Date",null,{"$f":"C77","v":0},null,null,null,null,null,null,null,null,null,null,"ITF Referee's signature"]
["Top seed",null,{"$f":"C78","v":0},"4",null,null,null,null,"8"]
["Last seed",null,{"$f":"C79","v":0},null,null,null,null,null,null,null,null,null,null,{"$f":"N79","v":0}]
[null,"St.",{"$f":"IF(OR(F153=\"Week 3\",F153=\"Masters\"),\"CP\",\"Rank\")","v":"Rank"},"Seed","Family Name","First name",null,"Nationality",null,"2nd Round",null,"3rd Round",null,"Quarterfinals",null,"Semifinalists"]
[]
[33,{"$f":"IF($D157=\"\",\"\",VLOOKUP($D157,'Girls Do Main Draw Prep'!$A$7:$V$71,20))","v":""},{"$f":"IF($D157=\"\",\"\",VLOOKUP($D157,'Girls Do Main Draw Prep'!$A$7:$V$71,21))","v":""},null,{"$f":"UPPER(IF($D157=\"\",\"\",VLOOKUP($D157,'Girls Do Main Draw Prep'!$A$7:$V$71,2)))","v":""},{"$f":"IF($D157=\"\",\"\",VLOOKUP($D157,'Girls Do Main Draw Prep'!$A$7:$V$71,3))","v":""},null,{"$f":"IF($D157=\"\",\"\",VLOOKUP($D157,'Girls Do Main Draw Prep'!$A$7:$V$71,4))","v":""},null,null,null,null,null,null,null,null,"Page 3(5)",null,null,{"$f":"'SetUp Officials'!P135","v":0}]
[null,null,null,null,{"$f":"UPPER(IF($D157=\"\",\"\",VLOOKUP($D157,'Girls Do Main Draw Prep'!$A$7:$V$71,7)))","v":""},{"$f":"IF($D157=\"\",\"\",VLOOKUP($D157,'Girls Do Main Draw Prep'!$A$7:$V$71,8))","v":""},null,{"$f":"IF($D157=\"\",\"\",VLOOKUP($D157,'Girls Do Main Draw Prep'!$A$7:$V$71,9))","v":""},null,{"$f":"IF(I158=\"a\",E157,IF(I158=\"b\",E159,\"\"))","v":""},null,null,null,null,null,null,null,null,null,{"$f":"'SetUp Officials'!P136","v":0}]
[null,null,null,null,null,null,null,null,null,{"$f":"UPPER(IF(OR(I160=\"a\",I160=\"as\"),E157,IF(OR(I160=\"b\",I160=\"bs\"),E161,)))","v":""},null,null,null,null,null,null,null,null,null,{"$f":"'SetUp Officials'!P137","v":0}]
[null,null,null,null,null,null,null,"Umpire",null,{"$f":"UPPER(IF(OR(I160=\"a\",I160=\"as\"),E158,IF(OR(I160=\"b\",I160=\"bs\"),E162,)))","v":""},null,null,null,null,null,null,null,null,null,{"$f":"'SetUp Officials'!P138","v":0}]
[34,{"$f":"IF($D161=\"\",\"\",VLOOKUP($D161,'Girls Do Main Draw Prep'!$A$7:$V$71,20))","v":""},{"$f":"IF($D161=\"\",\"\",VLOOKUP($D161,'Girls Do Main Draw Prep'!$A$7:$V$71,21))","v":""},null,{"$f":"UPPER(IF($D161=\"\",\"\",VLOOKUP($D161,'Girls Do Main Draw Prep'!$A$7:$V$71,2)))","v":""},{"$f":"IF($D161=\"\",\"\",VLOOKUP($D161,'Girls Do Main Draw Prep'!$A$7:$V$71,3))","v":""},null,{"$f":"IF($D161=\"\",\"\",VLOOKUP($D161,'Girls Do Main Draw Prep'!$A$7:$V$71,4))","v":""},null,null,null,null,null,null,null,null,null,null,null,{"$f":"'SetUp Officials'!P139","v":0}]
[null,null,null,null,{"$f":"UPPER(IF($D161=\"\",\"\",VLOOKUP($D161,'Girls Do Main Draw Prep'!$A$7:$V$71,7)))","v":""},{"$f":"IF($D161=\"\",\"\",VLOOKUP($D161,'Girls Do Main Draw Prep'!$A$7:$V$71,8))","v":""},null,{"$f":"IF($D161=\"\",\"\",VLOOKUP($D161,'Girls Do Main Draw Prep'!$A$7:$V$71,9))","v":""},null,null,null,null,null,null,null,null,null,null,null,{"$f":"'SetUp Officials'!P140","v":0}]
[null,null,null,null,null,null,null,null,null,null,null,{"$f":"UPPER(IF(OR(K164=\"a\",K164=\"as\"),J159,IF(OR(K164=\"b\",K164=\"bs\"),J167,)))","v":""},null,null,null,null,null,null,null,{"$f":"'SetUp Officials'!P141","v":0}]
[null,null,null,null,null,null,null,null,null,"Umpire",null,{"$f":"UPPER(IF(OR(K164=\"a\",K164=\"as\"),J160,IF(OR(K164=\"b\",K164=\"bs\"),J168,)))","v":""},null,null,null,null,null,null,null,{"$f":"'SetUp Officials'!P142","v":0}]
[35,{"$f":"IF($D165=\"\",\"\",VLOOKUP($D165,'Girls Do Main Draw Prep'!$A$7:$V$71,20))","v":""},{"$f":"IF($D165=\"\",\"\",VLOOKUP($D165,'Girls Do Main Draw Prep'!$A$7:$V$71,21))","v":""},null,{"$f":"UPPER(IF($D165=\"\",\"\",VLOOKUP($D165,'Girls Do Main Draw Prep'!$A$7:$V$71,2)))","v":""},{"$f":"IF($D165=\"\",\"\",VLOOKUP($D165,'Girls Do Main Draw Prep'!$A$7:$V$71,3))","v":""},null,{"$f":"IF($D165=\"\",\"\",VLOOKUP($D165,'Girls Do Main Draw Prep'!$A$7:$V$71,4))","v":""},null,null,null,null,null,null,null,null,null,null,null,{"$f":"'SetUp Officials'!P143","v":0}]
[null,null,null,null,{"$f":"UPPER(IF($D165=\"\",\"\",VLOOKUP($D165,'Girls Do Main Draw Prep'!$A$7:$V$71,7)))","v":""},{"$f":"IF($D165=\"\",\"\",VLOOKUP($D165,'Girls Do Main Draw Prep'!$A$7:$V$71,8))","v":""},null,{"$f":"IF($D165=\"\",\"\",VLOOKUP($D165,'Girls Do Main Draw Prep'!$A$7:$V$71,9))","v":""},null,{"$f":"IF(I166=\"a\",E165,IF(I166=\"b\",E167,\"\"))","v":""},null,null,null,null,null,null,null,null,null,{"$f":"'SetUp Officials'!P144","v":0}]
[null,null,null,null,null,null,null,null,null,{"$f":"UPPER(IF(OR(I168=\"a\",I168=\"as\"),E165,IF(OR(I168=\"b\",I168=\"bs\"),E169,)))","v":""}]
[null,null,null,null,null,null,null,"Umpire",null,{"$f":"UPPER(IF(OR(I168=\"a\",I168=\"as\"),E166,IF(OR(I168=\"b\",I168=\"bs\"),E170,)))","v":""}]
[36,{"$f":"IF($D169=\"\",\"\",VLOOKUP($D169,'Girls Do Main Draw Prep'!$A$7:$V$71,20))","v":""},{"$f":"IF($D169=\"\",\"\",VLOOKUP($D169,'Girls Do Main Draw Prep'!$A$7:$V$71,21))","v":""},null,{"$f":"UPPER(IF($D169=\"\",\"\",VLOOKUP($D169,'Girls Do Main Draw Prep'!$A$7:$V$71,2)))","v":""},{"$f":"IF($D169=\"\",\"\",VLOOKUP($D169,'Girls Do Main Draw Prep'!$A$7:$V$71,3))","v":""},null,{"$f":"IF($D169=\"\",\"\",VLOOKUP($D169,'Girls Do Main Draw Prep'!$A$7:$V$71,4))","v":""}]
[null,null,null,null,{"$f":"UPPER(IF($D169=\"\",\"\",VLOOKUP($D169,'Girls Do Main Draw Prep'!$A$7:$V$71,7)))","v":""},{"$f":"IF($D169=\"\",\"\",VLOOKUP($D169,'Girls Do Main Draw Prep'!$A$7:$V$71,8))","v":""},null,{"$f":"IF($D169=\"\",\"\",VLOOKUP($D169,'Girls Do Main Draw Prep'!$A$7:$V$71,9))","v":""}]
[null,null,null,null,null,null,null,null,null,null,null,null,null,{"$f":"UPPER(IF(OR(M172=\"a\",M172=\"as\"),L163,IF(OR(M172=\"b\",M172=\"bs\"),L179,)))","v":""}]
[null,null,null,null,null,null,null,null,null,null,null,"Umpire",null,{"$f":"UPPER(IF(OR(M172=\"a\",M172=\"as\"),L164,IF(OR(M172=\"b\",M172=\"bs\"),L180,)))","v":""}]
[37,{"$f":"IF($D173=\"\",\"\",VLOOKUP($D173,'Girls Do Main Draw Prep'!$A$7:$V$71,20))","v":""},{"$f":"IF($D173=\"\",\"\",VLOOKUP($D173,'Girls Do Main Draw Prep'!$A$7:$V$71,21))","v":""},null,{"$f":"UPPER(IF($D173=\"\",\"\",VLOOKUP($D173,'Girls Do Main Draw Prep'!$A$7:$V$71,2)))","v":""},{"$f":"IF($D173=\"\",\"\",VLOOKUP($D173,'Girls Do Main Draw Prep'!$A$7:$V$71,3))","v":""},null,{"$f":"IF($D173=\"\",\"\",VLOOKUP($D173,'Girls Do Main Draw Prep'!$A$7:$V$71,4))","v":""}]
[null,null,null,null,{"$f":"UPPER(IF($D173=\"\",\"\",VLOOKUP($D173,'Girls Do Main Draw Prep'!$A$7:$V$71,7)))","v":""},{"$f":"IF($D173=\"\",\"\",VLOOKUP($D173,'Girls Do Main Draw Prep'!$A$7:$V$71,8))","v":""},null,{"$f":"IF($D173=\"\",\"\",VLOOKUP($D173,'Girls Do Main Draw Prep'!$A$7:$V$71,9))","v":""},null,{"$f":"IF(I174=\"a\",E173,IF(I174=\"b\",E175,\"\"))","v":""}]
[null,null,null,null,null,null,null,null,null,{"$f":"UPPER(IF(OR(I176=\"a\",I176=\"as\"),E173,IF(OR(I176=\"b\",I176=\"bs\"),E177,)))","v":""}]
[null,null,null,null,null,null,null,"Umpire",null,{"$f":"UPPER(IF(OR(I176=\"a\",I176=\"as\"),E174,IF(OR(I176=\"b\",I176=\"bs\"),E178,)))","v":""}]
[38,{"$f":"IF($D177=\"\",\"\",VLOOKUP($D177,'Girls Do Main Draw Prep'!$A$7:$V$71,20))","v":""},{"$f":"IF($D177=\"\",\"\",VLOOKUP($D177,'Girls Do Main Draw Prep'!$A$7:$V$71,21))","v":""},null,{"$f":"UPPER(IF($D177=\"\",\"\",VLOOKUP($D177,'Girls Do Main Draw Prep'!$A$7:$V$71,2)))","v":""},{"$f":"IF($D177=\"\",\"\",VLOOKUP($D177,'Girls Do Main Draw Prep'!$A$7:$V$71,3))","v":""},null,{"$f":"IF($D177=\"\",\"\",VLOOKUP($D177,'Girls Do Main Draw Prep'!$A$7:$V$71,4))","v":""}]
[null,null,null,null,{"$f":"UPPER(IF($D177=\"\",\"\",VLOOKUP($D177,'Girls Do Main Draw Prep'!$A$7:$V$71,7)))","v":""},{"$f":"IF($D177=\"\",\"\",VLOOKUP($D177,'Girls Do Main Draw Prep'!$A$7:$V$71,8))","v":""},null,{"$f":"IF($D177=\"\",\"\",VLOOKUP($D177,'Girls Do Main Draw Prep'!$A$7:$V$71,9))","v":""}]
[null,null,null,null,null,null,null,null,null,null,null,{"$f":"UPPER(IF(OR(K180=\"a\",K180=\"as\"),J175,IF(OR(K180=\"b\",K180=\"bs\"),J183,)))","v":""}]
[null,null,null,null,null,null,null,null,null,"Umpire",null,{"$f":"UPPER(IF(OR(K180=\"a\",K180=\"as\"),J176,IF(OR(K180=\"b\",K180=\"bs\"),J184,)))","v":""}]
[39,{"$f":"IF($D181=\"\",\"\",VLOOKUP($D181,'Girls Do Main Draw Prep'!$A$7:$V$71,20))","v":""},{"$f":"IF($D181=\"\",\"\",VLOOKUP($D181,'Girls Do Main Draw Prep'!$A$7:$V$71,21))","v":""},null,{"$f":"UPPER(IF($D181=\"\",\"\",VLOOKUP($D181,'Girls Do Main Draw Prep'!$A$7:$V$71,2)))","v":""},{"$f":"IF($D181=\"\",\"\",VLOOKUP($D181,'Girls Do Main Draw Prep'!$A$7:$V$71,3))","v":""},null,{"$f":"IF($D181=\"\",\"\",VLOOKUP($D181,'Girls Do Main Draw Prep'!$A$7:$V$71,4))","v":""}]
[null,null,null,null,{"$f":"UPPER(IF($D181=\"\",\"\",VLOOKUP($D181,'Girls Do Main Draw Prep'!$A$7:$V$71,7)))","v":""},{"$f":"IF($D181=\"\",\"\",VLOOKUP($D181,'Girls Do Main Draw Prep'!$A$7:$V$71,8))","v":""},null,{"$f":"IF($D181=\"\",\"\",VLOOKUP($D181,'Girls Do Main Draw Prep'!$A$7:$V$71,9))","v":""},null,{"$f":"IF(I182=\"a\",E181,IF(I182=\"b\",E183,\"\"))","v":""}]
[null,null,null,null,null,null,null,null,null,{"$f":"UPPER(IF(OR(I184=\"a\",I184=\"as\"),E181,IF(OR(I184=\"b\",I184=\"bs\"),E185,)))","v":""}]
[null,null,null,null,null,null,null,"Umpire",null,{"$f":"UPPER(IF(OR(I184=\"a\",I184=\"as\"),E182,IF(OR(I184=\"b\",I184=\"bs\"),E186,)))","v":""}]
[40,{"$f":"IF($D185=\"\",\"\",VLOOKUP($D185,'Girls Do Main Draw Prep'!$A$7:$V$71,20))","v":""},{"$f":"IF($D185=\"\",\"\",VLOOKUP($D185,'Girls Do Main Draw Prep'!$A$7:$V$71,21))","v":""},null,{"$f":"UPPER(IF($D185=\"\",\"\",VLOOKUP($D185,'Girls Do Main Draw Prep'!$A$7:$V$71,2)))","v":""},{"$f":"IF($D185=\"\",\"\",VLOOKUP($D185,'Girls Do Main Draw Prep'!$A$7:$V$71,3))","v":""},null,{"$f":"IF($D185=\"\",\"\",VLOOKUP($D185,'Girls Do Main Draw Prep'!$A$7:$V$71,4))","v":""}]
[null,null,null,null,{"$f":"UPPER(IF($D185=\"\",\"\",VLOOKUP($D185,'Girls Do Main Draw Prep'!$A$7:$V$71,7)))","v":""},{"$f":"IF($D185=\"\",\"\",VLOOKUP($D185,'Girls Do Main Draw Prep'!$A$7:$V$71,8))","v":""},null,{"$f":"IF($D185=\"\",\"\",VLOOKUP($D185,'Girls Do Main Draw Prep'!$A$7:$V$71,9))","v":""}]
[null,null,null,null,null,null,null,null,null,null,null,null,null,null,null,{"$f":"UPPER(IF(OR(O188=\"a\",O188=\"as\"),N171,IF(OR(O188=\"b\",O188=\"bs\"),N203,)))","v":""}]
[null,null,null,null,null,null,null,null,null,null,null,null,null,"Umpire",null,{"$f":"UPPER(IF(OR(O188=\"a\",O188=\"as\"),N172,IF(OR(O188=\"b\",O188=\"bs\"),N204,)))","v":""}]
[41,{"$f":"IF($D189=\"\",\"\",VLOOKUP($D189,'Girls Do Main Draw Prep'!$A$7:$V$71,20))","v":""},{"$f":"IF($D189=\"\",\"\",VLOOKUP($D189,'Girls Do Main Draw Prep'!$A$7:$V$71,21))","v":""},null,{"$f":"UPPER(IF($D189=\"\",\"\",VLOOKUP($D189,'Girls Do Main Draw Prep'!$A$7:$V$71,2)))","v":""},{"$f":"IF($D189=\"\",\"\",VLOOKUP($D189,'Girls Do Main Draw Prep'!$A$7:$V$71,3))","v":""},null,{"$f":"IF($D189=\"\",\"\",VLOOKUP($D189,'Girls Do Main Draw Prep'!$A$7:$V$71,4))","v":""}]
[null,null,null,null,{"$f":"UPPER(IF($D189=\"\",\"\",VLOOKUP($D189,'Girls Do Main Draw Prep'!$A$7:$V$71,7)))","v":""},{"$f":"IF($D189=\"\",\"\",VLOOKUP($D189,'Girls Do Main Draw Prep'!$A$7:$V$71,8))","v":""},null,{"$f":"IF($D189=\"\",\"\",VLOOKUP($D189,'Girls Do Main Draw Prep'!$A$7:$V$71,9))","v":""},null,{"$f":"IF(I190=\"a\",E189,IF(I190=\"b\",E191,\"\"))","v":""}]
[null,null,null,null,null,null,null,null,null,{"$f":"UPPER(IF(OR(I192=\"a\",I192=\"as\"),E189,IF(OR(I192=\"b\",I192=\"bs\"),E193,)))","v":""}]
[null,null,null,null,null,null,null,"Umpire",null,{"$f":"UPPER(IF(OR(I192=\"a\",I192=\"as\"),E190,IF(OR(I192=\"b\",I192=\"bs\"),E194,)))","v":""}]
[42,{"$f":"IF($D193=\"\",\"\",VLOOKUP($D193,'Girls Do Main Draw Prep'!$A$7:$V$71,20))","v":""},{"$f":"IF($D193=\"\",\"\",VLOOKUP($D193,'Girls Do Main Draw Prep'!$A$7:$V$71,21))","v":""},null,{"$f":"UPPER(IF($D193=\"\",\"\",VLOOKUP($D193,'Girls Do Main Draw Prep'!$A$7:$V$71,2)))","v":""},{"$f":"IF($D193=\"\",\"\",VLOOKUP($D193,'Girls Do Main Draw Prep'!$A$7:$V$71,3))","v":""},null,{"$f":"IF($D193=\"\",\"\",VLOOKUP($D193,'Girls Do Main Draw Prep'!$A$7:$V$71,4))","v":""}]
[null,null,null,null,{"$f":"UPPER(IF($D193=\"\",\"\",VLOOKUP($D193,'Girls Do Main Draw Prep'!$A$7:$V$71,7)))","v":""},{"$f":"IF($D193=\"\",\"\",VLOOKUP($D193,'Girls Do Main Draw Prep'!$A$7:$V$71,8))","v":""},null,{"$f":"IF($D193=\"\",\"\",VLOOKUP($D193,'Girls Do Main Draw Prep'!$A$7:$V$71,9))","v":""}]
[null,null,null,null,null,null,null,null,null,null,null,{"$f":"UPPER(IF(OR(K196=\"a\",K196=\"as\"),J191,IF(OR(K196=\"b\",K196=\"bs\"),J199,)))","v":""}]
[null,null,null,null,null,null,null,null,null,"Umpire",null,{"$f":"UPPER(IF(OR(K196=\"a\",K196=\"as\"),J192,IF(OR(K196=\"b\",K196=\"bs\"),J200,)))","v":""}]
[43,{"$f":"IF($D197=\"\",\"\",VLOOKUP($D197,'Girls Do Main Draw Prep'!$A$7:$V$71,20))","v":""},{"$f":"IF($D197=\"\",\"\",VLOOKUP($D197,'Girls Do Main Draw Prep'!$A$7:$V$71,21))","v":""},null,{"$f":"UPPER(IF($D197=\"\",\"\",VLOOKUP($D197,'Girls Do Main Draw Prep'!$A$7:$V$71,2)))","v":""},{"$f":"IF($D197=\"\",\"\",VLOOKUP($D197,'Girls Do Main Draw Prep'!$A$7:$V$71,3))","v":""},null,{"$f":"IF($D197=\"\",\"\",VLOOKUP($D197,'Girls Do Main Draw Prep'!$A$7:$V$71,4))","v":""}]
[null,null,null,null,{"$f":"UPPER(IF($D197=\"\",\"\",VLOOKUP($D197,'Girls Do Main Draw Prep'!$A$7:$V$71,7)))","v":""},{"$f":"IF($D197=\"\",\"\",VLOOKUP($D197,'Girls Do Main Draw Prep'!$A$7:$V$71,8))","v":""},null,{"$f":"IF($D197=\"\",\"\",VLOOKUP($D197,'Girls Do Main Draw Prep'!$A$7:$V$71,9))","v":""},null,{"$f":"IF(I198=\"a\",E197,IF(I198=\"b\",E199,\"\"))","v":""}]
[null,null,null,null,null,null,null,null,null,{"$f":"UPPER(IF(OR(I200=\"a\",I200=\"as\"),E197,IF(OR(I200=\"b\",I200=\"bs\"),E201,)))","v":""}]
[null,null,null,null,null,null,null,"Umpire",null,{"$f":"UPPER(IF(OR(I200=\"a\",I200=\"as\"),E198,IF(OR(I200=\"b\",I200=\"bs\"),E202,)))","v":""}]
[44,{"$f":"IF($D201=\"\",\"\",VLOOKUP($D201,'Girls Do Main Draw Prep'!$A$7:$V$71,20))","v":""},{"$f":"IF($D201=\"\",\"\",VLOOKUP($D201,'Girls Do Main Draw Prep'!$A$7:$V$71,21))","v":""},null,{"$f":"UPPER(IF($D201=\"\",\"\",VLOOKUP($D201,'Girls Do Main Draw Prep'!$A$7:$V$71,2)))","v":""},{"$f":"IF($D201=\"\",\"\",VLOOKUP($D201,'Girls Do Main Draw Prep'!$A$7:$V$71,3))","v":""},null,{"$f":"IF($D201=\"\",\"\",VLOOKUP($D201,'Girls Do Main Draw Prep'!$A$7:$V$71,4))","v":""}]
[null,null,null,null,{"$f":"UPPER(IF($D201=\"\",\"\",VLOOKUP($D201,'Girls Do Main Draw Prep'!$A$7:$V$71,7)))","v":""},{"$f":"IF($D201=\"\",\"\",VLOOKUP($D201,'Girls Do Main Draw Prep'!$A$7:$V$71,8))","v":""},null,{"$f":"IF($D201=\"\",\"\",VLOOKUP($D201,'Girls Do Main Draw Prep'!$A$7:$V$71,9))","v":""}]
[null,null,null,null,null,null,null,null,null,null,null,null,null,{"$f":"UPPER(IF(OR(M204=\"a\",M204=\"as\"),L195,IF(OR(M204=\"b\",M204=\"bs\"),L211,)))","v":""}]
[null,null,null,null,null,null,null,null,null,null,null,"Umpire",null,{"$f":"UPPER(IF(OR(M204=\"a\",M204=\"as\"),L196,IF(OR(M204=\"b\",M204=\"bs\"),L212,)))","v":""}]
[45,{"$f":"IF($D205=\"\",\"\",VLOOKUP($D205,'Girls Do Main Draw Prep'!$A$7:$V$71,20))","v":""},{"$f":"IF($D205=\"\",\"\",VLOOKUP($D205,'Girls Do Main Draw Prep'!$A$7:$V$71,21))","v":""},null,{"$f":"UPPER(IF($D205=\"\",\"\",VLOOKUP($D205,'Girls Do Main Draw Prep'!$A$7:$V$71,2)))","v":""},{"$f":"IF($D205=\"\",\"\",VLOOKUP($D205,'Girls Do Main Draw Prep'!$A$7:$V$71,3))","v":""},null,{"$f":"IF($D205=\"\",\"\",VLOOKUP($D205,'Girls Do Main Draw Prep'!$A$7:$V$71,4))","v":""}]
[null,null,null,null,{"$f":"UPPER(IF($D205=\"\",\"\",VLOOKUP($D205,'Girls Do Main Draw Prep'!$A$7:$V$71,7)))","v":""},{"$f":"IF($D205=\"\",\"\",VLOOKUP($D205,'Girls Do Main Draw Prep'!$A$7:$V$71,8))","v":""},null,{"$f":"IF($D205=\"\",\"\",VLOOKUP($D205,'Girls Do Main Draw Prep'!$A$7:$V$71,9))","v":""},null,{"$f":"IF(I206=\"a\",E205,IF(I206=\"b\",E207,\"\"))","v":""}]
[null,null,null,null,null,null,null,null,null,{"$f":"UPPER(IF(OR(I208=\"a\",I208=\"as\"),E205,IF(OR(I208=\"b\",I208=\"bs\"),E209,)))","v":""}]
[null,null,null,null,null,null,null,"Umpire",null,{"$f":"UPPER(IF(OR(I208=\"a\",I208=\"as\"),E206,IF(OR(I208=\"b\",I208=\"bs\"),E210,)))","v":""}]
[46,{"$f":"IF($D209=\"\",\"\",VLOOKUP($D209,'Girls Do Main Draw Prep'!$A$7:$V$71,20))","v":""},{"$f":"IF($D209=\"\",\"\",VLOOKUP($D209,'Girls Do Main Draw Prep'!$A$7:$V$71,21))","v":""},null,{"$f":"UPPER(IF($D209=\"\",\"\",VLOOKUP($D209,'Girls Do Main Draw Prep'!$A$7:$V$71,2)))","v":""},{"$f":"IF($D209=\"\",\"\",VLOOKUP($D209,'Girls Do Main Draw Prep'!$A$7:$V$71,3))","v":""},null,{"$f":"IF($D209=\"\",\"\",VLOOKUP($D209,'Girls Do Main Draw Prep'!$A$7:$V$71,4))","v":""}]
[null,null,null,null,{"$f":"UPPER(IF($D209=\"\",\"\",VLOOKUP($D209,'Girls Do Main Draw Prep'!$A$7:$V$71,7)))","v":""},{"$f":"IF($D209=\"\",\"\",VLOOKUP($D209,'Girls Do Main Draw Prep'!$A$7:$V$71,8))","v":""},null,{"$f":"IF($D209=\"\",\"\",VLOOKUP($D209,'Girls Do Main Draw Prep'!$A$7:$V$71,9))","v":""}]
[null,null,null,null,null,null,null,null,null,null,null,{"$f":"UPPER(IF(OR(K212=\"a\",K212=\"as\"),J207,IF(OR(K212=\"b\",K212=\"bs\"),J215,)))","v":""}]
[null,null,null,null,null,null,null,null,null,"Umpire",null,{"$f":"UPPER(IF(OR(K212=\"a\",K212=\"as\"),J208,IF(OR(K212=\"b\",K212=\"bs\"),J216,)))","v":""}]
[47,{"$f":"IF($D213=\"\",\"\",VLOOKUP($D213,'Girls Do Main Draw Prep'!$A$7:$V$71,20))","v":""},{"$f":"IF($D213=\"\",\"\",VLOOKUP($D213,'Girls Do Main Draw Prep'!$A$7:$V$71,21))","v":""},null,{"$f":"UPPER(IF($D213=\"\",\"\",VLOOKUP($D213,'Girls Do Main Draw Prep'!$A$7:$V$71,2)))","v":""},{"$f":"IF($D213=\"\",\"\",VLOOKUP($D213,'Girls Do Main Draw Prep'!$A$7:$V$71,3))","v":""},null,{"$f":"IF($D213=\"\",\"\",VLOOKUP($D213,'Girls Do Main Draw Prep'!$A$7:$V$71,4))","v":""}]
[null,null,null,null,{"$f":"UPPER(IF($D213=\"\",\"\",VLOOKUP($D213,'Girls Do Main Draw Prep'!$A$7:$V$71,7)))","v":""},{"$f":"IF($D213=\"\",\"\",VLOOKUP($D213,'Girls Do Main Draw Prep'!$A$7:$V$71,8))","v":""},null,{"$f":"IF($D213=\"\",\"\",VLOOKUP($D213,'Girls Do Main Draw Prep'!$A$7:$V$71,9))","v":""},null,{"$f":"IF(I214=\"a\",E213,IF(I214=\"b\",E215,\"\"))","v":""}]
[null,null,null,null,null,null,null,null,null,{"$f":"UPPER(IF(OR(I216=\"a\",I216=\"as\"),E213,IF(OR(I216=\"b\",I216=\"bs\"),E217,)))","v":""}]
[null,null,null,null,null,null,null,"Umpire",null,{"$f":"UPPER(IF(OR(I216=\"a\",I216=\"as\"),E214,IF(OR(I216=\"b\",I216=\"bs\"),E218,)))","v":""}]
[48,{"$f":"IF($D217=\"\",\"\",VLOOKUP($D217,'Girls Do Main Draw Prep'!$A$7:$V$71,20))","v":""},{"$f":"IF($D217=\"\",\"\",VLOOKUP($D217,'Girls Do Main Draw Prep'!$A$7:$V$71,21))","v":""},null,{"$f":"UPPER(IF($D217=\"\",\"\",VLOOKUP($D217,'Girls Do Main Draw Prep'!$A$7:$V$71,2)))","v":""},{"$f":"IF($D217=\"\",\"\",VLOOKUP($D217,'Girls Do Main Draw Prep'!$A$7:$V$71,3))","v":""},null,{"$f":"IF($D217=\"\",\"\",VLOOKUP($D217,'Girls Do Main Draw Prep'!$A$7:$V$71,4))","v":""}]
[null,null,null,null,{"$f":"UPPER(IF($D217=\"\",\"\",VLOOKUP($D217,'Girls Do Main Draw Prep'!$A$7:$V$71,7)))","v":""},{"$f":"IF($D217=\"\",\"\",VLOOKUP($D217,'Girls Do Main Draw Prep'!$A$7:$V$71,8))","v":""},null,{"$f":"IF($D217=\"\",\"\",VLOOKUP($D217,'Girls Do Main Draw Prep'!$A$7:$V$71,9))","v":""}]
[]
[null,null,null,null,null,null,null,null,null,null,null,null,null,null,null,null,"Alternate teams on page 2 and 4"]
["Acc. Ranking",null,null,"#","Seeded teams","#","Seeded teams",null,"#","Seeded teams","#","Seeded teams",null,"Draw date/time:",null,{"$f":"P71","v":0}]
["Rkg Date",null,{"$f":"C72","v":0},1,{"$f":"E72","v":0},"5",{"$f":"G72","v":0},null,"9",{"$f":"J72","v":0},"13",{"$f":"L72","v":0},null,"Last Accepted team"]
["Top DA",null,{"$f":"C73","v":0},0,0,0,0,null,0,0,0,0,null,{"$f":"N73","v":0}]
["Last DA",null,{"$f":"C74","v":0},2,0,"6",0,null,"10",0,"14",0,null,"Player representatives"]
[null,null,null,0,0,0,0,null,0,0,0,0]
["Seed ranking",null,null,3,0,"7",0,null,"11",0,"14",0,null,{"$f":"N76","v":0}]
["Rkg Date",null,{"$f":"C77","v":0},0,0,0,0,null,0,0,0,0,null,"ITF Referee's signature"]
["Top seed",null,{"$f":"C78","v":0},4,0,"8",0,null,"12",0,"14",0]
["Last seed",null,{"$f":"C79","v":0},0,0,0,0,null,0,0,0,0,null,{"$f":"N79","v":0}]
[null,"St.",{"$f":"IF(OR(F228=\"Week 3\",F228=\"Masters\"),\"CP\",\"Rank\")","v":"Rank"},"Seed","Family Name","First name",null,"Nationality",null,"2nd Round",null,"3rd Round",null,"Quarterfinals",null,"Semifinalists"]
[]
[49,{"$f":"IF($D232=\"\",\"\",VLOOKUP($D232,'Girls Do Main Draw Prep'!$A$7:$V$71,20))","v":""},{"$f":"IF($D232=\"\",\"\",VLOOKUP($D232,'Girls Do Main Draw Prep'!$A$7:$V$71,21))","v":""},null,{"$f":"UPPER(IF($D232=\"\",\"\",VLOOKUP($D232,'Girls Do Main Draw Prep'!$A$7:$V$71,2)))","v":""},{"$f":"IF($D232=\"\",\"\",VLOOKUP($D232,'Girls Do Main Draw Prep'!$A$7:$V$71,3))","v":""},null,{"$f":"IF($D232=\"\",\"\",VLOOKUP($D232,'Girls Do Main Draw Prep'!$A$7:$V$71,4))","v":""},null,null,null,null,null,null,null,null,"Page 4(5)",null,null,{"$f":"'SetUp Officials'!P210","v":0}]
[null,null,null,null,{"$f":"UPPER(IF($D232=\"\",\"\",VLOOKUP($D232,'Girls Do Main Draw Prep'!$A$7:$V$71,7)))","v":""},{"$f":"IF($D232=\"\",\"\",VLOOKUP($D232,'Girls Do Main Draw Prep'!$A$7:$V$71,8))","v":""},null,{"$f":"IF($D232=\"\",\"\",VLOOKUP($D232,'Girls Do Main Draw Prep'!$A$7:$V$71,9))","v":""},null,{"$f":"IF(I233=\"a\",E232,IF(I233=\"b\",E234,\"\"))","v":""},null,null,null,null,null,null,null,null,null,{"$f":"'SetUp Officials'!P211","v":0}]
[null,null,null,null,null,null,null,null,null,{"$f":"UPPER(IF(OR(I235=\"a\",I235=\"as\"),E232,IF(OR(I235=\"b\",I235=\"bs\"),E236,)))","v":""},null,null,null,null,null,null,null,null,null,{"$f":"'SetUp Officials'!P212","v":0}]
[null,null,null,null,null,null,null,"Umpire",null,{"$f":"UPPER(IF(OR(I235=\"a\",I235=\"as\"),E233,IF(OR(I235=\"b\",I235=\"bs\"),E237,)))","v":""},null,null,null,null,null,null,null,null,null,{"$f":"'SetUp Officials'!P213","v":0}]
[50,{"$f":"IF($D236=\"\",\"\",VLOOKUP($D236,'Girls Do Main Draw Prep'!$A$7:$V$71,20))","v":""},{"$f":"IF($D236=\"\",\"\",VLOOKUP($D236,'Girls Do Main Draw Prep'!$A$7:$V$71,21))","v":""},null,{"$f":"UPPER(IF($D236=\"\",\"\",VLOOKUP($D236,'Girls Do Main Draw Prep'!$A$7:$V$71,2)))","v":""},{"$f":"IF($D236=\"\",\"\",VLOOKUP($D236,'Girls Do Main Draw Prep'!$A$7:$V$71,3))","v":""},null,{"$f":"IF($D236=\"\",\"\",VLOOKUP($D236,'Girls Do Main Draw Prep'!$A$7:$V$71,4))","v":""},null,null,null,null,null,null,null,null,null,null,null,{"$f":"'SetUp Officials'!P214","v":0}]
[null,null,null,null,{"$f":"UPPER(IF($D236=\"\",\"\",VLOOKUP($D236,'Girls Do Main Draw Prep'!$A$7:$V$71,7)))","v":""},{"$f":"IF($D236=\"\",\"\",VLOOKUP($D236,'Girls Do Main Draw Prep'!$A$7:$V$71,8))","v":""},null,{"$f":"IF($D236=\"\",\"\",VLOOKUP($D236,'Girls Do Main Draw Prep'!$A$7:$V$71,9))","v":""},null,null,null,null,null,null,null,null,null,null,null,{"$f":"'SetUp Officials'!P215","v":0}]
[null,null,null,null,null,null,null,null,null,null,null,{"$f":"UPPER(IF(OR(K239=\"a\",K239=\"as\"),J234,IF(OR(K239=\"b\",K239=\"bs\"),J242,)))","v":""},null,null,null,null,null,null,null,{"$f":"'SetUp Officials'!P216","v":0}]
[null,null,null,null,null,null,null,null,null,"Umpire",null,{"$f":"UPPER(IF(OR(K239=\"a\",K239=\"as\"),J235,IF(OR(K239=\"b\",K239=\"bs\"),J243,)))","v":""},null,null,null,null,null,null,null,{"$f":"'SetUp Officials'!P217","v":0}]
[51,{"$f":"IF($D240=\"\",\"\",VLOOKUP($D240,'Girls Do Main Draw Prep'!$A$7:$V$71,20))","v":""},{"$f":"IF($D240=\"\",\"\",VLOOKUP($D240,'Girls Do Main Draw Prep'!$A$7:$V$71,21))","v":""},null,{"$f":"UPPER(IF($D240=\"\",\"\",VLOOKUP($D240,'Girls Do Main Draw Prep'!$A$7:$V$71,2)))","v":""},{"$f":"IF($D240=\"\",\"\",VLOOKUP($D240,'Girls Do Main Draw Prep'!$A$7:$V$71,3))","v":""},null,{"$f":"IF($D240=\"\",\"\",VLOOKUP($D240,'Girls Do Main Draw Prep'!$A$7:$V$71,4))","v":""},null,null,null,null,null,null,null,null,null,null,null,{"$f":"'SetUp Officials'!P218","v":0}]
[null,null,null,null,{"$f":"UPPER(IF($D240=\"\",\"\",VLOOKUP($D240,'Girls Do Main Draw Prep'!$A$7:$V$71,7)))","v":""},{"$f":"IF($D240=\"\",\"\",VLOOKUP($D240,'Girls Do Main Draw Prep'!$A$7:$V$71,8))","v":""},null,{"$f":"IF($D240=\"\",\"\",VLOOKUP($D240,'Girls Do Main Draw Prep'!$A$7:$V$71,9))","v":""},null,{"$f":"IF(I241=\"a\",E240,IF(I241=\"b\",E242,\"\"))","v":""},null,null,null,null,null,null,null,null,null,{"$f":"'SetUp Officials'!P219","v":0}]
[null,null,null,null,null,null,null,null,null,{"$f":"UPPER(IF(OR(I243=\"a\",I243=\"as\"),E240,IF(OR(I243=\"b\",I243=\"bs\"),E244,)))","v":""}]
[null,null,null,null,null,null,null,"Umpire",null,{"$f":"UPPER(IF(OR(I243=\"a\",I243=\"as\"),E241,IF(OR(I243=\"b\",I243=\"bs\"),E245,)))","v":""}]
[52,{"$f":"IF($D244=\"\",\"\",VLOOKUP($D244,'Girls Do Main Draw Prep'!$A$7:$V$71,20))","v":""},{"$f":"IF($D244=\"\",\"\",VLOOKUP($D244,'Girls Do Main Draw Prep'!$A$7:$V$71,21))","v":""},null,{"$f":"UPPER(IF($D244=\"\",\"\",VLOOKUP($D244,'Girls Do Main Draw Prep'!$A$7:$V$71,2)))","v":""},{"$f":"IF($D244=\"\",\"\",VLOOKUP($D244,'Girls Do Main Draw Prep'!$A$7:$V$71,3))","v":""},null,{"$f":"IF($D244=\"\",\"\",VLOOKUP($D244,'Girls Do Main Draw Prep'!$A$7:$V$71,4))","v":""}]
[null,null,null,null,{"$f":"UPPER(IF($D244=\"\",\"\",VLOOKUP($D244,'Girls Do Main Draw Prep'!$A$7:$V$71,7)))","v":""},{"$f":"IF($D244=\"\",\"\",VLOOKUP($D244,'Girls Do Main Draw Prep'!$A$7:$V$71,8))","v":""},null,{"$f":"IF($D244=\"\",\"\",VLOOKUP($D244,'Girls Do Main Draw Prep'!$A$7:$V$71,9))","v":""}]
[null,null,null,null,null,null,null,null,null,null,null,null,null,{"$f":"UPPER(IF(OR(M247=\"a\",M247=\"as\"),L238,IF(OR(M247=\"b\",M247=\"bs\"),L254,)))","v":""}]
[null,null,null,null,null,null,null,null,null,null,null,"Umpire",null,{"$f":"UPPER(IF(OR(M247=\"a\",M247=\"as\"),L239,IF(OR(M247=\"b\",M247=\"bs\"),L255,)))","v":""}]
[53,{"$f":"IF($D248=\"\",\"\",VLOOKUP($D248,'Girls Do Main Draw Prep'!$A$7:$V$71,20))","v":""},{"$f":"IF($D248=\"\",\"\",VLOOKUP($D248,'Girls Do Main Draw Prep'!$A$7:$V$71,21))","v":""},null,{"$f":"UPPER(IF($D248=\"\",\"\",VLOOKUP($D248,'Girls Do Main Draw Prep'!$A$7:$V$71,2)))","v":""},{"$f":"IF($D248=\"\",\"\",VLOOKUP($D248,'Girls Do Main Draw Prep'!$A$7:$V$71,3))","v":""},null,{"$f":"IF($D248=\"\",\"\",VLOOKUP($D248,'Girls Do Main Draw Prep'!$A$7:$V$71,4))","v":""}]
[null,null,null,null,{"$f":"UPPER(IF($D248=\"\",\"\",VLOOKUP($D248,'Girls Do Main Draw Prep'!$A$7:$V$71,7)))","v":""},{"$f":"IF($D248=\"\",\"\",VLOOKUP($D248,'Girls Do Main Draw Prep'!$A$7:$V$71,8))","v":""},null,{"$f":"IF($D248=\"\",\"\",VLOOKUP($D248,'Girls Do Main Draw Prep'!$A$7:$V$71,9))","v":""},null,{"$f":"IF(I249=\"a\",E248,IF(I249=\"b\",E250,\"\"))","v":""}]
[null,null,null,null,null,null,null,null,null,{"$f":"UPPER(IF(OR(I251=\"a\",I251=\"as\"),E248,IF(OR(I251=\"b\",I251=\"bs\"),E252,)))","v":""}]
[null,null,null,null,null,null,null,"Umpire",null,{"$f":"UPPER(IF(OR(I251=\"a\",I251=\"as\"),E249,IF(OR(I251=\"b\",I251=\"bs\"),E253,)))","v":""}]
[54,{"$f":"IF($D252=\"\",\"\",VLOOKUP($D252,'Girls Do Main Draw Prep'!$A$7:$V$71,20))","v":""},{"$f":"IF($D252=\"\",\"\",VLOOKUP($D252,'Girls Do Main Draw Prep'!$A$7:$V$71,21))","v":""},null,{"$f":"UPPER(IF($D252=\"\",\"\",VLOOKUP($D252,'Girls Do Main Draw Prep'!$A$7:$V$71,2)))","v":""},{"$f":"IF($D252=\"\",\"\",VLOOKUP($D252,'Girls Do Main Draw Prep'!$A$7:$V$71,3))","v":""},null,{"$f":"IF($D252=\"\",\"\",VLOOKUP($D252,'Girls Do Main Draw Prep'!$A$7:$V$71,4))","v":""}]
[null,null,null,null,{"$f":"UPPER(IF($D252=\"\",\"\",VLOOKUP($D252,'Girls Do Main Draw Prep'!$A$7:$V$71,7)))","v":""},{"$f":"IF($D252=\"\",\"\",VLOOKUP($D252,'Girls Do Main Draw Prep'!$A$7:$V$71,8))","v":""},null,{"$f":"IF($D252=\"\",\"\",VLOOKUP($D252,'Girls Do Main Draw Prep'!$A$7:$V$71,9))","v":""}]
[null,null,null,null,null,null,null,null,null,null,null,{"$f":"UPPER(IF(OR(K255=\"a\",K255=\"as\"),J250,IF(OR(K255=\"b\",K255=\"bs\"),J258,)))","v":""}]
[null,null,null,null,null,null,null,null,null,"Umpire",null,{"$f":"UPPER(IF(OR(K255=\"a\",K255=\"as\"),J251,IF(OR(K255=\"b\",K255=\"bs\"),J259,)))","v":""}]
[55,{"$f":"IF($D256=\"\",\"\",VLOOKUP($D256,'Girls Do Main Draw Prep'!$A$7:$V$71,20))","v":""},{"$f":"IF($D256=\"\",\"\",VLOOKUP($D256,'Girls Do Main Draw Prep'!$A$7:$V$71,21))","v":""},null,{"$f":"UPPER(IF($D256=\"\",\"\",VLOOKUP($D256,'Girls Do Main Draw Prep'!$A$7:$V$71,2)))","v":""},{"$f":"IF($D256=\"\",\"\",VLOOKUP($D256,'Girls Do Main Draw Prep'!$A$7:$V$71,3))","v":""},null,{"$f":"IF($D256=\"\",\"\",VLOOKUP($D256,'Girls Do Main Draw Prep'!$A$7:$V$71,4))","v":""}]
[null,null,null,null,{"$f":"UPPER(IF($D256=\"\",\"\",VLOOKUP($D256,'Girls Do Main Draw Prep'!$A$7:$V$71,7)))","v":""},{"$f":"IF($D256=\"\",\"\",VLOOKUP($D256,'Girls Do Main Draw Prep'!$A$7:$V$71,8))","v":""},null,{"$f":"IF($D256=\"\",\"\",VLOOKUP($D256,'Girls Do Main Draw Prep'!$A$7:$V$71,9))","v":""},null,{"$f":"IF(I257=\"a\",E256,IF(I257=\"b\",E258,\"\"))","v":""}]
[null,null,null,null,null,null,null,null,null,{"$f":"UPPER(IF(OR(I259=\"a\",I259=\"as\"),E256,IF(OR(I259=\"b\",I259=\"bs\"),E260,)))","v":""}]
[null,null,null,null,null,null,null,"Umpire",null,{"$f":"UPPER(IF(OR(I259=\"a\",I259=\"as\"),E257,IF(OR(I259=\"b\",I259=\"bs\"),E261,)))","v":""}]
[56,{"$f":"IF($D260=\"\",\"\",VLOOKUP($D260,'Girls Do Main Draw Prep'!$A$7:$V$71,20))","v":""},{"$f":"IF($D260=\"\",\"\",VLOOKUP($D260,'Girls Do Main Draw Prep'!$A$7:$V$71,21))","v":""},null,{"$f":"UPPER(IF($D260=\"\",\"\",VLOOKUP($D260,'Girls Do Main Draw Prep'!$A$7:$V$71,2)))","v":""},{"$f":"IF($D260=\"\",\"\",VLOOKUP($D260,'Girls Do Main Draw Prep'!$A$7:$V$71,3))","v":""},null,{"$f":"IF($D260=\"\",\"\",VLOOKUP($D260,'Girls Do Main Draw Prep'!$A$7:$V$71,4))","v":""}]
[null,null,null,null,{"$f":"UPPER(IF($D260=\"\",\"\",VLOOKUP($D260,'Girls Do Main Draw Prep'!$A$7:$V$71,7)))","v":""},{"$f":"IF($D260=\"\",\"\",VLOOKUP($D260,'Girls Do Main Draw Prep'!$A$7:$V$71,8))","v":""},null,{"$f":"IF($D260=\"\",\"\",VLOOKUP($D260,'Girls Do Main Draw Prep'!$A$7:$V$71,9))","v":""}]
[null,null,null,null,null,null,null,null,null,null,null,null,null,null,null,{"$f":"UPPER(IF(OR(O263=\"a\",O263=\"as\"),N246,IF(OR(O263=\"b\",O263=\"bs\"),N278,)))","v":""}]
[null,null,null,null,null,null,null,null,null,null,null,null,null,"Umpire",null,{"$f":"UPPER(IF(OR(O263=\"a\",O263=\"as\"),N247,IF(OR(O263=\"b\",O263=\"bs\"),N279,)))","v":""}]
[57,{"$f":"IF($D264=\"\",\"\",VLOOKUP($D264,'Girls Do Main Draw Prep'!$A$7:$V$71,20))","v":""},{"$f":"IF($D264=\"\",\"\",VLOOKUP($D264,'Girls Do Main Draw Prep'!$A$7:$V$71,21))","v":""},null,{"$f":"UPPER(IF($D264=\"\",\"\",VLOOKUP($D264,'Girls Do Main Draw Prep'!$A$7:$V$71,2)))","v":""},{"$f":"IF($D264=\"\",\"\",VLOOKUP($D264,'Girls Do Main Draw Prep'!$A$7:$V$71,3))","v":""},null,{"$f":"IF($D264=\"\",\"\",VLOOKUP($D264,'Girls Do Main Draw Prep'!$A$7:$V$71,4))","v":""}]
[null,null,null,null,{"$f":"UPPER(IF($D264=\"\",\"\",VLOOKUP($D264,'Girls Do Main Draw Prep'!$A$7:$V$71,7)))","v":""},{"$f":"IF($D264=\"\",\"\",VLOOKUP($D264,'Girls Do Main Draw Prep'!$A$7:$V$71,8))","v":""},null,{"$f":"IF($D264=\"\",\"\",VLOOKUP($D264,'Girls Do Main Draw Prep'!$A$7:$V$71,9))","v":""},null,{"$f":"IF(I265=\"a\",E264,IF(I265=\"b\",E266,\"\"))","v":""}]
[null,null,null,null,null,null,null,null,null,{"$f":"UPPER(IF(OR(I267=\"a\",I267=\"as\"),E264,IF(OR(I267=\"b\",I267=\"bs\"),E268,)))","v":""}]
[null,null,null,null,null,null,null,"Umpire",null,{"$f":"UPPER(IF(OR(I267=\"a\",I267=\"as\"),E265,IF(OR(I267=\"b\",I267=\"bs\"),E269,)))","v":""}]
[58,{"$f":"IF($D268=\"\",\"\",VLOOKUP($D268,'Girls Do Main Draw Prep'!$A$7:$V$71,20))","v":""},{"$f":"IF($D268=\"\",\"\",VLOOKUP($D268,'Girls Do Main Draw Prep'!$A$7:$V$71,21))","v":""},null,{"$f":"UPPER(IF($D268=\"\",\"\",VLOOKUP($D268,'Girls Do Main Draw Prep'!$A$7:$V$71,2)))","v":""},{"$f":"IF($D268=\"\",\"\",VLOOKUP($D268,'Girls Do Main Draw Prep'!$A$7:$V$71,3))","v":""},null,{"$f":"IF($D268=\"\",\"\",VLOOKUP($D268,'Girls Do Main Draw Prep'!$A$7:$V$71,4))","v":""}]
[null,null,null,null,{"$f":"UPPER(IF($D268=\"\",\"\",VLOOKUP($D268,'Girls Do Main Draw Prep'!$A$7:$V$71,7)))","v":""},{"$f":"IF($D268=\"\",\"\",VLOOKUP($D268,'Girls Do Main Draw Prep'!$A$7:$V$71,8))","v":""},null,{"$f":"IF($D268=\"\",\"\",VLOOKUP($D268,'Girls Do Main Draw Prep'!$A$7:$V$71,9))","v":""}]
[null,null,null,null,null,null,null,null,null,null,null,{"$f":"UPPER(IF(OR(K271=\"a\",K271=\"as\"),J266,IF(OR(K271=\"b\",K271=\"bs\"),J274,)))","v":""}]
[null,null,null,null,null,null,null,null,null,"Umpire",null,{"$f":"UPPER(IF(OR(K271=\"a\",K271=\"as\"),J267,IF(OR(K271=\"b\",K271=\"bs\"),J275,)))","v":""}]
[59,{"$f":"IF($D272=\"\",\"\",VLOOKUP($D272,'Girls Do Main Draw Prep'!$A$7:$V$71,20))","v":""},{"$f":"IF($D272=\"\",\"\",VLOOKUP($D272,'Girls Do Main Draw Prep'!$A$7:$V$71,21))","v":""},null,{"$f":"UPPER(IF($D272=\"\",\"\",VLOOKUP($D272,'Girls Do Main Draw Prep'!$A$7:$V$71,2)))","v":""},{"$f":"IF($D272=\"\",\"\",VLOOKUP($D272,'Girls Do Main Draw Prep'!$A$7:$V$71,3))","v":""},null,{"$f":"IF($D272=\"\",\"\",VLOOKUP($D272,'Girls Do Main Draw Prep'!$A$7:$V$71,4))","v":""}]
[null,null,null,null,{"$f":"UPPER(IF($D272=\"\",\"\",VLOOKUP($D272,'Girls Do Main Draw Prep'!$A$7:$V$71,7)))","v":""},{"$f":"IF($D272=\"\",\"\",VLOOKUP($D272,'Girls Do Main Draw Prep'!$A$7:$V$71,8))","v":""},null,{"$f":"IF($D272=\"\",\"\",VLOOKUP($D272,'Girls Do Main Draw Prep'!$A$7:$V$71,9))","v":""},null,{"$f":"IF(I273=\"a\",E272,IF(I273=\"b\",E274,\"\"))","v":""}]
[null,null,null,null,null,null,null,null,null,{"$f":"UPPER(IF(OR(I275=\"a\",I275=\"as\"),E272,IF(OR(I275=\"b\",I275=\"bs\"),E276,)))","v":""}]
[null,null,null,null,null,null,null,"Umpire",null,{"$f":"UPPER(IF(OR(I275=\"a\",I275=\"as\"),E273,IF(OR(I275=\"b\",I275=\"bs\"),E277,)))","v":""}]
[60,{"$f":"IF($D276=\"\",\"\",VLOOKUP($D276,'Girls Do Main Draw Prep'!$A$7:$V$71,20))","v":""},{"$f":"IF($D276=\"\",\"\",VLOOKUP($D276,'Girls Do Main Draw Prep'!$A$7:$V$71,21))","v":""},null,{"$f":"UPPER(IF($D276=\"\",\"\",VLOOKUP($D276,'Girls Do Main Draw Prep'!$A$7:$V$71,2)))","v":""},{"$f":"IF($D276=\"\",\"\",VLOOKUP($D276,'Girls Do Main Draw Prep'!$A$7:$V$71,3))","v":""},null,{"$f":"IF($D276=\"\",\"\",VLOOKUP($D276,'Girls Do Main Draw Prep'!$A$7:$V$71,4))","v":""}]
[null,null,null,null,{"$f":"UPPER(IF($D276=\"\",\"\",VLOOKUP($D276,'Girls Do Main Draw Prep'!$A$7:$V$71,7)))","v":""},{"$f":"IF($D276=\"\",\"\",VLOOKUP($D276,'Girls Do Main Draw Prep'!$A$7:$V$71,8))","v":""},null,{"$f":"IF($D276=\"\",\"\",VLOOKUP($D276,'Girls Do Main Draw Prep'!$A$7:$V$71,9))","v":""}]
[null,null,null,null,null,null,null,null,null,null,null,null,null,{"$f":"UPPER(IF(OR(M279=\"a\",M279=\"as\"),L270,IF(OR(M279=\"b\",M279=\"bs\"),L286,)))","v":""}]
[null,null,null,null,null,null,null,null,null,null,null,"Umpire",null,{"$f":"UPPER(IF(OR(M279=\"a\",M279=\"as\"),L271,IF(OR(M279=\"b\",M279=\"bs\"),L287,)))","v":""}]
[61,{"$f":"IF($D280=\"\",\"\",VLOOKUP($D280,'Girls Do Main Draw Prep'!$A$7:$V$71,20))","v":""},{"$f":"IF($D280=\"\",\"\",VLOOKUP($D280,'Girls Do Main Draw Prep'!$A$7:$V$71,21))","v":""},null,{"$f":"UPPER(IF($D280=\"\",\"\",VLOOKUP($D280,'Girls Do Main Draw Prep'!$A$7:$V$71,2)))","v":""},{"$f":"IF($D280=\"\",\"\",VLOOKUP($D280,'Girls Do Main Draw Prep'!$A$7:$V$71,3))","v":""},null,{"$f":"IF($D280=\"\",\"\",VLOOKUP($D280,'Girls Do Main Draw Prep'!$A$7:$V$71,4))","v":""}]
[null,null,null,null,{"$f":"UPPER(IF($D280=\"\",\"\",VLOOKUP($D280,'Girls Do Main Draw Prep'!$A$7:$V$71,7)))","v":""},{"$f":"IF($D280=\"\",\"\",VLOOKUP($D280,'Girls Do Main Draw Prep'!$A$7:$V$71,8))","v":""},null,{"$f":"IF($D280=\"\",\"\",VLOOKUP($D280,'Girls Do Main Draw Prep'!$A$7:$V$71,9))","v":""},null,{"$f":"IF(I281=\"a\",E280,IF(I281=\"b\",E282,\"\"))","v":""}]
[null,null,null,null,null,null,null,null,null,{"$f":"UPPER(IF(OR(I283=\"a\",I283=\"as\"),E280,IF(OR(I283=\"b\",I283=\"bs\"),E284,)))","v":""}]
[null,null,null,null,null,null,null,"Umpire",null,{"$f":"UPPER(IF(OR(I283=\"a\",I283=\"as\"),E281,IF(OR(I283=\"b\",I283=\"bs\"),E285,)))","v":""}]
[62,{"$f":"IF($D284=\"\",\"\",VLOOKUP($D284,'Girls Do Main Draw Prep'!$A$7:$V$71,20))","v":""},{"$f":"IF($D284=\"\",\"\",VLOOKUP($D284,'Girls Do Main Draw Prep'!$A$7:$V$71,21))","v":""},null,{"$f":"UPPER(IF($D284=\"\",\"\",VLOOKUP($D284,'Girls Do Main Draw Prep'!$A$7:$V$71,2)))","v":""},{"$f":"IF($D284=\"\",\"\",VLOOKUP($D284,'Girls Do Main Draw Prep'!$A$7:$V$71,3))","v":""},null,{"$f":"IF($D284=\"\",\"\",VLOOKUP($D284,'Girls Do Main Draw Prep'!$A$7:$V$71,4))","v":""}]
[null,null,null,null,{"$f":"UPPER(IF($D284=\"\",\"\",VLOOKUP($D284,'Girls Do Main Draw Prep'!$A$7:$V$71,7)))","v":""},{"$f":"IF($D284=\"\",\"\",VLOOKUP($D284,'Girls Do Main Draw Prep'!$A$7:$V$71,8))","v":""},null,{"$f":"IF($D284=\"\",\"\",VLOOKUP($D284,'Girls Do Main Draw Prep'!$A$7:$V$71,9))","v":""}]
[null,null,null,null,null,null,null,null,null,null,null,{"$f":"UPPER(IF(OR(K287=\"a\",K287=\"as\"),J282,IF(OR(K287=\"b\",K287=\"bs\"),J290,)))","v":""}]
[null,null,null,null,null,null,null,null,null,"Umpire",null,{"$f":"UPPER(IF(OR(K287=\"a\",K287=\"as\"),J283,IF(OR(K287=\"b\",K287=\"bs\"),J291,)))","v":""}]
[63,{"$f":"IF($D288=\"\",\"\",VLOOKUP($D288,'Girls Do Main Draw Prep'!$A$7:$V$71,20))","v":""},{"$f":"IF($D288=\"\",\"\",VLOOKUP($D288,'Girls Do Main Draw Prep'!$A$7:$V$71,21))","v":""},null,{"$f":"UPPER(IF($D288=\"\",\"\",VLOOKUP($D288,'Girls Do Main Draw Prep'!$A$7:$V$71,2)))","v":""},{"$f":"IF($D288=\"\",\"\",VLOOKUP($D288,'Girls Do Main Draw Prep'!$A$7:$V$71,3))","v":""},null,{"$f":"IF($D288=\"\",\"\",VLOOKUP($D288,'Girls Do Main Draw Prep'!$A$7:$V$71,4))","v":""}]
[null,null,null,null,{"$f":"UPPER(IF($D288=\"\",\"\",VLOOKUP($D288,'Girls Do Main Draw Prep'!$A$7:$V$71,7)))","v":""},{"$f":"IF($D288=\"\",\"\",VLOOKUP($D288,'Girls Do Main Draw Prep'!$A$7:$V$71,8))","v":""},null,{"$f":"IF($D288=\"\",\"\",VLOOKUP($D288,'Girls Do Main Draw Prep'!$A$7:$V$71,9))","v":""},null,{"$f":"IF(I289=\"a\",E288,IF(I289=\"b\",E290,\"\"))","v":""}]
[null,null,null,null,null,null,null,null,null,{"$f":"UPPER(IF(OR(I291=\"a\",I291=\"as\"),E288,IF(OR(I291=\"b\",I291=\"bs\"),E292,)))","v":""}]
[null,null,null,null,null,null,null,"Umpire",null,{"$f":"UPPER(IF(OR(I291=\"a\",I291=\"as\"),E289,IF(OR(I291=\"b\",I291=\"bs\"),E293,)))","v":""}]
[64,{"$f":"IF($D292=\"\",\"\",VLOOKUP($D292,'Girls Do Main Draw Prep'!$A$7:$V$71,20))","v":""},{"$f":"IF($D292=\"\",\"\",VLOOKUP($D292,'Girls Do Main Draw Prep'!$A$7:$V$71,21))","v":""},null,{"$f":"UPPER(IF($D292=\"\",\"\",VLOOKUP($D292,'Girls Do Main Draw Prep'!$A$7:$V$71,2)))","v":""},{"$f":"IF($D292=\"\",\"\",VLOOKUP($D292,'Girls Do Main Draw Prep'!$A$7:$V$71,3))","v":""},null,{"$f":"IF($D292=\"\",\"\",VLOOKUP($D292,'Girls Do Main Draw Prep'!$A$7:$V$71,4))","v":""}]
[null,null,null,null,{"$f":"UPPER(IF($D292=\"\",\"\",VLOOKUP($D292,'Girls Do Main Draw Prep'!$A$7:$V$71,7)))","v":""},{"$f":"IF($D292=\"\",\"\",VLOOKUP($D292,'Girls Do Main Draw Prep'!$A$7:$V$71,8))","v":""},null,{"$f":"IF($D292=\"\",\"\",VLOOKUP($D292,'Girls Do Main Draw Prep'!$A$7:$V$71,9))","v":""}]
[]
[null,null,null,null,null,null,null,null,null,null,null,null,null,null,null,null,"Seeded teams on page 1 and 3"]
["Acc. Ranking",null,null,"#","Alternates",null,"Replacing",null,"#","Alternates",null,"Replacing",null,"Draw date/time:",null,{"$f":"P71","v":0}]
["Rkg Date",null,{"$f":"C72","v":0},"1",null,null,null,null,"5",null,null,null,null,"Last Accepted team"]
["Top DA",null,{"$f":"C73","v":0},null,null,null,null,null,null,null,null,null,null,{"$f":"N73","v":0}]
["Last DA",null,{"$f":"C74","v":0},"2",null,null,null,null,"6",null,null,null,null,"Player representatives"]
[]
["Seed ranking",null,null,"3",null,null,null,null,"7",null,null,null,null,{"$f":"N76","v":0},{"$f":"O76","v":0},{"$f":"P76","v":0},{"$f":"Q76","v":0}]
["Rkg Date",null,{"$f":"C77","v":0},null,null,null,null,null,null,null,null,null,null,"ITF Referee's signature"]
["Top seed",null,{"$f":"C78","v":0},"4",null,null,null,null,"8",null,null,null,null,{"$f":"N78","v":0},0,0]
["Last seed",null,{"$f":"C79","v":0},null,null,null,null,null,null,null,null,null,null,0,0,0]
[null,null,null,null,null,null,null,null,null,"Semifinalists",null,"Semifinals",null,"Final",null,"Winners"]
[]
[null,null,null,null,null,null,null,null,null,null,null,null,null,null,null,null,"Page 5(5)",null,null,{"$f":"'SetUp Officials'!P285","v":0}]
[null,null,null,null,null,null,null,null,null,{"$f":"IF(I308=\"a\",E307,IF(I308=\"b\",E309,\"\"))","v":""},null,null,null,null,null,null,null,null,null,{"$f":"'SetUp Officials'!P286","v":0}]
[null,null,null,null,null,null,null,null,null,{"$f":"UPPER(IF(OR(O38=\"a\",O38=\"as\"),N21,IF(OR(O38=\"b\",O38=\"bs\"),N53,)))","v":""},null,null,null,null,null,null,null,null,null,{"$f":"'SetUp Officials'!P287","v":0}]
[null,null,null,null,null,null,null,null,null,{"$f":"UPPER(IF(OR(O38=\"a\",O38=\"as\"),N22,IF(OR(O38=\"b\",O38=\"bs\"),N54,)))","v":""},null,null,null,null,null,null,null,null,null,{"$f":"'SetUp Officials'!P288","v":0}]
[null,null,null,null,null,null,null,null,null,null,null,null,null,null,null,null,null,null,null,{"$f":"'SetUp Officials'!P289","v":0}]
[null,null,null,null,null,null,null,null,null,null,null,null,null,null,null,null,null,null,null,{"$f":"'SetUp Officials'!P290","v":0}]
[null,null,null,null,null,null,null,null,null,null,null,{"$f":"UPPER(IF(OR(K314=\"a\",K314=\"as\"),J309,IF(OR(K314=\"b\",K314=\"bs\"),J317,)))","v":""},null,null,null,null,null,null,null,{"$f":"'SetUp Officials'!P291","v":0}]
[null,null,null,null,null,null,null,null,null,"Umpire",null,{"$f":"UPPER(IF(OR(K314=\"a\",K314=\"as\"),J310,IF(OR(K314=\"b\",K314=\"bs\"),J318,)))","v":""},null,null,null,null,null,null,null,{"$f":"'SetUp Officials'!P292","v":0}]
[null,null,null,null,null,null,null,null,null,null,null,null,null,null,null,null,null,null,null,{"$f":"'SetUp Officials'!P293","v":0}]
[null,null,null,null,null,null,null,null,null,{"$f":"IF(I316=\"a\",E315,IF(I316=\"b\",E317,\"\"))","v":""},null,null,null,null,null,null,null,null,null,{"$f":"'SetUp Officials'!P294","v":0}]
[null,null,null,null,null,null,null,null,null,{"$f":"UPPER(IF(OR(O113=\"a\",O113=\"as\"),N96,IF(OR(O113=\"b\",O113=\"bs\"),N128,)))","v":""}]
[null,null,null,null,null,null,null,null,null,{"$f":"UPPER(IF(OR(O113=\"a\",O113=\"as\"),N97,IF(OR(O113=\"b\",O113=\"bs\"),N129,)))","v":""}]
[]
[]
[null,null,null,null,null,null,null,null,null,null,null,null,null,{"$f":"UPPER(IF(OR(M322=\"a\",M322=\"as\"),L313,IF(OR(M322=\"b\",M322=\"bs\"),L329,)))","v":""}]
[null,null,null,null,null,null,null,null,null,null,null,"Umpire",null,{"$f":"UPPER(IF(OR(M322=\"a\",M322=\"as\"),L314,IF(OR(M322=\"b\",M322=\"bs\"),L330,)))","v":""}]
[]
[null,null,null,null,null,null,null,null,null,{"$f":"IF(I324=\"a\",E323,IF(I324=\"b\",E325,\"\"))","v":""}]
[null,null,null,null,null,null,null,null,null,{"$f":"UPPER(IF(OR(O188=\"a\",O188=\"as\"),N171,IF(OR(O188=\"b\",O188=\"bs\"),N203,)))","v":""}]
[null,null,null,null,null,null,null,null,null,{"$f":"UPPER(IF(OR(O188=\"a\",O188=\"as\"),N172,IF(OR(O188=\"b\",O188=\"bs\"),N204,)))","v":""}]
[]
[]
[null,null,null,null,null,null,null,null,null,null,null,{"$f":"UPPER(IF(OR(K330=\"a\",K330=\"as\"),J325,IF(OR(K330=\"b\",K330=\"bs\"),J333,)))","v":""}]
[null,null,null,null,null,null,null,null,null,"Umpire",null,{"$f":"UPPER(IF(OR(K330=\"a\",K330=\"as\"),J326,IF(OR(K330=\"b\",K330=\"bs\"),J334,)))","v":""}]
[]
[null,null,null,null,null,null,null,null,null,{"$f":"IF(I332=\"a\",E331,IF(I332=\"b\",E333,\"\"))","v":""}]
[null,null,null,null,null,null,null,null,null,{"$f":"UPPER(IF(OR(O263=\"a\",O263=\"as\"),N246,IF(OR(O263=\"b\",O263=\"bs\"),N278,)))","v":""}]
[null,null,null,null,null,null,null,null,null,{"$f":"UPPER(IF(OR(O263=\"a\",O263=\"as\"),N247,IF(OR(O263=\"b\",O263=\"bs\"),N279,)))","v":""}]
[]
[]
[]
[]
[]
[null,null,null,null,null,null,null,null,null,{"$f":"IF(I340=\"a\",E339,IF(I340=\"b\",E341,\"\"))","v":""}]
[null,null,null,null,null,null,null,null,null,{"$f":"UPPER(IF(OR(I342=\"a\",I342=\"as\"),E339,IF(OR(I342=\"b\",I342=\"bs\"),E343,)))","v":""}]
[]
[]
[]
[null,null,null,null,null,null,null,null,null,{"$f":"IF(I345=\"a\",E344,IF(I345=\"b\",E346,\"\"))","v":""}]
[null,null,null,null,null,null,null,null,null,{"$f":"UPPER(IF(OR(I347=\"a\",I347=\"as\"),E344,IF(OR(I347=\"b\",I347=\"bs\"),E348,)))","v":""}]
[]
[]
[]
[null,null,null,null,null,null,null,null,null,{"$f":"IF(I350=\"a\",E349,IF(I350=\"b\",E351,\"\"))","v":""}]
[null,null,null,null,null,null,null,null,null,{"$f":"UPPER(IF(OR(I352=\"a\",I352=\"as\"),E349,IF(OR(I352=\"b\",I352=\"bs\"),E353,)))","v":""}]
[]
[]
[]
[null,null,null,null,null,null,null,null,null,{"$f":"IF(I355=\"a\",E354,IF(I355=\"b\",E356,\"\"))","v":""}]
[null,null,null,null,null,null,null,null,null,{"$f":"UPPER(IF(OR(I357=\"a\",I357=\"as\"),E354,IF(OR(I357=\"b\",I357=\"bs\"),E358,)))","v":""}]
[]
[]
[]
[null,null,null,null,null,null,null,null,null,{"$f":"IF(I360=\"a\",E359,IF(I360=\"b\",E361,\"\"))","v":""}]
[null,null,null,null,null,null,null,null,null,{"$f":"UPPER(IF(OR(I362=\"a\",I362=\"as\"),E359,IF(OR(I362=\"b\",I362=\"bs\"),E363,)))","v":""}]
["Acc. Ranking",null,null,"#","Seeded teams","#","Seeded teams",null,"#","Seeded teams","#","Seeded teams"]
["Rkg Date",null,{"$f":"C72","v":0},1,{"$f":"E72","v":0},"5",{"$f":"G72","v":0},null,"9",{"$f":"J72","v":0},"13",{"$f":"L72","v":0}]
["Top DA",null,{"$f":"C73","v":0},0,0,0,0,null,0,0,0,0]
["Last DA",null,{"$f":"C74","v":0},2,0,"6",0,null,"10",0,"14",0]
[null,null,null,0,0,0,0,null,0,0,0,0]
["Seed ranking",null,null,3,0,"7",0,null,"11",0,"15",0]
["Rkg Date",null,{"$f":"C77","v":0},0,0,0,0,null,0,0,0,0]
["Top seed",null,{"$f":"C78","v":0},4,0,"8",0,null,"12",0,"16",0]
["Last seed",null,{"$f":"C79","v":0},0,0,0,0,null,0,0,0,0]
[null,null,null,"#","Alternates",null,"Replacing",null,"#","Alternates",null,"Replacing",null,{"$f":"N71","v":"Draw date/time:"},null,{"$f":"P71","v":0}]
[null,null,null,"1",{"$f":"E147","v":0},null,{"$f":"G147","v":0},0,"5",{"$f":"J147","v":0},null,{"$f":"L147","v":0},null,"Last Accepted team"]
[null,null,null,null,0,null,0,0,0,0,null,0,null,{"$f":"N73","v":0}]
[null,null,null,"2",0,null,0,0,"6",0,null,0,null,"Player representatives"]
[null,null,null,null,0,null,0,0,0,0,null,0]
[null,null,null,"3",0,null,0,0,"7",0,null,0,null,{"$f":"N76","v":0}]
[null,null,null,null,0,null,0,0,0,0,null,0,null,"ITF Referee's signature"]
[null,null,null,"4",0,null,0,0,"8",0,null,0]
[null,null,null,null,0,null,0,0,0,0,null,0,null,{"$f":"N79","v":0}]

{"sheet":"Plr List for OofP","index":51,"n_rows":518,"n_cols":14,"rows_kept":518,"cut":false,"hidden":false,"merged":[[3,0,3,1]]}
[null,null,"PLAYER LIST"]
[null,null,"FOR OofP"]
["Week of",null,"City, Country","Group"]
[{"$f":"'Week SetUp'!$A$10","v":"00:00:00"},null,{"$f":"'Week SetUp'!$C$10","v":0},{"$f":"'Week SetUp'!$D$10","v":0}]
["Line","Family name","First name","Nat."]
[]
[1,null,null,null,null,null,null,null,null,null,null,null,null,{"$f":"IF(B7=\"\",,C7&\" \"&UPPER(B7)&\" (\"&D7&\")\")","v":0}]
[2,null,null,null,null,null,null,null,null,null,null,null,null,{"$f":"IF(B8=\"\",,C8&\" \"&UPPER(B8)&\" (\"&D8&\")\")","v":0}]
[3,null,null,null,null,null,null,null,null,null,null,null,null,{"$f":"IF(B9=\"\",,C9&\" \"&UPPER(B9)&\" (\"&D9&\")\")","v":0}]
[4,null,null,null,null,null,null,null,null,null,null,null,null,0]
[5,null,null,null,null,null,null,null,null,null,null,null,null,0]
[6,null,null,null,null,null,null,null,null,null,null,null,null,0]
[7,null,null,null,null,null,null,null,null,null,null,null,null,0]
[8,null,null,null,null,null,null,null,null,null,null,null,null,0]
[9,null,null,null,null,null,null,null,null,null,null,null,null,0]
[10,null,null,null,null,null,null,null,null,null,null,null,null,0]
[11,null,null,null,null,null,null,null,null,null,null,null,null,0]
[12,null,null,null,null,null,null,null,null,null,null,null,null,0]
[13,null,null,null,null,null,null,null,null,null,null,null,null,0]
[14,null,null,null,null,null,null,null,null,null,null,null,null,0]
[15,null,null,null,null,null,null,null,null,null,null,null,null,0]
[16,null,null,null,null,null,null,null,null,null,null,null,null,0]
[17,null,null,null,null,null,null,null,null,null,null,null,null,0]
[18,null,null,null,null,null,null,null,null,null,null,null,null,0]
[19,null,null,null,null,null,null,null,null,null,null,null,null,0]
[20,null,null,null,null,null,null,null,null,null,null,null,null,0]
[21,null,null,null,null,null,null,null,null,null,null,null,null,0]
[22,null,null,null,null,null,null,null,null,null,null,null,null,0]
[23,null,null,null,null,null,null,null,null,null,null,null,null,0]
[24,null,null,null,null,null,null,null,null,null,null,null,null,0]
[25,null,null,null,null,null,null,null,null,null,null,null,null,0]
[26,null,null,null,null,null,null,null,null,null,null,null,null,0]
[27,null,null,null,null,null,null,null,null,null,null,null,null,0]
[28,null,null,null,null,null,null,null,null,null,null,null,null,0]
[29,null,null,null,null,null,null,null,null,null,null,null,null,0]
[30,null,null,null,null,null,null,null,null,null,null,null,null,0]
[31,null,null,null,null,null,null,null,null,null,null,null,null,0]
[32,null,null,null,null,null,null,null,null,null,null,null,null,0]
[33,null,null,null,null,null,null,null,null,null,null,null,null,0]
[34,null,null,null,null,null,null,null,null,null,null,null,null,0]
[35,null,null,null,null,null,null,null,null,null,null,null,null,0]
[36,null,null,null,null,null,null,null,null,null,null,null,null,0]
[37,null,null,null,null,null,null,null,null,null,null,null,null,0]
[38,null,null,null,null,null,null,null,null,null,null,null,null,0]
[39,null,null,null,null,null,null,null,null,null,null,null,null,0]
[40,null,null,null,null,null,null,null,null,null,null,null,null,0]
[41,null,null,null,null,null,null,null,null,null,null,null,null,0]
[42,null,null,null,null,null,null,null,null,null,null,null,null,0]
[43,null,null,null,null,null,null,null,null,null,null,null,null,0]
[44,null,null,null,null,null,null,null,null,null,null,null,null,0]
[45,null,null,null,null,null,null,null,null,null,null,null,null,0]
[46,null,null,null,null,null,null,null,null,null,null,null,null,0]
[47,null,null,null,null,null,null,null,null,null,null,null,null,0]
[48,null,null,null,null,null,null,null,null,null,null,null,null,0]
[49,null,null,null,null,null,null,null,null,null,null,null,null,0]
[50,null,null,null,null,null,null,null,null,null,null,null,null,0]
[51,null,null,null,null,null,null,null,null,null,null,null,null,0]
[52,null,null,null,null,null,null,null,null,null,null,null,null,0]
[53,null,null,null,null,null,null,null,null,null,null,null,null,0]
[54,null,null,null,null,null,null,null,null,null,null,null,null,0]
[55,null,null,null,null,null,null,null,null,null,null,null,null,0]
[56,null,null,null,null,null,null,null,null,null,null,null,null,0]
[57,null,null,null,null,null,null,null,null,null,null,null,null,0]
[58,null,null,null,null,null,null,null,null,null,null,null,null,0]
[59,null,null,null,null,null,null,null,null,null,null,null,null,0]
[60,null,null,null,null,null,null,null,null,null,null,null,null,0]
[61,null,null,null,null,null,null,null,null,null,null,null,null,0]
[62,null,null,null,null,null,null,null,null,null,null,null,null,0]
[63,null,null,null,null,null,null,null,null,null,null,null,null,0]
[64,null,null,null,null,null,null,null,null,null,null,null,null,0]
[65,null,null,null,null,null,null,null,null,null,null,null,null,0]
[66,null,null,null,null,null,null,null,null,null,null,null,null,0]
[67,null,null,null,null,null,null,null,null,null,null,null,null,{"$f":"IF(B73=\"\",,C73&\" \"&UPPER(B73)&\" (\"&D73&\")\")","v":0}]
[68,null,null,null,null,null,null,null,null,null,null,null,null,0]
[69,null,null,null,null,null,null,null,null,null,null,null,null,0]
[70,null,null,null,null,null,null,null,null,null,null,null,null,0]
[71,null,null,null,null,null,null,null,null,null,null,null,null,0]
[72,null,null,null,null,null,null,null,null,null,null,null,null,0]
[73,null,null,null,null,null,null,null,null,null,null,null,null,0]
[74,null,null,null,null,null,null,null,null,null,null,null,null,0]
[75,null,null,null,null,null,null,null,null,null,null,null,null,0]
[76,null,null,null,null,null,null,null,null,null,null,null,null,0]
[77,null,null,null,null,null,null,null,null,null,null,null,null,0]
[78,null,null,null,null,null,null,null,null,null,null,null,null,0]
[79,null,null,null,null,null,null,null,null,null,null,null,null,0]
[80,null,null,null,null,null,null,null,null,null,null,null,null,0]
[81,null,null,null,null,null,null,null,null,null,null,null,null,0]
[82,null,null,null,null,null,null,null,null,null,null,null,null,0]
[83,null,null,null,null,null,null,null,null,null,null,null,null,0]
[84,null,null,null,null,null,null,null,null,null,null,null,null,0]
[85,null,null,null,null,null,null,null,null,null,null,null,null,0]
[86,null,null,null,null,null,null,null,null,null,null,null,null,0]
[87,null,null,null,null,null,null,null,null,null,null,null,null,0]
[88,null,null,null,null,null,null,null,null,null,null,null,null,0]
[89,null,null,null,null,null,null,null,null,null,null,null,null,0]
[90,null,null,null,null,null,null,null,null,null,null,null,null,0]
[91,null,null,null,null,null,null,null,null,null,null,null,null,0]
[92,null,null,null,null,null,null,null,null,null,null,null,null,0]
[93,null,null,null,null,null,null,null,null,null,null,null,null,0]
[94,null,null,null,null,null,null,null,null,null,null,null,null,0]
[95,null,null,null,null,null,null,null,null,null,null,null,null,0]
[96,null,null,null,null,null,null,null,null,null,null,null,null,0]
[97,null,null,null,null,null,null,null,null,null,null,null,null,0]
[98,null,null,null,null,null,null,null,null,null,null,null,null,0]
[99,null,null,null,null,null,null,null,null,null,null,null,null,0]
[100,null,null,null,null,null,null,null,null,null,null,null,null,0]
[101,null,null,null,null,null,null,null,null,null,null,null,null,0]
[102,null,null,null,null,null,null,null,null,null,null,null,null,0]
[103,null,null,null,null,null,null,null,null,null,null,null,null,0]
[104,null,null,null,null,null,null,null,null,null,null,null,null,0]
[105,null,null,null,null,null,null,null,null,null,null,null,null,0]
[106,null,null,null,null,null,null,null,null,null,null,null,null,0]
[107,null,null,null,null,null,null,null,null,null,null,null,null,0]
[108,null,null,null,null,null,null,null,null,null,null,null,null,0]
[109,null,null,null,null,null,null,null,null,null,null,null,null,0]
[110,null,null,null,null,null,null,null,null,null,null,null,null,0]
[111,null,null,null,null,null,null,null,null,null,null,null,null,0]
[112,null,null,null,null,null,null,null,null,null,null,null,null,0]
[113,null,null,null,null,null,null,null,null,null,null,null,null,0]
[114,null,null,null,null,null,null,null,null,null,null,null,null,0]
[115,null,null,null,null,null,null,null,null,null,null,null,null,0]
[116,null,null,null,null,null,null,null,null,null,null,null,null,0]
[117,null,null,null,null,null,null,null,null,null,null,null,null,0]
[118,null,null,null,null,null,null,null,null,null,null,null,null,0]
[119,null,null,null,null,null,null,null,null,null,null,null,null,0]
[120,null,null,null,null,null,null,null,null,null,null,null,null,0]
[121,null,null,null,null,null,null,null,null,null,null,null,null,0]
[122,null,null,null,null,null,null,null,null,null,null,null,null,0]
[123,null,null,null,null,null,null,null,null,null,null,null,null,0]
[124,null,null,null,null,null,null,null,null,null,null,null,null,0]
[125,null,null,null,null,null,null,null,null,null,null,null,null,0]
[126,null,null,null,null,null,null,null,null,null,null,null,null,0]
[127,null,null,null,null,null,null,null,null,null,null,null,null,0]
[128,null,null,null,null,null,null,null,null,null,null,null,null,0]
[129,null,null,null,null,null,null,null,null,null,null,null,null,0]
[130,null,null,null,null,null,null,null,null,null,null,null,null,0]
[131,null,null,null,null,null,null,null,null,null,null,null,null,{"$f":"IF(B137=\"\",,C137&\" \"&UPPER(B137)&\" (\"&D137&\")\")","v":0}]
[132,null,null,null,null,null,null,null,null,null,null,null,null,0]
[133,null,null,null,null,null,null,null,null,null,null,null,null,0]
[134,null,null,null,null,null,null,null,null,null,null,null,null,0]
[135,null,null,null,null,null,null,null,null,null,null,null,null,0]
[136,null,null,null,null,null,null,null,null,null,null,null,null,0]
[137,null,null,null,null,null,null,null,null,null,null,null,null,0]
[138,null,null,null,null,null,null,null,null,null,null,null,null,0]
[139,null,null,null,null,null,null,null,null,null,null,null,null,0]
[140,null,null,null,null,null,null,null,null,null,null,null,null,0]
[141,null,null,null,null,null,null,null,null,null,null,null,null,0]
[142,null,null,null,null,null,null,null,null,null,null,null,null,0]
[143,null,null,null,null,null,null,null,null,null,null,null,null,0]
[144,null,null,null,null,null,null,null,null,null,null,null,null,0]
[145,null,null,null,null,null,null,null,null,null,null,null,null,0]
[146,null,null,null,null,null,null,null,null,null,null,null,null,0]
[147,null,null,null,null,null,null,null,null,null,null,null,null,0]
[148,null,null,null,null,null,null,null,null,null,null,null,null,0]
[149,null,null,null,null,null,null,null,null,null,null,null,null,0]
[150,null,null,null,null,null,null,null,null,null,null,null,null,0]
[151,null,null,null,null,null,null,null,null,null,null,null,null,0]
[152,null,null,null,null,null,null,null,null,null,null,null,null,0]
[153,null,null,null,null,null,null,null,null,null,null,null,null,0]
[154,null,null,null,null,null,null,null,null,null,null,null,null,0]
[155,null,null,null,null,null,null,null,null,null,null,null,null,0]
[156,null,null,null,null,null,null,null,null,null,null,null,null,0]
[157,null,null,null,null,null,null,null,null,null,null,null,null,0]
[158,null,null,null,null,null,null,null,null,null,null,null,null,0]
[159,null,null,null,null,null,null,null,null,null,null,null,null,0]
[160,null,null,null,null,null,null,null,null,null,null,null,null,0]
[161,null,null,null,null,null,null,null,null,null,null,null,null,0]
[162,null,null,null,null,null,null,null,null,null,null,null,null,0]
[163,null,null,null,null,null,null,null,null,null,null,null,null,0]
[164,null,null,null,null,null,null,null,null,null,null,null,null,0]
[165,null,null,null,null,null,null,null,null,null,null,null,null,0]
[166,null,null,null,null,null,null,null,null,null,null,null,null,0]
[167,null,null,null,null,null,null,null,null,null,null,null,null,0]
[168,null,null,null,null,null,null,null,null,null,null,null,null,0]
[169,null,null,null,null,null,null,null,null,null,null,null,null,0]
[170,null,null,null,null,null,null,null,null,null,null,null,null,0]
[171,null,null,null,null,null,null,null,null,null,null,null,null,0]
[172,null,null,null,null,null,null,null,null,null,null,null,null,0]
[173,null,null,null,null,null,null,null,null,null,null,null,null,0]
[174,null,null,null,null,null,null,null,null,null,null,null,null,0]
[175,null,null,null,null,null,null,null,null,null,null,null,null,0]
[176,null,null,null,null,null,null,null,null,null,null,null,null,0]
[177,null,null,null,null,null,null,null,null,null,null,null,null,0]
[178,null,null,null,null,null,null,null,null,null,null,null,null,0]
[179,null,null,null,null,null,null,null,null,null,null,null,null,0]
[180,null,null,null,null,null,null,null,null,null,null,null,null,0]
[181,null,null,null,null,null,null,null,null,null,null,null,null,0]
[182,null,null,null,null,null,null,null,null,null,null,null,null,0]
[183,null,null,null,null,null,null,null,null,null,null,null,null,0]
[184,null,null,null,null,null,null,null,null,null,null,null,null,0]
[185,null,null,null,null,null,null,null,null,null,null,null,null,0]
[186,null,null,null,null,null,null,null,null,null,null,null,null,0]
[187,null,null,null,null,null,null,null,null,null,null,null,null,0]
[188,null,null,null,null,null,null,null,null,null,null,null,null,0]
[189,null,null,null,null,null,null,null,null,null,null,null,null,0]
[190,null,null,null,null,null,null,null,null,null,null,null,null,0]
[191,null,null,null,null,null,null,null,null,null,null,null,null,0]
[192,null,null,null,null,null,null,null,null,null,null,null,null,0]
[193,null,null,null,null,null,null,null,null,null,null,null,null,0]
[194,null,null,null,null,null,null,null,null,null,null,null,null,0]
[195,null,null,null,null,null,null,null,null,null,null,null,null,{"$f":"IF(B201=\"\",,C201&\" \"&UPPER(B201)&\" (\"&D201&\")\")","v":0}]
[196,null,null,null,null,null,null,null,null,null,null,null,null,0]
[197,null,null,null,null,null,null,null,null,null,null,null,null,0]
[198,null,null,null,null,null,null,null,null,null,null,null,null,0]
[199,null,null,null,null,null,null,null,null,null,null,null,null,0]
[200,null,null,null,null,null,null,null,null,null,null,null,null,0]
[201,null,null,null,null,null,null,null,null,null,null,null,null,0]
[202,null,null,null,null,null,null,null,null,null,null,null,null,0]
[203,null,null,null,null,null,null,null,null,null,null,null,null,0]
[204,null,null,null,null,null,null,null,null,null,null,null,null,0]
[205,null,null,null,null,null,null,null,null,null,null,null,null,0]
[206,null,null,null,null,null,null,null,null,null,null,null,null,0]
[207,null,null,null,null,null,null,null,null,null,null,null,null,0]
[208,null,null,null,null,null,null,null,null,null,null,null,null,0]
[209,null,null,null,null,null,null,null,null,null,null,null,null,0]
[210,null,null,null,null,null,null,null,null,null,null,null,null,0]
[211,null,null,null,null,null,null,null,null,null,null,null,null,0]
[212,null,null,null,null,null,null,null,null,null,null,null,null,0]
[213,null,null,null,null,null,null,null,null,null,null,null,null,0]
[214,null,null,null,null,null,null,null,null,null,null,null,null,0]
[215,null,null,null,null,null,null,null,null,null,null,null,null,0]
[216,null,null,null,null,null,null,null,null,null,null,null,null,0]
[217,null,null,null,null,null,null,null,null,null,null,null,null,0]
[218,null,null,null,null,null,null,null,null,null,null,null,null,0]
[219,null,null,null,null,null,null,null,null,null,null,null,null,0]
[220,null,null,null,null,null,null,null,null,null,null,null,null,0]
[221,null,null,null,null,null,null,null,null,null,null,null,null,0]
[222,null,null,null,null,null,null,null,null,null,null,null,null,0]
[223,null,null,null,null,null,null,null,null,null,null,null,null,0]
[224,null,null,null,null,null,null,null,null,null,null,null,null,0]
[225,null,null,null,null,null,null,null,null,null,null,null,null,0]
[226,null,null,null,null,null,null,null,null,null,null,null,null,0]
[227,null,null,null,null,null,null,null,null,null,null,null,null,0]
[228,null,null,null,null,null,null,null,null,null,null,null,null,0]
[229,null,null,null,null,null,null,null,null,null,null,null,null,0]
[230,null,null,null,null,null,null,null,null,null,null,null,null,0]
[231,null,null,null,null,null,null,null,null,null,null,null,null,0]
[232,null,null,null,null,null,null,null,null,null,null,null,null,0]
[233,null,null,null,null,null,null,null,null,null,null,null,null,0]
[234,null,null,null,null,null,null,null,null,null,null,null,null,0]
[235,null,null,null,null,null,null,null,null,null,null,null,null,0]
[236,null,null,null,null,null,null,null,null,null,null,null,null,0]
[237,null,null,null,null,null,null,null,null,null,null,null,null,0]
[238,null,null,null,null,null,null,null,null,null,null,null,null,0]
[239,null,null,null,null,null,null,null,null,null,null,null,null,0]
[240,null,null,null,null,null,null,null,null,null,null,null,null,0]
[241,null,null,null,null,null,null,null,null,null,null,null,null,0]
[242,null,null,null,null,null,null,null,null,null,null,null,null,0]
[243,null,null,null,null,null,null,null,null,null,null,null,null,0]
[244,null,null,null,null,null,null,null,null,null,null,null,null,0]
[245,null,null,null,null,null,null,null,null,null,null,null,null,0]
[246,null,null,null,null,null,null,null,null,null,null,null,null,0]
[247,null,null,null,null,null,null,null,null,null,null,null,null,0]
[248,null,null,null,null,null,null,null,null,null,null,null,null,0]
[249,null,null,null,null,null,null,null,null,null,null,null,null,0]
[250,null,null,null,null,null,null,null,null,null,null,null,null,0]
[251,null,null,null,null,null,null,null,null,null,null,null,null,0]
[252,null,null,null,null,null,null,null,null,null,null,null,null,0]
[253,null,null,null,null,null,null,null,null,null,null,null,null,0]
[254,null,null,null,null,null,null,null,null,null,null,null,null,0]
[255,null,null,null,null,null,null,null,null,null,null,null,null,0]
[256,null,null,null,null,null,null,null,null,null,null,null,null,0]
[257,null,null,null,null,null,null,null,null,null,null,null,null,0]
[258,null,null,null,null,null,null,null,null,null,null,null,null,0]
[259,null,null,null,null,null,null,null,null,null,null,null,null,{"$f":"IF(B265=\"\",,C265&\" \"&UPPER(B265)&\" (\"&D265&\")\")","v":0}]
[260,null,null,null,null,null,null,null,null,null,null,null,null,0]
[261,null,null,null,null,null,null,null,null,null,null,null,null,0]
[262,null,null,null,null,null,null,null,null,null,null,null,null,0]
[263,null,null,null,null,null,null,null,null,null,null,null,null,0]
[264,null,null,null,null,null,null,null,null,null,null,null,null,0]
[265,null,null,null,null,null,null,null,null,null,null,null,null,0]
[266,null,null,null,null,null,null,null,null,null,null,null,null,0]
[267,null,null,null,null,null,null,null,null,null,null,null,null,0]
[268,null,null,null,null,null,null,null,null,null,null,null,null,0]
[269,null,null,null,null,null,null,null,null,null,null,null,null,0]
[270,null,null,null,null,null,null,null,null,null,null,null,null,0]
[271,null,null,null,null,null,null,null,null,null,null,null,null,0]
[272,null,null,null,null,null,null,null,null,null,null,null,null,0]
[273,null,null,null,null,null,null,null,null,null,null,null,null,0]
[274,null,null,null,null,null,null,null,null,null,null,null,null,0]
[275,null,null,null,null,null,null,null,null,null,null,null,null,0]
[276,null,null,null,null,null,null,null,null,null,null,null,null,0]
[277,null,null,null,null,null,null,null,null,null,null,null,null,0]
[278,null,null,null,null,null,null,null,null,null,null,null,null,0]
[279,null,null,null,null,null,null,null,null,null,null,null,null,0]
[280,null,null,null,null,null,null,null,null,null,null,null,null,0]
[281,null,null,null,null,null,null,null,null,null,null,null,null,0]
[282,null,null,null,null,null,null,null,null,null,null,null,null,0]
[283,null,null,null,null,null,null,null,null,null,null,null,null,0]
[284,null,null,null,null,null,null,null,null,null,null,null,null,0]
[285,null,null,null,null,null,null,null,null,null,null,null,null,0]
[286,null,null,null,null,null,null,null,null,null,null,null,null,0]
[287,null,null,null,null,null,null,null,null,null,null,null,null,0]
[288,null,null,null,null,null,null,null,null,null,null,null,null,0]
[289,null,null,null,null,null,null,null,null,null,null,null,null,0]
[290,null,null,null,null,null,null,null,null,null,null,null,null,0]
[291,null,null,null,null,null,null,null,null,null,null,null,null,0]
[292,null,null,null,null,null,null,null,null,null,null,null,null,0]
[293,null,null,null,null,null,null,null,null,null,null,null,null,0]
[294,null,null,null,null,null,null,null,null,null,null,null,null,0]
[295,null,null,null,null,null,null,null,null,null,null,null,null,0]
[296,null,null,null,null,null,null,null,null,null,null,null,null,0]
[297,null,null,null,null,null,null,null,null,null,null,null,null,0]
[298,null,null,null,null,null,null,null,null,null,null,null,null,0]
[299,null,null,null,null,null,null,null,null,null,null,null,null,0]
[300,null,null,null,null,null,null,null,null,null,null,null,null,0]
[301,null,null,null,null,null,null,null,null,null,null,null,null,0]
[302,null,null,null,null,null,null,null,null,null,null,null,null,0]
[303,null,null,null,null,null,null,null,null,null,null,null,null,0]
[304,null,null,null,null,null,null,null,null,null,null,null,null,0]
[305,null,null,null,null,null,null,null,null,null,null,null,null,0]
[306,null,null,null,null,null,null,null,null,null,null,null,null,0]
[307,null,null,null,null,null,null,null,null,null,null,null,null,0]
[308,null,null,null,null,null,null,null,null,null,null,null,null,0]
[309,null,null,null,null,null,null,null,null,null,null,null,null,0]
[310,null,null,null,null,null,null,null,null,null,null,null,null,0]
[311,null,null,null,null,null,null,null,null,null,null,null,null,0]
[312,null,null,null,null,null,null,null,null,null,null,null,null,0]
[313,null,null,null,null,null,null,null,null,null,null,null,null,0]
[314,null,null,null,null,null,null,null,null,null,null,null,null,0]
[315,null,null,null,null,null,null,null,null,null,null,null,null,0]
[316,null,null,null,null,null,null,null,null,null,null,null,null,0]
[317,null,null,null,null,null,null,null,null,null,null,null,null,0]
[318,null,null,null,null,null,null,null,null,null,null,null,null,0]
[319,null,null,null,null,null,null,null,null,null,null,null,null,0]
[320,null,null,null,null,null,null,null,null,null,null,null,null,0]
[321,null,null,null,null,null,null,null,null,null,null,null,null,0]
[322,null,null,null,null,null,null,null,null,null,null,null,null,0]
[323,null,null,null,null,null,null,null,null,null,null,null,null,{"$f":"IF(B329=\"\",,C329&\" \"&UPPER(B329)&\" (\"&D329&\")\")","v":0}]
[324,null,null,null,null,null,null,null,null,null,null,null,null,0]
[325,null,null,null,null,null,null,null,null,null,null,null,null,0]
[326,null,null,null,null,null,null,null,null,null,null,null,null,0]
[327,null,null,null,null,null,null,null,null,null,null,null,null,0]
[328,null,null,null,null,null,null,null,null,null,null,null,null,0]
[329,null,null,null,null,null,null,null,null,null,null,null,null,0]
[330,null,null,null,null,null,null,null,null,null,null,null,null,0]
[331,null,null,null,null,null,null,null,null,null,null,null,null,0]
[332,null,null,null,null,null,null,null,null,null,null,null,null,0]
[333,null,null,null,null,null,null,null,null,null,null,null,null,0]
[334,null,null,null,null,null,null,null,null,null,null,null,null,0]
[335,null,null,null,null,null,null,null,null,null,null,null,null,0]
[336,null,null,null,null,null,null,null,null,null,null,null,null,0]
[337,null,null,null,null,null,null,null,null,null,null,null,null,0]
[338,null,null,null,null,null,null,null,null,null,null,null,null,0]
[339,null,null,null,null,null,null,null,null,null,null,null,null,0]
[340,null,null,null,null,null,null,null,null,null,null,null,null,0]
[341,null,null,null,null,null,null,null,null,null,null,null,null,0]
[342,null,null,null,null,null,null,null,null,null,null,null,null,0]
[343,null,null,null,null,null,null,null,null,null,null,null,null,0]
[344,null,null,null,null,null,null,null,null,null,null,null,null,0]
[345,null,null,null,null,null,null,null,null,null,null,null,null,0]
[346,null,null,null,null,null,null,null,null,null,null,null,null,0]
[347,null,null,null,null,null,null,null,null,null,null,null,null,0]
[348,null,null,null,null,null,null,null,null,null,null,null,null,0]
[349,null,null,null,null,null,null,null,null,null,null,null,null,0]
[350,null,null,null,null,null,null,null,null,null,null,null,null,0]
[351,null,null,null,null,null,null,null,null,null,null,null,null,0]
[352,null,null,null,null,null,null,null,null,null,null,null,null,0]
[353,null,null,null,null,null,null,null,null,null,null,null,null,0]
[354,null,null,null,null,null,null,null,null,null,null,null,null,0]
[355,null,null,null,null,null,null,null,null,null,null,null,null,0]
[356,null,null,null,null,null,null,null,null,null,null,null,null,0]
[357,null,null,null,null,null,null,null,null,null,null,null,null,0]
[358,null,null,null,null,null,null,null,null,null,null,null,null,0]
[359,null,null,null,null,null,null,null,null,null,null,null,null,0]
[360,null,null,null,null,null,null,null,null,null,null,null,null,0]
[361,null,null,null,null,null,null,null,null,null,null,null,null,0]
[362,null,null,null,null,null,null,null,null,null,null,null,null,0]
[363,null,null,null,null,null,null,null,null,null,null,null,null,0]
[364,null,null,null,null,null,null,null,null,null,null,null,null,0]
[365,null,null,null,null,null,null,null,null,null,null,null,null,0]
[366,null,null,null,null,null,null,null,null,null,null,null,null,0]
[367,null,null,null,null,null,null,null,null,null,null,null,null,0]
[368,null,null,null,null,null,null,null,null,null,null,null,null,0]
[369,null,null,null,null,null,null,null,null,null,null,null,null,0]
[370,null,null,null,null,null,null,null,null,null,null,null,null,0]
[371,null,null,null,null,null,null,null,null,null,null,null,null,0]
[372,null,null,null,null,null,null,null,null,null,null,null,null,0]
[373,null,null,null,null,null,null,null,null,null,null,null,null,0]
[374,null,null,null,null,null,null,null,null,null,null,null,null,0]
[375,null,null,null,null,null,null,null,null,null,null,null,null,0]
[376,null,null,null,null,null,null,null,null,null,null,null,null,0]
[377,null,null,null,null,null,null,null,null,null,null,null,null,0]
[378,null,null,null,null,null,null,null,null,null,null,null,null,0]
[379,null,null,null,null,null,null,null,null,null,null,null,null,0]
[380,null,null,null,null,null,null,null,null,null,null,null,null,0]
[381,null,null,null,null,null,null,null,null,null,null,null,null,0]
[382,null,null,null,null,null,null,null,null,null,null,null,null,0]
[383,null,null,null,null,null,null,null,null,null,null,null,null,0]
[384,null,null,null,null,null,null,null,null,null,null,null,null,0]
[385,null,null,null,null,null,null,null,null,null,null,null,null,0]
[386,null,null,null,null,null,null,null,null,null,null,null,null,0]
[387,null,null,null,null,null,null,null,null,null,null,null,null,{"$f":"IF(B393=\"\",,C393&\" \"&UPPER(B393)&\" (\"&D393&\")\")","v":0}]
[388,null,null,null,null,null,null,null,null,null,null,null,null,0]
[389,null,null,null,null,null,null,null,null,null,null,null,null,0]
[390,null,null,null,null,null,null,null,null,null,null,null,null,0]
[391,null,null,null,null,null,null,null,null,null,null,null,null,0]
[392,null,null,null,null,null,null,null,null,null,null,null,null,0]
[393,null,null,null,null,null,null,null,null,null,null,null,null,0]
[394,null,null,null,null,null,null,null,null,null,null,null,null,0]
[395,null,null,null,null,null,null,null,null,null,null,null,null,0]
[396,null,null,null,null,null,null,null,null,null,null,null,null,0]
[397,null,null,null,null,null,null,null,null,null,null,null,null,0]
[398,null,null,null,null,null,null,null,null,null,null,null,null,0]
[399,null,null,null,null,null,null,null,null,null,null,null,null,0]
[400,null,null,null,null,null,null,null,null,null,null,null,null,0]
[401,null,null,null,null,null,null,null,null,null,null,null,null,0]
[402,null,null,null,null,null,null,null,null,null,null,null,null,0]
[403,null,null,null,null,null,null,null,null,null,null,null,null,0]
[404,null,null,null,null,null,null,null,null,null,null,null,null,0]
[405,null,null,null,null,null,null,null,null,null,null,null,null,0]
[406,null,null,null,null,null,null,null,null,null,null,null,null,0]
[407,null,null,null,null,null,null,null,null,null,null,null,null,0]
[408,null,null,null,null,null,null,null,null,null,null,null,null,0]
[409,null,null,null,null,null,null,null,null,null,null,null,null,0]
[410,null,null,null,null,null,null,null,null,null,null,null,null,0]
[411,null,null,null,null,null,null,null,null,null,null,null,null,0]
[412,null,null,null,null,null,null,null,null,null,null,null,null,0]
[413,null,null,null,null,null,null,null,null,null,null,null,null,0]
[414,null,null,null,null,null,null,null,null,null,null,null,null,0]
[415,null,null,null,null,null,null,null,null,null,null,null,null,0]
[416,null,null,null,null,null,null,null,null,null,null,null,null,0]
[417,null,null,null,null,null,null,null,null,null,null,null,null,0]
[418,null,null,null,null,null,null,null,null,null,null,null,null,0]
[419,null,null,null,null,null,null,null,null,null,null,null,null,0]
[420,null,null,null,null,null,null,null,null,null,null,null,null,0]
[421,null,null,null,null,null,null,null,null,null,null,null,null,0]
[422,null,null,null,null,null,null,null,null,null,null,null,null,0]
[423,null,null,null,null,null,null,null,null,null,null,null,null,0]
[424,null,null,null,null,null,null,null,null,null,null,null,null,0]
[425,null,null,null,null,null,null,null,null,null,null,null,null,0]
[426,null,null,null,null,null,null,null,null,null,null,null,null,0]
[427,null,null,null,null,null,null,null,null,null,null,null,null,0]
[428,null,null,null,null,null,null,null,null,null,null,null,null,0]
[429,null,null,null,null,null,null,null,null,null,null,null,null,0]
[430,null,null,null,null,null,null,null,null,null,null,null,null,0]
[431,null,null,null,null,null,null,null,null,null,null,null,null,0]
[432,null,null,null,null,null,null,null,null,null,null,null,null,0]
[433,null,null,null,null,null,null,null,null,null,null,null,null,0]
[434,null,null,null,null,null,null,null,null,null,null,null,null,0]
[435,null,null,null,null,null,null,null,null,null,null,null,null,0]
[436,null,null,null,null,null,null,null,null,null,null,null,null,0]
[437,null,null,null,null,null,null,null,null,null,null,null,null,0]
[438,null,null,null,null,null,null,null,null,null,null,null,null,0]
[439,null,null,null,null,null,null,null,null,null,null,null,null,0]
[440,null,null,null,null,null,null,null,null,null,null,null,null,0]
[441,null,null,null,null,null,null,null,null,null,null,null,null,0]
[442,null,null,null,null,null,null,null,null,null,null,null,null,0]
[443,null,null,null,null,null,null,null,null,null,null,null,null,0]
[444,null,null,null,null,null,null,null,null,null,null,null,null,0]
[445,null,null,null,null,null,null,null,null,null,null,null,null,0]
[446,null,null,null,null,null,null,null,null,null,null,null,null,0]
[447,null,null,null,null,null,null,null,null,null,null,null,null,0]
[448,null,null,null,null,null,null,null,null,null,null,null,null,0]
[449,null,null,null,null,null,null,null,null,null,null,null,null,0]
[450,null,null,null,null,null,null,null,null,null,null,null,null,0]
[451,null,null,null,null,null,null,null,null,null,null,null,null,{"$f":"IF(B457=\"\",,C457&\" \"&UPPER(B457)&\" (\"&D457&\")\")","v":0}]
[452,null,null,null,null,null,null,null,null,null,null,null,null,0]
[453,null,null,null,null,null,null,null,null,null,null,null,null,0]
[454,null,null,null,null,null,null,null,null,null,null,null,null,0]
[455,null,null,null,null,null,null,null,null,null,null,null,null,0]
[456,null,null,null,null,null,null,null,null,null,null,null,null,0]
[457,null,null,null,null,null,null,null,null,null,null,null,null,0]
[458,null,null,null,null,null,null,null,null,null,null,null,null,0]
[459,null,null,null,null,null,null,null,null,null,null,null,null,0]
[460,null,null,null,null,null,null,null,null,null,null,null,null,0]
[461,null,null,null,null,null,null,null,null,null,null,null,null,0]
[462,null,null,null,null,null,null,null,null,null,null,null,null,0]
[463,null,null,null,null,null,null,null,null,null,null,null,null,0]
[464,null,null,null,null,null,null,null,null,null,null,null,null,0]
[465,null,null,null,null,null,null,null,null,null,null,null,null,0]
[466,null,null,null,null,null,null,null,null,null,null,null,null,0]
[467,null,null,null,null,null,null,null,null,null,null,null,null,0]
[468,null,null,null,null,null,null,null,null,null,null,null,null,0]
[469,null,null,null,null,null,null,null,null,null,null,null,null,0]
[470,null,null,null,null,null,null,null,null,null,null,null,null,0]
[471,null,null,null,null,null,null,null,null,null,null,null,null,0]
[472,null,null,null,null,null,null,null,null,null,null,null,null,0]
[473,null,null,null,null,null,null,null,null,null,null,null,null,0]
[474,null,null,null,null,null,null,null,null,null,null,null,null,0]
[475,null,null,null,null,null,null,null,null,null,null,null,null,0]
[476,null,null,null,null,null,null,null,null,null,null,null,null,0]
[477,null,null,null,null,null,null,null,null,null,null,null,null,0]
[478,null,null,null,null,null,null,null,null,null,null,null,null,0]
[479,null,null,null,null,null,null,null,null,null,null,null,null,0]
[480,null,null,null,null,null,null,null,null,null,null,null,null,0]
[481,null,null,null,null,null,null,null,null,null,null,null,null,0]
[482,null,null,null,null,null,null,null,null,null,null,null,null,0]
[483,null,null,null,null,null,null,null,null,null,null,null,null,0]
[484,null,null,null,null,null,null,null,null,null,null,null,null,0]
[485,null,null,null,null,null,null,null,null,null,null,null,null,0]
[486,null,null,null,null,null,null,null,null,null,null,null,null,0]
[487,null,null,null,null,null,null,null,null,null,null,null,null,0]
[488,null,null,null,null,null,null,null,null,null,null,null,null,0]
[489,null,null,null,null,null,null,null,null,null,null,null,null,0]
[490,null,null,null,null,null,null,null,null,null,null,null,null,0]
[491,null,null,null,null,null,null,null,null,null,null,null,null,0]
[492,null,null,null,null,null,null,null,null,null,null,null,null,0]
[493,null,null,null,null,null,null,null,null,null,null,null,null,0]
[494,null,null,null,null,null,null,null,null,null,null,null,null,0]
[495,null,null,null,null,null,null,null,null,null,null,null,null,0]
[496,null,null,null,null,null,null,null,null,null,null,null,null,0]
[497,null,null,null,null,null,null,null,null,null,null,null,null,0]
[498,null,null,null,null,null,null,null,null,null,null,null,null,0]
[499,null,null,null,null,null,null,null,null,null,null,null,null,0]
[500,null,null,null,null,null,null,null,null,null,null,null,null,0]
[501,null,null,null,null,null,null,null,null,null,null,null,null,0]
[502,null,null,null,null,null,null,null,null,null,null,null,null,0]
[503,null,null,null,null,null,null,null,null,null,null,null,null,0]
[504,null,null,null,null,null,null,null,null,null,null,null,null,0]
[505,null,null,null,null,null,null,null,null,null,null,null,null,0]
[506,null,null,null,null,null,null,null,null,null,null,null,null,0]
[507,null,null,null,null,null,null,null,null,null,null,null,null,0]
[508,null,null,null,null,null,null,null,null,null,null,null,null,0]
[509,null,null,null,null,null,null,null,null,null,null,null,null,0]
[510,null,null,null,null,null,null,null,null,null,null,null,null,0]
[511,null,null,null,null,null,null,null,null,null,null,null,null,0]
[512,null,null,null,null,null,null,null,null,null,null,null,null,0]

{"sheet":"OofP 4 cts","index":52,"n_rows":581,"n_cols":5,"rows_kept":581,"cut":false,"hidden":false,"merged":[]}
[null,null,null,"Day, Date"]
[{"$f":"'Week SetUp'!$A$6","v":0},null,"ORDER OF PLAY"]
[{"$f":"'Week SetUp'!$A$8","v":"ITF Junior Circuit"}]
["Week of","City, Country","Group","Tourn. ID","ITF Referee"]
[{"$f":"'Week SetUp'!$A$10","v":"00:00:00"},{"$f":"'Week SetUp'!$C$10","v":0},{"$f":"'Week SetUp'!$D$10","v":0},{"$f":"'Week SetUp'!$A$12","v":0},{"$f":"'Week SetUp'!$E$10","v":0}]
[null,"Court 1","Court 2","Court 3","Court 4"]
[null,"Starting at","Starting at","Starting at","Starting at"]
["1st Match"]
[]
[null,"vs.","vs.","vs.","vs."]
[]
[]
[]
[null,"Followed by","Followed by","Followed by","Followed by"]
["2nd Match"]
[]
[null,"vs.","vs.","vs.","vs."]
[]
[]
[]
[null,"Followed by","Followed by","Followed by","Followed by"]
["3rd Match"]
[]
[null,"vs.","vs.","vs.","vs."]
[]
[]
[]
[null,"Followed by","Followed by","Followed by","Followed by"]
["4th Match"]
[]
[null,"vs.","vs.","vs.","vs."]
[]
[]
[]
[null,"Followed by","Followed by","Followed by","Followed by"]
["5th Match"]
[]
[null,"vs.","vs.","vs.","vs."]
[]
[]
[]
[null,"Followed by","Followed by","Followed by","Followed by"]
["6th Match"]
[]
[null,"vs.","vs.","vs.","vs."]
[]
[]
[]
["Last match on any court may be moved",null,null,"Order of Play released","Signature"]
["Singles Lucky Losers sign-in before:"]
["Doubles Alternates sign-in before:",null,null,null,{"$f":"E5","v":0}]
[]
[]
[]
[]
[]
[]
[]
[]
[]
[]
[]
[]
[]
[]
[]
[]
[]
["Do not delete or hide the red cells below"]
[{"$f":"'Plr List for OofP'!N7","v":0}]
[{"$f":"'Plr List for OofP'!N8","v":0}]
[{"$f":"'Plr List for OofP'!N9","v":0}]
[{"$f":"'Plr List for OofP'!N10","v":0}]
[{"$f":"'Plr List for OofP'!N11","v":0}]
[{"$f":"'Plr List for OofP'!N12","v":0}]
[{"$f":"'Plr List for OofP'!N13","v":0}]
[{"$f":"'Plr List for OofP'!N14","v":0}]
[{"$f":"'Plr List for OofP'!N15","v":0}]
[{"$f":"'Plr List for OofP'!N16","v":0}]
[{"$f":"'Plr List for OofP'!N17","v":0}]
[{"$f":"'Plr List for OofP'!N18","v":0}]
[{"$f":"'Plr List for OofP'!N19","v":0}]
[{"$f":"'Plr List for OofP'!N20","v":0}]
[{"$f":"'Plr List for OofP'!N21","v":0}]
[{"$f":"'Plr List for OofP'!N22","v":0}]
[{"$f":"'Plr List for OofP'!N23","v":0}]
[{"$f":"'Plr List for OofP'!N24","v":0}]
[{"$f":"'Plr List for OofP'!N25","v":0}]
[{"$f":"'Plr List for OofP'!N26","v":0}]
[{"$f":"'Plr List for OofP'!N27","v":0}]
[{"$f":"'Plr List for OofP'!N28","v":0}]
[{"$f":"'Plr List for OofP'!N29","v":0}]
[{"$f":"'Plr List for OofP'!N30","v":0}]
[{"$f":"'Plr List for OofP'!N31","v":0}]
[{"$f":"'Plr List for OofP'!N32","v":0}]
[{"$f":"'Plr List for OofP'!N33","v":0}]
[{"$f":"'Plr List for OofP'!N34","v":0}]
[{"$f":"'Plr List for OofP'!N35","v":0}]
[{"$f":"'Plr List for OofP'!N36","v":0}]
[{"$f":"'Plr List for OofP'!N37","v":0}]
[{"$f":"'Plr List for OofP'!N38","v":0}]
[{"$f":"'Plr List for OofP'!N39","v":0}]
[{"$f":"'Plr List for OofP'!N40","v":0}]
[{"$f":"'Plr List for OofP'!N41","v":0}]
[{"$f":"'Plr List for OofP'!N42","v":0}]
[{"$f":"'Plr List for OofP'!N43","v":0}]
[{"$f":"'Plr List for OofP'!N44","v":0}]
[{"$f":"'Plr List for OofP'!N45","v":0}]
[{"$f":"'Plr List for OofP'!N46","v":0}]
[{"$f":"'Plr List for OofP'!N47","v":0}]
[{"$f":"'Plr List for OofP'!N48","v":0}]
[{"$f":"'Plr List for OofP'!N49","v":0}]
[{"$f":"'Plr List for OofP'!N50","v":0}]
[{"$f":"'Plr List for OofP'!N51","v":0}]
[{"$f":"'Plr List for OofP'!N52","v":0}]
[{"$f":"'Plr List for OofP'!N53","v":0}]
[{"$f":"'Plr List for OofP'!N54","v":0}]
[{"$f":"'Plr List for OofP'!N55","v":0}]
[{"$f":"'Plr List for OofP'!N56","v":0}]
[{"$f":"'Plr List for OofP'!N57","v":0}]
[{"$f":"'Plr List for OofP'!N58","v":0}]
[{"$f":"'Plr List for OofP'!N59","v":0}]
[{"$f":"'Plr List for OofP'!N60","v":0}]
[{"$f":"'Plr List for OofP'!N61","v":0}]
[{"$f":"'Plr List for OofP'!N62","v":0}]
[{"$f":"'Plr List for OofP'!N63","v":0}]
[{"$f":"'Plr List for OofP'!N64","v":0}]
[{"$f":"'Plr List for OofP'!N65","v":0}]
[{"$f":"'Plr List for OofP'!N66","v":0}]
[{"$f":"'Plr List for OofP'!N67","v":0}]
[{"$f":"'Plr List for OofP'!N68","v":0}]
[{"$f":"'Plr List for OofP'!N69","v":0}]
[{"$f":"'Plr List for OofP'!N70","v":0}]
[{"$f":"'Plr List for OofP'!N71","v":0}]
[{"$f":"'Plr List for OofP'!N72","v":0}]
[{"$f":"'Plr List for OofP'!N73","v":0}]
[{"$f":"'Plr List for OofP'!N74","v":0}]
[{"$f":"'Plr List for OofP'!N75","v":0}]
[{"$f":"'Plr List for OofP'!N76","v":0}]
[{"$f":"'Plr List for OofP'!N77","v":0}]
[{"$f":"'Plr List for OofP'!N78","v":0}]
[{"$f":"'Plr List for OofP'!N79","v":0}]
[{"$f":"'Plr List for OofP'!N80","v":0}]
[{"$f":"'Plr List for OofP'!N81","v":0}]
[{"$f":"'Plr List for OofP'!N82","v":0}]
[{"$f":"'Plr List for OofP'!N83","v":0}]
[{"$f":"'Plr List for OofP'!N84","v":0}]
[{"$f":"'Plr List for OofP'!N85","v":0}]
[{"$f":"'Plr List for OofP'!N86","v":0}]
[{"$f":"'Plr List for OofP'!N87","v":0}]
[{"$f":"'Plr List for OofP'!N88","v":0}]
[{"$f":"'Plr List for OofP'!N89","v":0}]
[{"$f":"'Plr List for OofP'!N90","v":0}]
[{"$f":"'Plr List for OofP'!N91","v":0}]
[{"$f":"'Plr List for OofP'!N92","v":0}]
[{"$f":"'Plr List for OofP'!N93","v":0}]
[{"$f":"'Plr List for OofP'!N94","v":0}]
[{"$f":"'Plr List for OofP'!N95","v":0}]
[{"$f":"'Plr List for OofP'!N96","v":0}]
[{"$f":"'Plr List for OofP'!N97","v":0}]
[{"$f":"'Plr List for OofP'!N98","v":0}]
[{"$f":"'Plr List for OofP'!N99","v":0}]
[{"$f":"'Plr List for OofP'!N100","v":0}]
[{"$f":"'Plr List for OofP'!N101","v":0}]
[{"$f":"'Plr List for OofP'!N102","v":0}]
[{"$f":"'Plr List for OofP'!N103","v":0}]
[{"$f":"'Plr List for OofP'!N104","v":0}]
[{"$f":"'Plr List for OofP'!N105","v":0}]
[{"$f":"'Plr List for OofP'!N106","v":0}]
[{"$f":"'Plr List for OofP'!N107","v":0}]
[{"$f":"'Plr List for OofP'!N108","v":0}]
[{"$f":"'Plr List for OofP'!N109","v":0}]
[{"$f":"'Plr List for OofP'!N110","v":0}]
[{"$f":"'Plr List for OofP'!N111","v":0}]
[{"$f":"'Plr List for OofP'!N112","v":0}]
[{"$f":"'Plr List for OofP'!N113","v":0}]
[{"$f":"'Plr List for OofP'!N114","v":0}]
[{"$f":"'Plr List for OofP'!N115","v":0}]
[{"$f":"'Plr List for OofP'!N116","v":0}]
[{"$f":"'Plr List for OofP'!N117","v":0}]
[{"$f":"'Plr List for OofP'!N118","v":0}]
[{"$f":"'Plr List for OofP'!N119","v":0}]
[{"$f":"'Plr List for OofP'!N120","v":0}]
[{"$f":"'Plr List for OofP'!N121","v":0}]
[{"$f":"'Plr List for OofP'!N122","v":0}]
[{"$f":"'Plr List for OofP'!N123","v":0}]
[{"$f":"'Plr List for OofP'!N124","v":0}]
[{"$f":"'Plr List for OofP'!N125","v":0}]
[{"$f":"'Plr List for OofP'!N126","v":0}]
[{"$f":"'Plr List for OofP'!N127","v":0}]
[{"$f":"'Plr List for OofP'!N128","v":0}]
[{"$f":"'Plr List for OofP'!N129","v":0}]
[{"$f":"'Plr List for OofP'!N130","v":0}]
[{"$f":"'Plr List for OofP'!N131","v":0}]
[{"$f":"'Plr List for OofP'!N132","v":0}]
[{"$f":"'Plr List for OofP'!N133","v":0}]
[{"$f":"'Plr List for OofP'!N134","v":0}]
[{"$f":"'Plr List for OofP'!N135","v":0}]
[{"$f":"'Plr List for OofP'!N136","v":0}]
[{"$f":"'Plr List for OofP'!N137","v":0}]
[{"$f":"'Plr List for OofP'!N138","v":0}]
[{"$f":"'Plr List for OofP'!N139","v":0}]
[{"$f":"'Plr List for OofP'!N140","v":0}]
[{"$f":"'Plr List for OofP'!N141","v":0}]
[{"$f":"'Plr List for OofP'!N142","v":0}]
[{"$f":"'Plr List for OofP'!N143","v":0}]
[{"$f":"'Plr List for OofP'!N144","v":0}]
[{"$f":"'Plr List for OofP'!N145","v":0}]
[{"$f":"'Plr List for OofP'!N146","v":0}]
[{"$f":"'Plr List for OofP'!N147","v":0}]
[{"$f":"'Plr List for OofP'!N148","v":0}]
[{"$f":"'Plr List for OofP'!N149","v":0}]
[{"$f":"'Plr List for OofP'!N150","v":0}]
[{"$f":"'Plr List for OofP'!N151","v":0}]
[{"$f":"'Plr List for OofP'!N152","v":0}]
[{"$f":"'Plr List for OofP'!N153","v":0}]
[{"$f":"'Plr List for OofP'!N154","v":0}]
[{"$f":"'Plr List for OofP'!N155","v":0}]
[{"$f":"'Plr List for OofP'!N156","v":0}]
[{"$f":"'Plr List for OofP'!N157","v":0}]
[{"$f":"'Plr List for OofP'!N158","v":0}]
[{"$f":"'Plr List for OofP'!N159","v":0}]
[{"$f":"'Plr List for OofP'!N160","v":0}]
[{"$f":"'Plr List for OofP'!N161","v":0}]
[{"$f":"'Plr List for OofP'!N162","v":0}]
[{"$f":"'Plr List for OofP'!N163","v":0}]
[{"$f":"'Plr List for OofP'!N164","v":0}]
[{"$f":"'Plr List for OofP'!N165","v":0}]
[{"$f":"'Plr List for OofP'!N166","v":0}]
[{"$f":"'Plr List for OofP'!N167","v":0}]
[{"$f":"'Plr List for OofP'!N168","v":0}]
[{"$f":"'Plr List for OofP'!N169","v":0}]
[{"$f":"'Plr List for OofP'!N170","v":0}]
[{"$f":"'Plr List for OofP'!N171","v":0}]
[{"$f":"'Plr List for OofP'!N172","v":0}]
[{"$f":"'Plr List for OofP'!N173","v":0}]
[{"$f":"'Plr List for OofP'!N174","v":0}]
[{"$f":"'Plr List for OofP'!N175","v":0}]
[{"$f":"'Plr List for OofP'!N176","v":0}]
[{"$f":"'Plr List for OofP'!N177","v":0}]
[{"$f":"'Plr List for OofP'!N178","v":0}]
[{"$f":"'Plr List for OofP'!N179","v":0}]
[{"$f":"'Plr List for OofP'!N180","v":0}]
[{"$f":"'Plr List for OofP'!N181","v":0}]
[{"$f":"'Plr List for OofP'!N182","v":0}]
[{"$f":"'Plr List for OofP'!N183","v":0}]
[{"$f":"'Plr List for OofP'!N184","v":0}]
[{"$f":"'Plr List for OofP'!N185","v":0}]
[{"$f":"'Plr List for OofP'!N186","v":0}]
[{"$f":"'Plr List for OofP'!N187","v":0}]
[{"$f":"'Plr List for OofP'!N188","v":0}]
[{"$f":"'Plr List for OofP'!N189","v":0}]
[{"$f":"'Plr List for OofP'!N190","v":0}]
[{"$f":"'Plr List for OofP'!N191","v":0}]
[{"$f":"'Plr List for OofP'!N192","v":0}]
[{"$f":"'Plr List for OofP'!N193","v":0}]
[{"$f":"'Plr List for OofP'!N194","v":0}]
[{"$f":"'Plr List for OofP'!N195","v":0}]
[{"$f":"'Plr List for OofP'!N196","v":0}]
[{"$f":"'Plr List for OofP'!N197","v":0}]
[{"$f":"'Plr List for OofP'!N198","v":0}]
[{"$f":"'Plr List for OofP'!N199","v":0}]
[{"$f":"'Plr List for OofP'!N200","v":0}]
[{"$f":"'Plr List for OofP'!N201","v":0}]
[{"$f":"'Plr List for OofP'!N202","v":0}]
[{"$f":"'Plr List for OofP'!N203","v":0}]
[{"$f":"'Plr List for OofP'!N204","v":0}]
[{"$f":"'Plr List for OofP'!N205","v":0}]
[{"$f":"'Plr List for OofP'!N206","v":0}]
[{"$f":"'Plr List for OofP'!N207","v":0}]
[{"$f":"'Plr List for OofP'!N208","v":0}]
[{"$f":"'Plr List for OofP'!N209","v":0}]
[{"$f":"'Plr List for OofP'!N210","v":0}]
[{"$f":"'Plr List for OofP'!N211","v":0}]
[{"$f":"'Plr List for OofP'!N212","v":0}]
[{"$f":"'Plr List for OofP'!N213","v":0}]
[{"$f":"'Plr List for OofP'!N214","v":0}]
[{"$f":"'Plr List for OofP'!N215","v":0}]
[{"$f":"'Plr List for OofP'!N216","v":0}]
[{"$f":"'Plr List for OofP'!N217","v":0}]
[{"$f":"'Plr List for OofP'!N218","v":0}]
[{"$f":"'Plr List for OofP'!N219","v":0}]
[{"$f":"'Plr List for OofP'!N220","v":0}]
[{"$f":"'Plr List for OofP'!N221","v":0}]
[{"$f":"'Plr List for OofP'!N222","v":0}]
[{"$f":"'Plr List for OofP'!N223","v":0}]
[{"$f":"'Plr List for OofP'!N224","v":0}]
[{"$f":"'Plr List for OofP'!N225","v":0}]
[{"$f":"'Plr List for OofP'!N226","v":0}]
[{"$f":"'Plr List for OofP'!N227","v":0}]
[{"$f":"'Plr List for OofP'!N228","v":0}]
[{"$f":"'Plr List for OofP'!N229","v":0}]
[{"$f":"'Plr List for OofP'!N230","v":0}]
[{"$f":"'Plr List for OofP'!N231","v":0}]
[{"$f":"'Plr List for OofP'!N232","v":0}]
[{"$f":"'Plr List for OofP'!N233","v":0}]
[{"$f":"'Plr List for OofP'!N234","v":0}]
[{"$f":"'Plr List for OofP'!N235","v":0}]
[{"$f":"'Plr List for OofP'!N236","v":0}]
[{"$f":"'Plr List for OofP'!N237","v":0}]
[{"$f":"'Plr List for OofP'!N238","v":0}]
[{"$f":"'Plr List for OofP'!N239","v":0}]
[{"$f":"'Plr List for OofP'!N240","v":0}]
[{"$f":"'Plr List for OofP'!N241","v":0}]
[{"$f":"'Plr List for OofP'!N242","v":0}]
[{"$f":"'Plr List for OofP'!N243","v":0}]
[{"$f":"'Plr List for OofP'!N244","v":0}]
[{"$f":"'Plr List for OofP'!N245","v":0}]
[{"$f":"'Plr List for OofP'!N246","v":0}]
[{"$f":"'Plr List for OofP'!N247","v":0}]
[{"$f":"'Plr List for OofP'!N248","v":0}]
[{"$f":"'Plr List for OofP'!N249","v":0}]
[{"$f":"'Plr List for OofP'!N250","v":0}]
[{"$f":"'Plr List for OofP'!N251","v":0}]
[{"$f":"'Plr List for OofP'!N252","v":0}]
[{"$f":"'Plr List for OofP'!N253","v":0}]
[{"$f":"'Plr List for OofP'!N254","v":0}]
[{"$f":"'Plr List for OofP'!N255","v":0}]
[{"$f":"'Plr List for OofP'!N256","v":0}]
[{"$f":"'Plr List for OofP'!N257","v":0}]
[{"$f":"'Plr List for OofP'!N258","v":0}]
[{"$f":"'Plr List for OofP'!N259","v":0}]
[{"$f":"'Plr List for OofP'!N260","v":0}]
[{"$f":"'Plr List for OofP'!N261","v":0}]
[{"$f":"'Plr List for OofP'!N262","v":0}]
[{"$f":"'Plr List for OofP'!N263","v":0}]
[{"$f":"'Plr List for OofP'!N264","v":0}]
[{"$f":"'Plr List for OofP'!N265","v":0}]
[{"$f":"'Plr List for OofP'!N266","v":0}]
[{"$f":"'Plr List for OofP'!N267","v":0}]
[{"$f":"'Plr List for OofP'!N268","v":0}]
[{"$f":"'Plr List for OofP'!N269","v":0}]
[{"$f":"'Plr List for OofP'!N270","v":0}]
[{"$f":"'Plr List for OofP'!N271","v":0}]
[{"$f":"'Plr List for OofP'!N272","v":0}]
[{"$f":"'Plr List for OofP'!N273","v":0}]
[{"$f":"'Plr List for OofP'!N274","v":0}]
[{"$f":"'Plr List for OofP'!N275","v":0}]
[{"$f":"'Plr List for OofP'!N276","v":0}]
[{"$f":"'Plr List for OofP'!N277","v":0}]
[{"$f":"'Plr List for OofP'!N278","v":0}]
[{"$f":"'Plr List for OofP'!N279","v":0}]
[{"$f":"'Plr List for OofP'!N280","v":0}]
[{"$f":"'Plr List for OofP'!N281","v":0}]
[{"$f":"'Plr List for OofP'!N282","v":0}]
[{"$f":"'Plr List for OofP'!N283","v":0}]
[{"$f":"'Plr List for OofP'!N284","v":0}]
[{"$f":"'Plr List for OofP'!N285","v":0}]
[{"$f":"'Plr List for OofP'!N286","v":0}]
[{"$f":"'Plr List for OofP'!N287","v":0}]
[{"$f":"'Plr List for OofP'!N288","v":0}]
[{"$f":"'Plr List for OofP'!N289","v":0}]
[{"$f":"'Plr List for OofP'!N290","v":0}]
[{"$f":"'Plr List for OofP'!N291","v":0}]
[{"$f":"'Plr List for OofP'!N292","v":0}]
[{"$f":"'Plr List for OofP'!N293","v":0}]
[{"$f":"'Plr List for OofP'!N294","v":0}]
[{"$f":"'Plr List for OofP'!N295","v":0}]
[{"$f":"'Plr List for OofP'!N296","v":0}]
[{"$f":"'Plr List for OofP'!N297","v":0}]
[{"$f":"'Plr List for OofP'!N298","v":0}]
[{"$f":"'Plr List for OofP'!N299","v":0}]
[{"$f":"'Plr List for OofP'!N300","v":0}]
[{"$f":"'Plr List for OofP'!N301","v":0}]
[{"$f":"'Plr List for OofP'!N302","v":0}]
[{"$f":"'Plr List for OofP'!N303","v":0}]
[{"$f":"'Plr List for OofP'!N304","v":0}]
[{"$f":"'Plr List for OofP'!N305","v":0}]
[{"$f":"'Plr List for OofP'!N306","v":0}]
[{"$f":"'Plr List for OofP'!N307","v":0}]
[{"$f":"'Plr List for OofP'!N308","v":0}]
[{"$f":"'Plr List for OofP'!N309","v":0}]
[{"$f":"'Plr List for OofP'!N310","v":0}]
[{"$f":"'Plr List for OofP'!N311","v":0}]
[{"$f":"'Plr List for OofP'!N312","v":0}]
[{"$f":"'Plr List for OofP'!N313","v":0}]
[{"$f":"'Plr List for OofP'!N314","v":0}]
[{"$f":"'Plr List for OofP'!N315","v":0}]
[{"$f":"'Plr List for OofP'!N316","v":0}]
[{"$f":"'Plr List for OofP'!N317","v":0}]
[{"$f":"'Plr List for OofP'!N318","v":0}]
[{"$f":"'Plr List for OofP'!N319","v":0}]
[{"$f":"'Plr List for OofP'!N320","v":0}]
[{"$f":"'Plr List for OofP'!N321","v":0}]
[{"$f":"'Plr List for OofP'!N322","v":0}]
[{"$f":"'Plr List for OofP'!N323","v":0}]
[{"$f":"'Plr List for OofP'!N324","v":0}]
[{"$f":"'Plr List for OofP'!N325","v":0}]
[{"$f":"'Plr List for OofP'!N326","v":0}]
[{"$f":"'Plr List for OofP'!N327","v":0}]
[{"$f":"'Plr List for OofP'!N328","v":0}]
[{"$f":"'Plr List for OofP'!N329","v":0}]
[{"$f":"'Plr List for OofP'!N330","v":0}]
[{"$f":"'Plr List for OofP'!N331","v":0}]
[{"$f":"'Plr List for OofP'!N332","v":0}]
[{"$f":"'Plr List for OofP'!N333","v":0}]
[{"$f":"'Plr List for OofP'!N334","v":0}]
[{"$f":"'Plr List for OofP'!N335","v":0}]
[{"$f":"'Plr List for OofP'!N336","v":0}]
[{"$f":"'Plr List for OofP'!N337","v":0}]
[{"$f":"'Plr List for OofP'!N338","v":0}]
[{"$f":"'Plr List for OofP'!N339","v":0}]
[{"$f":"'Plr List for OofP'!N340","v":0}]
[{"$f":"'Plr List for OofP'!N341","v":0}]
[{"$f":"'Plr List for OofP'!N342","v":0}]
[{"$f":"'Plr List for OofP'!N343","v":0}]
[{"$f":"'Plr List for OofP'!N344","v":0}]
[{"$f":"'Plr List for OofP'!N345","v":0}]
[{"$f":"'Plr List for OofP'!N346","v":0}]
[{"$f":"'Plr List for OofP'!N347","v":0}]
[{"$f":"'Plr List for OofP'!N348","v":0}]
[{"$f":"'Plr List for OofP'!N349","v":0}]
[{"$f":"'Plr List for OofP'!N350","v":0}]
[{"$f":"'Plr List for OofP'!N351","v":0}]
[{"$f":"'Plr List for OofP'!N352","v":0}]
[{"$f":"'Plr List for OofP'!N353","v":0}]
[{"$f":"'Plr List for OofP'!N354","v":0}]
[{"$f":"'Plr List for OofP'!N355","v":0}]
[{"$f":"'Plr List for OofP'!N356","v":0}]
[{"$f":"'Plr List for OofP'!N357","v":0}]
[{"$f":"'Plr List for OofP'!N358","v":0}]
[{"$f":"'Plr List for OofP'!N359","v":0}]
[{"$f":"'Plr List for OofP'!N360","v":0}]
[{"$f":"'Plr List for OofP'!N361","v":0}]
[{"$f":"'Plr List for OofP'!N362","v":0}]
[{"$f":"'Plr List for OofP'!N363","v":0}]
[{"$f":"'Plr List for OofP'!N364","v":0}]
[{"$f":"'Plr List for OofP'!N365","v":0}]
[{"$f":"'Plr List for OofP'!N366","v":0}]
[{"$f":"'Plr List for OofP'!N367","v":0}]
[{"$f":"'Plr List for OofP'!N368","v":0}]
[{"$f":"'Plr List for OofP'!N369","v":0}]
[{"$f":"'Plr List for OofP'!N370","v":0}]
[{"$f":"'Plr List for OofP'!N371","v":0}]
[{"$f":"'Plr List for OofP'!N372","v":0}]
[{"$f":"'Plr List for OofP'!N373","v":0}]
[{"$f":"'Plr List for OofP'!N374","v":0}]
[{"$f":"'Plr List for OofP'!N375","v":0}]
[{"$f":"'Plr List for OofP'!N376","v":0}]
[{"$f":"'Plr List for OofP'!N377","v":0}]
[{"$f":"'Plr List for OofP'!N378","v":0}]
[{"$f":"'Plr List for OofP'!N379","v":0}]
[{"$f":"'Plr List for OofP'!N380","v":0}]
[{"$f":"'Plr List for OofP'!N381","v":0}]
[{"$f":"'Plr List for OofP'!N382","v":0}]
[{"$f":"'Plr List for OofP'!N383","v":0}]
[{"$f":"'Plr List for OofP'!N384","v":0}]
[{"$f":"'Plr List for OofP'!N385","v":0}]
[{"$f":"'Plr List for OofP'!N386","v":0}]
[{"$f":"'Plr List for OofP'!N387","v":0}]
[{"$f":"'Plr List for OofP'!N388","v":0}]
[{"$f":"'Plr List for OofP'!N389","v":0}]
[{"$f":"'Plr List for OofP'!N390","v":0}]
[{"$f":"'Plr List for OofP'!N391","v":0}]
[{"$f":"'Plr List for OofP'!N392","v":0}]
[{"$f":"'Plr List for OofP'!N393","v":0}]
[{"$f":"'Plr List for OofP'!N394","v":0}]
[{"$f":"'Plr List for OofP'!N395","v":0}]
[{"$f":"'Plr List for OofP'!N396","v":0}]
[{"$f":"'Plr List for OofP'!N397","v":0}]
[{"$f":"'Plr List for OofP'!N398","v":0}]
[{"$f":"'Plr List for OofP'!N399","v":0}]
[{"$f":"'Plr List for OofP'!N400","v":0}]
[{"$f":"'Plr List for OofP'!N401","v":0}]
[{"$f":"'Plr List for OofP'!N402","v":0}]
[{"$f":"'Plr List for OofP'!N403","v":0}]
[{"$f":"'Plr List for OofP'!N404","v":0}]
[{"$f":"'Plr List for OofP'!N405","v":0}]
[{"$f":"'Plr List for OofP'!N406","v":0}]
[{"$f":"'Plr List for OofP'!N407","v":0}]
[{"$f":"'Plr List for OofP'!N408","v":0}]
[{"$f":"'Plr List for OofP'!N409","v":0}]
[{"$f":"'Plr List for OofP'!N410","v":0}]
[{"$f":"'Plr List for OofP'!N411","v":0}]
[{"$f":"'Plr List for OofP'!N412","v":0}]
[{"$f":"'Plr List for OofP'!N413","v":0}]
[{"$f":"'Plr List for OofP'!N414","v":0}]
[{"$f":"'Plr List for OofP'!N415","v":0}]
[{"$f":"'Plr List for OofP'!N416","v":0}]
[{"$f":"'Plr List for OofP'!N417","v":0}]
[{"$f":"'Plr List for OofP'!N418","v":0}]
[{"$f":"'Plr List for OofP'!N419","v":0}]
[{"$f":"'Plr List for OofP'!N420","v":0}]
[{"$f":"'Plr List for OofP'!N421","v":0}]
[{"$f":"'Plr List for OofP'!N422","v":0}]
[{"$f":"'Plr List for OofP'!N423","v":0}]
[{"$f":"'Plr List for OofP'!N424","v":0}]
[{"$f":"'Plr List for OofP'!N425","v":0}]
[{"$f":"'Plr List for OofP'!N426","v":0}]
[{"$f":"'Plr List for OofP'!N427","v":0}]
[{"$f":"'Plr List for OofP'!N428","v":0}]
[{"$f":"'Plr List for OofP'!N429","v":0}]
[{"$f":"'Plr List for OofP'!N430","v":0}]
[{"$f":"'Plr List for OofP'!N431","v":0}]
[{"$f":"'Plr List for OofP'!N432","v":0}]
[{"$f":"'Plr List for OofP'!N433","v":0}]
[{"$f":"'Plr List for OofP'!N434","v":0}]
[{"$f":"'Plr List for OofP'!N435","v":0}]
[{"$f":"'Plr List for OofP'!N436","v":0}]
[{"$f":"'Plr List for OofP'!N437","v":0}]
[{"$f":"'Plr List for OofP'!N438","v":0}]
[{"$f":"'Plr List for OofP'!N439","v":0}]
[{"$f":"'Plr List for OofP'!N440","v":0}]
[{"$f":"'Plr List for OofP'!N441","v":0}]
[{"$f":"'Plr List for OofP'!N442","v":0}]
[{"$f":"'Plr List for OofP'!N443","v":0}]
[{"$f":"'Plr List for OofP'!N444","v":0}]
[{"$f":"'Plr List for OofP'!N445","v":0}]
[{"$f":"'Plr List for OofP'!N446","v":0}]
[{"$f":"'Plr List for OofP'!N447","v":0}]
[{"$f":"'Plr List for OofP'!N448","v":0}]
[{"$f":"'Plr List for OofP'!N449","v":0}]
[{"$f":"'Plr List for OofP'!N450","v":0}]
[{"$f":"'Plr List for OofP'!N451","v":0}]
[{"$f":"'Plr List for OofP'!N452","v":0}]
[{"$f":"'Plr List for OofP'!N453","v":0}]
[{"$f":"'Plr List for OofP'!N454","v":0}]
[{"$f":"'Plr List for OofP'!N455","v":0}]
[{"$f":"'Plr List for OofP'!N456","v":0}]
[{"$f":"'Plr List for OofP'!N457","v":0}]
[{"$f":"'Plr List for OofP'!N458","v":0}]
[{"$f":"'Plr List for OofP'!N459","v":0}]
[{"$f":"'Plr List for OofP'!N460","v":0}]
[{"$f":"'Plr List for OofP'!N461","v":0}]
[{"$f":"'Plr List for OofP'!N462","v":0}]
[{"$f":"'Plr List for OofP'!N463","v":0}]
[{"$f":"'Plr List for OofP'!N464","v":0}]
[{"$f":"'Plr List for OofP'!N465","v":0}]
[{"$f":"'Plr List for OofP'!N466","v":0}]
[{"$f":"'Plr List for OofP'!N467","v":0}]
[{"$f":"'Plr List for OofP'!N468","v":0}]
[{"$f":"'Plr List for OofP'!N469","v":0}]
[{"$f":"'Plr List for OofP'!N470","v":0}]
[{"$f":"'Plr List for OofP'!N471","v":0}]
[{"$f":"'Plr List for OofP'!N472","v":0}]
[{"$f":"'Plr List for OofP'!N473","v":0}]
[{"$f":"'Plr List for OofP'!N474","v":0}]
[{"$f":"'Plr List for OofP'!N475","v":0}]
[{"$f":"'Plr List for OofP'!N476","v":0}]
[{"$f":"'Plr List for OofP'!N477","v":0}]
[{"$f":"'Plr List for OofP'!N478","v":0}]
[{"$f":"'Plr List for OofP'!N479","v":0}]
[{"$f":"'Plr List for OofP'!N480","v":0}]
[{"$f":"'Plr List for OofP'!N481","v":0}]
[{"$f":"'Plr List for OofP'!N482","v":0}]
[{"$f":"'Plr List for OofP'!N483","v":0}]
[{"$f":"'Plr List for OofP'!N484","v":0}]
[{"$f":"'Plr List for OofP'!N485","v":0}]
[{"$f":"'Plr List for OofP'!N486","v":0}]
[{"$f":"'Plr List for OofP'!N487","v":0}]
[{"$f":"'Plr List for OofP'!N488","v":0}]
[{"$f":"'Plr List for OofP'!N489","v":0}]
[{"$f":"'Plr List for OofP'!N490","v":0}]
[{"$f":"'Plr List for OofP'!N491","v":0}]
[{"$f":"'Plr List for OofP'!N492","v":0}]
[{"$f":"'Plr List for OofP'!N493","v":0}]
[{"$f":"'Plr List for OofP'!N494","v":0}]
[{"$f":"'Plr List for OofP'!N495","v":0}]
[{"$f":"'Plr List for OofP'!N496","v":0}]
[{"$f":"'Plr List for OofP'!N497","v":0}]
[{"$f":"'Plr List for OofP'!N498","v":0}]
[{"$f":"'Plr List for OofP'!N499","v":0}]
[{"$f":"'Plr List for OofP'!N500","v":0}]
[{"$f":"'Plr List for OofP'!N501","v":0}]
[{"$f":"'Plr List for OofP'!N502","v":0}]
[{"$f":"'Plr List for OofP'!N503","v":0}]
[{"$f":"'Plr List for OofP'!N504","v":0}]
[{"$f":"'Plr List for OofP'!N505","v":0}]
[{"$f":"'Plr List for OofP'!N506","v":0}]
[{"$f":"'Plr List for OofP'!N507","v":0}]
[{"$f":"'Plr List for OofP'!N508","v":0}]
[{"$f":"'Plr List for OofP'!N509","v":0}]
[{"$f":"'Plr List for OofP'!N510","v":0}]
[{"$f":"'Plr List for OofP'!N511","v":0}]
[{"$f":"'Plr List for OofP'!N512","v":0}]
[{"$f":"'Plr List for OofP'!N513","v":0}]
[{"$f":"'Plr List for OofP'!N514","v":0}]
[{"$f":"'Plr List for OofP'!N515","v":0}]
[{"$f":"'Plr List for OofP'!N516","v":0}]
[{"$f":"'Plr List for OofP'!N517","v":0}]
[{"$f":"'Plr List for OofP'!N518","v":0}]

{"sheet":"OofP 8 cts","index":53,"n_rows":588,"n_cols":9,"rows_kept":588,"cut":false,"hidden":false,"merged":[]}
[null,null,null,null,null,"Day, Date"]
[{"$f":"'Week SetUp'!$A$6","v":0},null,null,null,"ORDER OF PLAY"]
[{"$f":"'Week SetUp'!$A$8","v":"ITF Junior Circuit"}]
["Week of",null,"City, Country",null,"Group","Tourn. ID",null,null,"ITF Referee"]
[{"$f":"'Week SetUp'!$A$10","v":"00:00:00"},null,{"$f":"'Week SetUp'!$C$10","v":0},null,{"$f":"'Week SetUp'!$D$10","v":0},{"$f":"'Week SetUp'!$A$12","v":0},null,null,{"$f":"'Week SetUp'!$E$10","v":0}]
[null,"Court 1","Court 2","Court 3","Court 4","Court 5","Court 6","Court 7","Court 8"]
[null,"Starting at","Starting at","Starting at","Starting at","Starting at","Starting at","Starting at","Starting at"]
["1st Match"]
[]
[null,"vs.","vs.","vs.","vs.","vs.","vs.","vs.","vs."]
[]
[]
[]
[null,"Followed by","Followed by","Followed by","Followed by","Followed by","Followed by","Followed by","Followed by"]
["2nd Match"]
[]
[null,"vs.","vs.","vs.","vs.","vs.","vs.","vs.","vs."]
[]
[]
[]
[null,"Followed by","Followed by","Followed by","Followed by","Followed by","Followed by","Followed by","Followed by"]
["3rd Match"]
[]
[null,"vs.","vs.","vs.","vs.","vs.","vs.","vs.","vs."]
[]
[]
[]
[null,"Followed by","Followed by","Followed by","Followed by","Followed by","Followed by","Followed by","Followed by"]
["4th Match"]
[]
[null,"vs.","vs.","vs.","vs.","vs.","vs.","vs.","vs."]
[]
[]
[]
[null,"Followed by","Followed by","Followed by","Followed by","Followed by","Followed by","Followed by","Followed by"]
["5th Match"]
[]
[null,"vs.","vs.","vs.","vs.","vs.","vs.","vs.","vs."]
[]
[]
[]
[null,"Followed by","Followed by","Followed by","Followed by","Followed by","Followed by","Followed by","Followed by"]
["6th Match"]
[]
[null,"vs.","vs.","vs.","vs.","vs.","vs.","vs.","vs."]
[]
[]
[]
["The last match on any court may be moved",null,null,null,null,null,"Order of Play released","Signature"]
["Singles Lucky Losers sign-in before:"]
["Doubles Alternates sign-in before:",null,null,null,null,null,null,{"$f":"I5","v":0}]
[]
[]
[]
[]
[]
[]
[]
[]
[]
[]
[]
[]
[]
[]
[]
[]
[]
[]
[]
[]
[]
[]
[]
[]
["Do not delete or hide the red cells below"]
[{"$f":"'Plr List for OofP'!N7","v":0}]
[{"$f":"'Plr List for OofP'!N8","v":0}]
[{"$f":"'Plr List for OofP'!N9","v":0}]
[{"$f":"'Plr List for OofP'!N10","v":0}]
[{"$f":"'Plr List for OofP'!N11","v":0}]
[{"$f":"'Plr List for OofP'!N12","v":0}]
[{"$f":"'Plr List for OofP'!N13","v":0}]
[{"$f":"'Plr List for OofP'!N14","v":0}]
[{"$f":"'Plr List for OofP'!N15","v":0}]
[{"$f":"'Plr List for OofP'!N16","v":0}]
[{"$f":"'Plr List for OofP'!N17","v":0}]
[{"$f":"'Plr List for OofP'!N18","v":0}]
[{"$f":"'Plr List for OofP'!N19","v":0}]
[{"$f":"'Plr List for OofP'!N20","v":0}]
[{"$f":"'Plr List for OofP'!N21","v":0}]
[{"$f":"'Plr List for OofP'!N22","v":0}]
[{"$f":"'Plr List for OofP'!N23","v":0}]
[{"$f":"'Plr List for OofP'!N24","v":0}]
[{"$f":"'Plr List for OofP'!N25","v":0}]
[{"$f":"'Plr List for OofP'!N26","v":0}]
[{"$f":"'Plr List for OofP'!N27","v":0}]
[{"$f":"'Plr List for OofP'!N28","v":0}]
[{"$f":"'Plr List for OofP'!N29","v":0}]
[{"$f":"'Plr List for OofP'!N30","v":0}]
[{"$f":"'Plr List for OofP'!N31","v":0}]
[{"$f":"'Plr List for OofP'!N32","v":0}]
[{"$f":"'Plr List for OofP'!N33","v":0}]
[{"$f":"'Plr List for OofP'!N34","v":0}]
[{"$f":"'Plr List for OofP'!N35","v":0}]
[{"$f":"'Plr List for OofP'!N36","v":0}]
[{"$f":"'Plr List for OofP'!N37","v":0}]
[{"$f":"'Plr List for OofP'!N38","v":0}]
[{"$f":"'Plr List for OofP'!N39","v":0}]
[{"$f":"'Plr List for OofP'!N40","v":0}]
[{"$f":"'Plr List for OofP'!N41","v":0}]
[{"$f":"'Plr List for OofP'!N42","v":0}]
[{"$f":"'Plr List for OofP'!N43","v":0}]
[{"$f":"'Plr List for OofP'!N44","v":0}]
[{"$f":"'Plr List for OofP'!N45","v":0}]
[{"$f":"'Plr List for OofP'!N46","v":0}]
[{"$f":"'Plr List for OofP'!N47","v":0}]
[{"$f":"'Plr List for OofP'!N48","v":0}]
[{"$f":"'Plr List for OofP'!N49","v":0}]
[{"$f":"'Plr List for OofP'!N50","v":0}]
[{"$f":"'Plr List for OofP'!N51","v":0}]
[{"$f":"'Plr List for OofP'!N52","v":0}]
[{"$f":"'Plr List for OofP'!N53","v":0}]
[{"$f":"'Plr List for OofP'!N54","v":0}]
[{"$f":"'Plr List for OofP'!N55","v":0}]
[{"$f":"'Plr List for OofP'!N56","v":0}]
[{"$f":"'Plr List for OofP'!N57","v":0}]
[{"$f":"'Plr List for OofP'!N58","v":0}]
[{"$f":"'Plr List for OofP'!N59","v":0}]
[{"$f":"'Plr List for OofP'!N60","v":0}]
[{"$f":"'Plr List for OofP'!N61","v":0}]
[{"$f":"'Plr List for OofP'!N62","v":0}]
[{"$f":"'Plr List for OofP'!N63","v":0}]
[{"$f":"'Plr List for OofP'!N64","v":0}]
[{"$f":"'Plr List for OofP'!N65","v":0}]
[{"$f":"'Plr List for OofP'!N66","v":0}]
[{"$f":"'Plr List for OofP'!N67","v":0}]
[{"$f":"'Plr List for OofP'!N68","v":0}]
[{"$f":"'Plr List for OofP'!N69","v":0}]
[{"$f":"'Plr List for OofP'!N70","v":0}]
[{"$f":"'Plr List for OofP'!N71","v":0}]
[{"$f":"'Plr List for OofP'!N72","v":0}]
[{"$f":"'Plr List for OofP'!N73","v":0}]
[{"$f":"'Plr List for OofP'!N74","v":0}]
[{"$f":"'Plr List for OofP'!N75","v":0}]
[{"$f":"'Plr List for OofP'!N76","v":0}]
[{"$f":"'Plr List for OofP'!N77","v":0}]
[{"$f":"'Plr List for OofP'!N78","v":0}]
[{"$f":"'Plr List for OofP'!N79","v":0}]
[{"$f":"'Plr List for OofP'!N80","v":0}]
[{"$f":"'Plr List for OofP'!N81","v":0}]
[{"$f":"'Plr List for OofP'!N82","v":0}]
[{"$f":"'Plr List for OofP'!N83","v":0}]
[{"$f":"'Plr List for OofP'!N84","v":0}]
[{"$f":"'Plr List for OofP'!N85","v":0}]
[{"$f":"'Plr List for OofP'!N86","v":0}]
[{"$f":"'Plr List for OofP'!N87","v":0}]
[{"$f":"'Plr List for OofP'!N88","v":0}]
[{"$f":"'Plr List for OofP'!N89","v":0}]
[{"$f":"'Plr List for OofP'!N90","v":0}]
[{"$f":"'Plr List for OofP'!N91","v":0}]
[{"$f":"'Plr List for OofP'!N92","v":0}]
[{"$f":"'Plr List for OofP'!N93","v":0}]
[{"$f":"'Plr List for OofP'!N94","v":0}]
[{"$f":"'Plr List for OofP'!N95","v":0}]
[{"$f":"'Plr List for OofP'!N96","v":0}]
[{"$f":"'Plr List for OofP'!N97","v":0}]
[{"$f":"'Plr List for OofP'!N98","v":0}]
[{"$f":"'Plr List for OofP'!N99","v":0}]
[{"$f":"'Plr List for OofP'!N100","v":0}]
[{"$f":"'Plr List for OofP'!N101","v":0}]
[{"$f":"'Plr List for OofP'!N102","v":0}]
[{"$f":"'Plr List for OofP'!N103","v":0}]
[{"$f":"'Plr List for OofP'!N104","v":0}]
[{"$f":"'Plr List for OofP'!N105","v":0}]
[{"$f":"'Plr List for OofP'!N106","v":0}]
[{"$f":"'Plr List for OofP'!N107","v":0}]
[{"$f":"'Plr List for OofP'!N108","v":0}]
[{"$f":"'Plr List for OofP'!N109","v":0}]
[{"$f":"'Plr List for OofP'!N110","v":0}]
[{"$f":"'Plr List for OofP'!N111","v":0}]
[{"$f":"'Plr List for OofP'!N112","v":0}]
[{"$f":"'Plr List for OofP'!N113","v":0}]
[{"$f":"'Plr List for OofP'!N114","v":0}]
[{"$f":"'Plr List for OofP'!N115","v":0}]
[{"$f":"'Plr List for OofP'!N116","v":0}]
[{"$f":"'Plr List for OofP'!N117","v":0}]
[{"$f":"'Plr List for OofP'!N118","v":0}]
[{"$f":"'Plr List for OofP'!N119","v":0}]
[{"$f":"'Plr List for OofP'!N120","v":0}]
[{"$f":"'Plr List for OofP'!N121","v":0}]
[{"$f":"'Plr List for OofP'!N122","v":0}]
[{"$f":"'Plr List for OofP'!N123","v":0}]
[{"$f":"'Plr List for OofP'!N124","v":0}]
[{"$f":"'Plr List for OofP'!N125","v":0}]
[{"$f":"'Plr List for OofP'!N126","v":0}]
[{"$f":"'Plr List for OofP'!N127","v":0}]
[{"$f":"'Plr List for OofP'!N128","v":0}]
[{"$f":"'Plr List for OofP'!N129","v":0}]
[{"$f":"'Plr List for OofP'!N130","v":0}]
[{"$f":"'Plr List for OofP'!N131","v":0}]
[{"$f":"'Plr List for OofP'!N132","v":0}]
[{"$f":"'Plr List for OofP'!N133","v":0}]
[{"$f":"'Plr List for OofP'!N134","v":0}]
[{"$f":"'Plr List for OofP'!N135","v":0}]
[{"$f":"'Plr List for OofP'!N136","v":0}]
[{"$f":"'Plr List for OofP'!N137","v":0}]
[{"$f":"'Plr List for OofP'!N138","v":0}]
[{"$f":"'Plr List for OofP'!N139","v":0}]
[{"$f":"'Plr List for OofP'!N140","v":0}]
[{"$f":"'Plr List for OofP'!N141","v":0}]
[{"$f":"'Plr List for OofP'!N142","v":0}]
[{"$f":"'Plr List for OofP'!N143","v":0}]
[{"$f":"'Plr List for OofP'!N144","v":0}]
[{"$f":"'Plr List for OofP'!N145","v":0}]
[{"$f":"'Plr List for OofP'!N146","v":0}]
[{"$f":"'Plr List for OofP'!N147","v":0}]
[{"$f":"'Plr List for OofP'!N148","v":0}]
[{"$f":"'Plr List for OofP'!N149","v":0}]
[{"$f":"'Plr List for OofP'!N150","v":0}]
[{"$f":"'Plr List for OofP'!N151","v":0}]
[{"$f":"'Plr List for OofP'!N152","v":0}]
[{"$f":"'Plr List for OofP'!N153","v":0}]
[{"$f":"'Plr List for OofP'!N154","v":0}]
[{"$f":"'Plr List for OofP'!N155","v":0}]
[{"$f":"'Plr List for OofP'!N156","v":0}]
[{"$f":"'Plr List for OofP'!N157","v":0}]
[{"$f":"'Plr List for OofP'!N158","v":0}]
[{"$f":"'Plr List for OofP'!N159","v":0}]
[{"$f":"'Plr List for OofP'!N160","v":0}]
[{"$f":"'Plr List for OofP'!N161","v":0}]
[{"$f":"'Plr List for OofP'!N162","v":0}]
[{"$f":"'Plr List for OofP'!N163","v":0}]
[{"$f":"'Plr List for OofP'!N164","v":0}]
[{"$f":"'Plr List for OofP'!N165","v":0}]
[{"$f":"'Plr List for OofP'!N166","v":0}]
[{"$f":"'Plr List for OofP'!N167","v":0}]
[{"$f":"'Plr List for OofP'!N168","v":0}]
[{"$f":"'Plr List for OofP'!N169","v":0}]
[{"$f":"'Plr List for OofP'!N170","v":0}]
[{"$f":"'Plr List for OofP'!N171","v":0}]
[{"$f":"'Plr List for OofP'!N172","v":0}]
[{"$f":"'Plr List for OofP'!N173","v":0}]
[{"$f":"'Plr List for OofP'!N174","v":0}]
[{"$f":"'Plr List for OofP'!N175","v":0}]
[{"$f":"'Plr List for OofP'!N176","v":0}]
[{"$f":"'Plr List for OofP'!N177","v":0}]
[{"$f":"'Plr List for OofP'!N178","v":0}]
[{"$f":"'Plr List for OofP'!N179","v":0}]
[{"$f":"'Plr List for OofP'!N180","v":0}]
[{"$f":"'Plr List for OofP'!N181","v":0}]
[{"$f":"'Plr List for OofP'!N182","v":0}]
[{"$f":"'Plr List for OofP'!N183","v":0}]
[{"$f":"'Plr List for OofP'!N184","v":0}]
[{"$f":"'Plr List for OofP'!N185","v":0}]
[{"$f":"'Plr List for OofP'!N186","v":0}]
[{"$f":"'Plr List for OofP'!N187","v":0}]
[{"$f":"'Plr List for OofP'!N188","v":0}]
[{"$f":"'Plr List for OofP'!N189","v":0}]
[{"$f":"'Plr List for OofP'!N190","v":0}]
[{"$f":"'Plr List for OofP'!N191","v":0}]
[{"$f":"'Plr List for OofP'!N192","v":0}]
[{"$f":"'Plr List for OofP'!N193","v":0}]
[{"$f":"'Plr List for OofP'!N194","v":0}]
[{"$f":"'Plr List for OofP'!N195","v":0}]
[{"$f":"'Plr List for OofP'!N196","v":0}]
[{"$f":"'Plr List for OofP'!N197","v":0}]
[{"$f":"'Plr List for OofP'!N198","v":0}]
[{"$f":"'Plr List for OofP'!N199","v":0}]
[{"$f":"'Plr List for OofP'!N200","v":0}]
[{"$f":"'Plr List for OofP'!N201","v":0}]
[{"$f":"'Plr List for OofP'!N202","v":0}]
[{"$f":"'Plr List for OofP'!N203","v":0}]
[{"$f":"'Plr List for OofP'!N204","v":0}]
[{"$f":"'Plr List for OofP'!N205","v":0}]
[{"$f":"'Plr List for OofP'!N206","v":0}]
[{"$f":"'Plr List for OofP'!N207","v":0}]
[{"$f":"'Plr List for OofP'!N208","v":0}]
[{"$f":"'Plr List for OofP'!N209","v":0}]
[{"$f":"'Plr List for OofP'!N210","v":0}]
[{"$f":"'Plr List for OofP'!N211","v":0}]
[{"$f":"'Plr List for OofP'!N212","v":0}]
[{"$f":"'Plr List for OofP'!N213","v":0}]
[{"$f":"'Plr List for OofP'!N214","v":0}]
[{"$f":"'Plr List for OofP'!N215","v":0}]
[{"$f":"'Plr List for OofP'!N216","v":0}]
[{"$f":"'Plr List for OofP'!N217","v":0}]
[{"$f":"'Plr List for OofP'!N218","v":0}]
[{"$f":"'Plr List for OofP'!N219","v":0}]
[{"$f":"'Plr List for OofP'!N220","v":0}]
[{"$f":"'Plr List for OofP'!N221","v":0}]
[{"$f":"'Plr List for OofP'!N222","v":0}]
[{"$f":"'Plr List for OofP'!N223","v":0}]
[{"$f":"'Plr List for OofP'!N224","v":0}]
[{"$f":"'Plr List for OofP'!N225","v":0}]
[{"$f":"'Plr List for OofP'!N226","v":0}]
[{"$f":"'Plr List for OofP'!N227","v":0}]
[{"$f":"'Plr List for OofP'!N228","v":0}]
[{"$f":"'Plr List for OofP'!N229","v":0}]
[{"$f":"'Plr List for OofP'!N230","v":0}]
[{"$f":"'Plr List for OofP'!N231","v":0}]
[{"$f":"'Plr List for OofP'!N232","v":0}]
[{"$f":"'Plr List for OofP'!N233","v":0}]
[{"$f":"'Plr List for OofP'!N234","v":0}]
[{"$f":"'Plr List for OofP'!N235","v":0}]
[{"$f":"'Plr List for OofP'!N236","v":0}]
[{"$f":"'Plr List for OofP'!N237","v":0}]
[{"$f":"'Plr List for OofP'!N238","v":0}]
[{"$f":"'Plr List for OofP'!N239","v":0}]
[{"$f":"'Plr List for OofP'!N240","v":0}]
[{"$f":"'Plr List for OofP'!N241","v":0}]
[{"$f":"'Plr List for OofP'!N242","v":0}]
[{"$f":"'Plr List for OofP'!N243","v":0}]
[{"$f":"'Plr List for OofP'!N244","v":0}]
[{"$f":"'Plr List for OofP'!N245","v":0}]
[{"$f":"'Plr List for OofP'!N246","v":0}]
[{"$f":"'Plr List for OofP'!N247","v":0}]
[{"$f":"'Plr List for OofP'!N248","v":0}]
[{"$f":"'Plr List for OofP'!N249","v":0}]
[{"$f":"'Plr List for OofP'!N250","v":0}]
[{"$f":"'Plr List for OofP'!N251","v":0}]
[{"$f":"'Plr List for OofP'!N252","v":0}]
[{"$f":"'Plr List for OofP'!N253","v":0}]
[{"$f":"'Plr List for OofP'!N254","v":0}]
[{"$f":"'Plr List for OofP'!N255","v":0}]
[{"$f":"'Plr List for OofP'!N256","v":0}]
[{"$f":"'Plr List for OofP'!N257","v":0}]
[{"$f":"'Plr List for OofP'!N258","v":0}]
[{"$f":"'Plr List for OofP'!N259","v":0}]
[{"$f":"'Plr List for OofP'!N260","v":0}]
[{"$f":"'Plr List for OofP'!N261","v":0}]
[{"$f":"'Plr List for OofP'!N262","v":0}]
[{"$f":"'Plr List for OofP'!N263","v":0}]
[{"$f":"'Plr List for OofP'!N264","v":0}]
[{"$f":"'Plr List for OofP'!N265","v":0}]
[{"$f":"'Plr List for OofP'!N266","v":0}]
[{"$f":"'Plr List for OofP'!N267","v":0}]
[{"$f":"'Plr List for OofP'!N268","v":0}]
[{"$f":"'Plr List for OofP'!N269","v":0}]
[{"$f":"'Plr List for OofP'!N270","v":0}]
[{"$f":"'Plr List for OofP'!N271","v":0}]
[{"$f":"'Plr List for OofP'!N272","v":0}]
[{"$f":"'Plr List for OofP'!N273","v":0}]
[{"$f":"'Plr List for OofP'!N274","v":0}]
[{"$f":"'Plr List for OofP'!N275","v":0}]
[{"$f":"'Plr List for OofP'!N276","v":0}]
[{"$f":"'Plr List for OofP'!N277","v":0}]
[{"$f":"'Plr List for OofP'!N278","v":0}]
[{"$f":"'Plr List for OofP'!N279","v":0}]
[{"$f":"'Plr List for OofP'!N280","v":0}]
[{"$f":"'Plr List for OofP'!N281","v":0}]
[{"$f":"'Plr List for OofP'!N282","v":0}]
[{"$f":"'Plr List for OofP'!N283","v":0}]
[{"$f":"'Plr List for OofP'!N284","v":0}]
[{"$f":"'Plr List for OofP'!N285","v":0}]
[{"$f":"'Plr List for OofP'!N286","v":0}]
[{"$f":"'Plr List for OofP'!N287","v":0}]
[{"$f":"'Plr List for OofP'!N288","v":0}]
[{"$f":"'Plr List for OofP'!N289","v":0}]
[{"$f":"'Plr List for OofP'!N290","v":0}]
[{"$f":"'Plr List for OofP'!N291","v":0}]
[{"$f":"'Plr List for OofP'!N292","v":0}]
[{"$f":"'Plr List for OofP'!N293","v":0}]
[{"$f":"'Plr List for OofP'!N294","v":0}]
[{"$f":"'Plr List for OofP'!N295","v":0}]
[{"$f":"'Plr List for OofP'!N296","v":0}]
[{"$f":"'Plr List for OofP'!N297","v":0}]
[{"$f":"'Plr List for OofP'!N298","v":0}]
[{"$f":"'Plr List for OofP'!N299","v":0}]
[{"$f":"'Plr List for OofP'!N300","v":0}]
[{"$f":"'Plr List for OofP'!N301","v":0}]
[{"$f":"'Plr List for OofP'!N302","v":0}]
[{"$f":"'Plr List for OofP'!N303","v":0}]
[{"$f":"'Plr List for OofP'!N304","v":0}]
[{"$f":"'Plr List for OofP'!N305","v":0}]
[{"$f":"'Plr List for OofP'!N306","v":0}]
[{"$f":"'Plr List for OofP'!N307","v":0}]
[{"$f":"'Plr List for OofP'!N308","v":0}]
[{"$f":"'Plr List for OofP'!N309","v":0}]
[{"$f":"'Plr List for OofP'!N310","v":0}]
[{"$f":"'Plr List for OofP'!N311","v":0}]
[{"$f":"'Plr List for OofP'!N312","v":0}]
[{"$f":"'Plr List for OofP'!N313","v":0}]
[{"$f":"'Plr List for OofP'!N314","v":0}]
[{"$f":"'Plr List for OofP'!N315","v":0}]
[{"$f":"'Plr List for OofP'!N316","v":0}]
[{"$f":"'Plr List for OofP'!N317","v":0}]
[{"$f":"'Plr List for OofP'!N318","v":0}]
[{"$f":"'Plr List for OofP'!N319","v":0}]
[{"$f":"'Plr List for OofP'!N320","v":0}]
[{"$f":"'Plr List for OofP'!N321","v":0}]
[{"$f":"'Plr List for OofP'!N322","v":0}]
[{"$f":"'Plr List for OofP'!N323","v":0}]
[{"$f":"'Plr List for OofP'!N324","v":0}]
[{"$f":"'Plr List for OofP'!N325","v":0}]
[{"$f":"'Plr List for OofP'!N326","v":0}]
[{"$f":"'Plr List for OofP'!N327","v":0}]
[{"$f":"'Plr List for OofP'!N328","v":0}]
[{"$f":"'Plr List for OofP'!N329","v":0}]
[{"$f":"'Plr List for OofP'!N330","v":0}]
[{"$f":"'Plr List for OofP'!N331","v":0}]
[{"$f":"'Plr List for OofP'!N332","v":0}]
[{"$f":"'Plr List for OofP'!N333","v":0}]
[{"$f":"'Plr List for OofP'!N334","v":0}]
[{"$f":"'Plr List for OofP'!N335","v":0}]
[{"$f":"'Plr List for OofP'!N336","v":0}]
[{"$f":"'Plr List for OofP'!N337","v":0}]
[{"$f":"'Plr List for OofP'!N338","v":0}]
[{"$f":"'Plr List for OofP'!N339","v":0}]
[{"$f":"'Plr List for OofP'!N340","v":0}]
[{"$f":"'Plr List for OofP'!N341","v":0}]
[{"$f":"'Plr List for OofP'!N342","v":0}]
[{"$f":"'Plr List for OofP'!N343","v":0}]
[{"$f":"'Plr List for OofP'!N344","v":0}]
[{"$f":"'Plr List for OofP'!N345","v":0}]
[{"$f":"'Plr List for OofP'!N346","v":0}]
[{"$f":"'Plr List for OofP'!N347","v":0}]
[{"$f":"'Plr List for OofP'!N348","v":0}]
[{"$f":"'Plr List for OofP'!N349","v":0}]
[{"$f":"'Plr List for OofP'!N350","v":0}]
[{"$f":"'Plr List for OofP'!N351","v":0}]
[{"$f":"'Plr List for OofP'!N352","v":0}]
[{"$f":"'Plr List for OofP'!N353","v":0}]
[{"$f":"'Plr List for OofP'!N354","v":0}]
[{"$f":"'Plr List for OofP'!N355","v":0}]
[{"$f":"'Plr List for OofP'!N356","v":0}]
[{"$f":"'Plr List for OofP'!N357","v":0}]
[{"$f":"'Plr List for OofP'!N358","v":0}]
[{"$f":"'Plr List for OofP'!N359","v":0}]
[{"$f":"'Plr List for OofP'!N360","v":0}]
[{"$f":"'Plr List for OofP'!N361","v":0}]
[{"$f":"'Plr List for OofP'!N362","v":0}]
[{"$f":"'Plr List for OofP'!N363","v":0}]
[{"$f":"'Plr List for OofP'!N364","v":0}]
[{"$f":"'Plr List for OofP'!N365","v":0}]
[{"$f":"'Plr List for OofP'!N366","v":0}]
[{"$f":"'Plr List for OofP'!N367","v":0}]
[{"$f":"'Plr List for OofP'!N368","v":0}]
[{"$f":"'Plr List for OofP'!N369","v":0}]
[{"$f":"'Plr List for OofP'!N370","v":0}]
[{"$f":"'Plr List for OofP'!N371","v":0}]
[{"$f":"'Plr List for OofP'!N372","v":0}]
[{"$f":"'Plr List for OofP'!N373","v":0}]
[{"$f":"'Plr List for OofP'!N374","v":0}]
[{"$f":"'Plr List for OofP'!N375","v":0}]
[{"$f":"'Plr List for OofP'!N376","v":0}]
[{"$f":"'Plr List for OofP'!N377","v":0}]
[{"$f":"'Plr List for OofP'!N378","v":0}]
[{"$f":"'Plr List for OofP'!N379","v":0}]
[{"$f":"'Plr List for OofP'!N380","v":0}]
[{"$f":"'Plr List for OofP'!N381","v":0}]
[{"$f":"'Plr List for OofP'!N382","v":0}]
[{"$f":"'Plr List for OofP'!N383","v":0}]
[{"$f":"'Plr List for OofP'!N384","v":0}]
[{"$f":"'Plr List for OofP'!N385","v":0}]
[{"$f":"'Plr List for OofP'!N386","v":0}]
[{"$f":"'Plr List for OofP'!N387","v":0}]
[{"$f":"'Plr List for OofP'!N388","v":0}]
[{"$f":"'Plr List for OofP'!N389","v":0}]
[{"$f":"'Plr List for OofP'!N390","v":0}]
[{"$f":"'Plr List for OofP'!N391","v":0}]
[{"$f":"'Plr List for OofP'!N392","v":0}]
[{"$f":"'Plr List for OofP'!N393","v":0}]
[{"$f":"'Plr List for OofP'!N394","v":0}]
[{"$f":"'Plr List for OofP'!N395","v":0}]
[{"$f":"'Plr List for OofP'!N396","v":0}]
[{"$f":"'Plr List for OofP'!N397","v":0}]
[{"$f":"'Plr List for OofP'!N398","v":0}]
[{"$f":"'Plr List for OofP'!N399","v":0}]
[{"$f":"'Plr List for OofP'!N400","v":0}]
[{"$f":"'Plr List for OofP'!N401","v":0}]
[{"$f":"'Plr List for OofP'!N402","v":0}]
[{"$f":"'Plr List for OofP'!N403","v":0}]
[{"$f":"'Plr List for OofP'!N404","v":0}]
[{"$f":"'Plr List for OofP'!N405","v":0}]
[{"$f":"'Plr List for OofP'!N406","v":0}]
[{"$f":"'Plr List for OofP'!N407","v":0}]
[{"$f":"'Plr List for OofP'!N408","v":0}]
[{"$f":"'Plr List for OofP'!N409","v":0}]
[{"$f":"'Plr List for OofP'!N410","v":0}]
[{"$f":"'Plr List for OofP'!N411","v":0}]
[{"$f":"'Plr List for OofP'!N412","v":0}]
[{"$f":"'Plr List for OofP'!N413","v":0}]
[{"$f":"'Plr List for OofP'!N414","v":0}]
[{"$f":"'Plr List for OofP'!N415","v":0}]
[{"$f":"'Plr List for OofP'!N416","v":0}]
[{"$f":"'Plr List for OofP'!N417","v":0}]
[{"$f":"'Plr List for OofP'!N418","v":0}]
[{"$f":"'Plr List for OofP'!N419","v":0}]
[{"$f":"'Plr List for OofP'!N420","v":0}]
[{"$f":"'Plr List for OofP'!N421","v":0}]
[{"$f":"'Plr List for OofP'!N422","v":0}]
[{"$f":"'Plr List for OofP'!N423","v":0}]
[{"$f":"'Plr List for OofP'!N424","v":0}]
[{"$f":"'Plr List for OofP'!N425","v":0}]
[{"$f":"'Plr List for OofP'!N426","v":0}]
[{"$f":"'Plr List for OofP'!N427","v":0}]
[{"$f":"'Plr List for OofP'!N428","v":0}]
[{"$f":"'Plr List for OofP'!N429","v":0}]
[{"$f":"'Plr List for OofP'!N430","v":0}]
[{"$f":"'Plr List for OofP'!N431","v":0}]
[{"$f":"'Plr List for OofP'!N432","v":0}]
[{"$f":"'Plr List for OofP'!N433","v":0}]
[{"$f":"'Plr List for OofP'!N434","v":0}]
[{"$f":"'Plr List for OofP'!N435","v":0}]
[{"$f":"'Plr List for OofP'!N436","v":0}]
[{"$f":"'Plr List for OofP'!N437","v":0}]
[{"$f":"'Plr List for OofP'!N438","v":0}]
[{"$f":"'Plr List for OofP'!N439","v":0}]
[{"$f":"'Plr List for OofP'!N440","v":0}]
[{"$f":"'Plr List for OofP'!N441","v":0}]
[{"$f":"'Plr List for OofP'!N442","v":0}]
[{"$f":"'Plr List for OofP'!N443","v":0}]
[{"$f":"'Plr List for OofP'!N444","v":0}]
[{"$f":"'Plr List for OofP'!N445","v":0}]
[{"$f":"'Plr List for OofP'!N446","v":0}]
[{"$f":"'Plr List for OofP'!N447","v":0}]
[{"$f":"'Plr List for OofP'!N448","v":0}]
[{"$f":"'Plr List for OofP'!N449","v":0}]
[{"$f":"'Plr List for OofP'!N450","v":0}]
[{"$f":"'Plr List for OofP'!N451","v":0}]
[{"$f":"'Plr List for OofP'!N452","v":0}]
[{"$f":"'Plr List for OofP'!N453","v":0}]
[{"$f":"'Plr List for OofP'!N454","v":0}]
[{"$f":"'Plr List for OofP'!N455","v":0}]
[{"$f":"'Plr List for OofP'!N456","v":0}]
[{"$f":"'Plr List for OofP'!N457","v":0}]
[{"$f":"'Plr List for OofP'!N458","v":0}]
[{"$f":"'Plr List for OofP'!N459","v":0}]
[{"$f":"'Plr List for OofP'!N460","v":0}]
[{"$f":"'Plr List for OofP'!N461","v":0}]
[{"$f":"'Plr List for OofP'!N462","v":0}]
[{"$f":"'Plr List for OofP'!N463","v":0}]
[{"$f":"'Plr List for OofP'!N464","v":0}]
[{"$f":"'Plr List for OofP'!N465","v":0}]
[{"$f":"'Plr List for OofP'!N466","v":0}]
[{"$f":"'Plr List for OofP'!N467","v":0}]
[{"$f":"'Plr List for OofP'!N468","v":0}]
[{"$f":"'Plr List for OofP'!N469","v":0}]
[{"$f":"'Plr List for OofP'!N470","v":0}]
[{"$f":"'Plr List for OofP'!N471","v":0}]
[{"$f":"'Plr List for OofP'!N472","v":0}]
[{"$f":"'Plr List for OofP'!N473","v":0}]
[{"$f":"'Plr List for OofP'!N474","v":0}]
[{"$f":"'Plr List for OofP'!N475","v":0}]
[{"$f":"'Plr List for OofP'!N476","v":0}]
[{"$f":"'Plr List for OofP'!N477","v":0}]
[{"$f":"'Plr List for OofP'!N478","v":0}]
[{"$f":"'Plr List for OofP'!N479","v":0}]
[{"$f":"'Plr List for OofP'!N480","v":0}]
[{"$f":"'Plr List for OofP'!N481","v":0}]
[{"$f":"'Plr List for OofP'!N482","v":0}]
[{"$f":"'Plr List for OofP'!N483","v":0}]
[{"$f":"'Plr List for OofP'!N484","v":0}]
[{"$f":"'Plr List for OofP'!N485","v":0}]
[{"$f":"'Plr List for OofP'!N486","v":0}]
[{"$f":"'Plr List for OofP'!N487","v":0}]
[{"$f":"'Plr List for OofP'!N488","v":0}]
[{"$f":"'Plr List for OofP'!N489","v":0}]
[{"$f":"'Plr List for OofP'!N490","v":0}]
[{"$f":"'Plr List for OofP'!N491","v":0}]
[{"$f":"'Plr List for OofP'!N492","v":0}]
[{"$f":"'Plr List for OofP'!N493","v":0}]
[{"$f":"'Plr List for OofP'!N494","v":0}]
[{"$f":"'Plr List for OofP'!N495","v":0}]
[{"$f":"'Plr List for OofP'!N496","v":0}]
[{"$f":"'Plr List for OofP'!N497","v":0}]
[{"$f":"'Plr List for OofP'!N498","v":0}]
[{"$f":"'Plr List for OofP'!N499","v":0}]
[{"$f":"'Plr List for OofP'!N500","v":0}]
[{"$f":"'Plr List for OofP'!N501","v":0}]
[{"$f":"'Plr List for OofP'!N502","v":0}]
[{"$f":"'Plr List for OofP'!N503","v":0}]
[{"$f":"'Plr List for OofP'!N504","v":0}]
[{"$f":"'Plr List for OofP'!N505","v":0}]
[{"$f":"'Plr List for OofP'!N506","v":0}]
[{"$f":"'Plr List for OofP'!N507","v":0}]
[{"$f":"'Plr List for OofP'!N508","v":0}]
[{"$f":"'Plr List for OofP'!N509","v":0}]
[{"$f":"'Plr List for OofP'!N510","v":0}]
[{"$f":"'Plr List for OofP'!N511","v":0}]
[{"$f":"'Plr List for OofP'!N512","v":0}]
[{"$f":"'Plr List for OofP'!N513","v":0}]
[{"$f":"'Plr List for OofP'!N514","v":0}]
[{"$f":"'Plr List for OofP'!N515","v":0}]
[{"$f":"'Plr List for OofP'!N516","v":0}]
[{"$f":"'Plr List for OofP'!N517","v":0}]
[{"$f":"'Plr List for OofP'!N518","v":0}]

{"sheet":"OofP list","index":54,"n_rows":591,"n_cols":11,"rows_kept":591,"cut":false,"hidden":false,"merged":[[12,3,12,5],[13,3,13,5],[6,7,6,9],[7,7,7,9],[8,7,8,9],[9,7,9,9],[10,7,10,9],[11,7,11,9],[12,7,12,9],[13,7,13,9],[6,3,6,5],[7,3,7,5],[8,3,8,5],[9,3,9,5],[10,3,10,5],[11,3,11,5],[22,3,22,5],[23,3,23,5],[24,3,24,5],[25,3,25,5],[14,3,14,5],[15,3,15,5],[16,3,16,5],[17,3,17,5],[18,3,18,5],[19,3,19,5],[59,3,59,5],[14,7,14,9],[15,7,15,9],[16,7,16,9],[17,7,17,9],[18,7,18,9],[19,7,19,9],[50,3,50,5],[51,3,51,5],[52,3,52,5],[53,3,53,5],[54,3,54,5],[55,3,55,5],[44,3,44,5],[45,3,45,5],[46,3,46,5],[47,3,47,5],[48,3,48,5],[49,3,49,5],[38,3,38,5],[39,3,39,5],[40,3,40,5],[41,3,41,5],[42,3,42,5],[20,7,20,9],[21,7,21,9],[22,7,22,9],[23,7,23,9],[24,7,24,9],[25,7,25,9],[56,3,56,5],[57,3,57,5],[58,3,58,5],[43,3,43,5],[32,3,32,5],[33,3,33,5],[34,3,34,5],[35,3,35,5],[36,3,36,5],[37,3,37,5],[26,3,26,5],[27,3,27,5],[28,3,28,5],[29,3,29,5],[30,3,30,5],[31,3,31,5],[20,3,20,5],[21,3,21,5],[32,7,32,9],[33,7,33,9],[34,7,34,9],[35,7,35,9],[36,7,36,9],[37,7,37,9],[26,7,26,9],[27,7,27,9],[28,7,28,9],[29,7,29,9],[30,7,30,9],[31,7,31,9],[44,7,44,9],[45,7,45,9],[46,7,46,9],[47,7,47,9],[48,7,48,9],[49,7,49,9],[38,7,38,9],[39,7,39,9],[40,7,40,9],[41,7,41,9],[42,7,42,9],[43,7,43,9],[50,7,50,9],[51,7,51,9],[52,7,52,9],[53,7,53,9],[58,7,58,9],[59,7,59,9],[54,7,54,9],[55,7,55,9],[56,7,56,9],[57,7,57,9]]}
[null,null,null,null,null,null,"Day, Date"]
[{"$f":"'Week SetUp'!$A$6","v":0},null,null,null,null,"ORDER OF PLAY"]
[{"$f":"'Week SetUp'!$A$8","v":"ITF Junior Circuit"}]
["Week of",null,null,"City, Country",null,"Group",null,"Tourn. ID",null,null,"ITF Referee"]
[{"$f":"'Week SetUp'!$A$10","v":"00:00:00"},null,null,{"$f":"'Week SetUp'!$C$10","v":0},null,{"$f":"'Week SetUp'!$D$10","v":0},null,{"$f":"'Week SetUp'!$A$12","v":0},null,null,{"$f":"'Week SetUp'!$E$10","v":0}]
["Time",null,"Court","Player/Team",null,null,null,"Player/Team"]
["Starting at","00.00","1",null,null,null,"vs."]
[null,null,"2",null,null,null,"vs."]
[null,null,"3",null,null,null,"vs."]
[null,null,"4",null,null,null,"vs."]
[null,null,"5",null,null,null,"vs."]
[null,null,"6",null,null,null,"vs."]
[null,null,"7",null,null,null,"vs."]
[null,null,"8",null,null,null,"vs."]
[]
["Followed by",null,"TBA",null,null,null,"vs."]
[null,null,"TBA",null,null,null,"vs."]
[null,null,"TBA",null,null,null,"vs."]
[null,null,"TBA",null,null,null,"vs."]
[null,null,"TBA",null,null,null,"vs."]
[null,null,"TBA",null,null,null,"vs."]
[null,null,"TBA",null,null,null,"vs."]
[null,null,"TBA",null,null,null,"vs."]
[]
["Followed by",null,"TBA",null,null,null,"vs."]
[null,null,"TBA",null,null,null,"vs."]
[null,null,"TBA",null,null,null,"vs."]
[null,null,"TBA",null,null,null,"vs."]
[null,null,"TBA",null,null,null,"vs."]
[null,null,"TBA",null,null,null,"vs."]
[null,null,"TBA",null,null,null,"vs."]
[null,null,"TBA",null,null,null,"vs."]
[]
["Followed by",null,"TBA",null,null,null,"vs."]
[null,null,"TBA",null,null,null,"vs."]
[null,null,"TBA",null,null,null,"vs."]
[null,null,"TBA",null,null,null,"vs."]
[null,null,"TBA",null,null,null,"vs."]
[null,null,"TBA",null,null,null,"vs."]
[null,null,"TBA",null,null,null,"vs."]
[null,null,"TBA",null,null,null,"vs."]
[]
["Followed by",null,"TBA",null,null,null,"vs."]
[null,null,"TBA",null,null,null,"vs."]
[null,null,"TBA",null,null,null,"vs."]
[null,null,"TBA",null,null,null,"vs."]
[null,null,"TBA",null,null,null,"vs."]
[null,null,"TBA",null,null,null,"vs."]
[null,null,"TBA",null,null,null,"vs."]
[null,null,"TBA",null,null,null,"vs."]
[]
["Followed by",null,"TBA",null,null,null,"vs."]
[null,null,"TBA",null,null,null,"vs."]
[null,null,"TBA",null,null,null,"vs."]
[null,null,"TBA",null,null,null,"vs."]
[null,null,"TBA",null,null,null,"vs."]
[null,null,"TBA",null,null,null,"vs."]
[null,null,"TBA",null,null,null,"vs."]
[null,null,"TBA",null,null,null,"vs."]
[]
["Matches are assigned to courts on a \"next available\" basis",null,null,null,null,null,"Order of Play released",null,"Signature"]
["Singles Lucky Losers sign-in before:"]
["Doubles Alternates sign-in before:",null,null,null,null,null,null,null,{"$f":"$K$5","v":0}]
[]
[]
[]
[]
[]
[]
[]
[]
[]
[]
[]
[]
[]
[]
[]
["Do not delete or hide the red cells below"]
[{"$f":"'Plr List for OofP'!N7","v":0}]
[{"$f":"'Plr List for OofP'!N8","v":0}]
[{"$f":"'Plr List for OofP'!N9","v":0}]
[{"$f":"'Plr List for OofP'!N10","v":0}]
[{"$f":"'Plr List for OofP'!N11","v":0}]
[{"$f":"'Plr List for OofP'!N12","v":0}]
[{"$f":"'Plr List for OofP'!N13","v":0}]
[{"$f":"'Plr List for OofP'!N14","v":0}]
[{"$f":"'Plr List for OofP'!N15","v":0}]
[{"$f":"'Plr List for OofP'!N16","v":0}]
[{"$f":"'Plr List for OofP'!N17","v":0}]
[{"$f":"'Plr List for OofP'!N18","v":0}]
[{"$f":"'Plr List for OofP'!N19","v":0}]
[{"$f":"'Plr List for OofP'!N20","v":0}]
[{"$f":"'Plr List for OofP'!N21","v":0}]
[{"$f":"'Plr List for OofP'!N22","v":0}]
[{"$f":"'Plr List for OofP'!N23","v":0}]
[{"$f":"'Plr List for OofP'!N24","v":0}]
[{"$f":"'Plr List for OofP'!N25","v":0}]
[{"$f":"'Plr List for OofP'!N26","v":0}]
[{"$f":"'Plr List for OofP'!N27","v":0}]
[{"$f":"'Plr List for OofP'!N28","v":0}]
[{"$f":"'Plr List for OofP'!N29","v":0}]
[{"$f":"'Plr List for OofP'!N30","v":0}]
[{"$f":"'Plr List for OofP'!N31","v":0}]
[{"$f":"'Plr List for OofP'!N32","v":0}]
[{"$f":"'Plr List for OofP'!N33","v":0}]
[{"$f":"'Plr List for OofP'!N34","v":0}]
[{"$f":"'Plr List for OofP'!N35","v":0}]
[{"$f":"'Plr List for OofP'!N36","v":0}]
[{"$f":"'Plr List for OofP'!N37","v":0}]
[{"$f":"'Plr List for OofP'!N38","v":0}]
[{"$f":"'Plr List for OofP'!N39","v":0}]
[{"$f":"'Plr List for OofP'!N40","v":0}]
[{"$f":"'Plr List for OofP'!N41","v":0}]
[{"$f":"'Plr List for OofP'!N42","v":0}]
[{"$f":"'Plr List for OofP'!N43","v":0}]
[{"$f":"'Plr List for OofP'!N44","v":0}]
[{"$f":"'Plr List for OofP'!N45","v":0}]
[{"$f":"'Plr List for OofP'!N46","v":0}]
[{"$f":"'Plr List for OofP'!N47","v":0}]
[{"$f":"'Plr List for OofP'!N48","v":0}]
[{"$f":"'Plr List for OofP'!N49","v":0}]
[{"$f":"'Plr List for OofP'!N50","v":0}]
[{"$f":"'Plr List for OofP'!N51","v":0}]
[{"$f":"'Plr List for OofP'!N52","v":0}]
[{"$f":"'Plr List for OofP'!N53","v":0}]
[{"$f":"'Plr List for OofP'!N54","v":0}]
[{"$f":"'Plr List for OofP'!N55","v":0}]
[{"$f":"'Plr List for OofP'!N56","v":0}]
[{"$f":"'Plr List for OofP'!N57","v":0}]
[{"$f":"'Plr List for OofP'!N58","v":0}]
[{"$f":"'Plr List for OofP'!N59","v":0}]
[{"$f":"'Plr List for OofP'!N60","v":0}]
[{"$f":"'Plr List for OofP'!N61","v":0}]
[{"$f":"'Plr List for OofP'!N62","v":0}]
[{"$f":"'Plr List for OofP'!N63","v":0}]
[{"$f":"'Plr List for OofP'!N64","v":0}]
[{"$f":"'Plr List for OofP'!N65","v":0}]
[{"$f":"'Plr List for OofP'!N66","v":0}]
[{"$f":"'Plr List for OofP'!N67","v":0}]
[{"$f":"'Plr List for OofP'!N68","v":0}]
[{"$f":"'Plr List for OofP'!N69","v":0}]
[{"$f":"'Plr List for OofP'!N70","v":0}]
[{"$f":"'Plr List for OofP'!N71","v":0}]
[{"$f":"'Plr List for OofP'!N72","v":0}]
[{"$f":"'Plr List for OofP'!N73","v":0}]
[{"$f":"'Plr List for OofP'!N74","v":0}]
[{"$f":"'Plr List for OofP'!N75","v":0}]
[{"$f":"'Plr List for OofP'!N76","v":0}]
[{"$f":"'Plr List for OofP'!N77","v":0}]
[{"$f":"'Plr List for OofP'!N78","v":0}]
[{"$f":"'Plr List for OofP'!N79","v":0}]
[{"$f":"'Plr List for OofP'!N80","v":0}]
[{"$f":"'Plr List for OofP'!N81","v":0}]
[{"$f":"'Plr List for OofP'!N82","v":0}]
[{"$f":"'Plr List for OofP'!N83","v":0}]
[{"$f":"'Plr List for OofP'!N84","v":0}]
[{"$f":"'Plr List for OofP'!N85","v":0}]
[{"$f":"'Plr List for OofP'!N86","v":0}]
[{"$f":"'Plr List for OofP'!N87","v":0}]
[{"$f":"'Plr List for OofP'!N88","v":0}]
[{"$f":"'Plr List for OofP'!N89","v":0}]
[{"$f":"'Plr List for OofP'!N90","v":0}]
[{"$f":"'Plr List for OofP'!N91","v":0}]
[{"$f":"'Plr List for OofP'!N92","v":0}]
[{"$f":"'Plr List for OofP'!N93","v":0}]
[{"$f":"'Plr List for OofP'!N94","v":0}]
[{"$f":"'Plr List for OofP'!N95","v":0}]
[{"$f":"'Plr List for OofP'!N96","v":0}]
[{"$f":"'Plr List for OofP'!N97","v":0}]
[{"$f":"'Plr List for OofP'!N98","v":0}]
[{"$f":"'Plr List for OofP'!N99","v":0}]
[{"$f":"'Plr List for OofP'!N100","v":0}]
[{"$f":"'Plr List for OofP'!N101","v":0}]
[{"$f":"'Plr List for OofP'!N102","v":0}]
[{"$f":"'Plr List for OofP'!N103","v":0}]
[{"$f":"'Plr List for OofP'!N104","v":0}]
[{"$f":"'Plr List for OofP'!N105","v":0}]
[{"$f":"'Plr List for OofP'!N106","v":0}]
[{"$f":"'Plr List for OofP'!N107","v":0}]
[{"$f":"'Plr List for OofP'!N108","v":0}]
[{"$f":"'Plr List for OofP'!N109","v":0}]
[{"$f":"'Plr List for OofP'!N110","v":0}]
[{"$f":"'Plr List for OofP'!N111","v":0}]
[{"$f":"'Plr List for OofP'!N112","v":0}]
[{"$f":"'Plr List for OofP'!N113","v":0}]
[{"$f":"'Plr List for OofP'!N114","v":0}]
[{"$f":"'Plr List for OofP'!N115","v":0}]
[{"$f":"'Plr List for OofP'!N116","v":0}]
[{"$f":"'Plr List for OofP'!N117","v":0}]
[{"$f":"'Plr List for OofP'!N118","v":0}]
[{"$f":"'Plr List for OofP'!N119","v":0}]
[{"$f":"'Plr List for OofP'!N120","v":0}]
[{"$f":"'Plr List for OofP'!N121","v":0}]
[{"$f":"'Plr List for OofP'!N122","v":0}]
[{"$f":"'Plr List for OofP'!N123","v":0}]
[{"$f":"'Plr List for OofP'!N124","v":0}]
[{"$f":"'Plr List for OofP'!N125","v":0}]
[{"$f":"'Plr List for OofP'!N126","v":0}]
[{"$f":"'Plr List for OofP'!N127","v":0}]
[{"$f":"'Plr List for OofP'!N128","v":0}]
[{"$f":"'Plr List for OofP'!N129","v":0}]
[{"$f":"'Plr List for OofP'!N130","v":0}]
[{"$f":"'Plr List for OofP'!N131","v":0}]
[{"$f":"'Plr List for OofP'!N132","v":0}]
[{"$f":"'Plr List for OofP'!N133","v":0}]
[{"$f":"'Plr List for OofP'!N134","v":0}]
[{"$f":"'Plr List for OofP'!N135","v":0}]
[{"$f":"'Plr List for OofP'!N136","v":0}]
[{"$f":"'Plr List for OofP'!N137","v":0}]
[{"$f":"'Plr List for OofP'!N138","v":0}]
[{"$f":"'Plr List for OofP'!N139","v":0}]
[{"$f":"'Plr List for OofP'!N140","v":0}]
[{"$f":"'Plr List for OofP'!N141","v":0}]
[{"$f":"'Plr List for OofP'!N142","v":0}]
[{"$f":"'Plr List for OofP'!N143","v":0}]
[{"$f":"'Plr List for OofP'!N144","v":0}]
[{"$f":"'Plr List for OofP'!N145","v":0}]
[{"$f":"'Plr List for OofP'!N146","v":0}]
[{"$f":"'Plr List for OofP'!N147","v":0}]
[{"$f":"'Plr List for OofP'!N148","v":0}]
[{"$f":"'Plr List for OofP'!N149","v":0}]
[{"$f":"'Plr List for OofP'!N150","v":0}]
[{"$f":"'Plr List for OofP'!N151","v":0}]
[{"$f":"'Plr List for OofP'!N152","v":0}]
[{"$f":"'Plr List for OofP'!N153","v":0}]
[{"$f":"'Plr List for OofP'!N154","v":0}]
[{"$f":"'Plr List for OofP'!N155","v":0}]
[{"$f":"'Plr List for OofP'!N156","v":0}]
[{"$f":"'Plr List for OofP'!N157","v":0}]
[{"$f":"'Plr List for OofP'!N158","v":0}]
[{"$f":"'Plr List for OofP'!N159","v":0}]
[{"$f":"'Plr List for OofP'!N160","v":0}]
[{"$f":"'Plr List for OofP'!N161","v":0}]
[{"$f":"'Plr List for OofP'!N162","v":0}]
[{"$f":"'Plr List for OofP'!N163","v":0}]
[{"$f":"'Plr List for OofP'!N164","v":0}]
[{"$f":"'Plr List for OofP'!N165","v":0}]
[{"$f":"'Plr List for OofP'!N166","v":0}]
[{"$f":"'Plr List for OofP'!N167","v":0}]
[{"$f":"'Plr List for OofP'!N168","v":0}]
[{"$f":"'Plr List for OofP'!N169","v":0}]
[{"$f":"'Plr List for OofP'!N170","v":0}]
[{"$f":"'Plr List for OofP'!N171","v":0}]
[{"$f":"'Plr List for OofP'!N172","v":0}]
[{"$f":"'Plr List for OofP'!N173","v":0}]
[{"$f":"'Plr List for OofP'!N174","v":0}]
[{"$f":"'Plr List for OofP'!N175","v":0}]
[{"$f":"'Plr List for OofP'!N176","v":0}]
[{"$f":"'Plr List for OofP'!N177","v":0}]
[{"$f":"'Plr List for OofP'!N178","v":0}]
[{"$f":"'Plr List for OofP'!N179","v":0}]
[{"$f":"'Plr List for OofP'!N180","v":0}]
[{"$f":"'Plr List for OofP'!N181","v":0}]
[{"$f":"'Plr List for OofP'!N182","v":0}]
[{"$f":"'Plr List for OofP'!N183","v":0}]
[{"$f":"'Plr List for OofP'!N184","v":0}]
[{"$f":"'Plr List for OofP'!N185","v":0}]
[{"$f":"'Plr List for OofP'!N186","v":0}]
[{"$f":"'Plr List for OofP'!N187","v":0}]
[{"$f":"'Plr List for OofP'!N188","v":0}]
[{"$f":"'Plr List for OofP'!N189","v":0}]
[{"$f":"'Plr List for OofP'!N190","v":0}]
[{"$f":"'Plr List for OofP'!N191","v":0}]
[{"$f":"'Plr List for OofP'!N192","v":0}]
[{"$f":"'Plr List for OofP'!N193","v":0}]
[{"$f":"'Plr List for OofP'!N194","v":0}]
[{"$f":"'Plr List for OofP'!N195","v":0}]
[{"$f":"'Plr List for OofP'!N196","v":0}]
[{"$f":"'Plr List for OofP'!N197","v":0}]
[{"$f":"'Plr List for OofP'!N198","v":0}]
[{"$f":"'Plr List for OofP'!N199","v":0}]
[{"$f":"'Plr List for OofP'!N200","v":0}]
[{"$f":"'Plr List for OofP'!N201","v":0}]
[{"$f":"'Plr List for OofP'!N202","v":0}]
[{"$f":"'Plr List for OofP'!N203","v":0}]
[{"$f":"'Plr List for OofP'!N204","v":0}]
[{"$f":"'Plr List for OofP'!N205","v":0}]
[{"$f":"'Plr List for OofP'!N206","v":0}]
[{"$f":"'Plr List for OofP'!N207","v":0}]
[{"$f":"'Plr List for OofP'!N208","v":0}]
[{"$f":"'Plr List for OofP'!N209","v":0}]
[{"$f":"'Plr List for OofP'!N210","v":0}]
[{"$f":"'Plr List for OofP'!N211","v":0}]
[{"$f":"'Plr List for OofP'!N212","v":0}]
[{"$f":"'Plr List for OofP'!N213","v":0}]
[{"$f":"'Plr List for OofP'!N214","v":0}]
[{"$f":"'Plr List for OofP'!N215","v":0}]
[{"$f":"'Plr List for OofP'!N216","v":0}]
[{"$f":"'Plr List for OofP'!N217","v":0}]
[{"$f":"'Plr List for OofP'!N218","v":0}]
[{"$f":"'Plr List for OofP'!N219","v":0}]
[{"$f":"'Plr List for OofP'!N220","v":0}]
[{"$f":"'Plr List for OofP'!N221","v":0}]
[{"$f":"'Plr List for OofP'!N222","v":0}]
[{"$f":"'Plr List for OofP'!N223","v":0}]
[{"$f":"'Plr List for OofP'!N224","v":0}]
[{"$f":"'Plr List for OofP'!N225","v":0}]
[{"$f":"'Plr List for OofP'!N226","v":0}]
[{"$f":"'Plr List for OofP'!N227","v":0}]
[{"$f":"'Plr List for OofP'!N228","v":0}]
[{"$f":"'Plr List for OofP'!N229","v":0}]
[{"$f":"'Plr List for OofP'!N230","v":0}]
[{"$f":"'Plr List for OofP'!N231","v":0}]
[{"$f":"'Plr List for OofP'!N232","v":0}]
[{"$f":"'Plr List for OofP'!N233","v":0}]
[{"$f":"'Plr List for OofP'!N234","v":0}]
[{"$f":"'Plr List for OofP'!N235","v":0}]
[{"$f":"'Plr List for OofP'!N236","v":0}]
[{"$f":"'Plr List for OofP'!N237","v":0}]
[{"$f":"'Plr List for OofP'!N238","v":0}]
[{"$f":"'Plr List for OofP'!N239","v":0}]
[{"$f":"'Plr List for OofP'!N240","v":0}]
[{"$f":"'Plr List for OofP'!N241","v":0}]
[{"$f":"'Plr List for OofP'!N242","v":0}]
[{"$f":"'Plr List for OofP'!N243","v":0}]
[{"$f":"'Plr List for OofP'!N244","v":0}]
[{"$f":"'Plr List for OofP'!N245","v":0}]
[{"$f":"'Plr List for OofP'!N246","v":0}]
[{"$f":"'Plr List for OofP'!N247","v":0}]
[{"$f":"'Plr List for OofP'!N248","v":0}]
[{"$f":"'Plr List for OofP'!N249","v":0}]
[{"$f":"'Plr List for OofP'!N250","v":0}]
[{"$f":"'Plr List for OofP'!N251","v":0}]
[{"$f":"'Plr List for OofP'!N252","v":0}]
[{"$f":"'Plr List for OofP'!N253","v":0}]
[{"$f":"'Plr List for OofP'!N254","v":0}]
[{"$f":"'Plr List for OofP'!N255","v":0}]
[{"$f":"'Plr List for OofP'!N256","v":0}]
[{"$f":"'Plr List for OofP'!N257","v":0}]
[{"$f":"'Plr List for OofP'!N258","v":0}]
[{"$f":"'Plr List for OofP'!N259","v":0}]
[{"$f":"'Plr List for OofP'!N260","v":0}]
[{"$f":"'Plr List for OofP'!N261","v":0}]
[{"$f":"'Plr List for OofP'!N262","v":0}]
[{"$f":"'Plr List for OofP'!N263","v":0}]
[{"$f":"'Plr List for OofP'!N264","v":0}]
[{"$f":"'Plr List for OofP'!N265","v":0}]
[{"$f":"'Plr List for OofP'!N266","v":0}]
[{"$f":"'Plr List for OofP'!N267","v":0}]
[{"$f":"'Plr List for OofP'!N268","v":0}]
[{"$f":"'Plr List for OofP'!N269","v":0}]
[{"$f":"'Plr List for OofP'!N270","v":0}]
[{"$f":"'Plr List for OofP'!N271","v":0}]
[{"$f":"'Plr List for OofP'!N272","v":0}]
[{"$f":"'Plr List for OofP'!N273","v":0}]
[{"$f":"'Plr List for OofP'!N274","v":0}]
[{"$f":"'Plr List for OofP'!N275","v":0}]
[{"$f":"'Plr List for OofP'!N276","v":0}]
[{"$f":"'Plr List for OofP'!N277","v":0}]
[{"$f":"'Plr List for OofP'!N278","v":0}]
[{"$f":"'Plr List for OofP'!N279","v":0}]
[{"$f":"'Plr List for OofP'!N280","v":0}]
[{"$f":"'Plr List for OofP'!N281","v":0}]
[{"$f":"'Plr List for OofP'!N282","v":0}]
[{"$f":"'Plr List for OofP'!N283","v":0}]
[{"$f":"'Plr List for OofP'!N284","v":0}]
[{"$f":"'Plr List for OofP'!N285","v":0}]
[{"$f":"'Plr List for OofP'!N286","v":0}]
[{"$f":"'Plr List for OofP'!N287","v":0}]
[{"$f":"'Plr List for OofP'!N288","v":0}]
[{"$f":"'Plr List for OofP'!N289","v":0}]
[{"$f":"'Plr List for OofP'!N290","v":0}]
[{"$f":"'Plr List for OofP'!N291","v":0}]
[{"$f":"'Plr List for OofP'!N292","v":0}]
[{"$f":"'Plr List for OofP'!N293","v":0}]
[{"$f":"'Plr List for OofP'!N294","v":0}]
[{"$f":"'Plr List for OofP'!N295","v":0}]
[{"$f":"'Plr List for OofP'!N296","v":0}]
[{"$f":"'Plr List for OofP'!N297","v":0}]
[{"$f":"'Plr List for OofP'!N298","v":0}]
[{"$f":"'Plr List for OofP'!N299","v":0}]
[{"$f":"'Plr List for OofP'!N300","v":0}]
[{"$f":"'Plr List for OofP'!N301","v":0}]
[{"$f":"'Plr List for OofP'!N302","v":0}]
[{"$f":"'Plr List for OofP'!N303","v":0}]
[{"$f":"'Plr List for OofP'!N304","v":0}]
[{"$f":"'Plr List for OofP'!N305","v":0}]
[{"$f":"'Plr List for OofP'!N306","v":0}]
[{"$f":"'Plr List for OofP'!N307","v":0}]
[{"$f":"'Plr List for OofP'!N308","v":0}]
[{"$f":"'Plr List for OofP'!N309","v":0}]
[{"$f":"'Plr List for OofP'!N310","v":0}]
[{"$f":"'Plr List for OofP'!N311","v":0}]
[{"$f":"'Plr List for OofP'!N312","v":0}]
[{"$f":"'Plr List for OofP'!N313","v":0}]
[{"$f":"'Plr List for OofP'!N314","v":0}]
[{"$f":"'Plr List for OofP'!N315","v":0}]
[{"$f":"'Plr List for OofP'!N316","v":0}]
[{"$f":"'Plr List for OofP'!N317","v":0}]
[{"$f":"'Plr List for OofP'!N318","v":0}]
[{"$f":"'Plr List for OofP'!N319","v":0}]
[{"$f":"'Plr List for OofP'!N320","v":0}]
[{"$f":"'Plr List for OofP'!N321","v":0}]
[{"$f":"'Plr List for OofP'!N322","v":0}]
[{"$f":"'Plr List for OofP'!N323","v":0}]
[{"$f":"'Plr List for OofP'!N324","v":0}]
[{"$f":"'Plr List for OofP'!N325","v":0}]
[{"$f":"'Plr List for OofP'!N326","v":0}]
[{"$f":"'Plr List for OofP'!N327","v":0}]
[{"$f":"'Plr List for OofP'!N328","v":0}]
[{"$f":"'Plr List for OofP'!N329","v":0}]
[{"$f":"'Plr List for OofP'!N330","v":0}]
[{"$f":"'Plr List for OofP'!N331","v":0}]
[{"$f":"'Plr List for OofP'!N332","v":0}]
[{"$f":"'Plr List for OofP'!N333","v":0}]
[{"$f":"'Plr List for OofP'!N334","v":0}]
[{"$f":"'Plr List for OofP'!N335","v":0}]
[{"$f":"'Plr List for OofP'!N336","v":0}]
[{"$f":"'Plr List for OofP'!N337","v":0}]
[{"$f":"'Plr List for OofP'!N338","v":0}]
[{"$f":"'Plr List for OofP'!N339","v":0}]
[{"$f":"'Plr List for OofP'!N340","v":0}]
[{"$f":"'Plr List for OofP'!N341","v":0}]
[{"$f":"'Plr List for OofP'!N342","v":0}]
[{"$f":"'Plr List for OofP'!N343","v":0}]
[{"$f":"'Plr List for OofP'!N344","v":0}]
[{"$f":"'Plr List for OofP'!N345","v":0}]
[{"$f":"'Plr List for OofP'!N346","v":0}]
[{"$f":"'Plr List for OofP'!N347","v":0}]
[{"$f":"'Plr List for OofP'!N348","v":0}]
[{"$f":"'Plr List for OofP'!N349","v":0}]
[{"$f":"'Plr List for OofP'!N350","v":0}]
[{"$f":"'Plr List for OofP'!N351","v":0}]
[{"$f":"'Plr List for OofP'!N352","v":0}]
[{"$f":"'Plr List for OofP'!N353","v":0}]
[{"$f":"'Plr List for OofP'!N354","v":0}]
[{"$f":"'Plr List for OofP'!N355","v":0}]
[{"$f":"'Plr List for OofP'!N356","v":0}]
[{"$f":"'Plr List for OofP'!N357","v":0}]
[{"$f":"'Plr List for OofP'!N358","v":0}]
[{"$f":"'Plr List for OofP'!N359","v":0}]
[{"$f":"'Plr List for OofP'!N360","v":0}]
[{"$f":"'Plr List for OofP'!N361","v":0}]
[{"$f":"'Plr List for OofP'!N362","v":0}]
[{"$f":"'Plr List for OofP'!N363","v":0}]
[{"$f":"'Plr List for OofP'!N364","v":0}]
[{"$f":"'Plr List for OofP'!N365","v":0}]
[{"$f":"'Plr List for OofP'!N366","v":0}]
[{"$f":"'Plr List for OofP'!N367","v":0}]
[{"$f":"'Plr List for OofP'!N368","v":0}]
[{"$f":"'Plr List for OofP'!N369","v":0}]
[{"$f":"'Plr List for OofP'!N370","v":0}]
[{"$f":"'Plr List for OofP'!N371","v":0}]
[{"$f":"'Plr List for OofP'!N372","v":0}]
[{"$f":"'Plr List for OofP'!N373","v":0}]
[{"$f":"'Plr List for OofP'!N374","v":0}]
[{"$f":"'Plr List for OofP'!N375","v":0}]
[{"$f":"'Plr List for OofP'!N376","v":0}]
[{"$f":"'Plr List for OofP'!N377","v":0}]
[{"$f":"'Plr List for OofP'!N378","v":0}]
[{"$f":"'Plr List for OofP'!N379","v":0}]
[{"$f":"'Plr List for OofP'!N380","v":0}]
[{"$f":"'Plr List for OofP'!N381","v":0}]
[{"$f":"'Plr List for OofP'!N382","v":0}]
[{"$f":"'Plr List for OofP'!N383","v":0}]
[{"$f":"'Plr List for OofP'!N384","v":0}]
[{"$f":"'Plr List for OofP'!N385","v":0}]
[{"$f":"'Plr List for OofP'!N386","v":0}]
[{"$f":"'Plr List for OofP'!N387","v":0}]
[{"$f":"'Plr List for OofP'!N388","v":0}]
[{"$f":"'Plr List for OofP'!N389","v":0}]
[{"$f":"'Plr List for OofP'!N390","v":0}]
[{"$f":"'Plr List for OofP'!N391","v":0}]
[{"$f":"'Plr List for OofP'!N392","v":0}]
[{"$f":"'Plr List for OofP'!N393","v":0}]
[{"$f":"'Plr List for OofP'!N394","v":0}]
[{"$f":"'Plr List for OofP'!N395","v":0}]
[{"$f":"'Plr List for OofP'!N396","v":0}]
[{"$f":"'Plr List for OofP'!N397","v":0}]
[{"$f":"'Plr List for OofP'!N398","v":0}]
[{"$f":"'Plr List for OofP'!N399","v":0}]
[{"$f":"'Plr List for OofP'!N400","v":0}]
[{"$f":"'Plr List for OofP'!N401","v":0}]
[{"$f":"'Plr List for OofP'!N402","v":0}]
[{"$f":"'Plr List for OofP'!N403","v":0}]
[{"$f":"'Plr List for OofP'!N404","v":0}]
[{"$f":"'Plr List for OofP'!N405","v":0}]
[{"$f":"'Plr List for OofP'!N406","v":0}]
[{"$f":"'Plr List for OofP'!N407","v":0}]
[{"$f":"'Plr List for OofP'!N408","v":0}]
[{"$f":"'Plr List for OofP'!N409","v":0}]
[{"$f":"'Plr List for OofP'!N410","v":0}]
[{"$f":"'Plr List for OofP'!N411","v":0}]
[{"$f":"'Plr List for OofP'!N412","v":0}]
[{"$f":"'Plr List for OofP'!N413","v":0}]
[{"$f":"'Plr List for OofP'!N414","v":0}]
[{"$f":"'Plr List for OofP'!N415","v":0}]
[{"$f":"'Plr List for OofP'!N416","v":0}]
[{"$f":"'Plr List for OofP'!N417","v":0}]
[{"$f":"'Plr List for OofP'!N418","v":0}]
[{"$f":"'Plr List for OofP'!N419","v":0}]
[{"$f":"'Plr List for OofP'!N420","v":0}]
[{"$f":"'Plr List for OofP'!N421","v":0}]
[{"$f":"'Plr List for OofP'!N422","v":0}]
[{"$f":"'Plr List for OofP'!N423","v":0}]
[{"$f":"'Plr List for OofP'!N424","v":0}]
[{"$f":"'Plr List for OofP'!N425","v":0}]
[{"$f":"'Plr List for OofP'!N426","v":0}]
[{"$f":"'Plr List for OofP'!N427","v":0}]
[{"$f":"'Plr List for OofP'!N428","v":0}]
[{"$f":"'Plr List for OofP'!N429","v":0}]
[{"$f":"'Plr List for OofP'!N430","v":0}]
[{"$f":"'Plr List for OofP'!N431","v":0}]
[{"$f":"'Plr List for OofP'!N432","v":0}]
[{"$f":"'Plr List for OofP'!N433","v":0}]
[{"$f":"'Plr List for OofP'!N434","v":0}]
[{"$f":"'Plr List for OofP'!N435","v":0}]
[{"$f":"'Plr List for OofP'!N436","v":0}]
[{"$f":"'Plr List for OofP'!N437","v":0}]
[{"$f":"'Plr List for OofP'!N438","v":0}]
[{"$f":"'Plr List for OofP'!N439","v":0}]
[{"$f":"'Plr List for OofP'!N440","v":0}]
[{"$f":"'Plr List for OofP'!N441","v":0}]
[{"$f":"'Plr List for OofP'!N442","v":0}]
[{"$f":"'Plr List for OofP'!N443","v":0}]
[{"$f":"'Plr List for OofP'!N444","v":0}]
[{"$f":"'Plr List for OofP'!N445","v":0}]
[{"$f":"'Plr List for OofP'!N446","v":0}]
[{"$f":"'Plr List for OofP'!N447","v":0}]
[{"$f":"'Plr List for OofP'!N448","v":0}]
[{"$f":"'Plr List for OofP'!N449","v":0}]
[{"$f":"'Plr List for OofP'!N450","v":0}]
[{"$f":"'Plr List for OofP'!N451","v":0}]
[{"$f":"'Plr List for OofP'!N452","v":0}]
[{"$f":"'Plr List for OofP'!N453","v":0}]
[{"$f":"'Plr List for OofP'!N454","v":0}]
[{"$f":"'Plr List for OofP'!N455","v":0}]
[{"$f":"'Plr List for OofP'!N456","v":0}]
[{"$f":"'Plr List for OofP'!N457","v":0}]
[{"$f":"'Plr List for OofP'!N458","v":0}]
[{"$f":"'Plr List for OofP'!N459","v":0}]
[{"$f":"'Plr List for OofP'!N460","v":0}]
[{"$f":"'Plr List for OofP'!N461","v":0}]
[{"$f":"'Plr List for OofP'!N462","v":0}]
[{"$f":"'Plr List for OofP'!N463","v":0}]
[{"$f":"'Plr List for OofP'!N464","v":0}]
[{"$f":"'Plr List for OofP'!N465","v":0}]
[{"$f":"'Plr List for OofP'!N466","v":0}]
[{"$f":"'Plr List for OofP'!N467","v":0}]
[{"$f":"'Plr List for OofP'!N468","v":0}]
[{"$f":"'Plr List for OofP'!N469","v":0}]
[{"$f":"'Plr List for OofP'!N470","v":0}]
[{"$f":"'Plr List for OofP'!N471","v":0}]
[{"$f":"'Plr List for OofP'!N472","v":0}]
[{"$f":"'Plr List for OofP'!N473","v":0}]
[{"$f":"'Plr List for OofP'!N474","v":0}]
[{"$f":"'Plr List for OofP'!N475","v":0}]
[{"$f":"'Plr List for OofP'!N476","v":0}]
[{"$f":"'Plr List for OofP'!N477","v":0}]
[{"$f":"'Plr List for OofP'!N478","v":0}]
[{"$f":"'Plr List for OofP'!N479","v":0}]
[{"$f":"'Plr List for OofP'!N480","v":0}]
[{"$f":"'Plr List for OofP'!N481","v":0}]
[{"$f":"'Plr List for OofP'!N482","v":0}]
[{"$f":"'Plr List for OofP'!N483","v":0}]
[{"$f":"'Plr List for OofP'!N484","v":0}]
[{"$f":"'Plr List for OofP'!N485","v":0}]
[{"$f":"'Plr List for OofP'!N486","v":0}]
[{"$f":"'Plr List for OofP'!N487","v":0}]
[{"$f":"'Plr List for OofP'!N488","v":0}]
[{"$f":"'Plr List for OofP'!N489","v":0}]
[{"$f":"'Plr List for OofP'!N490","v":0}]
[{"$f":"'Plr List for OofP'!N491","v":0}]
[{"$f":"'Plr List for OofP'!N492","v":0}]
[{"$f":"'Plr List for OofP'!N493","v":0}]
[{"$f":"'Plr List for OofP'!N494","v":0}]
[{"$f":"'Plr List for OofP'!N495","v":0}]
[{"$f":"'Plr List for OofP'!N496","v":0}]
[{"$f":"'Plr List for OofP'!N497","v":0}]
[{"$f":"'Plr List for OofP'!N498","v":0}]
[{"$f":"'Plr List for OofP'!N499","v":0}]
[{"$f":"'Plr List for OofP'!N500","v":0}]
[{"$f":"'Plr List for OofP'!N501","v":0}]
[{"$f":"'Plr List for OofP'!N502","v":0}]
[{"$f":"'Plr List for OofP'!N503","v":0}]
[{"$f":"'Plr List for OofP'!N504","v":0}]
[{"$f":"'Plr List for OofP'!N505","v":0}]
[{"$f":"'Plr List for OofP'!N506","v":0}]
[{"$f":"'Plr List for OofP'!N507","v":0}]
[{"$f":"'Plr List for OofP'!N508","v":0}]
[{"$f":"'Plr List for OofP'!N509","v":0}]
[{"$f":"'Plr List for OofP'!N510","v":0}]
[{"$f":"'Plr List for OofP'!N511","v":0}]
[{"$f":"'Plr List for OofP'!N512","v":0}]
[{"$f":"'Plr List for OofP'!N513","v":0}]
[{"$f":"'Plr List for OofP'!N514","v":0}]
[{"$f":"'Plr List for OofP'!N515","v":0}]
[{"$f":"'Plr List for OofP'!N516","v":0}]
[{"$f":"'Plr List for OofP'!N517","v":0}]
[{"$f":"'Plr List for OofP'!N518","v":0}]

{"sheet":"Practice Cts","index":55,"n_rows":34,"n_cols":9,"rows_kept":34,"cut":false,"hidden":false,"merged":[]}
[null,null,null,null,null,"Day, Date"]
[{"$f":"'Week SetUp'!$A$6","v":0},null,null,null,"PRACTICE\nCOURTS"]
[{"$f":"'Week SetUp'!$A$8","v":"ITF Junior Circuit"}]
["Week of",null,"City, Country",null,"Group","Tourn. ID",null,null,"ITF Referee"]
[{"$f":"'Week SetUp'!$A$10","v":"00:00:00"},null,{"$f":"'Week SetUp'!$C$10","v":0},null,{"$f":"'Week SetUp'!$D$10","v":0},{"$f":"'Week SetUp'!$A$12","v":0},null,null,{"$f":"'Week SetUp'!$E$10","v":0}]
["Starting","Court 1","Court 2","Court 3","Court 4","Court 5","Court 6","Court 7","Court 8"]
["08.00"]
["08.30"]
["09.00"]
["09.30"]
["10.00"]
["10.30"]
["11.00"]
["11.30"]
["12.00"]
["12.30"]
["13.00"]
["13.30"]
["14.00"]
["14.30"]
["15.00"]
["15.30"]
["16.00"]
["16.30"]
["17.00"]
["17.30"]
["18.00"]
["18.30"]
["19.00"]
["19.30"]
["20.00"]
["20.30"]
["Priorities for practice courts"]
["1. Morning hours: Players scheduled for 1st match; 2. Players playing a) singles, b) doubles today; 3. Other Players still in draw."]

{"sheet":"Boys Si LL List","index":56,"n_rows":39,"n_cols":7,"rows_kept":39,"cut":false,"hidden":false,"merged":[[3,0,3,1]]}
[{"$f":"'Week SetUp'!$A$6","v":0},null,null,"BOYS SINGLES LUCKY LOSERS"]
[{"$f":"'Week SetUp'!$A$8","v":"ITF Junior Circuit"},null,null,"SIGN-IN"]
["Week of",null,"City, Country","Group",null,null,"ITF Referee"]
[{"$f":"'Week SetUp'!$A$10","v":"00:00:00"},null,{"$f":"'Week SetUp'!$C$10","v":0},{"$f":"'Week SetUp'!$D$10","v":0},null,null,{"$f":"'Week SetUp'!$E$10","v":0}]
[null,null,"Day","Date","Time","Place"]
["Sign-in deadline:"]
["Line","Family name","First name","Player signature","Lost in round","Ranking","Lucky Loser number"]
[1]
[2]
[3]
[4]
[5]
[6]
[7]
[8]
[9]
[10]
[11]
[12]
[13]
[14]
[15]
[16]
[17]
[18]
[19]
[20]
[21]
[22]
[23]
[24]
[25]
[26]
[27]
[28]
[]
[null,null,null,"Sign-in list closed","Signature"]
[]
[null,null,null,null,{"$f":"$G$4","v":0}]

{"sheet":"Girls Si LL List","index":57,"n_rows":39,"n_cols":7,"rows_kept":39,"cut":false,"hidden":false,"merged":[[3,0,3,1]]}
[{"$f":"'Week SetUp'!$A$6","v":0},null,null,"GIRLS SINGLES LUCKY LOSERS"]
[{"$f":"'Week SetUp'!$A$8","v":"ITF Junior Circuit"},null,null,"SIGN-IN"]
["Week of",null,"City, Country","Group",null,null,"ITF Referee"]
[{"$f":"'Week SetUp'!$A$10","v":"00:00:00"},null,{"$f":"'Week SetUp'!$C$10","v":0},{"$f":"'Week SetUp'!$D$10","v":0},null,null,{"$f":"'Week SetUp'!$E$10","v":0}]
[null,null,"Day","Date","Time","Place"]
["Sign-in deadline:"]
["Line","Family name","First name","Player signature","Lost in round","Ranking","Lucky Loser number"]
[1]
[2]
[3]
[4]
[5]
[6]
[7]
[8]
[9]
[10]
[11]
[12]
[13]
[14]
[15]
[16]
[17]
[18]
[19]
[20]
[21]
[22]
[23]
[24]
[25]
[26]
[27]
[28]
[]
[null,null,null,"Sign-in list closed","Signature"]
[]
[null,null,null,null,{"$f":"$G$4","v":0}]

{"sheet":"Boys Si Alt List","index":58,"n_rows":39,"n_cols":7,"rows_kept":39,"cut":false,"hidden":false,"merged":[[3,0,3,1]]}
[{"$f":"'Week SetUp'!$A$6","v":0},null,null,"BOYS SINGLES ALTERNATES"]
[{"$f":"'Week SetUp'!$A$8","v":"ITF Junior Circuit"},null,null,"SIGN-IN"]
["Week of",null,"City, Country","Group",null,null,"ITF Referee"]
[{"$f":"'Week SetUp'!$A$10","v":"00:00:00"},null,{"$f":"'Week SetUp'!$C$10","v":0},{"$f":"'Week SetUp'!$D$10","v":0},null,null,{"$f":"'Week SetUp'!$E$10","v":0}]
[null,null,"Day","Date","Time","Place"]
["Sign-in deadline:"]
["Line","Family name","First name","Player signature","Acceptance priority/\nmethod","Ranking","Alternate number"]
[1]
[2]
[3]
[4]
[5]
[6]
[7]
[8]
[9]
[10]
[11]
[12]
[13]
[14]
[15]
[16]
[17]
[18]
[19]
[20]
[21]
[22]
[23]
[24]
[25]
[26]
[27]
[28]
[]
[null,null,null,"Sign-in list closed","Signature"]
[]
[null,null,null,null,{"$f":"$G$4","v":0}]

{"sheet":"Girls Si Alt List","index":59,"n_rows":39,"n_cols":7,"rows_kept":39,"cut":false,"hidden":false,"merged":[[3,0,3,1]]}
[{"$f":"'Week SetUp'!$A$6","v":0},null,null,"GIRLS SINGLES ALTERNATES"]
[{"$f":"'Week SetUp'!$A$8","v":"ITF Junior Circuit"},null,null,"SIGN-IN"]
["Week of",null,"City, Country","Group",null,null,"ITF Referee"]
[{"$f":"'Week SetUp'!$A$10","v":"00:00:00"},null,{"$f":"'Week SetUp'!$C$10","v":0},{"$f":"'Week SetUp'!$D$10","v":0},null,null,{"$f":"'Week SetUp'!$E$10","v":0}]
[null,null,"Day","Date","Time","Place"]
["Sign-in deadline:"]
["Line","Family name","First name","Player signature","Acceptance priority/\nmethod","Ranking","Alternate number"]
[1]
[2]
[3]
[4]
[5]
[6]
[7]
[8]
[9]
[10]
[11]
[12]
[13]
[14]
[15]
[16]
[17]
[18]
[19]
[20]
[21]
[22]
[23]
[24]
[25]
[26]
[27]
[28]
[]
[null,null,null,"Sign-in list closed","Signature"]
[]
[null,null,null,null,{"$f":"$G$4","v":0}]

{"sheet":"Boys Do Alt List","index":60,"n_rows":39,"n_cols":7,"rows_kept":39,"cut":false,"hidden":false,"merged":[[3,0,3,1]]}
[{"$f":"'Week SetUp'!$A$6","v":0},null,null,"BOYS DOUBLES ALTERNATES"]
[{"$f":"'Week SetUp'!$A$8","v":"ITF Junior Circuit"},null,null,"SIGN-IN"]
["Week of",null,"City, Country","Group",null,null,"ITF Referee"]
[{"$f":"'Week SetUp'!$A$10","v":"00:00:00"},null,{"$f":"'Week SetUp'!$C$10","v":0},{"$f":"'Week SetUp'!$D$10","v":0},null,null,{"$f":"'Week SetUp'!$E$10","v":0}]
[null,null,"Day","Date","Time ","Place"]
["Sign-in deadline:"]
["Line","Family name","First name","Player signature","Acceptance priority/\nmethod","Ranking","Alternate number"]
[1]
[]
[2]
[]
[3]
[]
[4]
[]
[5]
[]
[6]
[]
[7]
[]
[8]
[]
[9]
[]
[10]
[]
[11]
[]
[12]
[]
[13]
[]
[14]
[]
[]
[null,null,null,"Sign-in list closed","Signature"]
[]
[null,null,null,null,{"$f":"$G$4","v":0}]

{"sheet":"Girls Do Alt List","index":61,"n_rows":39,"n_cols":7,"rows_kept":39,"cut":false,"hidden":false,"merged":[[3,0,3,1]]}
[{"$f":"'Week SetUp'!$A$6","v":0},null,null,"GIRLS DOUBLES ALTERNATES"]
[{"$f":"'Week SetUp'!$A$8","v":"ITF Junior Circuit"},null,null,"SIGN-IN"]
["Week of",null,"City, Country","Group",null,null,"ITF Referee"]
[{"$f":"'Week SetUp'!$A$10","v":"00:00:00"},null,{"$f":"'Week SetUp'!$C$10","v":0},{"$f":"'Week SetUp'!$D$10","v":0},null,null,{"$f":"'Week SetUp'!$E$10","v":0}]
[null,null,"Day","Date","Time ","Place"]
["Sign-in deadline:"]
["Line","Family name","First name","Player signature","Acceptance priority/\nmethod","Ranking","Alternate number"]
[1]
[]
[2]
[]
[3]
[]
[4]
[]
[5]
[]
[6]
[]
[7]
[]
[8]
[]
[9]
[]
[10]
[]
[11]
[]
[12]
[]
[13]
[]
[14]
[]
[]
[null,null,null,"Sign-in list closed","Signature"]
[]
[null,null,null,null,{"$f":"$G$4","v":0}]

{"sheet":"Offence Report","index":62,"n_rows":133,"n_cols":14,"rows_kept":133,"cut":false,"hidden":false,"merged":[[3,0,3,1],[31,7,31,8],[108,6,108,13]]}
[{"$f":"'Week SetUp'!$A$6","v":0},null,null,"OFFENCE REPORT"]
[{"$f":"'Week SetUp'!$A$8","v":"ITF Junior Circuit"},null,null,"No Shows, Late Withdrawals, Point Penalty Schedule, Three Warnings, Walkovers & Defaults"]
["Week of",null,null,"City, Country",null,null,"Group",null,"Tourn. ID",null,null,null,null,"ITF Referee"]
[{"$f":"'Week SetUp'!$A$10","v":"00:00:00"},null,null,{"$f":"'Week SetUp'!$C$10","v":0},null,null,{"$f":"'Week SetUp'!$D$10","v":0},null,{"$f":"'Week SetUp'!$A$12","v":0},null,null,null,null,{"$f":"'Week SetUp'!$E$10","v":0}]
["No Shows (i.e. No formal notification of Withdrawal received)",null,null,null,null,null,null,null,null,null,null,null,null,"Page 1(5)"]
["Players on the Main Draw or Qualifying Acceptance List who did not show for the sign-in and for whom no formal notification of Withdrawal were received."]
["Line","Family name","First name","Nat.","Singles Main Draw","Singles Qualifying"]
[null,null,null,null,"Yes/No","Yes/No"]
[1]
[2]
[3]
[4]
[5]
[6]
[7]
[8]
[9]
[10]
[11]
[12]
[13]
[14]
[15]
[16]
[17]
[18]
[19]
[20]
["Main Draw Late Withdrawals (i.e. Formal notification of Withdrawal received)",null,null,null,null,null,null,null,null,null,null,null,null,"Page 2(5)"]
["Players on the Main Draw Acceptance List who withdrew later than 14 days prior to the scheduled start of the Singles Main Draw with notification"]
["NB! All Withdrawal documents and/or Medical Certificates must be attached with the report"]
["Line","Family name","First name","Nat.","Singles Main Draw",null,"Doubles\nafter\nSign-in","Date of Withdrawal",null,"Medical Certificate received"]
[null,null,null,null,"Yes/No",null,"Yes/No",null,null,"Yes/No"]
[1]
[2]
[3]
[4]
[5]
[6]
[7]
[8]
[9]
[10]
[11]
[12]
[13]
[14]
[15]
[16]
[17]
[18]
[19]
[20]
["Two or more offences in the same match",null,null,null,null,null,null,null,null,null,null,null,null,"Page 3(5)"]
["Players receiving two or more offences in one match (Warning, Point Penalty, Game Penalty, ..., Default (following W,P,G; other Defaults listed elsewhere)"]
["Abbreviations for Offences: Del: Unreasonable delays, AOb: Audible obscenity, VOb: Visible obscenity, BA: Ball Abuse, RA: Racket Abuse, VA: Verbal Abuse, PhA: Physical Abuse"]
["CC: Coaching and Coaches, BE: Best Efforts, UnC: Unsportsmanlike Conduct"]
["Line","Family name","First name","Nat.","Event","Round","Warning","Point Penalty","Game Penalty","Game Penalty","Game Penalty","Game Penalty","Game Penalty","Default"]
[null,null,null,null,"Si, Q, Do",null,"Reason","Reason","Reason","Reason","Reason","Reason","Reason","Reason"]
[1]
[2]
[3]
[4]
[5]
[6]
[7]
[8]
[9]
[10]
[11]
[12]
[13]
[14]
[15]
[16]
[17]
[18]
[19]
[20]
["Three warnings during the tournament",null,null,null,null,null,null,null,null,null,null,null,null,"Page 4(5)"]
["Players receiving three Warnings during the tournament. DO NOT LIST PLAYERS WITH ONLY ONE OR TWO WARNINGS"]
["Players receiving 6, 9, … warnings should be listed on multiple rows; Please add details on separate paper if necessary"]
["Abbreviations for Offences: Del: Unreasonable delays, AOb: Audible obscenity, VOb: Visible obscenity, BA: Ball Abuse, RA: Racket Abuse, VA: Verbal Abuse, PhA: Physical Abuse"]
["CC: Coaching and Coaches, BE: Best Efforts, UnC: Unsportsmanlike Conduct"]
["Line","Family name","First name","Nat.","Event","Round","Warning","Event","Round","Warning","Event","Round","Warning"]
[null,null,null,null,"Si, Q, Do",null,"Reason","Si, Q, Do",null,"Reason","Si, Q, Do",null,"Reason"]
[1]
[2]
[3]
[4]
[5]
[6]
[7]
[8]
[9]
[10]
[11]
[12]
[13]
[14]
[15]
[16]
[17]
[18]
[19]
[20]
["Walkovers and other Defaults",null,null,null,null,null,null,null,null,null,null,null,null,"Page 5(5)"]
["Walkovers, Immediate or other Defaults (e.g. Late arrival, Leaving the Court, Failure to complete match, Dress, Best Efforts)"]
["Line","Family name","First name","Nat.","Event","Round","Reason for Walkover or Default"]
[null,null,null,null,"Si, Q, Do"]
[1]
[2]
[3]
[4]
[5]
[6]
[7]
[8]
[9]
[10]
[11]
[12]
[13]
[14]
[15]
[16]
[17]
[18]
[19]
[20]
["SIGNATURE"]
["Date",null,null,null,null,null,"Referee's Signature"]
[null,null,null,null,null,null,{"$f":"'Week SetUp'!$E$10","v":0}]

{"sheet":"Penalty card","index":63,"n_rows":37,"n_cols":15,"rows_kept":37,"cut":false,"hidden":false,"merged":[]}
[null,null,null,null,null,null,null,null,null,null,null,null,null,null,"CODE VIOLATION REPORT"]
["EVENT"]
["Tournament",null,null,null,null,null,"Event",null,"Round",null,"Court","Date"]
[]
["Player(s)",null,null,null,null,null,"Player(s)",null,null,null,null,"Reporting Official"]
[null,null,null,null,null,"vs."]
[null,null,null,null,null,null,null,null,null,null,null,"Position",null,"Signature"]
[]
["CODE VIOLATIONS (POINT PENALTY SCHEDULE)"]
["Team/Player(s)"]
[]
["Step",null,"Set","Game","Pts",null,"Plr","Code","Description"]
["WARNING",null,null,null," -"]
["POINT",null,null,null," -"]
["GAME",null,null,null," -"]
["GAME",null,null,null," -"]
["GAME",null,null,null," -"]
["GAME",null,null,null," -"]
["GAME",null,null,null," -"]
["DEFAULT",null,null,null," -"]
[]
["Team/Player(s)"]
[]
["Step",null,"Set","Game","Pts",null,"Plr","Code","Description"]
["WARNING",null,null,null," -"]
["POINT",null,null,null," -"]
["GAME",null,null,null," -"]
["GAME",null,null,null," -"]
["GAME",null,null,null," -"]
["GAME",null,null,null," -"]
["GAME",null,null,null," -"]
["DEFAULT",null,null,null," -"]
["ABBREVIATIONS (CODE OF CONDUCT)"]
["Del","Unreasonable delay",null,null,null,"BA","Ball abuse",null,null,null,"PhA","Physical abuse"]
["AOb","Audible obscenity",null,null,null,"RA","Racket abuse",null,null,null,"CC","Coaching, coaches"]
["VOb","Visible obscenity",null,null,null,"VA","Verbal abuse",null,null,null,"BE","Best efforts"]
[null,null,null,null,null,null,null,null,null,null,"UnC","Unsportsmanlike conduct"]

{"sheet":"Medical Cert","index":64,"n_rows":63,"n_cols":8,"rows_kept":63,"cut":false,"hidden":false,"merged":[]}
[{"$f":"'Week SetUp'!$A$6","v":0},null,null,null,"MEDICAL CERTIFICATION"]
[{"$f":"'Week SetUp'!$A$8","v":"ITF Junior Circuit"}]
["Week of",null,"City, Country",null,"Group","Tourn. ID",null,"ITF Referee"]
[{"$f":"'Week SetUp'!$A$10","v":"00:00:00"},null,{"$f":"'Week SetUp'!$C$10","v":0},null,{"$f":"'Week SetUp'!$D$10","v":0},{"$f":"'Week SetUp'!$A$12","v":0},null,{"$f":"'Week SetUp'!$E$10","v":0}]
["I, the undersigned Examining Physician, certify to the ITF that I have personally conducted a physical examination"]
["of the below named tennis player and my full medical report thereof is as follows:"]
["PLAYER DATA"]
["Family name",null,null,"First name",null,"Nationality","Date of Birth (Day/Mth/Yr)"]
[]
["Place of examination",null,null,null,"Date and time of examination",null,"National ID number"]
[]
["HISTORY OF INJURY OR ILLNESS"]
[null,null,null,null,null,null,"Date of onset"]
[]
[]
[]
[]
[]
["PHYSICAL FINDINGS"]
["Temp",null,"Pulse",null,"BP",null,"Heent"]
[]
["Neck",null,"Chest/Heart",null,"ABD",null,"EXT"]
[]
["Neuro",null,"Other"]
[]
["LAB STUDIES, X-RAY FINDINGS"]
["Blood",null,"Urine",null,"Culture",null,"Other"]
[]
["X-Ray findings",null,null,null,"X-Ray on file at"]
[]
["DIAGNOSIS"]
[]
[]
[]
[]
["SUGGESTED INITIAL TREATMENT"]
[]
[]
[]
[]
["INSTRUCTIONS FOR FURTHER EXAMINATION OR FOLLOW-UP"]
[]
[]
[]
[]
["As a result of my examination it is my medical judgment that the above named player:"]
[null,"is suffering from the injury or illness diagnosed above and as a result thereof should"]
[null,null,null,null,"Date",null,"Date"]
[null,"not participate in competitive tennis from:",null,null,null,"to:"]
[null,"is fit to play competitive tennis"]
["SIGNATURE OF PHYSICIAN"]
["In the event that the ITF requires the above named player to be examined by an independent physician, I agree"]
["to consult with such physician with respect to my examination and diagnosis"]
["Printed name of physician",null,"Address",null,"Telephone",null,"Signature of physician"]
[]
["Speciality",null,"City, Country",null,"Fax"]
[]
["SIGNATURE OF PLAYER"]
["I understand and acknowledge the above diagnosis and the suggested treatment"]
[null,null,null,null,null,null,"Signature of player"]
["N.B! This Medical Certificate does not constitute an automatic withdrawal from"]
["other events. It is the player's responsibility to withdraw from all tournaments"]
["he/she is not able to play."]

{"sheet":"Unusual Ruling","index":65,"n_rows":64,"n_cols":8,"rows_kept":64,"cut":false,"hidden":false,"merged":[]}
[{"$f":"'Week SetUp'!$A$6","v":0},null,null,null,"UNUSUAL RULING REPORT"]
[{"$f":"'Week SetUp'!$A$8","v":"ITF Junior Circuit"}]
["Week of",null,"City, Country",null,"Group","Tourn. ID",null,"ITF Referee"]
[{"$f":"'Week SetUp'!$A$10","v":"00:00:00"},null,{"$f":"'Week SetUp'!$C$10","v":0},null,{"$f":"'Week SetUp'!$D$10","v":0},{"$f":"'Week SetUp'!$A$12","v":0},null,{"$f":"'Week SetUp'!$E$10","v":0}]
[]
["MATCH AND OFFICIALS INVOLVED"]
[null,null,"Players",null,"Main Draw/Qualifying, Round",null,"Date"]
["MATCH"]
[null,null,"ITF Referee",null,"Chair Umpire",null,"Other officials involved"]
["OFFICIALS"]
[null,null,"Rule Book",null,"Rule Number","Rule Section"]
["RULE(S) INVOLVED"]
[]
["DESCRIPTION OF SITUATION"]
[]
[]
[]
[]
[]
[]
[]
[]
[]
[]
[]
[]
[]
["DECISION RENDERED"]
[]
[]
[]
[]
[]
[]
[]
[]
[]
[]
[]
[]
[]
["BASIS FOR DECISION"]
[]
[]
[]
[]
[]
[]
[]
[]
[]
[]
[]
[]
[]
["COMMENTS"]
[]
[]
[]
[]
[]
["DATE AND SIGNATURE"]
["Date",null,null,null,"Signature"]
[null,null,null,null,{"$f":"H4","v":0}]

{"sheet":"CountryCodes","index":66,"n_rows":54,"n_cols":8,"rows_kept":54,"cut":false,"hidden":false,"merged":[]}
["COUNTRY CODES"]
["Afghanistan","AFG","Djibouti","DJI","Lithuania","LTU","Saudi Arabia","KSA"]
["Albania","ALB","Dominica","DMA","Luxembourg","LUX","Senegal","SEN"]
["Algeria","ALG","Dominican Republic","DOM","Macedonia, F.Y.R.","MKD","Serbia & Montenegro","SCG"]
["American Samoa","ASA","Ecuador","ECU","Madagascar","MAD","Seychelles","SEY"]
["Andorra","AND","Egypt","EGY","Malawi","MAW","Sierra Leone","SLE"]
["Angola","ANG","El Salvador","ESA","Malaysia","MAS","Singapore","SIN"]
["Antigua & Barbuda","ANT","Equatorial Guinea","GEQ","Maldives","MDV","Slovak Rep.","SVK"]
["Argentina","ARG","Eritrea","ERI","Mali","MLI","Slovenia","SLO"]
["Armenia","ARM","Estonia","EST","Malta","MLT","Solomon Islands","SOL"]
["Aruba","ARU","Ethiopia","ETH","Marshall Islands","MSH","Somalia","SOM"]
["Australia","AUS","Fiji","FIJ","Mauritania","MTN","South Africa","RSA"]
["Austria","AUT","Finland","FIN","Mauritius","MRI","Spain","ESP"]
["Azerbaijan","AZE","France","FRA","Mexico","MEX","Sri Lanka","SRI"]
["Bahamas","BAH","Gabon","GAB","Micronesia","FSM","Sudan","SUD"]
["Bahrain","BRN","Gambia","GAM","Moldova","MDA","Surinam","SUR"]
["Bangladesh","BAN","Georgia","GEO","Monaco","MON","Swaziland","SWZ"]
["Barbados","BAR","Germany","GER","Mongolia","MGL","Sweden","SWE"]
["Belarus","BLR","Ghana","GHA","Morocco","MAR","Switzerland","SUI"]
["Belgium","BEL","Great Britain","GBR","Mozambique","MOZ","Syria","SYR"]
["Belize","BIZ","Greece","GRE","Myanmar (Burma)","MYA","Tajikistan","TJK"]
["Benin","BEN","Grenada","GRN","Namibia","NAM","Tanzania","TAN"]
["Bermuda","BER","Guam","GUM","Nauru","NRU","Thailand","THA"]
["Bhutan","BHU","Guatemala","GUA","Nepal","NEP","Togo","TOG"]
["Bolivia","BOL","Guinee Conakry","GUI","Netherlands","NED","Tonga","TGA"]
["Bosnia Herzegovina","BIH","Guyana","GUY","Netherlands Antilles","AHO","Timor Leste","TLS"]
["Botswana","BOT","Haiti","HAI","New Zealand","NZL","Trinidad & Tobago","TRI"]
["Brazil","BRA","Honduras","HON","Nicaragua","NCA","Tunisia","TUN"]
["British Virgin Islands","IVB","Hong Kong","HKG","Niger","NIG","Turkey","TUR"]
["Brunei","BRU","Hungary","HUN","Nigeria","NGR","Turkmenistan","TKM"]
["Bulgaria","BUL","Iceland","ISL","Norfolk Islands","NFK","Uganda","UGA"]
["Burkina Faso","BUR","India","IND","Northern Mariana Islands","NMI","Ukraine","UKR"]
["Burundi","BDI","Indonesia","INA","Norway","NOR","United Arab Emirates","UAE"]
["Cambodia","CAM","Iran","IRI","Oman","OMA","United States","USA"]
["Cameroon","CMR","Iraq","IRQ","Pakistan","PAK","Uruguay","URU"]
["Canada","CAN","Ireland","IRL","Palau","PLW","U.S. Virgin Islands","ISV"]
["Cape Verde Islands","CPV","Israel","ISR","Palestine","PLE","Uzbekistan","UZB"]
["Cayman Islands","CAY","Italy","ITA","Panama","PAN","Vanuatu","VAN"]
["Central African Republic","CAF","Jamaica","JAM","Papua New Guinea","PNG","Venezuela","VEN"]
["Chile","CHI","Japan","JPN","Paraguay","PAR","Vietnam","VIE"]
["China, P. R.","CHN","Jordan","JOR","Peru","PER","Yemen","YEM"]
["Chinese Taipei","TPE","Kazakhstan","KAZ","Philippines","PHI","Zambia","ZAM"]
["Colombia","COL","Kenya","KEN","Poland","POL","Zimbabwe","ZIM"]
["Comoros","COM","Kiribati","KIR","Portugal","POR"]
["Congo","CGO","Korea, Rep.","KOR","Puerto Rico","PUR","Eastern Caribbean","ECA"]
["Congo, Dem. Rep. (Zaire)","COD","Kuwait","KUW","Qatar","QAT","Pacific Oceania","POC"]
["Cook Islands","COK","Kyrgyzstan","KGZ","Romania","ROM"]
["Costa Rica","CRC","Laos","LAO","Russia","RUS"]
["Cote d'Ivoire","CIV","Latvia","LAT","Rwanda","RWA"]
["Croatia","CRO","Lebanon","LIB","Saint Kitts & Nevis","SKN"]
["Cuba","CUB","Lesotho","LES","Saint Lucia","LCA"]
["Cyprus","CYP","Liberia","LBR","Saint Vincent & Grenadines","VIN"]
["Czech Republic","CZE","Libya","LBA","Samoa","SAM"]
["Denmark","DEN","Liechtenstein","LIE","San Marino","SMR"]

{"sheet":"ScCard Set3&Front","index":67,"n_rows":41,"n_cols":39,"rows_kept":41,"cut":false,"hidden":false,"merged":[]}
["SET No. 3"]
["Tie-break",null,null,null,"G","Format",null,null,null,null,null,"Doubles receivers",null,null,null,null,null,"Time started",null,null,null,null,null,"Games"]
[null,null,"Server",null,"A",null,null,null,null,null,null,null,null,null,null,null,null,null,null,null,null,null,null,null,null,"Ball"]
[null,null,"Side",null,"M",null,null,null,null,null,null,null,null,null,null,null,null,null,null,null,null,null,null,null,null,"change"]
[null,null,null,null,"E",null,null,null,null,null,null,null,null,"CU"]
[null,null,null,null,1]
[null,null,null,null,null,null,null,null,null,null,null,null,null,null,null,null,null,null,null,null,null,null,null,null,null,null,null,null,null,null,null,null,null,null,null,null,null,null,"ITF OFFICIAL SCORECARD"]
[null,null,null,null,2]
[]
[null,null,null,null,3]
[null,null,null,null,null,null,null,null,null,null,null,null,null,null,null,null,null,null,null,null,null,null,null,null,null,null,null,null,null,"EVENT"]
[null,null,null,null,4,null,null,null,null,null,null,null,null,null,null,null,null,null,null,null,null,null,null,null,null,null,null,null,null,"Tournament",null,null,"Round","Court No.","Date"]
[]
[null,null,null,null,5,null,null,null,null,null,null,null,null,null,null,null,null,null,null,null,null,null,null,null,null,null,null,null,null,"Event",null,null,"No. of sets","Format"]
[null,null,null,null,null,null,null,null,null,null,null,null,null,null,null,null,null,null,null,null,null,null,null,null,null,null,null,null,null,null,null,null,"3"]
[null,null,null,null,6,null,null,null,null,null,null,null,null,null,null,null,null,null,null,null,null,null,null,null,null,null,null,null,null,"Supervisor",null,null,"Rest","Ball change","(number)",null,"Line umpires"]
[null,null,null,null,null,null,null,null,null,null,null,null,null,null,null,null,null,null,null,null,null,null,null,null,null,null,null,null,null,null,null,null,null," /"," ("," )"]
[null,null,null,null,7,null,null,null,null,null,null,null,null,null,null,null,null,null,null,null,null,null,null,null,null,null,null,null,null,"Referee",null,null,"Chair Umpire",null,null,null,"Net umpire"]
[]
[null,null,null,null,8]
[null,null,null,null,null,null,null,null,null,null,null,null,null,null,null,null,null,null,null,null,null,null,null,null,null,null,null,null,null,"MATCH",null,null,null,null,null,"FLIP"]
[null,null,null,null,9,null,null,null,null,null,null,null,null,null,null,null,null,null,null,null,null,null,null,null,null,null,null,null,null,"Player(s)",null,null,null,"Country",null,"Won",null,"Elect"]
[]
[null,null,null,null,10]
[]
[null,null,null,null,11]
[null,null,null,null,null,null,null,null,null,null,null,null,null,null,null,null,null,null,null,null,null,null,null,null,null,null,null,null,null,"vs.",null,null,null,null,null,"FLIP"]
[null,null,null,null,12,null,null,null,null,null,null,null,null,null,null,null,null,null,null,null,null,null,null,null,null,null,null,null,null,"Player(s)",null,null,null,"Country",null,"Won",null,"Elect"]
[]
[null,null,null,null,"13"]
[]
[null,null,null,null,"14"]
[null,null,null,null,null,null,null,null,null,null,null,null,null,null,null,null,null,null,null,null,null,null,null,null,null,null,null,null,null,"RESULT"]
[null,null,null,null,"15",null,null,null,null,null,null,null,null,null,null,null,null,null,null,null,null,null,null,null,null,null,null,null,null,"Time called",null,"Time started",null,"Time finished",null,"Duration"]
[]
[null,null,null,null,"16",null,null,null,null,null,null,null,null,null,null,null,null,null,null,null,null,null,null,null,null,null,null,null,null,"Winner(s)",null,null,null,null,"MATCH"]
[null,null,null,null,null,null,null,null,null,null,null,null,null,null,null,null,null,null,null,null,null,null,null,null,null,null,null,null,null,null,null,null,null,null,"SCORE"]
["SCORE",null,null,null,null,null,null,null,null,null,null,null,null,null,null,null,"Set No.","1",null,"2",null,"3",null,null,null,null,null,null,null,"Copyright © ITF Limited, trading as the International Tennis Federation, 2002",null,null,null,null,"TIE-BREAK"]
["Team/Player(s)",null,null,null,null,null,null,null,null,null,null,null,null,null,null,null,null,null,null,null,null,null,null,"Time finished"]
[null,null,null,null,null,null,null,null,null,null,null,null,null,null,null,null,null,null,null,null,null,null,null,null,null,null,null,null,null,"CHAIR UMPIRE"]
["Team/Player(s)",null,null,null,null,null,null,null,null,null,null,null,null,null,null,null,null,null,null,null,null,null,null,null,null,null,null,null,null,"Signature",null,null,null,null,null,"Certification"]

{"sheet":"ScCard Set 1&2","index":68,"n_rows":41,"n_cols":55,"rows_kept":41,"cut":false,"hidden":false,"merged":[]}
["SET No. 1",null,null,null,null,null,null,null,null,null,null,null,null,null,null,null,null,null,null,null,null,null,null,null,null,null,null,null,null,"SET No. 2"]
["Tie-break",null,null,null,"G","Format",null,null,null,null,null,"Doubles receivers",null,null,null,null,null,"Time started",null,null,null,null,null,"Games",null,null,null,null,null,"Tie-break",null,null,null,"G","Format",null,null,null,null,null,"Doubles receivers",null,null,null,null,null,"Time started",null,null,null,null,null,"Games"]
[null,null,"Server",null,"A",null,null,null,null,null,null,null,null,null,null,null,null,null,null,null,null,null,null,null,null,"Ball",null,null,null,null,null,"Server",null,"A",null,null,null,null,null,null,null,null,null,null,null,null,null,null,null,null,null,null,null,null,"Ball"]
[null,null,"Side",null,"M",null,null,null,null,null,null,null,null,null,null,null,null,null,null,null,null,null,null,null,null,"change",null,null,null,null,null,"Side",null,"M",null,null,null,null,null,null,null,null,null,null,null,null,null,null,null,null,null,null,null,null,"change"]
[null,null,null,null,"E",null,null,null,null,null,null,null,null,"CU",null,null,null,null,null,null,null,null,null,null,null,null,null,null,null,null,null,null,null,"E",null,null,null,null,null,null,null,null,"CU"]
[null,null,null,null,1,null,null,null,null,null,null,null,null,null,null,null,null,null,null,null,null,null,null,null,null,null,null,null,null,null,null,null,null,1]
[]
[null,null,null,null,2,null,null,null,null,null,null,null,null,null,null,null,null,null,null,null,null,null,null,null,null,null,null,null,null,null,null,null,null,2]
[]
[null,null,null,null,3,null,null,null,null,null,null,null,null,null,null,null,null,null,null,null,null,null,null,null,null,null,null,null,null,null,null,null,null,3]
[]
[null,null,null,null,4,null,null,null,null,null,null,null,null,null,null,null,null,null,null,null,null,null,null,null,null,null,null,null,null,null,null,null,null,4]
[]
[null,null,null,null,5,null,null,null,null,null,null,null,null,null,null,null,null,null,null,null,null,null,null,null,null,null,null,null,null,null,null,null,null,5]
[]
[null,null,null,null,6,null,null,null,null,null,null,null,null,null,null,null,null,null,null,null,null,null,null,null,null,null,null,null,null,null,null,null,null,6]
[]
[null,null,null,null,7,null,null,null,null,null,null,null,null,null,null,null,null,null,null,null,null,null,null,null,null,null,null,null,null,null,null,null,null,7]
[]
[null,null,null,null,8,null,null,null,null,null,null,null,null,null,null,null,null,null,null,null,null,null,null,null,null,null,null,null,null,null,null,null,null,8]
[]
[null,null,null,null,9,null,null,null,null,null,null,null,null,null,null,null,null,null,null,null,null,null,null,null,null,null,null,null,null,null,null,null,null,9]
[]
[null,null,null,null,10,null,null,null,null,null,null,null,null,null,null,null,null,null,null,null,null,null,null,null,null,null,null,null,null,null,null,null,null,10]
[]
[null,null,null,null,11,null,null,null,null,null,null,null,null,null,null,null,null,null,null,null,null,null,null,null,null,null,null,null,null,null,null,null,null,11]
[]
[null,null,null,null,12,null,null,null,null,null,null,null,null,null,null,null,null,null,null,null,null,null,null,null,null,null,null,null,null,null,null,null,null,12]
[]
[null,null,null,null,13,null,null,null,null,null,null,null,null,null,null,null,null,null,null,null,null,null,null,null,null,null,null,null,null,null,null,null,null,13]
[]
["EXTENDED GAMES",null,null,null,null,null,null,null,null,null,null,null,null,null,null,null,null,null,null,null,null,null,null,null,null,null,null,null,null,"EXTENDED GAMES"]
[null,null,"Server",null,"Game","Additional advantage points",null,null,null,null,null,null,null,null,null,null,null,null,null,null,null,null,null,null,null,null,null,null,null,null,null,"Server",null,"Game","Additional advantage points"]
[]
[]
[]
[]
["SCORE",null,null,null,null,null,null,null,null,null,null,null,null,null,null,null,null,null,null,null,"Set No.",1,null,null,null,null,null,null,null,"SCORE",null,null,null,null,null,null,null,null,null,null,null,null,null,null,null,null,null,"Set No.","1",null,"2"]
["Team/Player(s)",null,null,null,null,null,null,null,null,null,null,null,null,null,null,null,null,null,null,null,null,null,null,"Time finished",null,null,null,null,null,"Team/Player(s)",null,null,null,null,null,null,null,null,null,null,null,null,null,null,null,null,null,null,null,null,null,null,"Time finished"]
[]
["Team/Player(s)",null,null,null,null,null,null,null,null,null,null,null,null,null,null,null,null,null,null,null,null,null,null,null,null,null,null,null,null,"Team/Player(s)"]

{"sheet":"ScCard Code etc.","index":69,"n_rows":31,"n_cols":41,"rows_kept":31,"cut":false,"hidden":false,"merged":[]}
["INTERRUPTIONS / TOILET BREAKS",null,null,null,null,null,null,null,null,null,null,null,null,null,null,null,null,null,null,null,null,null,null,null,null,null,null,null,"EVENT"]
["S","G",null,null,null,null,null,null,null,null,null,null,null,null,null,null,null,null,null,null,null,null,null,null,null,null,null,null,"Tournament",null,null,null,null,null,"Event",null,"Round",null,"Court","Date"]
["E","A","Points",null,null,"From",null,null,"To",null,null,"Player",null,null,"Reason"]
["T","M",null,null,null,"(Time)",null,null,"(Time)",null,null,null,null,null,null,null,null,null,null,null,null,null,null,null,null,null,null,null,"Player(s)",null,null,null,null,null,"Player(s)",null,null,null,null,"Chair Umpire"]
[null,"E",null,null,null,null,null,null,null,null,null,null,null,null,null,null,null,null,null,null,null,null,null,null,null,null,null,null,null,null,null,null,null,"vs."]
[null,null,null,null,null,null,null,null,null,null,null,null,null,null,null,null,null,null,null,null,null,null,null,null,null,null,null,null,null,null,null,null,null,null,null,null,null,null,null,null,"Signature"]
[null,null,null," -",null,null,null,null,null,null,null,null,null,null,null,null,null,null,null,null,null,null,null,null,null,null,null,null,"CODE VIOLATIONS (POINT PENALTY SCHEDULE)"]
[null,null,null,null,null,null,null,null,null,null,null,null,null,null,null,null,null,null,null,null,null,null,null,null,null,null,null,null,"Team/Player(s)"]
[null,null,null," -"]
[null,null,null,null,null,null,null,null,null,null,null,null,null,null,null,null,null,null,null,null,null,null,null,null,null,null,null,null,"Step",null,"Set","Game","Pts",null,"Plr","Code","Description"]
[null,null,null," -",null,null,null,null,null,null,null,null,null,null,null,null,null,null,null,null,null,null,null,null,null,null,null,null,"WARNING",null,null,null," -"]
[null,null,null,null,null,null,null,null,null,null,null,null,null,null,null,null,null,null,null,null,null,null,null,null,null,null,null,null,"POINT",null,null,null," -"]
[null,null,null," -",null,null,null,null,null,null,null,null,null,null,null,null,null,null,null,null,null,null,null,null,null,null,null,null,"GAME",null,null,null," -"]
[null,null,null,null,null,null,null,null,null,null,null,null,null,null,null,null,null,null,null,null,null,null,null,null,null,null,null,null,"GAME",null,null,null," -"]
[null,null,null," -",null,null,null,null,null,null,null,null,null,null,null,null,null,null,null,null,null,null,null,null,null,null,null,null,"GAME",null,null,null," -"]
["TIME VIOLATIONS",null,null,null,null,null,null,null,null,null,null,null,null,null,null,null,null,"STEP","W",null,"P",null,"P",null,"P",null,null,null,"DEFAULT",null,null,null," -"]
["Team / Player(s)",null,null,null,null,null,null,null,null,null,null,null,null,null,null,null,null,"Set"]
[null,null,null,null,null,null,null,null,null,null,null,null,null,null,null,null,null,"Games",null,"-",null,"-",null,"-",null,"-",null,null,"Team/Player(s)"]
["Remarks",null,null,null,null,null,null,null,null,null,null,null,null,null,null,null,null,"Points"]
[null,null,null,null,null,null,null,null,null,null,null,null,null,null,null,null,null,"Plr / 20,90s",null,null,null,null,null,null,null,null,null,null,"Step",null,"Set","Game","Pts",null,"Plr","Code","Description"]
["Team / Player(s)",null,null,null,null,null,null,null,null,null,null,null,null,null,null,null,null,"Set",null,null,null,null,null,null,null,null,null,null,"WARNING",null,null,null," -"]
[null,null,null,null,null,null,null,null,null,null,null,null,null,null,null,null,null,"Games",null,"-",null,"-",null,"-",null,"-",null,null,"POINT",null,null,null," -"]
["Remarks",null,null,null,null,null,null,null,null,null,null,null,null,null,null,null,null,"Points",null,null,null,null,null,null,null,null,null,null,"GAME",null,null,null," -"]
[null,null,null,null,null,null,null,null,null,null,null,null,null,null,null,null,null,"Plr / 20,90s",null,null,null,null,null,null,null,null,null,null,"GAME",null,null,null," -"]
["EXTENDED GAMES",null,null,null,null,null,null,null,null,null,null,null,null,null,null,null,null,null,null,"EXTENDED TIE-BREAKS",null,null,null,null,null,null,null,null,"GAME",null,null,null," -"]
["S","G",null,null,null,null,null,null,null,null,null,null,null,null,null,null,null,null,null,"Set No.",null,null,null,"Set No.",null,null,null,null,"DEFAULT",null,null,null," -"]
["E","A",null,null,null,null,null,null,null,null,null,null,null,null,null,null,null,null,null,null,null,null,null,null,null,null,null,null,"ABBREVIATIONS (CODE OF CONDUCT)"]
["T","M","Server",null,"Additional advantage points",null,null,null,null,null,null,null,null,null,null,null,null,null,null,"Ser","Player",null,null,"Ser","Player",null,null,null,"Del","Unreasonable delay",null,null,null,"BA","Ball abuse",null,null,null,"PhA","Physical abuse"]
[null,"E",null,null,null,null,null,null,null,null,null,null,null,null,null,null,null,null,null,"ve",null,null,null,"ve",null,null,null,null,"AOb","Audible obscenity",null,null,null,"RA","Racket abuse",null,null,null,"CC","Coaching, coaches"]
[null,null,null,null,null,null,null,null,null,null,null,null,null,null,null,null,null,null,null,null,null,null,null,null,null,null,null,null,"VOb","Visible obscenity",null,null,null,"VA","Verbal abuse",null,null,null,"BE","Best efforts"]
[null,null,null,null,null,null,null,null,null,null,null,null,null,null,null,null,null,null,null,null,null,null,null,null,null,null,null,null,null,null,null,null,null,null,null,null,null,null,"UnC","Unsportsmanlike conduct"]

{"sheet":"Draw Help Sheet","index":70,"n_rows":32,"n_cols":9,"rows_kept":32,"cut":false,"hidden":false,"merged":[[28,3,30,3],[21,0,30,0],[0,0,0,5],[25,3,25,5],[7,0,16,0],[7,3,9,3],[14,3,16,3],[21,3,23,3],[4,0,4,2],[4,3,4,5],[11,3,11,5],[18,0,18,2],[18,3,18,5]]}
["DRAW HELP SHEET"]
[]
["Draw",null,null,null,"Draw Size","Select !"]
[null,null,null,null,null,null,null,null,"Select !"]
["TOP HALF",null,null,"FIRST QUARTER",null,null,null,null,16]
["Line(s)","Seeded","Distributed","Line(s)","Seeded","Distributed",null,null,24]
[{"$f":"IF($F$3=16,1,IF($F$3=24,1,IF($F$3=32,1,IF($F$3=48,1,IF($F$3=64,1,IF($F$3=96,1,IF($F$3=128,1,)))))))","v":0},null,null,{"$f":"IF($F$3=16,1,IF($F$3=24,1,IF($F$3=32,1,IF($F$3=48,1,IF($F$3=64,1,IF($F$3=96,1,IF($F$3=128,1,)))))))","v":0},null,null,null,null,32]
[{"$f":"IF($F$3=16,\"2-7\",IF($F$3=24,\"2-15\",IF($F$3=32,\"2-15\",IF($F$3=48,\"2-31\",IF($F$3=64,\"2-31\",IF($F$3=96,\"2-63\",IF($F$3=128,\"2-63\",)))))))","v":0},null,null,{"$f":"IF($F$3=16,\"2-3\",IF($F$3=24,\"2-7\",IF($F$3=32,\"2-7\",IF($F$3=48,\"2-15\",IF($F$3=64,\"2-15\",IF($F$3=96,\"2-31\",IF($F$3=128,\"2-31\",)))))))","v":0},null,null,null,null,48]
[null,null,null,null,null,null,null,null,64]
[null,null,null,null,null,null,null,null,96]
[null,null,null,{"$f":"IF($F$3=16,4,IF($F$3=24,8,IF($F$3=32,8,IF($F$3=48,16,IF($F$3=64,16,IF($F$3=96,32,IF($F$3=128,32,)))))))","v":0},null,null,null,null,128]
[null,null,null,"SECOND QUARTER"]
[null,null,null,"Line(s)","Seeded","Distributed"]
[null,null,null,{"$f":"IF($F$3=16,5,IF($F$3=24,9,IF($F$3=32,9,IF($F$3=48,17,IF($F$3=64,17,IF($F$3=96,33,IF($F$3=128,33,)))))))","v":0}]
[null,null,null,{"$f":"IF($F$3=16,\"6-7\",IF($F$3=24,\"10-15\",IF($F$3=32,\"10-15\",IF($F$3=48,\"18-31\",IF($F$3=64,\"18-31\",IF($F$3=96,\"33-63\",IF($F$3=128,\"33-63\",)))))))","v":0}]
[]
[]
[{"$f":"IF($F$3=16,8,IF($F$3=24,16,IF($F$3=32,16,IF($F$3=48,32,IF($F$3=64,32,IF($F$3=96,64,IF($F$3=128,64,)))))))","v":0},null,null,{"$f":"IF($F$3=16,8,IF($F$3=24,16,IF($F$3=32,16,IF($F$3=48,32,IF($F$3=64,32,IF($F$3=96,64,IF($F$3=128,64,)))))))","v":0}]
["BOTTOM HALF",null,null,"THIRD QUARTER"]
["Line(s)","Seeded","Distributed","Line(s)","Seeded","Distributed"]
[{"$f":"IF($F$3=16,9,IF($F$3=24,17,IF($F$3=32,17,IF($F$3=48,33,IF($F$3=64,33,IF($F$3=96,65,IF($F$3=128,65,)))))))","v":0},null,null,{"$f":"IF($F$3=16,9,IF($F$3=24,17,IF($F$3=32,17,IF($F$3=48,33,IF($F$3=64,33,IF($F$3=96,65,IF($F$3=128,65,)))))))","v":0}]
[{"$f":"IF($F$3=16,\"10-15\",IF($F$3=24,\"18-31\",IF($F$3=32,\"18-31\",IF($F$3=48,\"34-63\",IF($F$3=64,\"34-63\",IF($F$3=96,\"66-127\",IF($F$3=128,\"66-127\",)))))))","v":0},null,null,{"$f":"IF($F$3=16,\"10-11\",IF($F$3=24,\"18-23\",IF($F$3=32,\"18-23\",IF($F$3=48,\"34-47\",IF($F$3=64,\"34-47\",IF($F$3=96,\"66-95\",IF($F$3=128,\"66-95\",)))))))","v":0}]
[]
[]
[null,null,null,{"$f":"IF($F$3=16,12,IF($F$3=24,24,IF($F$3=32,24,IF($F$3=48,48,IF($F$3=64,48,IF($F$3=96,96,IF($F$3=128,96,)))))))","v":0}]
[null,null,null,"FOURTH QUARTER"]
[null,null,null,"Line(s)","Seeded","Distributed"]
[null,null,null,{"$f":"IF($F$3=16,13,IF($F$3=24,25,IF($F$3=32,25,IF($F$3=48,49,IF($F$3=64,49,IF($F$3=96,97,IF($F$3=128,97,)))))))","v":0}]
[null,null,null,{"$f":"IF($F$3=16,\"14-15\",IF($F$3=24,\"26-31\",IF($F$3=32,\"26-31\",IF($F$3=48,\"50-63\",IF($F$3=64,\"50-63\",IF($F$3=96,\"98-127\",IF($F$3=128,\"98-127\",)))))))","v":0}]
[]
[]
[{"$f":"IF($F$3=16,16,IF($F$3=24,32,IF($F$3=32,32,IF($F$3=48,64,IF($F$3=64,64,IF($F$3=96,128,IF($F$3=128,128,)))))))","v":0},null,null,{"$f":"IF($F$3=16,16,IF($F$3=24,32,IF($F$3=32,32,IF($F$3=48,64,IF($F$3=64,64,IF($F$3=96,128,IF($F$3=128,128,)))))))","v":0}]

{"sheet":"Si Main 32 (Hand)","index":71,"n_rows":79,"n_cols":17,"rows_kept":79,"cut":false,"hidden":false,"merged":[]}
["Title/Circuit",null,null,null,null,null,null,null,null,"SINGLES",null,"Event"]
["ITF Junior Circuit",null,null,null,null,null,null,null,null,"MAIN DRAW"]
["Week of",null,null,null,null,"City, Country",null,null,null,"Group",null,"Tourn. ID",null,null,null,null,"ITF Referee"]
[]
[null,"St.","Rank","Seed","Family Name","First name",null,"Nationality"]
[]
[1]
[null,null,null,null,null,null,null,null,null,null,null,null,null,null,"Page:"]
[2]
[]
[3]
[]
[4]
[]
[5]
[]
[6]
[]
[7]
[]
[8]
[]
[9]
[]
[10]
[]
[11]
[]
[12]
[]
[13]
[]
[14]
[]
[15]
[]
[16]
[]
[17]
[]
[18]
[]
[19]
[]
[20]
[]
[21]
[]
[22]
[]
[23]
[]
[24]
[]
[25]
[]
[26]
[]
[27]
[]
[28]
[]
[29]
[]
[30]
[]
[31]
[]
[32]
[]
["Acc. ranking",null,null,"#","Seeded players",null,null,null,"#","Lucky Losers",null,"Replacing",null,"Draw date/time:"]
["Rkg Date",null,null,1,{"$f":"IF(D7=1,E7,\"\")","v":""},{"$f":"IF(E7=1,F7,\"\")","v":""},{"$f":"IF(F7=1,G7,\"\")","v":""},null,"1",null,null,null,null,"Player representatives"]
["Top DA",null,null,2,{"$f":"IF(D69=2,E69,\"\")","v":""},{"$f":"IF(E69=2,F69,\"\")","v":""},{"$f":"IF(F69=2,G69,\"\")","v":""},null,"2"]
["Last DA",null,null,3,{"$f":"IF(D23=3,E23,IF(D53=3,E53,\"\"))","v":""},{"$f":"IF(E23=3,F23,IF(E53=3,F53,\"\"))","v":""},{"$f":"IF(F23=3,G23,IF(F53=3,G53,\"\"))","v":""},null,"3"]
[" - on line",null,null,4,{"$f":"IF(D23=4,E23,IF(D53=4,E53,\"\"))","v":""},{"$f":"IF(E23=4,F23,IF(E53=4,F53,\"\"))","v":""},{"$f":"IF(F23=4,G23,IF(F53=4,G53,\"\"))","v":""},null,"4"]
["Seed ranking",null,null,5,{"$f":"IF(D21=5,E21,IF(D37=5,E37,IF(D39=5,E39,IF(D55=5,E55,\"\"))))","v":""},{"$f":"IF(E21=5,F21,IF(E37=5,F37,IF(E39=5,F39,IF(E55=5,F55,\"\"))))","v":""},{"$f":"IF(F21=5,G21,IF(F37=5,G37,IF(F39=5,G39,IF(F55=5,G55,\"\"))))","v":""},null,"5",null,null,null,null,"ITF Referee's signature"]
["Rkg Date",null,null,6,{"$f":"IF(D21=6,E21,IF(D37=6,E37,IF(D39=6,E39,IF(D55=6,E55,\"\"))))","v":""},{"$f":"IF(E21=6,F21,IF(E37=6,F37,IF(E39=6,F39,IF(E55=6,F55,\"\"))))","v":""},{"$f":"IF(F21=6,G21,IF(F37=6,G37,IF(F39=6,G39,IF(F55=6,G55,\"\"))))","v":""},null,"6"]
["Top seed",null,null,7,{"$f":"IF(D21=7,E21,IF(D37=7,E37,IF(D39=7,E39,IF(D55=7,E55,\"\"))))","v":""},{"$f":"IF(E21=7,F21,IF(E37=7,F37,IF(E39=7,F39,IF(E55=7,F55,\"\"))))","v":""},{"$f":"IF(F21=7,G21,IF(F37=7,G37,IF(F39=7,G39,IF(F55=7,G55,\"\"))))","v":""},null,"7"]
["Last seed",null,null,8,{"$f":"IF(D21=8,E21,IF(D37=8,E37,IF(D39=8,E39,IF(D55=8,E55,\"\"))))","v":""},null,{"$f":"IF(F21=8,G21,IF(F37=8,G37,IF(F39=8,G39,IF(F55=8,G55,\"\"))))","v":""},null,"8",null,null,null,null,{"$f":"Q4","v":0}]

{"sheet":"Si Qual 32 (Hand)","index":72,"n_rows":79,"n_cols":17,"rows_kept":79,"cut":false,"hidden":false,"merged":[]}
["Title/Circuit",null,null,null,null,null,null,null,null,"SINGLES",null,"Event"]
["ITF Junior Circuit",null,null,null,null,null,null,null,null,"QUALIFYING"]
["Week of",null,null,null,null,"City, Country",null,null,null,"Group",null,"Tourn. ID",null,null,null,null,"ITF Referee"]
[]
[null,"St.","Rank","Seed","Family Name","First name",null,"Nationality"]
[]
[1]
[null,null,null,null,null,null,null,null,null,null,null,null,null,null,"Page:"]
[2]
[]
[3]
[]
[4]
[]
[5]
[]
[6]
[]
[7]
[]
[8]
[]
[9]
[]
[10]
[]
[11]
[]
[12]
[]
[13]
[]
[14]
[]
[15]
[]
[16]
[]
[17]
[]
[18]
[]
[19]
[]
[20]
[]
[21]
[]
[22]
[]
[23]
[]
[24]
[]
[25]
[]
[26]
[]
[27]
[]
[28]
[]
[29]
[]
[30]
[]
[31]
[]
[32]
[]
["Acc. ranking",null,null,"#","Seeded players",null,null,null,"#","Alternates",null,"Replacing",null,"Draw date/time:"]
["Rkg Date",null,null,1,{"$f":"IF(D7=1,E7,\"\")","v":""},{"$f":"IF(E7=1,F7,\"\")","v":""},{"$f":"IF(F7=1,G7,\"\")","v":""},null,"1",null,null,null,null,"Player representatives"]
["Top DA",null,null,2,{"$f":"IF(D69=2,E69,\"\")","v":""},{"$f":"IF(E69=2,F69,\"\")","v":""},{"$f":"IF(F69=2,G69,\"\")","v":""},null,"2"]
["Last DA",null,null,3,{"$f":"IF(D23=3,E23,IF(D53=3,E53,\"\"))","v":""},{"$f":"IF(E23=3,F23,IF(E53=3,F53,\"\"))","v":""},{"$f":"IF(F23=3,G23,IF(F53=3,G53,\"\"))","v":""},null,"3"]
[" - on line",null,null,4,{"$f":"IF(D23=4,E23,IF(D53=4,E53,\"\"))","v":""},{"$f":"IF(E23=4,F23,IF(E53=4,F53,\"\"))","v":""},{"$f":"IF(F23=4,G23,IF(F53=4,G53,\"\"))","v":""},null,"4"]
["Seed ranking",null,null,5,{"$f":"IF(D21=5,E21,IF(D37=5,E37,IF(D39=5,E39,IF(D55=5,E55,\"\"))))","v":""},{"$f":"IF(E21=5,F21,IF(E37=5,F37,IF(E39=5,F39,IF(E55=5,F55,\"\"))))","v":""},{"$f":"IF(F21=5,G21,IF(F37=5,G37,IF(F39=5,G39,IF(F55=5,G55,\"\"))))","v":""},null,"5",null,null,null,null,"ITF Referee's signature"]
["Rkg Date",null,null,6,{"$f":"IF(D21=6,E21,IF(D37=6,E37,IF(D39=6,E39,IF(D55=6,E55,\"\"))))","v":""},{"$f":"IF(E21=6,F21,IF(E37=6,F37,IF(E39=6,F39,IF(E55=6,F55,\"\"))))","v":""},{"$f":"IF(F21=6,G21,IF(F37=6,G37,IF(F39=6,G39,IF(F55=6,G55,\"\"))))","v":""},null,"6"]
["Top seed",null,null,7,{"$f":"IF(D21=7,E21,IF(D37=7,E37,IF(D39=7,E39,IF(D55=7,E55,\"\"))))","v":""},{"$f":"IF(E21=7,F21,IF(E37=7,F37,IF(E39=7,F39,IF(E55=7,F55,\"\"))))","v":""},{"$f":"IF(F21=7,G21,IF(F37=7,G37,IF(F39=7,G39,IF(F55=7,G55,\"\"))))","v":""},null,"7"]
["Last seed",null,null,8,{"$f":"IF(D21=8,E21,IF(D37=8,E37,IF(D39=8,E39,IF(D55=8,E55,\"\"))))","v":""},null,{"$f":"IF(F21=8,G21,IF(F37=8,G37,IF(F39=8,G39,IF(F55=8,G55,\"\"))))","v":""},null,"8",null,null,null,null,{"$f":"Q4","v":0}]

{"sheet":"Do Main 16 (Hand)","index":73,"n_rows":78,"n_cols":17,"rows_kept":78,"cut":false,"hidden":false,"merged":[]}
["Title/Circuit",null,null,null,null,null,null,null,null,"DOUBLES",null,"Event"]
["ITF Junior Circuit",null,null,null,null,null,null,null,null,"MAIN DRAW"]
["Week of",null,null,null,null,"City, Country",null,null,null,"Group",null,"Tourn. ID",null,null,null,null,"ITF Referee"]
[]
[null,"St.","Rank","Seed","Family Name","First name",null,"Nat."]
[]
[1]
[null,null,null,null,null,null,null,null,null,{"$f":"IF(I8=\"a\",E7,IF(I8=\"b\",E9,\"\"))","v":""},null,null,null,null,"Page:"]
[]
[]
[2]
[]
[]
[]
[3]
[null,null,null,null,null,null,null,null,null,{"$f":"IF(I16=\"a\",E15,IF(I16=\"b\",E17,\"\"))","v":""}]
[]
[]
[4]
[]
[]
[]
[5]
[null,null,null,null,null,null,null,null,null,{"$f":"IF(I24=\"a\",E23,IF(I24=\"b\",E25,\"\"))","v":""}]
[]
[]
[6]
[]
[]
[]
[7]
[null,null,null,null,null,null,null,null,null,{"$f":"IF(I32=\"a\",E31,IF(I32=\"b\",E33,\"\"))","v":""}]
[]
[]
[8]
[]
[]
[]
[9]
[null,null,null,null,null,null,null,null,null,{"$f":"IF(I40=\"a\",E39,IF(I40=\"b\",E41,\"\"))","v":""}]
[]
[]
[10]
[]
[]
[]
[11]
[null,null,null,null,null,null,null,null,null,{"$f":"IF(I48=\"a\",E47,IF(I48=\"b\",E49,\"\"))","v":""}]
[]
[]
[12]
[]
[]
[]
[13]
[null,null,null,null,null,null,null,null,null,{"$f":"IF(I56=\"a\",E55,IF(I56=\"b\",E57,\"\"))","v":""}]
[]
[]
[14]
[]
[]
[]
[15]
[null,null,null,null,null,null,null,null,null,{"$f":"IF(I64=\"a\",E63,IF(I64=\"b\",E65,\"\"))","v":""}]
[]
[]
[16]
[]
[]
["Acc. ranking",null,null,"#","Seeded teams",null,null,null,"#","Lucky Losers",null,"Replacing",null,"Draw date/time:"]
["Rkg Date",null,null,1,null,null,null,null,"1",null,null,null,null,"Player representatives"]
["Top DA"]
["Last DA",null,null,2,null,null,null,null,"2"]
[" - on line"]
["Seed ranking",null,null,3,null,null,null,null,"3",null,null,null,null,"Signature"]
["Rkg Date"]
["Top seed",null,null,4,null,null,null,null,"4"]
["Last seed",null,null,null,null,null,null,null,null,null,null,null,null,{"$f":"Q4","v":0}]